{"text_format":"1","workbook":"xlsx","n_sheets":27,"sheets":["Capa","Finder","𝑺𝑬𝑹𝑽𝑰Ç𝑶𝑺 𝑭𝑶𝑹𝑴𝑨ÇÂ𝑶","Det PIR","Det Dupla Tecnolo","Det Quebra Vidros","Det Sismicos e Inércia","Contactos_Pânico_Inundação","Deteção Perimétrica","Série Advanced + Everon","Via Rádio ATS","Sinalização","Integração","Comunicações","Controlo Acessos","CCTV Câmaras HD-TVI","CCTV Câmaras IP","CCTV Domes PTZ","CCTV Câmaras Especiais","CCTV Gravadores & Monitores","CCTV Suportes e Acessórios","Encoders e Network Products IFS","Fontes & Baterias","Cabos & Acessórios Instalação","Condições Gerais de Venda","Links","Tabela"],"not_rendered":{"charts":0,"images":295,"macros":1,"external_links":0,"defined_names":31,"comments":0,"pivot_tables":0},"unopened":[],"bounds":{"document_bytes":16777216,"sheet_cells":100000,"rows_first":2000,"rows_last":500,"rows_between":2000,"halvings":0,"cell_chars":16384,"cell_head_chars":4096},"cells_cut":0,"cells_raw":0,"read":"whole","date_system":"1900"}

{"sheet":"Capa","index":0,"n_rows":43,"n_cols":3,"rows_kept":43,"cut":false,"hidden":false,"merged":[[83,13,83,14],[84,13,84,14],[85,13,85,14],[86,13,86,14],[78,13,78,14],[79,13,79,14],[80,13,80,14],[81,13,81,14],[82,13,82,14],[73,13,73,14],[74,13,74,14],[75,13,75,14],[76,13,76,14],[77,13,77,14],[68,13,68,14],[69,13,69,14],[70,13,70,14],[71,13,71,14],[72,13,72,14],[63,13,63,14],[64,13,64,14],[65,13,65,14],[66,13,66,14],[67,13,67,14],[58,13,58,14],[59,13,59,14],[60,13,60,14],[61,13,61,14],[62,13,62,14],[53,13,53,14],[54,13,54,14],[55,13,55,14],[56,13,56,14],[57,13,57,14],[49,13,49,14],[50,13,50,14],[51,13,51,14],[52,13,52,14],[45,13,45,14],[46,13,46,14],[47,13,47,14],[48,13,48,14],[40,13,40,14],[41,13,41,14],[42,13,42,14],[43,13,43,14],[44,13,44,14],[35,13,35,14],[36,13,36,14],[37,13,37,14],[38,13,38,14],[39,13,39,14],[30,13,30,14],[31,13,31,14],[32,13,32,14],[33,13,33,14],[34,13,34,14],[25,13,25,14],[26,13,26,14],[27,13,27,14],[28,13,28,14],[29,13,29,14],[20,13,20,14],[21,13,21,14],[22,13,22,14],[23,13,23,14],[24,13,24,14],[15,13,15,14],[16,13,16,14],[17,13,17,14],[18,13,18,14],[19,13,19,14],[10,13,10,14],[11,13,11,14],[12,13,12,14],[13,13,13,14],[14,13,14,14],[5,13,5,14],[6,13,6,14],[7,13,7,14],[8,13,8,14],[9,13,9,14],[0,13,0,14],[1,13,1,14],[2,13,2,14],[3,13,3,14],[4,13,4,14],[83,8,83,9],[83,10,83,11],[37,2,37,11],[42,2,42,11],[82,8,82,9],[82,10,82,11]]}
[]
[]
[]
[]
[]
[]
[]
[]
[]
[]
[]
[]
[]
[]
[]
[]
[]
[]
[]
[]
[]
[]
[]
[]
[]
[]
[]
[]
[]
[]
[]
[]
[]
[]
[]
[]
[]
[]
[null,null,"Tabela de Preços"]
[]
[]
[]
[null,null,"Maio  2026"]

{"sheet":"Finder","index":1,"n_rows":29,"n_cols":26,"rows_kept":29,"cut":false,"hidden":false,"merged":[]}
[null,null,"Tabela de Preços",null,"Correspondências '..'\r\n",null,null,null,null,null,null,null,null,null,null,null,null,null,null,null,null,null,null,null,null,"Exclude"]
["Worksheets",null,"Sheet","Referencia","Descrição","PVP"]
[]
["Capa"]
["𝑺𝑬𝑹𝑽𝑰Ç𝑶𝑺 𝑭𝑶𝑹𝑴𝑨ÇÂ𝑶"]
["Det PIR"]
["Det Dupla Tecnolo"]
["Det Quebra Vidros"]
["Det Sismicos e Inércia"]
["Contactos_Pânico_Inundação"]
["Deteção Perimétrica"]
["Série Advanced + Everon"]
["Via Rádio ATS"]
["Sinalização"]
["Integração"]
["Comunicações"]
["Controlo Acessos"]
["CCTV Câmaras HD-TVI"]
["CCTV Câmaras IP"]
["CCTV Domes PTZ"]
["CCTV Câmaras Especiais"]
["CCTV Gravadores & Monitores"]
["CCTV Suportes e Acessórios"]
["Encoders e Network Products IFS"]
["Fontes & Baterias"]
["Cabos & Acessórios Instalação"]
["Condições Gerais de Venda"]
["Links"]
["Tabela"]

{"sheet":"𝑺𝑬𝑹𝑽𝑰Ç𝑶𝑺 𝑭𝑶𝑹𝑴𝑨ÇÂ𝑶","index":2,"n_rows":30,"n_cols":6,"rows_kept":30,"cut":false,"hidden":false,"merged":[[0,2,2,5],[5,2,15,5],[25,3,25,5]]}
[null,null,"Serviço técnico e formação"]
[]
[]
[]
[null,null,"Serviços de apoio técnico e formação"]
[null,null,"Serviços de apoio técnico e formação de sistemas de segurança Aritech\n •  Certificação Anual de Grau Técnico de Intrusão da Aritech\n •  Certificação Anual de Grau Técnico de Intrusão da Aritech\n •  Certificação anual de grau técnico de CCTV da Aritech\n •  Certificação anual de grau técnico de CCTV da Aritech\n •  Certificação anual da Aritech Grau técnico da Aritech Software de gestão de consultores integradores\n •  Certificação anual da Aritech Grau técnico da Aritech Software de gestão de consultores integradores\n •  Certificação anual de nível técnico da Aritech + Suporte remoto certificado da Aritech (4 horas)\n •  Certificação anual de nível técnico da Aritech + Suporte remoto certificado da Aritech (4 horas)\n •  Suporte Aritech certificado no local\n •  Suporte Aritech certificado Remoto"]
[]
[]
[]
[]
[]
[]
[]
[]
[]
[]
[null,"Referência","Descrição","Pessoas","Duração/h","Preço Liquido"]
[null,"TRNG-INTR-ATS","Certificação Anual de Grau Técnico de Intrusão da Aritech",1,6,300]
[null,"TRNG-INTR-ATS","Certificação Anual de Grau Técnico de Intrusão da Aritech",5,6,1000]
[null,"TRNG-CTCCTV001","Certificação anual de grau técnico de CCTV da Aritech",1,6,300]
[null,"TRNG-CTCCTV001","Certificação anual de grau técnico de CCTV da Aritech",5,6,1000]
[null,"TRNG-INTR-ATS","Certificação anual da Aritech Grau técnico da Aritech Software de gestão de consultores integradores",1,12,1000]
[null,"TRNG-INTR-ATS","Certificação anual da Aritech Grau técnico da Aritech Software de gestão de consultores integradores",5,12,4000]
[null,"TRNG-ONSITETECHCH1D ","Certificação anual de nível técnico da Aritech + Suporte remoto certificado da Aritech (4 horas)",1,4,600]
[null,"TRNG-ONSITETECHCH1D ","Certificação anual de nível técnico da Aritech + Suporte remoto certificado da Aritech (4 horas)",1,4,800]
[null,"TRNG-ONSITETECHCH1D ","Colocação em funcionamento a pedido","Sob consulta"]
[null,"TRNG-ACCESS-ONSITE","ACCESS CONTROL TRAINING ON SITE",null,null,652.04]
[null,"TRNG-SOFTMNGT-ONSITE","SOFTWARE MANAGEMENT TRAINING ON SITE",null,null,1707.75]
[null,"TRNG-X500A-ONSITE","X500A TRAINING ON SITE",null,null,652.04]
[null,"TRNG-X700A-ONSITE","X700A TRAINING ON SITE",null,null,636.51940000000002]

{"sheet":"Det PIR","index":3,"n_rows":121,"n_cols":8,"rows_kept":121,"cut":false,"hidden":false,"merged":[[0,2,2,3],[1,6,2,6],[109,2,117,4],[20,2,27,4],[37,2,45,4],[54,2,61,4],[72,2,80,4],[90,2,97,4],[5,2,16,4]]}
[null,null,"Deteção PIR"]
[null,null,null,null,null,null,0]
[]
[null,null,"Status",null,"PVP",null,"Desconto","Preço \nLiquido"]
["PIRCAM",null,"Detetor PIR com Video",null,"PVP",null,"Desconto","Preço Liquido"]
[null,null,"Everon Blinx - Sensor PIR com fios e câmara integrada\n\n • Até um máximo de 6 Everon Blinx por sistema Everon (*)\n • Ligação por BUS de 4 fios, para distâncias até 100 metros\n • 9 cortinas de espelhos de alta densidade para uma detecção precisa de movimento\n • Utiliza o protocolo UltraSync para uma comunicação segura e fiável\n • Mudança automática de imagem entre os modos dia/noite\n • Transmissão de vídeo em tempo real através da API Edge diretamente para a CRA\n • Gravação pré e pós-alarme\n • Integrado com a aplicação móvel Advisor Advanced pro\n • Configuração através da aplicação web Everon"]
[]
[]
[]
[]
[]
[]
[]
[]
[]
[]
[]
[null,"EVERON-PCAM",{"$f":"_xlfn.XLOOKUP($B18,Tabela!$A:$A,Tabela!$C:$C,\"não encontrado\")","v":"NPI"},"Sensor PIR de 12 m com câmara integrada a cores",{"$f":"_xlfn.XLOOKUP($B18,Tabela!$A:$A,Tabela!$D:$D,\"não encontrado\")","v":239.25},{"$f":"IF(B18 =ISTEXT(qualquer), \"\", HYPERLINK(\"https://pt.firesecurityproducts.com/pt/search?q=\"&B18, \"Link Web\"))","v":"Link Web"},{"$f":"$G$2","v":0},{"$f":"IF(ISBLANK(G18),\"\",E18-(E18*$G18))","v":239.25}]
[]
["EV10xx e EV11xx",null,"Detetores Volumétrico PIR"]
[null,null,"• Detetor Volumétrico PIR Série EV 1000/1100\n • Espelho ótico 'Tri-Brid'\n • Bloco Ótico Selado\n • Autofocus - Controlo real de alcance                                                                         \n • 5D - Processamento de sinal (ASIC)\n • Deteção através de gabardines e chapéus de chuva\n • Deteção de rastejamento                                                                                                                        \n • Certificação EN-50131 Grau 2   "]
[]
[]
[]
[]
[]
[]
[]
[]
[null,"EV101x",null,null,"PVP",null,"Desconto","Preço Liquido"]
[null,"EV1012",{"$f":"_xlfn.XLOOKUP($B31,Tabela!$A:$A,Tabela!$C:$C,\"não encontrado\")","v":"Mature"},"Detetor Volumétrico PIR 9 cortinas 12m  - EN50131 Grau 2",{"$f":"_xlfn.XLOOKUP($B31,Tabela!$A:$A,Tabela!$D:$D,\"não encontrado\")","v":44.28},{"$f":"IF(B31 =ISTEXT(qualquer), \"\", HYPERLINK(\"https://pt.firesecurityproducts.com/pt/search?q=\"&B31, \"Link Web\"))","v":"Link Web"},{"$f":"$G$2","v":0},{"$f":"IF(ISBLANK(G31),\"\",E31-(E31*$G31))","v":44.28}]
[null,"EV1012PI",{"$f":"_xlfn.XLOOKUP($B32,Tabela!$A:$A,Tabela!$C:$C,\"não encontrado\")","v":"Mature"},"Detetor Volumétrico PIR 9 cortinas 12m (imune a animais) - EN50131 Grau 2",{"$f":"_xlfn.XLOOKUP($B32,Tabela!$A:$A,Tabela!$D:$D,\"não encontrado\")","v":44.74},{"$f":"IF(B32 =ISTEXT(qualquer), \"\", HYPERLINK(\"https://pt.firesecurityproducts.com/pt/search?q=\"&B32, \"Link Web\"))","v":"Link Web"},{"$f":"$G$2","v":0},{"$f":"IF(ISBLANK(G32),\"\",E32-(E32*$G32))","v":44.74}]
[null,null,null,null,null,{"$f":"IF(B33 =ISTEXT(qualquer), \"\", HYPERLINK(\"https://pt.firesecurityproducts.com/pt/search?q=\"&B33, \"Link Web\"))","v":""}]
[null,"EV111x"]
[null,"EV1116",{"$f":"_xlfn.XLOOKUP($B35,Tabela!$A:$A,Tabela!$C:$C,\"não encontrado\")","v":"Mature"},"Detetor Volumétrico PIR 9 cortinas 16m - EN50131 Grau 2",{"$f":"_xlfn.XLOOKUP($B35,Tabela!$A:$A,Tabela!$D:$D,\"não encontrado\")","v":58.65},{"$f":"IF(B35 =ISTEXT(qualquer), \"\", HYPERLINK(\"https://pt.firesecurityproducts.com/pt/search?q=\"&B35, \"Link Web\"))","v":"Link Web"},{"$f":"$G$2","v":0},{"$f":"IF(ISBLANK(G35),\"\",E35-(E35*$G35))","v":58.65}]
[null,null,null,null,null,{"$f":"IF(B36 =ISTEXT(qualquer), \"\", HYPERLINK(\"https://pt.firesecurityproducts.com/pt/search?q=\"&B36, \"Link Web\"))","v":""}]
["EV10xx e EV11xx AM",null,"Detetores Volumétrico PIR Anti Máscara",null,null,{"$f":"IF(B37 =ISTEXT(qualquer), \"\", HYPERLINK(\"https://pt.firesecurityproducts.com/pt/search?q=\"&B37, \"Link Web\"))","v":""}]
[null,null," • Detetor Volumétrico PIR com Anti máscara \n • Espelho ótico 'Tri-Brid'\n • Bloco Ótico Selado\n • Autofocus - Controlo real de alcance\n • 5D - Processamento de sinal (ASIC)\n • Deteção através de gabardines e chapéus de chuva\n • Deteção de rastejamento  \n • Certificação EN-50131 Grau 3 ",null,null,{"$f":"IF(B38 =ISTEXT(qualquer), \"\", HYPERLINK(\"https://pt.firesecurityproducts.com/pt/search?q=\"&B38, \"Link Web\"))","v":""}]
[null,null,null,null,null,{"$f":"IF(B39 =ISTEXT(qualquer), \"\", HYPERLINK(\"https://pt.firesecurityproducts.com/pt/search?q=\"&B39, \"Link Web\"))","v":""}]
[null,null,null,null,null,{"$f":"IF(B40 =ISTEXT(qualquer), \"\", HYPERLINK(\"https://pt.firesecurityproducts.com/pt/search?q=\"&B40, \"Link Web\"))","v":""}]
[]
[null,null,null,null,null,{"$f":"IF(B42 =ISTEXT(qualquer), \"\", HYPERLINK(\"https://pt.firesecurityproducts.com/pt/search?q=\"&B42, \"Link Web\"))","v":""}]
[null,null,null,null,null,{"$f":"IF(B43 =ISTEXT(qualquer), \"\", HYPERLINK(\"https://pt.firesecurityproducts.com/pt/search?q=\"&B43, \"Link Web\"))","v":""}]
[null,null,null,null,null,{"$f":"IF(B44 =ISTEXT(qualquer), \"\", HYPERLINK(\"https://pt.firesecurityproducts.com/pt/search?q=\"&B44, \"Link Web\"))","v":""}]
[null,null,null,null,null,{"$f":"IF(B45 =ISTEXT(qualquer), \"\", HYPERLINK(\"https://pt.firesecurityproducts.com/pt/search?q=\"&B45, \"Link Web\"))","v":""}]
[null,null,null,null,null,{"$f":"IF(B46 =ISTEXT(qualquer), \"\", HYPERLINK(\"https://pt.firesecurityproducts.com/pt/search?q=\"&B46, \"Link Web\"))","v":""}]
[null,null,null,null,null,{"$f":"IF(B47 =ISTEXT(qualquer), \"\", HYPERLINK(\"https://pt.firesecurityproducts.com/pt/search?q=\"&B47, \"Link Web\"))","v":""}]
[null,"EV101x-AM"]
[null,"EV1012AM",{"$f":"_xlfn.XLOOKUP($B49,Tabela!$A:$A,Tabela!$C:$C,\"não encontrado\")","v":"Mature"},"Detetor PIR 9 cortinas de 12 m Anti Máscara - EN50131 Grau 3",{"$f":"_xlfn.XLOOKUP($B49,Tabela!$A:$A,Tabela!$D:$D,\"não encontrado\")","v":89.04},{"$f":"IF(B49 =ISTEXT(qualquer), \"\", HYPERLINK(\"https://pt.firesecurityproducts.com/pt/search?q=\"&B49, \"Link Web\"))","v":"Link Web"},{"$f":"$G$2","v":0},{"$f":"IF(ISBLANK(G49),\"\",E49-(E49*$G49))","v":89.04}]
[null,null,null,null,null,{"$f":"IF(B50 =ISTEXT(qualquer), \"\", HYPERLINK(\"https://pt.firesecurityproducts.com/pt/search?q=\"&B50, \"Link Web\"))","v":""}]
[null,"EV111x-AM"]
[null,"EV1116AM",{"$f":"_xlfn.XLOOKUP($B52,Tabela!$A:$A,Tabela!$C:$C,\"não encontrado\")","v":"Mature"},"Detetor PIR 11 cortinas de 16 m Anti Máscara - EN50131 Grau 3",{"$f":"_xlfn.XLOOKUP($B52,Tabela!$A:$A,Tabela!$D:$D,\"não encontrado\")","v":114.85},{"$f":"IF(B52 =ISTEXT(qualquer), \"\", HYPERLINK(\"https://pt.firesecurityproducts.com/pt/search?q=\"&B52, \"Link Web\"))","v":"Link Web"},{"$f":"$G$2","v":0},{"$f":"IF(ISBLANK(G52),\"\",E52-(E52*$G52))","v":114.85}]
[null,null,null,null,null,{"$f":"IF(B53 =ISTEXT(qualquer), \"\", HYPERLINK(\"https://pt.firesecurityproducts.com/pt/search?q=\"&B53, \"Link Web\"))","v":""}]
["VE10xx e VE11xx",null,"Detetores Volumétrico Vector PIR ",null,null,{"$f":"IF(B54 =ISTEXT(qualquer), \"\", HYPERLINK(\"https://pt.firesecurityproducts.com/pt/search?q=\"&B54, \"Link Web\"))","v":""}]
[null,null," • Detetor Volumétrico PIR\n • Espelho ótico 'Tri-Brid'\n • Bloco Ótico Selado\n • Autofocus - Controlo real de alcance\n • Processamento \"V2E\"\n • Deteção através de gabardines e chapéus de chuva\n • Deteção de rastejamento\n • Certificação EN-50131 Grau 2",null,null,{"$f":"IF(B55 =ISTEXT(qualquer), \"\", HYPERLINK(\"https://pt.firesecurityproducts.com/pt/search?q=\"&B55, \"Link Web\"))","v":""}]
[null,null,null,null,null,{"$f":"IF(B56 =ISTEXT(qualquer), \"\", HYPERLINK(\"https://pt.firesecurityproducts.com/pt/search?q=\"&B56, \"Link Web\"))","v":""}]
[null,null,null,null,null,{"$f":"IF(B57 =ISTEXT(qualquer), \"\", HYPERLINK(\"https://pt.firesecurityproducts.com/pt/search?q=\"&B57, \"Link Web\"))","v":""}]
[null,null,null,null,null,{"$f":"IF(B58 =ISTEXT(qualquer), \"\", HYPERLINK(\"https://pt.firesecurityproducts.com/pt/search?q=\"&B58, \"Link Web\"))","v":""}]
[null,null,null,null,null,{"$f":"IF(B59 =ISTEXT(qualquer), \"\", HYPERLINK(\"https://pt.firesecurityproducts.com/pt/search?q=\"&B59, \"Link Web\"))","v":""}]
[null,null,null,null,null,{"$f":"IF(B60 =ISTEXT(qualquer), \"\", HYPERLINK(\"https://pt.firesecurityproducts.com/pt/search?q=\"&B60, \"Link Web\"))","v":""}]
[null,null,null,null,null,{"$f":"IF(B61 =ISTEXT(qualquer), \"\", HYPERLINK(\"https://pt.firesecurityproducts.com/pt/search?q=\"&B61, \"Link Web\"))","v":""}]
[null,null,null,null,null,{"$f":"IF(B62 =ISTEXT(qualquer), \"\", HYPERLINK(\"https://pt.firesecurityproducts.com/pt/search?q=\"&B62, \"Link Web\"))","v":""}]
[null,null,null,null,null,{"$f":"IF(B63 =ISTEXT(qualquer), \"\", HYPERLINK(\"https://pt.firesecurityproducts.com/pt/search?q=\"&B63, \"Link Web\"))","v":""}]
[null,"VE10xx"]
[null,"VE1012",{"$f":"_xlfn.XLOOKUP($B65,Tabela!$A:$A,Tabela!$C:$C,\"não encontrado\")","v":"Mature"},"Detetor Volumétrico PIR V2E  9 cortinas 12 m - EN50131 Grau 2",{"$f":"_xlfn.XLOOKUP($B65,Tabela!$A:$A,Tabela!$D:$D,\"não encontrado\")","v":52.83},{"$f":"IF(B65 =ISTEXT(qualquer), \"\", HYPERLINK(\"https://pt.firesecurityproducts.com/pt/search?q=\"&B65, \"Link Web\"))","v":"Link Web"},{"$f":"$G$2","v":0},{"$f":"IF(ISBLANK(G65),\"\",E65-(E65*$G65))","v":52.83}]
[null,"VE1012PI",{"$f":"_xlfn.XLOOKUP($B66,Tabela!$A:$A,Tabela!$C:$C,\"não encontrado\")","v":"Mature"},"Detetor Volumétrico PIR  V2E 9 cortinas 12 m- Imune animais- EN50131 Grau 2",{"$f":"_xlfn.XLOOKUP($B66,Tabela!$A:$A,Tabela!$D:$D,\"não encontrado\")","v":55.49},{"$f":"IF(B66 =ISTEXT(qualquer), \"\", HYPERLINK(\"https://pt.firesecurityproducts.com/pt/search?q=\"&B66, \"Link Web\"))","v":"Link Web"},{"$f":"$G$2","v":0},55.49]
[null,"VE1016",{"$f":"_xlfn.XLOOKUP($B67,Tabela!$A:$A,Tabela!$C:$C,\"não encontrado\")","v":"Mature"},"Detetor Volumétrico PIR V2E - 9 cortinas 16 m - EN50131 Grau 2",{"$f":"_xlfn.XLOOKUP($B67,Tabela!$A:$A,Tabela!$D:$D,\"não encontrado\")","v":67.17},{"$f":"IF(B67 =ISTEXT(qualquer), \"\", HYPERLINK(\"https://pt.firesecurityproducts.com/pt/search?q=\"&B67, \"Link Web\"))","v":"Link Web"},{"$f":"$G$2","v":0},67.17]
[null,null,null,null,null,{"$f":"IF(B68 =ISTEXT(qualquer), \"\", HYPERLINK(\"https://pt.firesecurityproducts.com/pt/search?q=\"&B68, \"Link Web\"))","v":""}]
[null,"VE11xx"]
[null,"VE1120",{"$f":"_xlfn.XLOOKUP($B70,Tabela!$A:$A,Tabela!$C:$C,\"não encontrado\")","v":"Mature"},"Detetor Volumétrico PIR V2E - 11 cortinas de 20 m - EN50131 Grau 2",{"$f":"_xlfn.XLOOKUP($B70,Tabela!$A:$A,Tabela!$D:$D,\"não encontrado\")","v":80.17},{"$f":"IF(B70 =ISTEXT(qualquer), \"\", HYPERLINK(\"https://pt.firesecurityproducts.com/pt/search?q=\"&B70, \"Link Web\"))","v":"Link Web"},{"$f":"$G$2","v":0},{"$f":"IF(ISBLANK(G70),\"\",E70-(E70*$G70))","v":80.17}]
[null,null,null,null,null,{"$f":"IF(B71 =ISTEXT(qualquer), \"\", HYPERLINK(\"https://pt.firesecurityproducts.com/pt/search?q=\"&B71, \"Link Web\"))","v":""}]
["VE10xx e VE11xx AM",null,"Detetores Volumétrico Vector PIR Anti Mascara",null,null,{"$f":"IF(B72 =ISTEXT(qualquer), \"\", HYPERLINK(\"https://pt.firesecurityproducts.com/pt/search?q=\"&B72, \"Link Web\"))","v":""}]
[null,null," • Detetor Volumétrico PIR com Anti máscara \n • Espelho ótico 'Tri-Brid'\n • Bloco Ótico Selado\n • Autofocus - Controlo real de alcance\n • Processamento \"V2E\n • Deteção através de gabardines e chapéus de chuva\n • Deteção de rastejamento\n • Certificação EN-50131 Grau 3",null,null,{"$f":"IF(B73 =ISTEXT(qualquer), \"\", HYPERLINK(\"https://pt.firesecurityproducts.com/pt/search?q=\"&B73, \"Link Web\"))","v":""}]
[null,null,null,null,null,{"$f":"IF(B74 =ISTEXT(qualquer), \"\", HYPERLINK(\"https://pt.firesecurityproducts.com/pt/search?q=\"&B74, \"Link Web\"))","v":""}]
[null,null,null,null,null,{"$f":"IF(B75 =ISTEXT(qualquer), \"\", HYPERLINK(\"https://pt.firesecurityproducts.com/pt/search?q=\"&B75, \"Link Web\"))","v":""}]
[]
[null,null,null,null,null,{"$f":"IF(B77 =ISTEXT(qualquer), \"\", HYPERLINK(\"https://pt.firesecurityproducts.com/pt/search?q=\"&B77, \"Link Web\"))","v":""}]
[null,null,null,null,null,{"$f":"IF(B78 =ISTEXT(qualquer), \"\", HYPERLINK(\"https://pt.firesecurityproducts.com/pt/search?q=\"&B78, \"Link Web\"))","v":""}]
[null,null,null,null,null,{"$f":"IF(B79 =ISTEXT(qualquer), \"\", HYPERLINK(\"https://pt.firesecurityproducts.com/pt/search?q=\"&B79, \"Link Web\"))","v":""}]
[null,null,null,null,null,{"$f":"IF(B80 =ISTEXT(qualquer), \"\", HYPERLINK(\"https://pt.firesecurityproducts.com/pt/search?q=\"&B80, \"Link Web\"))","v":""}]
[null,null,null,null,null,{"$f":"IF(B81 =ISTEXT(qualquer), \"\", HYPERLINK(\"https://pt.firesecurityproducts.com/pt/search?q=\"&B81, \"Link Web\"))","v":""}]
[null,null,null,null,null,{"$f":"IF(B82 =ISTEXT(qualquer), \"\", HYPERLINK(\"https://pt.firesecurityproducts.com/pt/search?q=\"&B82, \"Link Web\"))","v":""}]
[null,"VE10xxAM"]
[null,"VE1012AM",{"$f":"_xlfn.XLOOKUP($B84,Tabela!$A:$A,Tabela!$C:$C,\"não encontrado\")","v":"Mature"},"Detetor Volumétrico PIR V2E  - 9 cortinas 12 m Anti Máscara                      \nEN50131 Grau 3",{"$f":"_xlfn.XLOOKUP($B84,Tabela!$A:$A,Tabela!$D:$D,\"não encontrado\")","v":95.71},{"$f":"IF(B84 =ISTEXT(qualquer), \"\", HYPERLINK(\"https://pt.firesecurityproducts.com/pt/search?q=\"&B84, \"Link Web\"))","v":"Link Web"},{"$f":"$G$2","v":0},{"$f":"IF(ISBLANK(G84),\"\",E84-(E84*$G84))","v":95.71}]
[null,"VE1016AM",{"$f":"_xlfn.XLOOKUP($B85,Tabela!$A:$A,Tabela!$C:$C,\"não encontrado\")","v":"Mature"},"Detetor Volumétrico PIR V2E - 9 cortinas de 16 m Anti Máscara                     \nEN50131 Grau 3",{"$f":"_xlfn.XLOOKUP($B85,Tabela!$A:$A,Tabela!$D:$D,\"não encontrado\")","v":123.56},{"$f":"IF(B85 =ISTEXT(qualquer), \"\", HYPERLINK(\"https://pt.firesecurityproducts.com/pt/search?q=\"&B85, \"Link Web\"))","v":"Link Web"},{"$f":"$G$2","v":0},123.56]
[null,null,null,null,null,{"$f":"IF(B86 =ISTEXT(qualquer), \"\", HYPERLINK(\"https://pt.firesecurityproducts.com/pt/search?q=\"&B86, \"Link Web\"))","v":""}]
[null,"VE11xxAM"]
[null,"VE1120AM",{"$f":"_xlfn.XLOOKUP($B88,Tabela!$A:$A,Tabela!$C:$C,\"não encontrado\")","v":"Mature"},"Detetor Volumétrico PIR V2E - 11 cortinas de 20 m Anti Máscara                           \nEN50131 Grau 3",{"$f":"_xlfn.XLOOKUP($B88,Tabela!$A:$A,Tabela!$D:$D,\"não encontrado\")","v":151.44999999999999},{"$f":"IF(B88 =ISTEXT(qualquer), \"\", HYPERLINK(\"https://pt.firesecurityproducts.com/pt/search?q=\"&B88, \"Link Web\"))","v":"Link Web"},{"$f":"$G$2","v":0},{"$f":"IF(ISBLANK(G88),\"\",E88-(E88*$G88))","v":151.44999999999999}]
[null,null,null,null,null,{"$f":"IF(B89 =ISTEXT(qualquer), \"\", HYPERLINK(\"https://pt.firesecurityproducts.com/pt/search?q=\"&B89, \"Link Web\"))","v":""}]
["VE7xx e VE7xxAM",null,"Detetores Volumétrico PIR com Cortina de Longo Alcance",null,null,{"$f":"IF(B90 =ISTEXT(qualquer), \"\", HYPERLINK(\"https://pt.firesecurityproducts.com/pt/search?q=\"&B90, \"Link Web\"))","v":""}]
[null,null," • Detetor Volumétrico PIR com cortina de longo alcance \n • Espelhos óticos 'Step & Gliding Focus\"\n • Bloco Ótico Selado\n • Autofocus - Controlo real de alcance\n • Algoritmo \"Vector Verified Enhanced\"\n • Deteção através de gabardines e chapéus de chuva\n • Deteção de rastejamento\n • VE7xx - Certificação EN-50131 Grau 2\n • VE7xxAM -Certificação EN-50131 Grau 3",null,null,{"$f":"IF(B91 =ISTEXT(qualquer), \"\", HYPERLINK(\"https://pt.firesecurityproducts.com/pt/search?q=\"&B91, \"Link Web\"))","v":""}]
[null,null,null,null,null,{"$f":"IF(B92 =ISTEXT(qualquer), \"\", HYPERLINK(\"https://pt.firesecurityproducts.com/pt/search?q=\"&B92, \"Link Web\"))","v":""}]
[null,null,null,null,null,{"$f":"IF(B93 =ISTEXT(qualquer), \"\", HYPERLINK(\"https://pt.firesecurityproducts.com/pt/search?q=\"&B93, \"Link Web\"))","v":""}]
[null,null,null,null,null,{"$f":"IF(B94 =ISTEXT(qualquer), \"\", HYPERLINK(\"https://pt.firesecurityproducts.com/pt/search?q=\"&B94, \"Link Web\"))","v":""}]
[null,null,null,null,null,{"$f":"IF(B95 =ISTEXT(qualquer), \"\", HYPERLINK(\"https://pt.firesecurityproducts.com/pt/search?q=\"&B95, \"Link Web\"))","v":""}]
[null,null,null,null,null,{"$f":"IF(B96 =ISTEXT(qualquer), \"\", HYPERLINK(\"https://pt.firesecurityproducts.com/pt/search?q=\"&B96, \"Link Web\"))","v":""}]
[null,null,null,null,null,{"$f":"IF(B97 =ISTEXT(qualquer), \"\", HYPERLINK(\"https://pt.firesecurityproducts.com/pt/search?q=\"&B97, \"Link Web\"))","v":""}]
[null,null,null,null,null,{"$f":"IF(B98 =ISTEXT(qualquer), \"\", HYPERLINK(\"https://pt.firesecurityproducts.com/pt/search?q=\"&B98, \"Link Web\"))","v":""}]
[null,null,null,null,null,{"$f":"IF(B99 =ISTEXT(qualquer), \"\", HYPERLINK(\"https://pt.firesecurityproducts.com/pt/search?q=\"&B99, \"Link Web\"))","v":""}]
[null,"VE7xx"]
[null,"VE735",{"$f":"_xlfn.XLOOKUP($B101,Tabela!$A:$A,Tabela!$C:$C,\"não encontrado\")","v":"Mature"},"Detetor PIR , 1 cortina de 60m, 10 cortinas 20m, V2E              \nEN50131 Grau 2",{"$f":"_xlfn.XLOOKUP($B101,Tabela!$A:$A,Tabela!$D:$D,\"não encontrado\")","v":175.38},{"$f":"IF(B101 =ISTEXT(qualquer), \"\", HYPERLINK(\"https://pt.firesecurityproducts.com/pt/search?q=\"&B101, \"Link Web\"))","v":"Link Web"},{"$f":"$G$2","v":0},{"$f":"IF(ISBLANK(G101),\"\",E101-(E101*$G101))","v":175.38}]
[null,null,null,null,null,{"$f":"IF(B102 =ISTEXT(qualquer), \"\", HYPERLINK(\"https://pt.firesecurityproducts.com/pt/search?q=\"&B102, \"Link Web\"))","v":""}]
[null,"VE7xxAM"]
[null,"VE735AM",{"$f":"_xlfn.XLOOKUP($B104,Tabela!$A:$A,Tabela!$C:$C,\"não encontrado\")","v":"Mature"},"Detetor PIR , 1 cortina de 60m, 10 cortinas 20m, V2E, Anti Máscara                   \nEN50131 Grau 3",{"$f":"_xlfn.XLOOKUP($B104,Tabela!$A:$A,Tabela!$D:$D,\"não encontrado\")","v":238.97},{"$f":"IF(B104 =ISTEXT(qualquer), \"\", HYPERLINK(\"https://pt.firesecurityproducts.com/pt/search?q=\"&B104, \"Link Web\"))","v":"Link Web"},{"$f":"$G$2","v":0},{"$f":"IF(ISBLANK(G104),\"\",E104-(E104*$G104))","v":238.97}]
[null,null,null,null,null,{"$f":"IF(B105 =ISTEXT(qualquer), \"\", HYPERLINK(\"https://pt.firesecurityproducts.com/pt/search?q=\"&B105, \"Link Web\"))","v":""}]
["2X-AFR","Acessórios"]
[null,"VE710",{"$f":"_xlfn.XLOOKUP($B107,Tabela!$A:$A,Tabela!$C:$C,\"não encontrado\")","v":"Mature"},"Ferramenta de Alinhamento Laser",{"$f":"_xlfn.XLOOKUP($B107,Tabela!$A:$A,Tabela!$D:$D,\"não encontrado\")","v":64.760000000000005},{"$f":"IF(B107 =ISTEXT(qualquer), \"\", HYPERLINK(\"https://pt.firesecurityproducts.com/pt/search?q=\"&B107, \"Link Web\"))","v":"Link Web"},{"$f":"$G$2","v":0},{"$f":"IF(ISBLANK(G107),\"\",E107-(E107*$G107))","v":64.760000000000005}]
[null,null,null,null,null,{"$f":"IF(B108 =ISTEXT(qualquer), \"\", HYPERLINK(\"https://pt.firesecurityproducts.com/pt/search?q=\"&B108, \"Link Web\"))","v":""}]
["EV66x",null,"Detetores Volumétrico PIR 360º",null,null,{"$f":"IF(B109 =ISTEXT(qualquer), \"\", HYPERLINK(\"https://pt.firesecurityproducts.com/pt/search?q=\"&B109, \"Link Web\"))","v":""}]
[null,null," • Detetor Volumétrico Teto  PIR \n • Padrão de cobertura a 360º\n • 2 x pyros; 2 x espelhos; 2 x ASIC\n • Padrão conversível, cortina a cortina ou eletrónico a 180º\n • Deteção anti rastejamento total\n • 4D - Processamento de sinal (ASIC)\n • Programável para ambientes hostis\n • Incorpora memória de alarme\n • Certificação EN-50131",null,null,{"$f":"IF(B110 =ISTEXT(qualquer), \"\", HYPERLINK(\"https://pt.firesecurityproducts.com/pt/search?q=\"&B110, \"Link Web\"))","v":""}]
[null,null,null,null,null,{"$f":"IF(B111 =ISTEXT(qualquer), \"\", HYPERLINK(\"https://pt.firesecurityproducts.com/pt/search?q=\"&B111, \"Link Web\"))","v":""}]
[null,null,null,null,null,{"$f":"IF(B112 =ISTEXT(qualquer), \"\", HYPERLINK(\"https://pt.firesecurityproducts.com/pt/search?q=\"&B112, \"Link Web\"))","v":""}]
[null,null,null,null,null,{"$f":"IF(B113 =ISTEXT(qualquer), \"\", HYPERLINK(\"https://pt.firesecurityproducts.com/pt/search?q=\"&B113, \"Link Web\"))","v":""}]
[]
[null,null,null,null,null,{"$f":"IF(B115 =ISTEXT(qualquer), \"\", HYPERLINK(\"https://pt.firesecurityproducts.com/pt/search?q=\"&B115, \"Link Web\"))","v":""}]
[null,null,null,null,null,{"$f":"IF(B116 =ISTEXT(qualquer), \"\", HYPERLINK(\"https://pt.firesecurityproducts.com/pt/search?q=\"&B116, \"Link Web\"))","v":""}]
[null,null,null,null,null,{"$f":"IF(B117 =ISTEXT(qualquer), \"\", HYPERLINK(\"https://pt.firesecurityproducts.com/pt/search?q=\"&B117, \"Link Web\"))","v":""}]
[null,null,null,null,null,{"$f":"IF(B118 =ISTEXT(qualquer), \"\", HYPERLINK(\"https://pt.firesecurityproducts.com/pt/search?q=\"&B118, \"Link Web\"))","v":""}]
[null,null,null,null,null,{"$f":"IF(B119 =ISTEXT(qualquer), \"\", HYPERLINK(\"https://pt.firesecurityproducts.com/pt/search?q=\"&B119, \"Link Web\"))","v":""}]
[null,"EV66x"]
[null,"EV669",{"$f":"_xlfn.XLOOKUP($B121,Tabela!$A:$A,Tabela!$C:$C,\"não encontrado\")","v":"Mature"},"Detetor PIR 360º 18 cortinas de 10 m- Diâmetro de cobertura 20 m \nEN50131 Grau 2",{"$f":"_xlfn.XLOOKUP($B121,Tabela!$A:$A,Tabela!$D:$D,\"não encontrado\")","v":162.16},{"$f":"IF(B121 =ISTEXT(qualquer), \"\", HYPERLINK(\"https://pt.firesecurityproducts.com/pt/search?q=\"&B121, \"Link Web\"))","v":"Link Web"},{"$f":"$G$2","v":0},{"$f":"IF(ISBLANK(G121),\"\",E121-(E121*$G121))","v":162.16}]

{"sheet":"Det Dupla Tecnolo","index":4,"n_rows":64,"n_cols":8,"rows_kept":64,"cut":false,"hidden":false,"merged":[[0,2,2,3],[1,6,2,6],[48,2,56,4],[19,2,26,4],[5,2,12,4],[32,2,39,4]]}
[null,null,"Deteção Dupla Tecnologia"]
[null,null,null,null,null,null,0]
[]
[null,null,"Status",null,"PVP",null,"Desconto","Preço \nLiquido"]
["DD101x-N",null,"Detetores de Dupla Tecnologia"]
[null,null,"• Detetor Dupla Tecnologia \n• PIR & Micro-ondas\n• Decisão de alarme inteligente na clarificação dos sinais RF & PIR\n• Auto diagnóstico contínuo\n• Espelhos óticos de focagem facetada\n• Tecnologia Controlo de alcance de radar \"Gated Radar\" \n• Possibilidade de desligar o radar quando o sistema está desarmado\n• EN-50131  Grau 2"]
[]
[]
[]
[]
[]
[]
[]
[]
[null,"DD10xx-N",null,null,"PVP",null,"Desconto","Preço Liquido"]
[null,"DD1012-N",{"$f":"_xlfn.XLOOKUP($B16,Tabela!$A:$A,Tabela!$C:$C,\"não encontrado\")","v":"Mature"},"Detetor Dupla Tecnologia 9 cortinas de 12 m, Pyro Digital - EN50131 Grau 2",{"$f":"_xlfn.XLOOKUP($B16,Tabela!$A:$A,Tabela!$D:$D,\"não encontrado\")","v":62.79},{"$f":"IF(B16 =ISTEXT(qualquer), \"\", HYPERLINK(\"https://pt.firesecurityproducts.com/pt/search?q=\"&B16, \"Link Web\"))","v":"Link Web"},{"$f":"$G$2","v":0},{"$f":"IF(ISBLANK(G16),\"\",E16-(E16*$G16))","v":62.79}]
[null,"DD1012PI-N",{"$f":"_xlfn.XLOOKUP($B17,Tabela!$A:$A,Tabela!$C:$C,\"não encontrado\")","v":"Mature"},"Detetor Dupla Tecnologia 9 cortinas de 12 m\nImune a Pequenos Animais, Pyro Digital - EN50131 Grau 2",{"$f":"_xlfn.XLOOKUP($B17,Tabela!$A:$A,Tabela!$D:$D,\"não encontrado\")","v":63.61},{"$f":"IF(B17 =ISTEXT(qualquer), \"\", HYPERLINK(\"https://pt.firesecurityproducts.com/pt/search?q=\"&B17, \"Link Web\"))","v":"Link Web"},{"$f":"$G$2","v":0},{"$f":"IF(ISBLANK(G17),\"\",E17-(E17*$G17))","v":63.61}]
[null,null,null,null,null,{"$f":"IF(B18 =ISTEXT(qualquer), \"\", HYPERLINK(\"https://pt.firesecurityproducts.com/pt/search?q=\"&B18, \"Link Web\"))","v":""}]
["DD101xAM-N",null,"Detetores de Dupla Tecnologia Anti Máscara",null,null,{"$f":"IF(B19 =ISTEXT(qualquer), \"\", HYPERLINK(\"https://pt.firesecurityproducts.com/pt/search?q=\"&B19, \"Link Web\"))","v":""}]
[null,null,"• Detetor Dupla Tecnologia \n• PIR & Micro-ondas\n• Decisão de alarme inteligente na clarificação dos sinais RF & PIR\n• Auto diagnóstico contínuo\n• Espelhos óticos de focagem facetada\n• Tecnologia Controlo de alcance de radar \"Gated Radar\" \n• Possibilidade de desligar o radar quando o sistema está desarmado\n• EN-50131  Grau 3",null,null,{"$f":"IF(B20 =ISTEXT(qualquer), \"\", HYPERLINK(\"https://pt.firesecurityproducts.com/pt/search?q=\"&B20, \"Link Web\"))","v":""}]
[null,null,null,null,null,{"$f":"IF(B21 =ISTEXT(qualquer), \"\", HYPERLINK(\"https://pt.firesecurityproducts.com/pt/search?q=\"&B21, \"Link Web\"))","v":""}]
[null,null,null,null,null,{"$f":"IF(B22 =ISTEXT(qualquer), \"\", HYPERLINK(\"https://pt.firesecurityproducts.com/pt/search?q=\"&B22, \"Link Web\"))","v":""}]
[null,null,null,null,null,{"$f":"IF(B23 =ISTEXT(qualquer), \"\", HYPERLINK(\"https://pt.firesecurityproducts.com/pt/search?q=\"&B23, \"Link Web\"))","v":""}]
[null,null,null,null,null,{"$f":"IF(B24 =ISTEXT(qualquer), \"\", HYPERLINK(\"https://pt.firesecurityproducts.com/pt/search?q=\"&B24, \"Link Web\"))","v":""}]
[null,null,null,null,null,{"$f":"IF(B25 =ISTEXT(qualquer), \"\", HYPERLINK(\"https://pt.firesecurityproducts.com/pt/search?q=\"&B25, \"Link Web\"))","v":""}]
[null,null,null,null,null,{"$f":"IF(B26 =ISTEXT(qualquer), \"\", HYPERLINK(\"https://pt.firesecurityproducts.com/pt/search?q=\"&B26, \"Link Web\"))","v":""}]
[null,null,null,null,null,{"$f":"IF(B27 =ISTEXT(qualquer), \"\", HYPERLINK(\"https://pt.firesecurityproducts.com/pt/search?q=\"&B27, \"Link Web\"))","v":""}]
[null,null,null,null,null,{"$f":"IF(B28 =ISTEXT(qualquer), \"\", HYPERLINK(\"https://pt.firesecurityproducts.com/pt/search?q=\"&B28, \"Link Web\"))","v":""}]
[null,"DD101xAM-N"]
[null,"DD1012AM-N",{"$f":"_xlfn.XLOOKUP($B30,Tabela!$A:$A,Tabela!$C:$C,\"não encontrado\")","v":"Mature"},"Detetor de Dupla Tecnologia IR+MO  12m Anti Mascara  - EN50131 Grau 3",{"$f":"_xlfn.XLOOKUP($B30,Tabela!$A:$A,Tabela!$D:$D,\"não encontrado\")","v":122.25},{"$f":"IF(B30 =ISTEXT(qualquer), \"\", HYPERLINK(\"https://pt.firesecurityproducts.com/pt/search?q=\"&B30, \"Link Web\"))","v":"Link Web"},{"$f":"$G$2","v":0},{"$f":"IF(ISBLANK(G30),\"\",E30-(E30*$G30))","v":122.25}]
[null,null,null,null,null,{"$f":"IF(B31 =ISTEXT(qualquer), \"\", HYPERLINK(\"https://pt.firesecurityproducts.com/pt/search?q=\"&B31, \"Link Web\"))","v":""}]
["DDV10xxAM",null,"Detetores de Dupla Tecnologia Anti Máscara",null,null,{"$f":"IF(B32 =ISTEXT(qualquer), \"\", HYPERLINK(\"https://pt.firesecurityproducts.com/pt/search?q=\"&B32, \"Link Web\"))","v":""}]
[null,null,"• Detetor Dupla Tecnologia com Anti Máscara\n• Pyro Digital e Algoritmo Neural\n• Decisão de alarme inteligente na clarificação dos sinais RF & PIR\n• Auto diagnóstico contínuo\n• Espelhos óticos de focagem facetada\n• Tecnologia Controlo de alcance de radar \"Gated Radar\"\n•  Possibilidade de desligar o radar quando o sistema está desarmado\n• Certificação EN-50131 Grau 3",null,null,{"$f":"IF(B33 =ISTEXT(qualquer), \"\", HYPERLINK(\"https://pt.firesecurityproducts.com/pt/search?q=\"&B33, \"Link Web\"))","v":""}]
[null,null,null,null,null,{"$f":"IF(B34 =ISTEXT(qualquer), \"\", HYPERLINK(\"https://pt.firesecurityproducts.com/pt/search?q=\"&B34, \"Link Web\"))","v":""}]
[null,null,null,null,null,{"$f":"IF(B35 =ISTEXT(qualquer), \"\", HYPERLINK(\"https://pt.firesecurityproducts.com/pt/search?q=\"&B35, \"Link Web\"))","v":""}]
[null,null,null,null,null,{"$f":"IF(B36 =ISTEXT(qualquer), \"\", HYPERLINK(\"https://pt.firesecurityproducts.com/pt/search?q=\"&B36, \"Link Web\"))","v":""}]
[null,null,null,null,null,{"$f":"IF(B37 =ISTEXT(qualquer), \"\", HYPERLINK(\"https://pt.firesecurityproducts.com/pt/search?q=\"&B37, \"Link Web\"))","v":""}]
[null,null,null,null,null,{"$f":"IF(B38 =ISTEXT(qualquer), \"\", HYPERLINK(\"https://pt.firesecurityproducts.com/pt/search?q=\"&B38, \"Link Web\"))","v":""}]
[null,null,null,null,null,{"$f":"IF(B39 =ISTEXT(qualquer), \"\", HYPERLINK(\"https://pt.firesecurityproducts.com/pt/search?q=\"&B39, \"Link Web\"))","v":""}]
[null,null,null,null,null,{"$f":"IF(B40 =ISTEXT(qualquer), \"\", HYPERLINK(\"https://pt.firesecurityproducts.com/pt/search?q=\"&B40, \"Link Web\"))","v":""}]
[null,null,null,null,null,{"$f":"IF(B41 =ISTEXT(qualquer), \"\", HYPERLINK(\"https://pt.firesecurityproducts.com/pt/search?q=\"&B41, \"Link Web\"))","v":""}]
[null,"DDVxxAM",null,null,"PVP",null,"Desconto","Preço Liquido"]
[null,"DDV1016-N",{"$f":"_xlfn.XLOOKUP($B43,Tabela!$A:$A,Tabela!$C:$C,\"não encontrado\")","v":"Mature"},"16 M, DUAL TECHNOLOGY MOTION SENSOR VECTOR",{"$f":"_xlfn.XLOOKUP($B43,Tabela!$A:$A,Tabela!$D:$D,\"não encontrado\")","v":88.71},{"$f":"IF(B43 =ISTEXT(qualquer), \"\", HYPERLINK(\"https://pt.firesecurityproducts.com/pt/search?q=\"&B43, \"Link Web\"))","v":"Link Web"},{"$f":"$G$2","v":0},{"$f":"IF(ISBLANK(G43),\"\",E43-(E43*$G43))","v":88.71}]
[null,"DDV1016AM-N",{"$f":"_xlfn.XLOOKUP($B44,Tabela!$A:$A,Tabela!$C:$C,\"não encontrado\")","v":"Mature"},"16 M, DUAL TECHNOLOGY MOTION SENSOR VECTOR, ANTI-MASK",{"$f":"_xlfn.XLOOKUP($B44,Tabela!$A:$A,Tabela!$D:$D,\"não encontrado\")","v":160.84},{"$f":"IF(B44 =ISTEXT(qualquer), \"\", HYPERLINK(\"https://pt.firesecurityproducts.com/pt/search?q=\"&B44, \"Link Web\"))","v":"Link Web"},{"$f":"$G$2","v":0},{"$f":"IF(ISBLANK(G44),\"\",E44-(E44*$G44))","v":160.84}]
[null,"DDV1016AM-D-B-N",{"$f":"_xlfn.XLOOKUP($B45,Tabela!$A:$A,Tabela!$C:$C,\"não encontrado\")","v":"Mature"},"16 M, DUAL TECHNOLOGY MOTION SENSOR VECTOR, ANTI-MASK, VDS APPROVED, BLACK",{"$f":"_xlfn.XLOOKUP($B45,Tabela!$A:$A,Tabela!$D:$D,\"não encontrado\")","v":202.68},{"$f":"IF(B45 =ISTEXT(qualquer), \"\", HYPERLINK(\"https://pt.firesecurityproducts.com/pt/search?q=\"&B45, \"Link Web\"))","v":"Link Web"},{"$f":"$G$2","v":0},202.68]
[null,null,null,null,null,{"$f":"IF(B46 =ISTEXT(qualquer), \"\", HYPERLINK(\"https://pt.firesecurityproducts.com/pt/search?q=\"&B46, \"Link Web\"))","v":""}]
[null,null,null,null,null,{"$f":"IF(B47 =ISTEXT(qualquer), \"\", HYPERLINK(\"https://pt.firesecurityproducts.com/pt/search?q=\"&B47, \"Link Web\"))","v":""}]
["DD6xx e DD6xxAM",null,"Detetores Dupla Tecnologia 360º",null,null,{"$f":"IF(B48 =ISTEXT(qualquer), \"\", HYPERLINK(\"https://pt.firesecurityproducts.com/pt/search?q=\"&B48, \"Link Web\"))","v":""}]
[null,null,"• Detetor PIR  360º e Micro-ondas\n• Micro-ondas banda C\n• Possibilidade de operação só com micro-ondas \"Stealth mode\"\n• Modo dia/noite (desativação de micro-ondas com sistema desarmado)\n• Anti mascara por micro-ondas, escudo virtual de 40 cm\n• Altura de instalação de 2.5 a 5 m \n• Memória de alarme\n• Padrão de cobertura selecionável\n• Certificação EN-50131",null,null,{"$f":"IF(B49 =ISTEXT(qualquer), \"\", HYPERLINK(\"https://pt.firesecurityproducts.com/pt/search?q=\"&B49, \"Link Web\"))","v":""}]
[null,null,null,null,null,{"$f":"IF(B50 =ISTEXT(qualquer), \"\", HYPERLINK(\"https://pt.firesecurityproducts.com/pt/search?q=\"&B50, \"Link Web\"))","v":""}]
[null,null,null,null,null,{"$f":"IF(B51 =ISTEXT(qualquer), \"\", HYPERLINK(\"https://pt.firesecurityproducts.com/pt/search?q=\"&B51, \"Link Web\"))","v":""}]
[null,null,null,null,null,{"$f":"IF(B52 =ISTEXT(qualquer), \"\", HYPERLINK(\"https://pt.firesecurityproducts.com/pt/search?q=\"&B52, \"Link Web\"))","v":""}]
[]
[null,null,null,null,null,{"$f":"IF(B54 =ISTEXT(qualquer), \"\", HYPERLINK(\"https://pt.firesecurityproducts.com/pt/search?q=\"&B54, \"Link Web\"))","v":""}]
[null,null,null,null,null,{"$f":"IF(B55 =ISTEXT(qualquer), \"\", HYPERLINK(\"https://pt.firesecurityproducts.com/pt/search?q=\"&B55, \"Link Web\"))","v":""}]
[null,null,null,null,null,{"$f":"IF(B56 =ISTEXT(qualquer), \"\", HYPERLINK(\"https://pt.firesecurityproducts.com/pt/search?q=\"&B56, \"Link Web\"))","v":""}]
[null,null,null,null,null,{"$f":"IF(B57 =ISTEXT(qualquer), \"\", HYPERLINK(\"https://pt.firesecurityproducts.com/pt/search?q=\"&B57, \"Link Web\"))","v":""}]
[null,null,null,null,null,{"$f":"IF(B58 =ISTEXT(qualquer), \"\", HYPERLINK(\"https://pt.firesecurityproducts.com/pt/search?q=\"&B58, \"Link Web\"))","v":""}]
[null,"DD6xx"]
[null,"DD669",{"$f":"_xlfn.XLOOKUP($B60,Tabela!$A:$A,Tabela!$C:$C,\"não encontrado\")","v":"Mature"},"Detetor Dupla Tecnologia 20m 360º   \nEN50131 Grau 2",{"$f":"_xlfn.XLOOKUP($B60,Tabela!$A:$A,Tabela!$D:$D,\"não encontrado\")","v":205.4},{"$f":"IF(B60 =ISTEXT(qualquer), \"\", HYPERLINK(\"https://pt.firesecurityproducts.com/pt/search?q=\"&B60, \"Link Web\"))","v":"Link Web"},{"$f":"$G$2","v":0},{"$f":"IF(ISBLANK(G60),\"\",E60-(E60*$G60))","v":205.4}]
[null,null,null,null,null,{"$f":"IF(B61 =ISTEXT(qualquer), \"\", HYPERLINK(\"https://pt.firesecurityproducts.com/pt/search?q=\"&B61, \"Link Web\"))","v":""}]
[null,"DD6xxAM"]
[null,"DD669AM",{"$f":"_xlfn.XLOOKUP($B63,Tabela!$A:$A,Tabela!$C:$C,\"não encontrado\")","v":"Mature"},"Detetor Dupla Tecnologia 360º Anti máscara- 18 cortinas de 10 m  \nEN50131 Grau 3",{"$f":"_xlfn.XLOOKUP($B63,Tabela!$A:$A,Tabela!$D:$D,\"não encontrado\")","v":260.7},{"$f":"IF(B63 =ISTEXT(qualquer), \"\", HYPERLINK(\"https://pt.firesecurityproducts.com/pt/search?q=\"&B63, \"Link Web\"))","v":"Link Web"},{"$f":"$G$2","v":0},{"$f":"IF(ISBLANK(G63),\"\",E63-(E63*$G63))","v":260.7}]
[null,null,null,null,null,{"$f":"IF(B64 =ISTEXT(qualquer), \"\", HYPERLINK(\"https://pt.firesecurityproducts.com/pt/search?q=\"&B64, \"Link Web\"))","v":""}]

{"sheet":"Det Quebra Vidros","index":5,"n_rows":56,"n_cols":8,"rows_kept":56,"cut":false,"hidden":false,"merged":[[21,2,27,4],[40,2,47,4],[0,2,2,3],[1,6,2,6],[5,2,8,4]]}
[null,null,"Deteção Quebra de Vidros"]
[null,null,null,null,null,null,0]
[]
[null,null,"Status",null,"PVP",null,"Desconto","Preço \nLiquido"]
["GS960",null,"Detetor Acústico de Quebra de Vidros"]
[null,null,"• Detetor Acústico de Quebra Vidros\n• Proteção múltiplas janelas na mesma sala\n• Alcance de deteção até 9m com um angulo de 165º \n• Certificação EN-50131"]
[]
[]
[]
[]
[null,"GS9xx",null,null,"PVP",null,"Desconto","Preço Liquido"]
[null,"GS960",{"$f":"_xlfn.XLOOKUP($B12,Tabela!$A:$A,Tabela!$C:$C,\"não encontrado\")","v":"Mature"},"Detetor Quebra Vidros Acústico \nCertificado EN50131 Grau 2",{"$f":"_xlfn.XLOOKUP($B12,Tabela!$A:$A,Tabela!$D:$D,\"não encontrado\")","v":126.17},{"$f":"IF(B12 =ISTEXT(qualquer), \"\", HYPERLINK(\"https://pt.firesecurityproducts.com/pt/search?q=\"&B12, \"Link Web\"))","v":"Link Web"},{"$f":"$G$2","v":0},{"$f":"IF(ISBLANK(G12),\"\",E12-(E12*$G12))","v":126.17}]
[null,null,null,null,null,{"$f":"IF(B13 =ISTEXT(qualquer), \"\", HYPERLINK(\"https://pt.firesecurityproducts.com/pt/search?q=\"&B13, \"Link Web\"))","v":""}]
[null,"GS9xxAM"]
[null,"GS960AM",{"$f":"_xlfn.XLOOKUP($B15,Tabela!$A:$A,Tabela!$C:$C,\"não encontrado\")","v":"Mature"},"Detetor Quebra Vidros Acústico AM\nCertificado EN50131 Grau 3",{"$f":"_xlfn.XLOOKUP($B15,Tabela!$A:$A,Tabela!$D:$D,\"não encontrado\")","v":175.1},{"$f":"IF(B15 =ISTEXT(qualquer), \"\", HYPERLINK(\"https://pt.firesecurityproducts.com/pt/search?q=\"&B15, \"Link Web\"))","v":"Link Web"},{"$f":"$G$2","v":0},{"$f":"IF(ISBLANK(G15),\"\",E15-(E15*$G15))","v":175.1}]
[null,null,null,null,null,{"$f":"IF(B16 =ISTEXT(qualquer), \"\", HYPERLINK(\"https://pt.firesecurityproducts.com/pt/search?q=\"&B16, \"Link Web\"))","v":""}]
[null,"Acessórios"]
[null,"GS960-TR",{"$f":"_xlfn.XLOOKUP($B18,Tabela!$A:$A,Tabela!$C:$C,\"não encontrado\")","v":"Mature"},"Ferramenta de teste/calibração para a série GS960",{"$f":"_xlfn.XLOOKUP($B18,Tabela!$A:$A,Tabela!$D:$D,\"não encontrado\")","v":338.45},{"$f":"IF(B18 =ISTEXT(qualquer), \"\", HYPERLINK(\"https://pt.firesecurityproducts.com/pt/search?q=\"&B18, \"Link Web\"))","v":"Link Web"},{"$f":"$G$2","v":0},{"$f":"IF(ISBLANK(G18),\"\",E18-(E18*$G18))","v":338.45}]
[null,"GS960-RB",{"$f":"_xlfn.XLOOKUP($B19,Tabela!$A:$A,Tabela!$C:$C,\"não encontrado\")","v":"Mature"},"PCB EOL para GS9xx",{"$f":"_xlfn.XLOOKUP($B19,Tabela!$A:$A,Tabela!$D:$D,\"não encontrado\")","v":10.17},{"$f":"IF(B19 =ISTEXT(qualquer), \"\", HYPERLINK(\"https://pt.firesecurityproducts.com/pt/search?q=\"&B19, \"Link Web\"))","v":"Link Web"},{"$f":"$G$2","v":0},{"$f":"IF(ISBLANK(G19),\"\",E19-(E19*$G19))","v":10.17}]
[null,null,null,null,null,{"$f":"IF(B20 =ISTEXT(qualquer), \"\", HYPERLINK(\"https://pt.firesecurityproducts.com/pt/search?q=\"&B20, \"Link Web\"))","v":""}]
["ShatterPro2",null,"Detetor Acústico de Quebra de Vidros",null,null,{"$f":"IF(B21 =ISTEXT(qualquer), \"\", HYPERLINK(\"https://pt.firesecurityproducts.com/pt/search?q=\"&B21, \"Link Web\"))","v":""}]
[null,null,"• Sensor acústico - Omni direcional\n• Deteção em 360º - raio de deteção 7,5 mt \n• Filtragem com Processamento Digital\n• Sem ajuste de sensibilidade\n• Superior imunidade a RFI e vibrações\n• Proteção tamper - memória de alarme\n• Plástico ABS Auto extinguível, branco",null,null,{"$f":"IF(B22 =ISTEXT(qualquer), \"\", HYPERLINK(\"https://pt.firesecurityproducts.com/pt/search?q=\"&B22, \"Link Web\"))","v":""}]
[null,null,null,null,null,{"$f":"IF(B23 =ISTEXT(qualquer), \"\", HYPERLINK(\"https://pt.firesecurityproducts.com/pt/search?q=\"&B23, \"Link Web\"))","v":""}]
[null,null,null,null,null,{"$f":"IF(B24 =ISTEXT(qualquer), \"\", HYPERLINK(\"https://pt.firesecurityproducts.com/pt/search?q=\"&B24, \"Link Web\"))","v":""}]
[]
[null,null,null,null,null,{"$f":"IF(B26 =ISTEXT(qualquer), \"\", HYPERLINK(\"https://pt.firesecurityproducts.com/pt/search?q=\"&B26, \"Link Web\"))","v":""}]
[null,null,null,null,null,{"$f":"IF(B27 =ISTEXT(qualquer), \"\", HYPERLINK(\"https://pt.firesecurityproducts.com/pt/search?q=\"&B27, \"Link Web\"))","v":""}]
[null,null,null,null,null,{"$f":"IF(B28 =ISTEXT(qualquer), \"\", HYPERLINK(\"https://pt.firesecurityproducts.com/pt/search?q=\"&B28, \"Link Web\"))","v":""}]
[null,null,null,null,null,{"$f":"IF(B29 =ISTEXT(qualquer), \"\", HYPERLINK(\"https://pt.firesecurityproducts.com/pt/search?q=\"&B29, \"Link Web\"))","v":""}]
[null,"GS90x"]
[null,"GS903N",{"$f":"_xlfn.XLOOKUP($B31,Tabela!$A:$A,Tabela!$C:$C,\"não encontrado\")","v":"Mature"},"Detetor quebra de vidros 360º -raio 7,5 m, memória e aprovação VDS",{"$f":"_xlfn.XLOOKUP($B31,Tabela!$A:$A,Tabela!$D:$D,\"não encontrado\")","v":99.52},{"$f":"IF(B31 =ISTEXT(qualquer), \"\", HYPERLINK(\"https://pt.firesecurityproducts.com/pt/search?q=\"&B31, \"Link Web\"))","v":"Link Web"},{"$f":"$G$2","v":0},{"$f":"IF(ISBLANK(G31),\"\",E31-(E31*$G31))","v":99.52}]
[null,null,null,null,null,{"$f":"IF(B32 =ISTEXT(qualquer), \"\", HYPERLINK(\"https://pt.firesecurityproducts.com/pt/search?q=\"&B32, \"Link Web\"))","v":""}]
[null,"GS91x"]
[null,"GS913N",{"$f":"_xlfn.XLOOKUP($B34,Tabela!$A:$A,Tabela!$C:$C,\"não encontrado\")","v":"Mature"},"Detetor quebra de vidros 360º -raio 7,5 m, montagem de embutir",{"$f":"_xlfn.XLOOKUP($B34,Tabela!$A:$A,Tabela!$D:$D,\"não encontrado\")","v":125.89},{"$f":"IF(B34 =ISTEXT(qualquer), \"\", HYPERLINK(\"https://pt.firesecurityproducts.com/pt/search?q=\"&B34, \"Link Web\"))","v":"Link Web"},{"$f":"$G$2","v":0},{"$f":"IF(ISBLANK(G34),\"\",E34-(E34*$G34))","v":125.89}]
[null,null,null,null,null,{"$f":"IF(B35 =ISTEXT(qualquer), \"\", HYPERLINK(\"https://pt.firesecurityproducts.com/pt/search?q=\"&B35, \"Link Web\"))","v":""}]
["Acessórios",null,"Detetor Acústico de Quebra de Vidros",null,null,{"$f":"IF(B36 =ISTEXT(qualquer), \"\", HYPERLINK(\"https://pt.firesecurityproducts.com/pt/search?q=\"&B36, \"Link Web\"))","v":""}]
[null,null,null,null,null,{"$f":"IF(B37 =ISTEXT(qualquer), \"\", HYPERLINK(\"https://pt.firesecurityproducts.com/pt/search?q=\"&B37, \"Link Web\"))","v":""}]
[null,"GS905",{"$f":"_xlfn.XLOOKUP($B38,Tabela!$A:$A,Tabela!$C:$C,\"não encontrado\")","v":"Mature"},"Unidade de teste p/ detetores de quebra de vidro,\nSom real de quebra de vidro Diferentes sons: - Vidro laminado - Vidro temperado - Vidro normal",{"$f":"_xlfn.XLOOKUP($B38,Tabela!$A:$A,Tabela!$D:$D,\"não encontrado\")","v":208.04},{"$f":"IF(B38 =ISTEXT(qualquer), \"\", HYPERLINK(\"https://pt.firesecurityproducts.com/pt/search?q=\"&B38, \"Link Web\"))","v":"Link Web"},{"$f":"$G$2","v":0},{"$f":"IF(ISBLANK(G38),\"\",E38-(E38*$G38))","v":208.04}]
[null,null,null,null,null,{"$f":"IF(B39 =ISTEXT(qualquer), \"\", HYPERLINK(\"https://pt.firesecurityproducts.com/pt/search?q=\"&B39, \"Link Web\"))","v":""}]
["GS3xx",null,"Detetores Piezo de Quebra de Vidros",null,null,{"$f":"IF(B40 =ISTEXT(qualquer), \"\", HYPERLINK(\"https://pt.firesecurityproducts.com/pt/search?q=\"&B40, \"Link Web\"))","v":""}]
[null,null,"A Série GS300 foi concebida para detetar a gama específica de frequências ultrassónicas, produzidas pela quebra de vidro. As pancadas e outras perturbações normais de uma janela não acionam um alarme. \n• Modelos para cada tipo de vidro \n• Proteção 2 m raio\n• LED de indicação de ativação\n• Fornecido com cabo de ligação diferentes comprimentos\n• Alimentação de 3 a 16 VDC\n• Versões com saída de relé",null,null,{"$f":"IF(B41 =ISTEXT(qualquer), \"\", HYPERLINK(\"https://pt.firesecurityproducts.com/pt/search?q=\"&B41, \"Link Web\"))","v":""}]
[null,null,null,null,null,{"$f":"IF(B42 =ISTEXT(qualquer), \"\", HYPERLINK(\"https://pt.firesecurityproducts.com/pt/search?q=\"&B42, \"Link Web\"))","v":""}]
[null,null,null,null,null,{"$f":"IF(B43 =ISTEXT(qualquer), \"\", HYPERLINK(\"https://pt.firesecurityproducts.com/pt/search?q=\"&B43, \"Link Web\"))","v":""}]
[null,null,null,null,null,{"$f":"IF(B44 =ISTEXT(qualquer), \"\", HYPERLINK(\"https://pt.firesecurityproducts.com/pt/search?q=\"&B44, \"Link Web\"))","v":""}]
[]
[null,null,null,null,null,{"$f":"IF(B46 =ISTEXT(qualquer), \"\", HYPERLINK(\"https://pt.firesecurityproducts.com/pt/search?q=\"&B46, \"Link Web\"))","v":""}]
[null,null,null,null,null,{"$f":"IF(B47 =ISTEXT(qualquer), \"\", HYPERLINK(\"https://pt.firesecurityproducts.com/pt/search?q=\"&B47, \"Link Web\"))","v":""}]
[null,null,null,null,null,{"$f":"IF(B48 =ISTEXT(qualquer), \"\", HYPERLINK(\"https://pt.firesecurityproducts.com/pt/search?q=\"&B48, \"Link Web\"))","v":""}]
[null,null,null,null,null,{"$f":"IF(B49 =ISTEXT(qualquer), \"\", HYPERLINK(\"https://pt.firesecurityproducts.com/pt/search?q=\"&B49, \"Link Web\"))","v":""}]
[null,"GS300",{"$f":"_xlfn.XLOOKUP($B50,Tabela!$A:$A,Tabela!$C:$C,\"não encontrado\")","v":"Mature"},"Detetor Piezo de Quebra de Vidro Normal (Plated) - 2m cabo",{"$f":"_xlfn.XLOOKUP($B50,Tabela!$A:$A,Tabela!$D:$D,\"não encontrado\")","v":34.57},{"$f":"IF(B50 =ISTEXT(qualquer), \"\", HYPERLINK(\"https://pt.firesecurityproducts.com/pt/search?q=\"&B50, \"Link Web\"))","v":"Link Web"},{"$f":"$G$2","v":0},{"$f":"IF(ISBLANK(G50),\"\",E50-(E50*$G50))","v":34.57}]
[null,"GS301",{"$f":"_xlfn.XLOOKUP($B51,Tabela!$A:$A,Tabela!$C:$C,\"não encontrado\")","v":"Mature"},"Detetor Piezo de Quebra de Vidro Normal (Plated) - 6m cabo",{"$f":"_xlfn.XLOOKUP($B51,Tabela!$A:$A,Tabela!$D:$D,\"não encontrado\")","v":39.950000000000003},{"$f":"IF(B51 =ISTEXT(qualquer), \"\", HYPERLINK(\"https://pt.firesecurityproducts.com/pt/search?q=\"&B51, \"Link Web\"))","v":"Link Web"},0,{"$f":"IF(ISBLANK(G51),\"\",E51-(E51*$G51))","v":39.950000000000003}]
[null,null,null,null,null,{"$f":"IF(B52 =ISTEXT(qualquer), \"\", HYPERLINK(\"https://pt.firesecurityproducts.com/pt/search?q=\"&B52, \"Link Web\"))","v":""}]
["2X-AFR","Acessórios"]
[null,"GS313",{"$f":"_xlfn.XLOOKUP($B54,Tabela!$A:$A,Tabela!$C:$C,\"não encontrado\")","v":"Mature"},"Kit fixação detetores piezo de quebra de vidros laminados (cola e toalhetes)",{"$f":"_xlfn.XLOOKUP($B54,Tabela!$A:$A,Tabela!$D:$D,\"não encontrado\")","v":67},{"$f":"IF(B54 =ISTEXT(qualquer), \"\", HYPERLINK(\"https://pt.firesecurityproducts.com/pt/search?q=\"&B54, \"Link Web\"))","v":"Link Web"},{"$f":"$G$2","v":0},{"$f":"IF(ISBLANK(G54),\"\",E54-(E54*$G54))","v":67}]
[null,"GS330",{"$f":"_xlfn.XLOOKUP($B55,Tabela!$A:$A,Tabela!$C:$C,\"não encontrado\")","v":"Mature"},"Interface de relé para expansão de linha de deteção",{"$f":"_xlfn.XLOOKUP($B55,Tabela!$A:$A,Tabela!$D:$D,\"não encontrado\")","v":99.05},{"$f":"IF(B55 =ISTEXT(qualquer), \"\", HYPERLINK(\"https://pt.firesecurityproducts.com/pt/search?q=\"&B55, \"Link Web\"))","v":"Link Web"},{"$f":"$G$2","v":0},{"$f":"IF(ISBLANK(G55),\"\",E55-(E55*$G55))","v":99.05}]
[null,"GS331",{"$f":"_xlfn.XLOOKUP($B56,Tabela!$A:$A,Tabela!$C:$C,\"não encontrado\")","v":"Mature"},"Unidade para teste de detetores piezo",{"$f":"_xlfn.XLOOKUP($B56,Tabela!$A:$A,Tabela!$D:$D,\"não encontrado\")","v":355.92},{"$f":"IF(B56 =ISTEXT(qualquer), \"\", HYPERLINK(\"https://pt.firesecurityproducts.com/pt/search?q=\"&B56, \"Link Web\"))","v":"Link Web"},{"$f":"$G$2","v":0},{"$f":"IF(ISBLANK(G56),\"\",E56-(E56*$G56))","v":355.92}]

{"sheet":"Det Sismicos e Inércia","index":6,"n_rows":84,"n_cols":8,"rows_kept":84,"cut":false,"hidden":false,"merged":[[38,2,44,4],[53,2,59,4],[0,2,2,3],[1,6,2,6],[5,2,11,4],[16,2,22,4]]}
[null,null,"Detetores Sísmicos / Choque Inércia"]
[null,null,null,null,null,null,0]
[]
[null,null,"Status",null,"PVP",null,"Desconto","Preço\n Liquido"]
["GS6xx",null,"Sensores Miniatura de Choque e Inércia"]
[null,null,"• Sensor de choque/inércia - eletromecânico\n• Contactos dourados\n• Instalação Vertical ou Horizontal\n• Necessita de analisador - GS615\n• Pode ser ligado diretamente a zonas da ATSx500 (dispensa analisador)\n• Proteção tamper - dimensões 17 x 42 mm\n• Hermeticamente fechado plástico ABS"]
[]
[]
[]
[]
[]
[]
[null,null,null,null,"PVP",null,"Desconto","Preço Liquido"]
[null,"GS600",{"$f":"_xlfn.XLOOKUP($B14,Tabela!A:A,Tabela!C:C,\"não encontrado\")","v":"Mature"},"Mini sensor de choque/inércia - 4 fios com 2 m",{"$f":"_xlfn.XLOOKUP($B14,Tabela!$A:$A,Tabela!$D:$D,\"não encontrado\")","v":48.28},{"$f":"IF(B14 =ISTEXT(qualquer), \"\", HYPERLINK(\"https://pt.firesecurityproducts.com/pt/search?q=\"&B14, \"Link Web\"))","v":"Link Web"},{"$f":"$G$2","v":0},{"$f":"IF(ISBLANK(G14),\"\",E14-(E14*$G14))","v":48.28}]
[null,null,null,null,null,{"$f":"IF(B15 =ISTEXT(qualquer), \"\", HYPERLINK(\"https://pt.firesecurityproducts.com/pt/search?q=\"&B15, \"Link Web\"))","v":""}]
["GS7xx",null,"Sensores Choque e Inércia Com e Sem Contato Magnético",null,null,{"$f":"IF(B16 =ISTEXT(qualquer), \"\", HYPERLINK(\"https://pt.firesecurityproducts.com/pt/search?q=\"&B16, \"Link Web\"))","v":""}]
[null,null,"• Sensor de choque/inércia - eletromecânico\n• Contactos dourados\n• Instalação Vertical ou Horizontal\n• Necessita de analisador - GS615  \n• Pode ser ligado diretamente a zonas da ATSx500 (dispensa analisador)\n• Proteção tamper - dimensões 17 x 42 mm\n• Hermeticamente fechado plástico ABS",null,null,{"$f":"IF(B17 =ISTEXT(qualquer), \"\", HYPERLINK(\"https://pt.firesecurityproducts.com/pt/search?q=\"&B17, \"Link Web\"))","v":""}]
[]
[null,null,null,null,null,{"$f":"IF(B19 =ISTEXT(qualquer), \"\", HYPERLINK(\"https://pt.firesecurityproducts.com/pt/search?q=\"&B19, \"Link Web\"))","v":""}]
[null,null,null,null,null,{"$f":"IF(B20 =ISTEXT(qualquer), \"\", HYPERLINK(\"https://pt.firesecurityproducts.com/pt/search?q=\"&B20, \"Link Web\"))","v":""}]
[null,null,null,null,null,{"$f":"IF(B21 =ISTEXT(qualquer), \"\", HYPERLINK(\"https://pt.firesecurityproducts.com/pt/search?q=\"&B21, \"Link Web\"))","v":""}]
[null,null,null,null,null,{"$f":"IF(B22 =ISTEXT(qualquer), \"\", HYPERLINK(\"https://pt.firesecurityproducts.com/pt/search?q=\"&B22, \"Link Web\"))","v":""}]
[null,null,null,null,null,{"$f":"IF(B23 =ISTEXT(qualquer), \"\", HYPERLINK(\"https://pt.firesecurityproducts.com/pt/search?q=\"&B23, \"Link Web\"))","v":""}]
[null,null,null,null,null,{"$f":"IF(B24 =ISTEXT(qualquer), \"\", HYPERLINK(\"https://pt.firesecurityproducts.com/pt/search?q=\"&B24, \"Link Web\"))","v":""}]
[null,"Branco"]
[null,"GS710",{"$f":"_xlfn.XLOOKUP($B26,Tabela!A:A,Tabela!C:C,\"não encontrado\")","v":"Mature"},"Sensor de choque/inércia - eletromecânico - Branco",{"$f":"_xlfn.XLOOKUP($B26,Tabela!$A:$A,Tabela!$D:$D,\"não encontrado\")","v":51.9},{"$f":"IF(B26 =ISTEXT(qualquer), \"\", HYPERLINK(\"https://pt.firesecurityproducts.com/pt/search?q=\"&B26, \"Link Web\"))","v":"Link Web"},{"$f":"$G$2","v":0},{"$f":"IF(ISBLANK(G26),\"\",E26-(E26*$G26))","v":51.9}]
[null,"GS711",{"$f":"_xlfn.XLOOKUP($B27,Tabela!A:A,Tabela!C:C,\"não encontrado\")","v":"Mature"},"Sensor de choque/inércia - eletromecânico com contacto magnético - Branco",{"$f":"_xlfn.XLOOKUP($B27,Tabela!$A:$A,Tabela!$D:$D,\"não encontrado\")","v":63.37},{"$f":"IF(B27 =ISTEXT(qualquer), \"\", HYPERLINK(\"https://pt.firesecurityproducts.com/pt/search?q=\"&B27, \"Link Web\"))","v":"Link Web"},{"$f":"$G$2","v":0},{"$f":"IF(ISBLANK(G27),\"\",E27-(E27*$G27))","v":63.37}]
[null,null,null,null,null,{"$f":"IF(B28 =ISTEXT(qualquer), \"\", HYPERLINK(\"https://pt.firesecurityproducts.com/pt/search?q=\"&B28, \"Link Web\"))","v":""}]
[null,"Castanho"]
[null,"GS710B",{"$f":"_xlfn.XLOOKUP($B30,Tabela!A:A,Tabela!C:C,\"não encontrado\")","v":"Mature"},"Sensor de choque/inércia - eletromecânico - Castanho",{"$f":"_xlfn.XLOOKUP($B30,Tabela!$A:$A,Tabela!$D:$D,\"não encontrado\")","v":51.9},{"$f":"IF(B30 =ISTEXT(qualquer), \"\", HYPERLINK(\"https://pt.firesecurityproducts.com/pt/search?q=\"&B30, \"Link Web\"))","v":"Link Web"},{"$f":"$G$2","v":0},{"$f":"IF(ISBLANK(G30),\"\",E30-(E30*$G30))","v":51.9}]
[null,"GS711B",{"$f":"_xlfn.XLOOKUP($B31,Tabela!A:A,Tabela!C:C,\"não encontrado\")","v":"Mature"},"Sensor de choque/inércia - eletromecânico com contacto magnético - Castanho",{"$f":"_xlfn.XLOOKUP($B31,Tabela!$A:$A,Tabela!$D:$D,\"não encontrado\")","v":63.84},{"$f":"IF(B31 =ISTEXT(qualquer), \"\", HYPERLINK(\"https://pt.firesecurityproducts.com/pt/search?q=\"&B31, \"Link Web\"))","v":"Link Web"},{"$f":"$G$2","v":0},{"$f":"IF(ISBLANK(G31),\"\",E31-(E31*$G31))","v":63.84}]
[null,null,null,null,null,{"$f":"IF(B32 =ISTEXT(qualquer), \"\", HYPERLINK(\"https://pt.firesecurityproducts.com/pt/search?q=\"&B32, \"Link Web\"))","v":""}]
["Analisadores",null,"Sensores Choque e Inércia",null,null,{"$f":"IF(B33 =ISTEXT(qualquer), \"\", HYPERLINK(\"https://pt.firesecurityproducts.com/pt/search?q=\"&B33, \"Link Web\"))","v":""}]
[null,null,null,null,null,{"$f":"IF(B34 =ISTEXT(qualquer), \"\", HYPERLINK(\"https://pt.firesecurityproducts.com/pt/search?q=\"&B34, \"Link Web\"))","v":""}]
[null,"GS614",{"$f":"_xlfn.XLOOKUP($B35,Tabela!A:A,Tabela!C:C,\"não encontrado\")","v":"Mature"},"Analisador para detetores choque/inercia, Configuração de sensibilidade, Contador de impulsos 2, 4, 5, ou 8, Indicação LED, Permite o máximo de 12 detetores.\nUtilizar com GS 600/610/611/710/711",{"$f":"_xlfn.XLOOKUP($B35,Tabela!$A:$A,Tabela!$D:$D,\"não encontrado\")","v":68.69},{"$f":"IF(B35 =ISTEXT(qualquer), \"\", HYPERLINK(\"https://pt.firesecurityproducts.com/pt/search?q=\"&B35, \"Link Web\"))","v":"Link Web"},{"$f":"$G$2","v":0},{"$f":"IF(ISBLANK(G35),\"\",E35-(E35*$G35))","v":68.69}]
[null,"GS615",{"$f":"_xlfn.XLOOKUP($B36,Tabela!A:A,Tabela!C:C,\"não encontrado\")","v":"Mature"},"Analisador para detetores choque/inercia, Configuração de sensibilidade, Contador de impulsos 1-9, Indicação LED, Permite o máximo de 20 detetores. \nUtilizar com GS 600/610/611/710/711",{"$f":"_xlfn.XLOOKUP($B36,Tabela!$A:$A,Tabela!$D:$D,\"não encontrado\")","v":74.47},{"$f":"IF(B36 =ISTEXT(qualquer), \"\", HYPERLINK(\"https://pt.firesecurityproducts.com/pt/search?q=\"&B36, \"Link Web\"))","v":"Link Web"},{"$f":"$G$2","v":0},{"$f":"IF(ISBLANK(G36),\"\",E36-(E36*$G36))","v":74.47}]
[null,null,null,null,null,{"$f":"IF(B37 =ISTEXT(qualquer), \"\", HYPERLINK(\"https://pt.firesecurityproducts.com/pt/search?q=\"&B37, \"Link Web\"))","v":""}]
["GS62xx",null,"Sensores Choque e Inércia Autónomo",null,null,{"$f":"IF(B38 =ISTEXT(qualquer), \"\", HYPERLINK(\"https://pt.firesecurityproducts.com/pt/search?q=\"&B38, \"Link Web\"))","v":""}]
[null,null,"• Sensor de choque/inércia - eletromecânico\n• Contactos dourados\n• Instalação Vertical ou Horizontal\n• Analisador integrado\n• Sensibilidade ajustável\n• Proteção tamper\n• Dimensões 93 x 30 x 24 mm",null,null,{"$f":"IF(B39 =ISTEXT(qualquer), \"\", HYPERLINK(\"https://pt.firesecurityproducts.com/pt/search?q=\"&B39, \"Link Web\"))","v":""}]
[null,null,null,null,null,{"$f":"IF(B40 =ISTEXT(qualquer), \"\", HYPERLINK(\"https://pt.firesecurityproducts.com/pt/search?q=\"&B40, \"Link Web\"))","v":""}]
[null,null,null,null,null,{"$f":"IF(B41 =ISTEXT(qualquer), \"\", HYPERLINK(\"https://pt.firesecurityproducts.com/pt/search?q=\"&B41, \"Link Web\"))","v":""}]
[]
[null,null,null,null,null,{"$f":"IF(B43 =ISTEXT(qualquer), \"\", HYPERLINK(\"https://pt.firesecurityproducts.com/pt/search?q=\"&B43, \"Link Web\"))","v":""}]
[null,null,null,null,null,{"$f":"IF(B44 =ISTEXT(qualquer), \"\", HYPERLINK(\"https://pt.firesecurityproducts.com/pt/search?q=\"&B44, \"Link Web\"))","v":""}]
[null,null,null,null,null,{"$f":"IF(B45 =ISTEXT(qualquer), \"\", HYPERLINK(\"https://pt.firesecurityproducts.com/pt/search?q=\"&B45, \"Link Web\"))","v":""}]
[null,null,null,null,null,{"$f":"IF(B46 =ISTEXT(qualquer), \"\", HYPERLINK(\"https://pt.firesecurityproducts.com/pt/search?q=\"&B46, \"Link Web\"))","v":""}]
[null,"Branco"]
[null,"GS620N",{"$f":"_xlfn.XLOOKUP($B48,Tabela!A:A,Tabela!C:C,\"não encontrado\")","v":"Mature"},"Sensor choque/inercia - STAND ALONE - Branco",{"$f":"_xlfn.XLOOKUP($B48,Tabela!$A:$A,Tabela!$D:$D,\"não encontrado\")","v":65.97},{"$f":"IF(B48 =ISTEXT(qualquer), \"\", HYPERLINK(\"https://pt.firesecurityproducts.com/pt/search?q=\"&B48, \"Link Web\"))","v":"Link Web"},{"$f":"$G$2","v":0},{"$f":"IF(ISBLANK(G48),\"\",E48-(E48*$G48))","v":65.97}]
[null,null,null,null,null,{"$f":"IF(B49 =ISTEXT(qualquer), \"\", HYPERLINK(\"https://pt.firesecurityproducts.com/pt/search?q=\"&B49, \"Link Web\"))","v":""}]
[null,"Castanho"]
[null,"GS620BN",{"$f":"_xlfn.XLOOKUP($B51,Tabela!A:A,Tabela!C:C,\"não encontrado\")","v":"Mature"},"Detetor Volumétrico PIR  V2E 9 cortinas 12 m- Imune animais- EN50131 G2",{"$f":"_xlfn.XLOOKUP($B51,Tabela!$A:$A,Tabela!$D:$D,\"não encontrado\")","v":69.290000000000006},{"$f":"IF(B51 =ISTEXT(qualquer), \"\", HYPERLINK(\"https://pt.firesecurityproducts.com/pt/search?q=\"&B51, \"Link Web\"))","v":"Link Web"},{"$f":"$G$2","v":0},{"$f":"IF(ISBLANK(G51),\"\",E51-(E51*$G51))","v":69.290000000000006}]
[null,null,null,null,null,{"$f":"IF(B52 =ISTEXT(qualquer), \"\", HYPERLINK(\"https://pt.firesecurityproducts.com/pt/search?q=\"&B52, \"Link Web\"))","v":""}]
["VV600 Plus",null,"Detetores Sísmicos",null,null,{"$f":"IF(B53 =ISTEXT(qualquer), \"\", HYPERLINK(\"https://pt.firesecurityproducts.com/pt/search?q=\"&B53, \"Link Web\"))","v":""}]
[null,null," • Raio de deteção 1 a 14 m - 3 canais de deteção distintos\n • Deteção de sabotagem:\n • Térmico\n • Magnético\n • Alteração de tensão de alimentação\n • Abertura e remoção\n • Aprovação VDS",null,null,{"$f":"IF(B54 =ISTEXT(qualquer), \"\", HYPERLINK(\"https://pt.firesecurityproducts.com/pt/search?q=\"&B54, \"Link Web\"))","v":""}]
[null,null,null,null,null,{"$f":"IF(B55 =ISTEXT(qualquer), \"\", HYPERLINK(\"https://pt.firesecurityproducts.com/pt/search?q=\"&B55, \"Link Web\"))","v":""}]
[]
[null,null,null,null,null,{"$f":"IF(B57 =ISTEXT(qualquer), \"\", HYPERLINK(\"https://pt.firesecurityproducts.com/pt/search?q=\"&B57, \"Link Web\"))","v":""}]
[null,null,null,null,null,{"$f":"IF(B58 =ISTEXT(qualquer), \"\", HYPERLINK(\"https://pt.firesecurityproducts.com/pt/search?q=\"&B58, \"Link Web\"))","v":""}]
[null,null,null,null,null,{"$f":"IF(B59 =ISTEXT(qualquer), \"\", HYPERLINK(\"https://pt.firesecurityproducts.com/pt/search?q=\"&B59, \"Link Web\"))","v":""}]
[null,null,null,null,null,{"$f":"IF(B60 =ISTEXT(qualquer), \"\", HYPERLINK(\"https://pt.firesecurityproducts.com/pt/search?q=\"&B60, \"Link Web\"))","v":""}]
[null,null,null,null,null,{"$f":"IF(B61 =ISTEXT(qualquer), \"\", HYPERLINK(\"https://pt.firesecurityproducts.com/pt/search?q=\"&B61, \"Link Web\"))","v":""}]
[null,"Cofres e Casas Fortes",null,null,"PVP",null,"Desconto","Preço Liquido"]
[null,"VV600-Plus",{"$f":"_xlfn.XLOOKUP($B63,Tabela!A:A,Tabela!C:C,\"não encontrado\")","v":"Mature"},"SEISMIC DETECTOR REDESIGN",{"$f":"_xlfn.XLOOKUP($B63,Tabela!$A:$A,Tabela!$D:$D,\"não encontrado\")","v":201.69},{"$f":"IF(B63 =ISTEXT(qualquer), \"\", HYPERLINK(\"https://pt.firesecurityproducts.com/pt/search?q=\"&B63, \"Link Web\"))","v":"Link Web"},{"$f":"$G$2","v":0},{"$f":"IF(ISBLANK(G63),\"\",E63-(E63*$G63))","v":201.69}]
[null,null,null,null,null,{"$f":"IF(B64 =ISTEXT(qualquer), \"\", HYPERLINK(\"https://pt.firesecurityproducts.com/pt/search?q=\"&B64, \"Link Web\"))","v":""}]
[null,"ATM e Cofres Noturnos"]
[null,"VV602-Plus",{"$f":"_xlfn.XLOOKUP($B66,Tabela!A:A,Tabela!C:C,\"não encontrado\")","v":"Mature"},"COFRE NOCTURNO - DETECTOR DE MULTIBANCO",{"$f":"_xlfn.XLOOKUP($B66,Tabela!$A:$A,Tabela!$D:$D,\"não encontrado\")","v":201.69},{"$f":"IF(B66 =ISTEXT(qualquer), \"\", HYPERLINK(\"https://pt.firesecurityproducts.com/pt/search?q=\"&B66, \"Link Web\"))","v":"Link Web"},{"$f":"$G$2","v":0},{"$f":"IF(ISBLANK(G66),\"\",E66-(E66*$G66))","v":201.69}]
[null,"VV620-PLUS",{"$f":"_xlfn.XLOOKUP($B67,Tabela!A:A,Tabela!C:C,\"não encontrado\")","v":"Mature"},"SEISM. DET. FORM C RELAY",{"$f":"_xlfn.XLOOKUP($B67,Tabela!$A:$A,Tabela!$D:$D,\"não encontrado\")","v":223.56},{"$f":"IF(B67 =ISTEXT(qualquer), \"\", HYPERLINK(\"https://pt.firesecurityproducts.com/pt/search?q=\"&B67, \"Link Web\"))","v":"Link Web"},{"$f":"$G$2","v":0},{"$f":"IF(ISBLANK(G67),\"\",E67-(E67*$G67))","v":223.56}]
[null,"VV622-PLUS",{"$f":"_xlfn.XLOOKUP($B68,Tabela!A:A,Tabela!C:C,\"não encontrado\")","v":"Mature"},"NIGHT SAFE - ATM DETECTOR, FORM C",{"$f":"_xlfn.XLOOKUP($B68,Tabela!$A:$A,Tabela!$D:$D,\"não encontrado\")","v":223.56},{"$f":"IF(B68 =ISTEXT(qualquer), \"\", HYPERLINK(\"https://pt.firesecurityproducts.com/pt/search?q=\"&B68, \"Link Web\"))","v":"Link Web"},0,223.56]
[null,null,null,null,null,{"$f":"IF(B69 =ISTEXT(qualquer), \"\", HYPERLINK(\"https://pt.firesecurityproducts.com/pt/search?q=\"&B69, \"Link Web\"))","v":""}]
[null,null,null,null,null,{"$f":"IF(B70 =ISTEXT(qualquer), \"\", HYPERLINK(\"https://pt.firesecurityproducts.com/pt/search?q=\"&B70, \"Link Web\"))","v":""}]
["Acessórios",null,"Detetores Sísmicos",null,null,{"$f":"IF(B71 =ISTEXT(qualquer), \"\", HYPERLINK(\"https://pt.firesecurityproducts.com/pt/search?q=\"&B71, \"Link Web\"))","v":""}]
[null,null,null,null,"PVP",{"$f":"IF(B72 =ISTEXT(qualquer), \"\", HYPERLINK(\"https://pt.firesecurityproducts.com/pt/search?q=\"&B72, \"Link Web\"))","v":""},"Desconto","Preço Liquido"]
[null,"VT612-N",{"$f":"_xlfn.XLOOKUP($B73,Tabela!A:A,Tabela!C:C,\"não encontrado\")","v":"NPI"},"UNIDADE DE TESTE PARA A SÉRIE VV600",{"$f":"_xlfn.XLOOKUP($B73,Tabela!$A:$A,Tabela!$D:$D,\"não encontrado\")","v":280.14999999999998},{"$f":"IF(B73 =ISTEXT(qualquer), \"\", HYPERLINK(\"https://pt.firesecurityproducts.com/pt/search?q=\"&B73, \"Link Web\"))","v":"Link Web"},{"$f":"$G$2","v":0},{"$f":"IF(ISBLANK(G73),\"\",E73-(E73*$G73))","v":280.14999999999998}]
[null,"VT705P",{"$f":"_xlfn.XLOOKUP($B74,Tabela!A:A,Tabela!C:C,\"não encontrado\")","v":"Mature"},"Unidade de teste emissora de vibrações instalação no detetor",{"$f":"_xlfn.XLOOKUP($B74,Tabela!$A:$A,Tabela!$D:$D,\"não encontrado\")","v":38},{"$f":"IF(B74 =ISTEXT(qualquer), \"\", HYPERLINK(\"https://pt.firesecurityproducts.com/pt/search?q=\"&B74, \"Link Web\"))","v":"Link Web"},0,38]
[null,"VM600P",{"$f":"_xlfn.XLOOKUP($B75,Tabela!A:A,Tabela!C:C,\"não encontrado\")","v":"Mature"},"Prato de montagem, Dimensões: 80x97x5mm",{"$f":"_xlfn.XLOOKUP($B75,Tabela!$A:$A,Tabela!$D:$D,\"não encontrado\")","v":15.69},{"$f":"IF(B75 =ISTEXT(qualquer), \"\", HYPERLINK(\"https://pt.firesecurityproducts.com/pt/search?q=\"&B75, \"Link Web\"))","v":"Link Web"},0,15.69]
[null,"VM652P",{"$f":"_xlfn.XLOOKUP($B76,Tabela!A:A,Tabela!C:C,\"não encontrado\")","v":"Mature"},"Placa de proteção de aço reforçado para proteção do olho da fechadura",{"$f":"_xlfn.XLOOKUP($B76,Tabela!$A:$A,Tabela!$D:$D,\"não encontrado\")","v":117.93},{"$f":"IF(B76 =ISTEXT(qualquer), \"\", HYPERLINK(\"https://pt.firesecurityproducts.com/pt/search?q=\"&B76, \"Link Web\"))","v":"Link Web"},0,117.93]
[null,"VM653P",{"$f":"_xlfn.XLOOKUP($B77,Tabela!A:A,Tabela!C:C,\"não encontrado\")","v":"Mature"},"Espaçador de 5mm para VM652",{"$f":"_xlfn.XLOOKUP($B77,Tabela!$A:$A,Tabela!$D:$D,\"não encontrado\")","v":18.93},{"$f":"IF(B77 =ISTEXT(qualquer), \"\", HYPERLINK(\"https://pt.firesecurityproducts.com/pt/search?q=\"&B77, \"Link Web\"))","v":"Link Web"},0,18.93]
[null,"VM602P",{"$f":"_xlfn.XLOOKUP($B78,Tabela!A:A,Tabela!C:C,\"não encontrado\")","v":"Mature"},"Kit para montagem embutida",{"$f":"_xlfn.XLOOKUP($B78,Tabela!$A:$A,Tabela!$D:$D,\"não encontrado\")","v":196.22},{"$f":"IF(B78 =ISTEXT(qualquer), \"\", HYPERLINK(\"https://pt.firesecurityproducts.com/pt/search?q=\"&B78, \"Link Web\"))","v":"Link Web"},0,196.22]
[null,"VM603P",{"$f":"_xlfn.XLOOKUP($B79,Tabela!A:A,Tabela!C:C,\"não encontrado\")","v":"Mature"},"Kit para montagem exterior ( Anti intempéries )",{"$f":"_xlfn.XLOOKUP($B79,Tabela!$A:$A,Tabela!$D:$D,\"não encontrado\")","v":141.72999999999999},{"$f":"IF(B79 =ISTEXT(qualquer), \"\", HYPERLINK(\"https://pt.firesecurityproducts.com/pt/search?q=\"&B79, \"Link Web\"))","v":"Link Web"},0,141.72999999999999]
[null,"VM611P",{"$f":"_xlfn.XLOOKUP($B80,Tabela!A:A,Tabela!C:C,\"não encontrado\")","v":"Mature"},"Caixa para montagem no chão",{"$f":"_xlfn.XLOOKUP($B80,Tabela!$A:$A,Tabela!$D:$D,\"não encontrado\")","v":217.2},{"$f":"IF(B80 =ISTEXT(qualquer), \"\", HYPERLINK(\"https://pt.firesecurityproducts.com/pt/search?q=\"&B80, \"Link Web\"))","v":"Link Web"},0,217.2]
[null,"VM651P",{"$f":"_xlfn.XLOOKUP($B81,Tabela!A:A,Tabela!C:C,\"não encontrado\")","v":"Mature"},"Prato de montagem amovível dia/noite",{"$f":"_xlfn.XLOOKUP($B81,Tabela!$A:$A,Tabela!$D:$D,\"não encontrado\")","v":136.57},{"$f":"IF(B81 =ISTEXT(qualquer), \"\", HYPERLINK(\"https://pt.firesecurityproducts.com/pt/search?q=\"&B81, \"Link Web\"))","v":"Link Web"},0,136.57]
[null,"VM654P",{"$f":"_xlfn.XLOOKUP($B82,Tabela!A:A,Tabela!C:C,\"não encontrado\")","v":"Mature"},"Kit de cabo blindado",{"$f":"_xlfn.XLOOKUP($B82,Tabela!$A:$A,Tabela!$D:$D,\"não encontrado\")","v":46.53},{"$f":"IF(B82 =ISTEXT(qualquer), \"\", HYPERLINK(\"https://pt.firesecurityproducts.com/pt/search?q=\"&B82, \"Link Web\"))","v":"Link Web"},0,46.53]
[null,"VM655P",{"$f":"_xlfn.XLOOKUP($B83,Tabela!A:A,Tabela!C:C,\"não encontrado\")","v":"Mature"},"Caixa de junção com proteção contra arrombamento",{"$f":"_xlfn.XLOOKUP($B83,Tabela!$A:$A,Tabela!$D:$D,\"não encontrado\")","v":118.78},{"$f":"IF(B83 =ISTEXT(qualquer), \"\", HYPERLINK(\"https://pt.firesecurityproducts.com/pt/search?q=\"&B83, \"Link Web\"))","v":"Link Web"},0,118.78]
[null,"VM704P",{"$f":"_xlfn.XLOOKUP($B84,Tabela!A:A,Tabela!C:C,\"não encontrado\")","v":"Mature"},"Placa de fixação por soldadura para montagem de  VV60X e VV700",{"$f":"_xlfn.XLOOKUP($B84,Tabela!$A:$A,Tabela!$D:$D,\"não encontrado\")","v":27.12},{"$f":"IF(B84 =ISTEXT(qualquer), \"\", HYPERLINK(\"https://pt.firesecurityproducts.com/pt/search?q=\"&B84, \"Link Web\"))","v":"Link Web"},0,27.12]

{"sheet":"Contactos_Pânico_Inundação","index":7,"n_rows":264,"n_cols":8,"rows_kept":264,"cut":false,"hidden":false,"merged":[[0,2,2,3],[1,6,2,6],[5,2,10,4],[86,2,92,4],[98,2,105,4],[112,2,119,4],[72,2,79,4],[23,2,29,4],[42,2,44,4],[176,2,185,4],[192,2,201,4],[208,2,214,4],[133,2,140,4],[145,2,154,4],[161,2,170,4]]}
[null,null,"Contactos, Pânico e Inundação"]
[null,null,null,null,null,null,0]
[]
[null,null,"Status",null,"PVP",null,"Desconto","Preço \nLiquido"]
["Série DC101",null,"Contato Magnético de Superfície - Standard "]
[null,null,"Os contactos magnéticos de superfície da série DC101 foram concebidos para utilização em instalações onde é necessária uma unidade pequena e selada. \n• Encapsulamento em poliuretano\n• GAP: 15mm\n• Contato NF (100V / 0,5A máx) \n• Dimensões 50 x 9 x 9 mm"]
[]
[]
[]
[]
[]
[]
[null,"Branco",null,null,"PVP",null,"Desconto","Preço Liquido"]
[null,"DC101",{"$f":"_xlfn.XLOOKUP($B14,Tabela!A:A,Tabela!C:C,\"não encontrado\")","v":"Mature"},"Contacto std superfície Branco - GAP: 15mm - Contacto NF cabo de 2,5m ",{"$f":"_xlfn.XLOOKUP($B14,Tabela!$A:$A,Tabela!$D:$D,\"não encontrado\")","v":11.31},{"$f":"IF(B14 =ISTEXT(qualquer), \"\", HYPERLINK(\"https://pt.firesecurityproducts.com/pt/search?q=\"&B14, \"Link Web\"))","v":"Link Web"},{"$f":"$G$2","v":0},{"$f":"IF(ISBLANK(G14),\"\",E14-(E14*$G14))","v":11.31}]
[null,"DC101S60",{"$f":"_xlfn.XLOOKUP($B15,Tabela!A:A,Tabela!C:C,\"não encontrado\")","v":"Mature"},"Contacto std superfície Branco - GAP: 15mm - Contacto NF cabo de 6 m ",{"$f":"_xlfn.XLOOKUP($B15,Tabela!$A:$A,Tabela!$D:$D,\"não encontrado\")","v":15.44},{"$f":"IF(B15 =ISTEXT(qualquer), \"\", HYPERLINK(\"https://pt.firesecurityproducts.com/pt/search?q=\"&B15, \"Link Web\"))","v":"Link Web"},{"$f":"$G$2","v":0},{"$f":"IF(ISBLANK(G15),\"\",E15-(E15*$G15))","v":15.44}]
[null,null,null,null,null,{"$f":"IF(B16 =ISTEXT(qualquer), \"\", HYPERLINK(\"https://pt.firesecurityproducts.com/pt/search?q=\"&B16, \"Link Web\"))","v":""}]
[null,"Castanho"]
[null,"DC101B",{"$f":"_xlfn.XLOOKUP($B18,Tabela!A:A,Tabela!C:C,\"não encontrado\")","v":"Mature"},"Contacto std superfície Castanho - GAP: 15mm- Contacto NF cabo de 2,5m ",{"$f":"_xlfn.XLOOKUP($B18,Tabela!$A:$A,Tabela!$D:$D,\"não encontrado\")","v":11.31},{"$f":"IF(B18 =ISTEXT(qualquer), \"\", HYPERLINK(\"https://pt.firesecurityproducts.com/pt/search?q=\"&B18, \"Link Web\"))","v":"Link Web"},{"$f":"$G$2","v":0},{"$f":"IF(ISBLANK(G18),\"\",E18-(E18*$G18))","v":11.31}]
[null,null,null,null,null,{"$f":"IF(B19 =ISTEXT(qualquer), \"\", HYPERLINK(\"https://pt.firesecurityproducts.com/pt/search?q=\"&B19, \"Link Web\"))","v":""}]
[null,"Com Resistência EOL"]
[null,"DC101R4.7",{"$f":"_xlfn.XLOOKUP($B21,Tabela!A:A,Tabela!C:C,\"não encontrado\")","v":"Mature"},"Contacto std superfície Branco  - GAP: 15mm- Resistência EOL de 4.7K - cabo de 2,5m ",{"$f":"_xlfn.XLOOKUP($B21,Tabela!$A:$A,Tabela!$D:$D,\"não encontrado\")","v":14.98},{"$f":"IF(B21 =ISTEXT(qualquer), \"\", HYPERLINK(\"https://pt.firesecurityproducts.com/pt/search?q=\"&B21, \"Link Web\"))","v":"Link Web"},{"$f":"$G$2","v":0},{"$f":"IF(ISBLANK(G21),\"\",E21-(E21*$G21))","v":14.98}]
[null,null,null,null,null,{"$f":"IF(B22 =ISTEXT(qualquer), \"\", HYPERLINK(\"https://pt.firesecurityproducts.com/pt/search?q=\"&B22, \"Link Web\"))","v":""}]
["Série DC102",null,"Contato Magnético de Superfície com Terminais - Standard ",null,null,{"$f":"IF(B23 =ISTEXT(qualquer), \"\", HYPERLINK(\"https://pt.firesecurityproducts.com/pt/search?q=\"&B23, \"Link Web\"))","v":""}]
[null,null,"Os contactos magnéticos de superfície da série DC1xx foram concebidos para utilização em instalações onde é necessário a utilização de terminais de ligação. \n• Reed banhado a ródio ou ruténio e hermeticamente seladas em nitrogénio  seco\n• Ter minais de aperto mecânico\n• GAP: 18mm\n• Contato NF  (100V / 0,5A máx)\n• Dimensões 62 x 12 x 19 mm",null,null,{"$f":"IF(B24 =ISTEXT(qualquer), \"\", HYPERLINK(\"https://pt.firesecurityproducts.com/pt/search?q=\"&B24, \"Link Web\"))","v":""}]
[null,null,null,null,null,{"$f":"IF(B25 =ISTEXT(qualquer), \"\", HYPERLINK(\"https://pt.firesecurityproducts.com/pt/search?q=\"&B25, \"Link Web\"))","v":""}]
[null,null,null,null,null,{"$f":"IF(B26 =ISTEXT(qualquer), \"\", HYPERLINK(\"https://pt.firesecurityproducts.com/pt/search?q=\"&B26, \"Link Web\"))","v":""}]
[null,null,null,null,null,{"$f":"IF(B27 =ISTEXT(qualquer), \"\", HYPERLINK(\"https://pt.firesecurityproducts.com/pt/search?q=\"&B27, \"Link Web\"))","v":""}]
[null,null,null,null,null,{"$f":"IF(B28 =ISTEXT(qualquer), \"\", HYPERLINK(\"https://pt.firesecurityproducts.com/pt/search?q=\"&B28, \"Link Web\"))","v":""}]
[null,null,null,null,null,{"$f":"IF(B29 =ISTEXT(qualquer), \"\", HYPERLINK(\"https://pt.firesecurityproducts.com/pt/search?q=\"&B29, \"Link Web\"))","v":""}]
[null,null,null,null,null,{"$f":"IF(B30 =ISTEXT(qualquer), \"\", HYPERLINK(\"https://pt.firesecurityproducts.com/pt/search?q=\"&B30, \"Link Web\"))","v":""}]
[null,null,null,null,null,{"$f":"IF(B31 =ISTEXT(qualquer), \"\", HYPERLINK(\"https://pt.firesecurityproducts.com/pt/search?q=\"&B31, \"Link Web\"))","v":""}]
[null,"Branco"]
[null,"DC102",{"$f":"_xlfn.XLOOKUP($B33,Tabela!A:A,Tabela!C:C,\"não encontrado\")","v":"Mature"},"Contacto std superfície Branco  - GAP: 18mm - Contacto NF - 3 terminais",{"$f":"_xlfn.XLOOKUP($B33,Tabela!$A:$A,Tabela!$D:$D,\"não encontrado\")","v":8.9},{"$f":"IF(B33 =ISTEXT(qualquer), \"\", HYPERLINK(\"https://pt.firesecurityproducts.com/pt/search?q=\"&B33, \"Link Web\"))","v":"Link Web"},{"$f":"$G$2","v":0},{"$f":"IF(ISBLANK(G33),\"\",E33-(E33*$G33))","v":8.9}]
[null,"DC123",{"$f":"_xlfn.XLOOKUP($B34,Tabela!A:A,Tabela!C:C,\"não encontrado\")","v":"Mature"},"Contacto std superfície Banco - GAP:18mm - Contactos NF/C/NA - 3 terminais",{"$f":"_xlfn.XLOOKUP($B34,Tabela!$A:$A,Tabela!$D:$D,\"não encontrado\")","v":14.85},{"$f":"IF(B34 =ISTEXT(qualquer), \"\", HYPERLINK(\"https://pt.firesecurityproducts.com/pt/search?q=\"&B34, \"Link Web\"))","v":"Link Web"},{"$f":"$G$2","v":0},{"$f":"IF(ISBLANK(G34),\"\",E34-(E34*$G34))","v":14.85}]
[null,null,null,null,null,{"$f":"IF(B35 =ISTEXT(qualquer), \"\", HYPERLINK(\"https://pt.firesecurityproducts.com/pt/search?q=\"&B35, \"Link Web\"))","v":""}]
[null,"Castanho"]
[null,"DC102B",{"$f":"_xlfn.XLOOKUP($B37,Tabela!A:A,Tabela!C:C,\"não encontrado\")","v":"Mature"},"Contacto std superfície Castanho  - GAP: 18mm - Contacto NF - 3 terminais",{"$f":"_xlfn.XLOOKUP($B37,Tabela!$A:$A,Tabela!$D:$D,\"não encontrado\")","v":8.18},{"$f":"IF(B37 =ISTEXT(qualquer), \"\", HYPERLINK(\"https://pt.firesecurityproducts.com/pt/search?q=\"&B37, \"Link Web\"))","v":"Link Web"},{"$f":"$G$2","v":0},{"$f":"IF(ISBLANK(G37),\"\",E37-(E37*$G37))","v":8.18}]
[null,null,null,null,null,{"$f":"IF(B38 =ISTEXT(qualquer), \"\", HYPERLINK(\"https://pt.firesecurityproducts.com/pt/search?q=\"&B38, \"Link Web\"))","v":""}]
[null,"Com Resistência EOL"]
[null,"DC102R4.7",{"$f":"_xlfn.XLOOKUP($B40,Tabela!A:A,Tabela!C:C,\"não encontrado\")","v":"Mature"},"Contacto Standard - GAP: 1,5 cm- Contacto NF com EOL 4K7 cabo de 2,5m - Branco, 5x0,9x0,9 cm (LxHxD) - 100V máx/0,5A máx.",{"$f":"_xlfn.XLOOKUP($B40,Tabela!$A:$A,Tabela!$D:$D,\"não encontrado\")","v":11.31},{"$f":"IF(B40 =ISTEXT(qualquer), \"\", HYPERLINK(\"https://pt.firesecurityproducts.com/pt/search?q=\"&B40, \"Link Web\"))","v":"Link Web"},{"$f":"$G$2","v":0},{"$f":"IF(ISBLANK(G40),\"\",E40-(E40*$G40))","v":11.31}]
[null,null,null,null,null,{"$f":"IF(B41 =ISTEXT(qualquer), \"\", HYPERLINK(\"https://pt.firesecurityproducts.com/pt/search?q=\"&B41, \"Link Web\"))","v":""}]
["Balanceados",null,"Contato Magnético de Superfície - Segurança",null,null,{"$f":"IF(B42 =ISTEXT(qualquer), \"\", HYPERLINK(\"https://pt.firesecurityproducts.com/pt/search?q=\"&B42, \"Link Web\"))","v":""}]
[null,null,"Os contactos magnéticos balanceados de superfície da série DC1xx foram concebidos para utilização em instalações onde são necessário contatos de alta segurança.\nReed banhado a ródio ou ruténio e hermeticamente seladas em nitrogénio  seco                                                                                                                                                                                                                         ",null,null,{"$f":"IF(B43 =ISTEXT(qualquer), \"\", HYPERLINK(\"https://pt.firesecurityproducts.com/pt/search?q=\"&B43, \"Link Web\"))","v":""}]
[null,null,null,null,null,{"$f":"IF(B44 =ISTEXT(qualquer), \"\", HYPERLINK(\"https://pt.firesecurityproducts.com/pt/search?q=\"&B44, \"Link Web\"))","v":""}]
[null,null,null,null,null,{"$f":"IF(B45 =ISTEXT(qualquer), \"\", HYPERLINK(\"https://pt.firesecurityproducts.com/pt/search?q=\"&B45, \"Link Web\"))","v":""}]
[null,null,null,null,null,{"$f":"IF(B46 =ISTEXT(qualquer), \"\", HYPERLINK(\"https://pt.firesecurityproducts.com/pt/search?q=\"&B46, \"Link Web\"))","v":""}]
[null,"DC103",{"$f":"_xlfn.XLOOKUP($B47,Tabela!A:A,Tabela!C:C,\"não encontrado\")","v":"Mature"},"Contacto std superfície Branco  - GAP: 18mm - Contacto NF - 3 terminais",{"$f":"_xlfn.XLOOKUP($B47,Tabela!$A:$A,Tabela!$D:$D,\"não encontrado\")","v":51.22},{"$f":"IF(B47 =ISTEXT(qualquer), \"\", HYPERLINK(\"https://pt.firesecurityproducts.com/pt/search?q=\"&B47, \"Link Web\"))","v":"Link Web"},{"$f":"$G$2","v":0},{"$f":"IF(ISBLANK(G47),\"\",E47-(E47*$G47))","v":51.22}]
[null,"DC104",{"$f":"_xlfn.XLOOKUP($B48,Tabela!A:A,Tabela!C:C,\"não encontrado\")","v":"Mature"},"Contacto std superfície Banco - GAP:18mm - Contactos NF/C/NA - 3 terminais",{"$f":"_xlfn.XLOOKUP($B48,Tabela!$A:$A,Tabela!$D:$D,\"não encontrado\")","v":61.56},{"$f":"IF(B48 =ISTEXT(qualquer), \"\", HYPERLINK(\"https://pt.firesecurityproducts.com/pt/search?q=\"&B48, \"Link Web\"))","v":"Link Web"},{"$f":"$G$2","v":0},{"$f":"IF(ISBLANK(G48),\"\",E48-(E48*$G48))","v":61.56}]
[null,"DC143",{"$f":"_xlfn.XLOOKUP($B49,Tabela!A:A,Tabela!C:C,\"não encontrado\")","v":"Mature"},"Contacto GAP largo superfície - GAP: min. 0,9 /máx. 7,5 cm - NF/C/NA - Creme, 100V máx/0,5A máx - 9,9x1,7x1,5 cm, ",{"$f":"_xlfn.XLOOKUP($B49,Tabela!$A:$A,Tabela!$D:$D,\"não encontrado\")","v":45.06},{"$f":"IF(B49 =ISTEXT(qualquer), \"\", HYPERLINK(\"https://pt.firesecurityproducts.com/pt/search?q=\"&B49, \"Link Web\"))","v":"Link Web"},{"$f":"$G$2","v":0},{"$f":"IF(ISBLANK(G49),\"\",E49-(E49*$G49))","v":45.06}]
[null,null,null,null,null,{"$f":"IF(B50 =ISTEXT(qualquer), \"\", HYPERLINK(\"https://pt.firesecurityproducts.com/pt/search?q=\"&B50, \"Link Web\"))","v":""}]
["GAP Extra",null,"Contato Magnético de Superfície - Standard",null,null,{"$f":"IF(B51 =ISTEXT(qualquer), \"\", HYPERLINK(\"https://pt.firesecurityproducts.com/pt/search?q=\"&B51, \"Link Web\"))","v":""}]
[null,null,null,null,"PVP",{"$f":"IF(B52 =ISTEXT(qualquer), \"\", HYPERLINK(\"https://pt.firesecurityproducts.com/pt/search?q=\"&B52, \"Link Web\"))","v":""},"Desconto","Preço Liquido"]
[null,"DC134",{"$f":"_xlfn.XLOOKUP($B53,Tabela!A:A,Tabela!C:C,\"não encontrado\")","v":"Mature"},"Contacto std superfície Creme - GAP: 37 cm- Contacto NF  \n65 x 13 x 17 mm",{"$f":"_xlfn.XLOOKUP($B53,Tabela!$A:$A,Tabela!$D:$D,\"não encontrado\")","v":13.07},{"$f":"IF(B53 =ISTEXT(qualquer), \"\", HYPERLINK(\"https://pt.firesecurityproducts.com/pt/search?q=\"&B53, \"Link Web\"))","v":"Link Web"},{"$f":"$G$2","v":0},{"$f":"IF(ISBLANK(G53),\"\",E53-(E53*$G53))","v":13.07}]
[null,"DC137",{"$f":"_xlfn.XLOOKUP($B54,Tabela!A:A,Tabela!C:C,\"não encontrado\")","v":"Mature"},"Contacto std superfície Banco - GAP:37mm - Contactos NF\n63 x 12 x 19 mm",{"$f":"_xlfn.XLOOKUP($B54,Tabela!$A:$A,Tabela!$D:$D,\"não encontrado\")","v":11.89},{"$f":"IF(B54 =ISTEXT(qualquer), \"\", HYPERLINK(\"https://pt.firesecurityproducts.com/pt/search?q=\"&B54, \"Link Web\"))","v":"Link Web"},{"$f":"$G$2","v":0},11.89]
[null,"DC105",{"$f":"_xlfn.XLOOKUP($B55,Tabela!A:A,Tabela!C:C,\"não encontrado\")","v":"Mature"},"Contacto combinado superfície/embutir - GAP:1,2 cm - Contacto NF - Creme\nSW Ø 0,6x2,8 comp./ Mag  Ø 0,6x3,1 comp./cx 5x0,9x0,9 - cabo 2,5m",{"$f":"_xlfn.XLOOKUP($B55,Tabela!$A:$A,Tabela!$D:$D,\"não encontrado\")","v":12.48},{"$f":"IF(B55 =ISTEXT(qualquer), \"\", HYPERLINK(\"https://pt.firesecurityproducts.com/pt/search?q=\"&B55, \"Link Web\"))","v":"Link Web"},{"$f":"$G$2","v":0},12.48]
[null,"DC116",{"$f":"_xlfn.XLOOKUP($B56,Tabela!A:A,Tabela!C:C,\"não encontrado\")","v":"Mature"},"Contacto std superfície Creme - GAP: 31mm - Contacto NF  \n99 x 17 x 15 mm",{"$f":"_xlfn.XLOOKUP($B56,Tabela!$A:$A,Tabela!$D:$D,\"não encontrado\")","v":16.34},{"$f":"IF(B56 =ISTEXT(qualquer), \"\", HYPERLINK(\"https://pt.firesecurityproducts.com/pt/search?q=\"&B56, \"Link Web\"))","v":"Link Web"},{"$f":"$G$2","v":0},16.34]
[null,"DC142",{"$f":"_xlfn.XLOOKUP($B57,Tabela!A:A,Tabela!C:C,\"não encontrado\")","v":"Mature"},"Contacto std superfície Banco - GAP: 75mm - Contactos NF\n99 x 17 x 15 mm",{"$f":"_xlfn.XLOOKUP($B57,Tabela!$A:$A,Tabela!$D:$D,\"não encontrado\")","v":19.329999999999998},{"$f":"IF(B57 =ISTEXT(qualquer), \"\", HYPERLINK(\"https://pt.firesecurityproducts.com/pt/search?q=\"&B57, \"Link Web\"))","v":"Link Web"},{"$f":"$G$2","v":0},19.329999999999998]
[null,null,null,null,null,{"$f":"IF(B58 =ISTEXT(qualquer), \"\", HYPERLINK(\"https://pt.firesecurityproducts.com/pt/search?q=\"&B58, \"Link Web\"))","v":""}]
["Industriais",null,"Contato Magnético de Superfície",null,null,{"$f":"IF(B59 =ISTEXT(qualquer), \"\", HYPERLINK(\"https://pt.firesecurityproducts.com/pt/search?q=\"&B59, \"Link Web\"))","v":""}]
[null,null,null,null,null,{"$f":"IF(B60 =ISTEXT(qualquer), \"\", HYPERLINK(\"https://pt.firesecurityproducts.com/pt/search?q=\"&B60, \"Link Web\"))","v":""}]
[null,"DC108",{"$f":"_xlfn.XLOOKUP($B61,Tabela!A:A,Tabela!C:C,\"não encontrado\")","v":"Mature"},"Contacto industrial alumínio aplicação no solo - GAP: máx 7,5 cm - NF - cabo aramado 2m, mag 8,9x3,9x3,9 cm- sw 8,9x1,0x3,9 cm",{"$f":"_xlfn.XLOOKUP($B61,Tabela!$A:$A,Tabela!$D:$D,\"não encontrado\")","v":48.67},{"$f":"IF(B61 =ISTEXT(qualquer), \"\", HYPERLINK(\"https://pt.firesecurityproducts.com/pt/search?q=\"&B61, \"Link Web\"))","v":"Link Web"},{"$f":"$G$2","v":0},{"$f":"IF(ISBLANK(G61),\"\",E61-(E61*$G61))","v":48.67}]
[null,"DC108R4.7",{"$f":"_xlfn.XLOOKUP($B62,Tabela!A:A,Tabela!C:C,\"não encontrado\")","v":"Mature"},"Contacto industrial alumínio aplicação no solo - GAP: máx 7,5 cm - NF - cabo aramado 2m, mag 8,9x3,9x3,9 cm- sw 8,9x1,0x3,9 cm",{"$f":"_xlfn.XLOOKUP($B62,Tabela!$A:$A,Tabela!$D:$D,\"não encontrado\")","v":44.51},{"$f":"IF(B62 =ISTEXT(qualquer), \"\", HYPERLINK(\"https://pt.firesecurityproducts.com/pt/search?q=\"&B62, \"Link Web\"))","v":"Link Web"},{"$f":"$G$2","v":0},44.51]
[null,"DC110",{"$f":"_xlfn.XLOOKUP($B63,Tabela!A:A,Tabela!C:C,\"não encontrado\")","v":"Mature"},"Contacto industrial anodizado - Balanceado GAP: 19 mm (min.); 63 mm (max.)- C/NF/NA - cabo aramado 2m, Magneto 76x25x12 mm  Contato 88x38x11mm",{"$f":"_xlfn.XLOOKUP($B63,Tabela!$A:$A,Tabela!$D:$D,\"não encontrado\")","v":100.93},{"$f":"IF(B63 =ISTEXT(qualquer), \"\", HYPERLINK(\"https://pt.firesecurityproducts.com/pt/search?q=\"&B63, \"Link Web\"))","v":"Link Web"},{"$f":"$G$2","v":0},100.93]
[null,"DC118",{"$f":"_xlfn.XLOOKUP($B64,Tabela!A:A,Tabela!C:C,\"não encontrado\")","v":"Mature"},"Contacto industrial anodizado -GAP: máx 7,5 cm - NF - cabo aramado 2m, mag 7,6x2,5x1,2",{"$f":"_xlfn.XLOOKUP($B64,Tabela!$A:$A,Tabela!$D:$D,\"não encontrado\")","v":67.41},{"$f":"IF(B64 =ISTEXT(qualquer), \"\", HYPERLINK(\"https://pt.firesecurityproducts.com/pt/search?q=\"&B64, \"Link Web\"))","v":"Link Web"},{"$f":"$G$2","v":0},67.41]
[null,"DC115",{"$f":"_xlfn.XLOOKUP($B65,Tabela!A:A,Tabela!C:C,\"não encontrado\")","v":"Mature"},"Contacto industrial anodizado alta seg.- GAP: máx 7,5 cm - NF/C/NA - cabo aramado 2m, mag 7,6x2,5x1,2",{"$f":"_xlfn.XLOOKUP($B65,Tabela!$A:$A,Tabela!$D:$D,\"não encontrado\")","v":95.02},{"$f":"IF(B65 =ISTEXT(qualquer), \"\", HYPERLINK(\"https://pt.firesecurityproducts.com/pt/search?q=\"&B65, \"Link Web\"))","v":"Link Web"},{"$f":"$G$2","v":0},95.02]
[null,"IM1640PAG",{"$f":"_xlfn.XLOOKUP($B66,Tabela!A:A,Tabela!C:C,\"não encontrado\")","v":"Mature"},"MAG CT PLAS SF C/W CBL",{"$f":"_xlfn.XLOOKUP($B66,Tabela!$A:$A,Tabela!$D:$D,\"não encontrado\")","v":22.62},{"$f":"IF(B66 =ISTEXT(qualquer), \"\", HYPERLINK(\"https://pt.firesecurityproducts.com/pt/search?q=\"&B66, \"Link Web\"))","v":"Link Web"},{"$f":"$G$2","v":0},22.62]
[null,"IM1640PAG01JB",{"$f":"_xlfn.XLOOKUP($B67,Tabela!A:A,Tabela!C:C,\"não encontrado\")","v":"Mature"},"SURFACE MNT CONTACT 1M AMOURED CABLE  INCL JUNCT BOX",{"$f":"_xlfn.XLOOKUP($B67,Tabela!$A:$A,Tabela!$D:$D,\"não encontrado\")","v":26.46},{"$f":"IF(B67 =ISTEXT(qualquer), \"\", HYPERLINK(\"https://pt.firesecurityproducts.com/pt/search?q=\"&B67, \"Link Web\"))","v":"Link Web"},0,26.46]
[null,"IM1640PAG-G3",{"$f":"_xlfn.XLOOKUP($B68,Tabela!A:A,Tabela!C:C,\"não encontrado\")","v":"Mature"},"SURFACE MOUNT CONTACT, ARMORED CABLE, EN GRADE 3 & NFA2P 3 SHIELDS",{"$f":"_xlfn.XLOOKUP($B68,Tabela!$A:$A,Tabela!$D:$D,\"não encontrado\")","v":50.15},{"$f":"IF(B68 =ISTEXT(qualquer), \"\", HYPERLINK(\"https://pt.firesecurityproducts.com/pt/search?q=\"&B68, \"Link Web\"))","v":"Link Web"},0,50.15]
[null,"IM1640PSG",{"$f":"_xlfn.XLOOKUP($B69,Tabela!A:A,Tabela!C:C,\"não encontrado\")","v":"Mature"},"MAG CT PLAS SF W/O CBL",{"$f":"_xlfn.XLOOKUP($B69,Tabela!$A:$A,Tabela!$D:$D,\"não encontrado\")","v":20.260000000000002},{"$f":"IF(B69 =ISTEXT(qualquer), \"\", HYPERLINK(\"https://pt.firesecurityproducts.com/pt/search?q=\"&B69, \"Link Web\"))","v":"Link Web"},0,20.260000000000002]
[null,"IM1640PSG-G3",{"$f":"_xlfn.XLOOKUP($B70,Tabela!A:A,Tabela!C:C,\"não encontrado\")","v":"Mature"},"SURFACE MOUNT CONTACT, SUPERVISED CABLE, EN GRADE 3 & NFA2P 3 SHIELDS",{"$f":"_xlfn.XLOOKUP($B70,Tabela!$A:$A,Tabela!$D:$D,\"não encontrado\")","v":48.75},{"$f":"IF(B70 =ISTEXT(qualquer), \"\", HYPERLINK(\"https://pt.firesecurityproducts.com/pt/search?q=\"&B70, \"Link Web\"))","v":"Link Web"},0,{"$f":"IF(ISBLANK(G70),\"\",E70-(E70*$G70))","v":48.75}]
[null,null,null,null,null,{"$f":"IF(B71 =ISTEXT(qualquer), \"\", HYPERLINK(\"https://pt.firesecurityproducts.com/pt/search?q=\"&B71, \"Link Web\"))","v":""}]
["DC10x",null,"Contacto Magnético de Embutir com Fixação por Parafuso",null,null,{"$f":"IF(B72 =ISTEXT(qualquer), \"\", HYPERLINK(\"https://pt.firesecurityproducts.com/pt/search?q=\"&B72, \"Link Web\"))","v":""}]
[null,null,"Os contactos de encastrar DC106 foram concebidos para aplicações em que é necessária a integridade adicional dos parafusos de fixação. As unidades podem ser utilizadas em portas e janelas com moldura de madeira e metal.\n• Cabo de 2.5m  \n• Versão com resistência incorporada\n• GAP: 12mm  \n• Cor branca  \n• Dimensões 19 x 33 : Orifício 9.5mm\n• EN 50131 Grau 2",null,null,{"$f":"IF(B73 =ISTEXT(qualquer), \"\", HYPERLINK(\"https://pt.firesecurityproducts.com/pt/search?q=\"&B73, \"Link Web\"))","v":""}]
[null,null,null,null,null,{"$f":"IF(B74 =ISTEXT(qualquer), \"\", HYPERLINK(\"https://pt.firesecurityproducts.com/pt/search?q=\"&B74, \"Link Web\"))","v":""}]
[null,null,null,null,null,{"$f":"IF(B75 =ISTEXT(qualquer), \"\", HYPERLINK(\"https://pt.firesecurityproducts.com/pt/search?q=\"&B75, \"Link Web\"))","v":""}]
[null,null,null,null,null,{"$f":"IF(B76 =ISTEXT(qualquer), \"\", HYPERLINK(\"https://pt.firesecurityproducts.com/pt/search?q=\"&B76, \"Link Web\"))","v":""}]
[null,null,null,null,null,{"$f":"IF(B77 =ISTEXT(qualquer), \"\", HYPERLINK(\"https://pt.firesecurityproducts.com/pt/search?q=\"&B77, \"Link Web\"))","v":""}]
[null,null,null,null,null,{"$f":"IF(B78 =ISTEXT(qualquer), \"\", HYPERLINK(\"https://pt.firesecurityproducts.com/pt/search?q=\"&B78, \"Link Web\"))","v":""}]
[null,null,null,null,null,{"$f":"IF(B79 =ISTEXT(qualquer), \"\", HYPERLINK(\"https://pt.firesecurityproducts.com/pt/search?q=\"&B79, \"Link Web\"))","v":""}]
[null,null,null,null,null,{"$f":"IF(B80 =ISTEXT(qualquer), \"\", HYPERLINK(\"https://pt.firesecurityproducts.com/pt/search?q=\"&B80, \"Link Web\"))","v":""}]
[null,null,null,null,null,{"$f":"IF(B81 =ISTEXT(qualquer), \"\", HYPERLINK(\"https://pt.firesecurityproducts.com/pt/search?q=\"&B81, \"Link Web\"))","v":""}]
[null,"DC106",{"$f":"_xlfn.XLOOKUP($B82,Tabela!A:A,Tabela!C:C,\"não encontrado\")","v":"Mature"},"Contacto std embutir - GAP: 12mm - Cabo 2m \nEN 50131 Grau 2  ",{"$f":"_xlfn.XLOOKUP($B82,Tabela!$A:$A,Tabela!$D:$D,\"não encontrado\")","v":13.34},{"$f":"IF(B82 =ISTEXT(qualquer), \"\", HYPERLINK(\"https://pt.firesecurityproducts.com/pt/search?q=\"&B82, \"Link Web\"))","v":"Link Web"},{"$f":"$G$2","v":0},{"$f":"IF(ISBLANK(G82),\"\",E82-(E82*$G82))","v":13.34}]
[null,"DC106S9",{"$f":"_xlfn.XLOOKUP($B83,Tabela!A:A,Tabela!C:C,\"não encontrado\")","v":"Mature"},"Contacto std embutir - GAP: 12mm - Cabo 3m \nEN 50131 Grau 2  ",{"$f":"_xlfn.XLOOKUP($B83,Tabela!$A:$A,Tabela!$D:$D,\"não encontrado\")","v":13.94},{"$f":"IF(B83 =ISTEXT(qualquer), \"\", HYPERLINK(\"https://pt.firesecurityproducts.com/pt/search?q=\"&B83, \"Link Web\"))","v":"Link Web"},{"$f":"$G$2","v":0},13.94]
[null,"DC106R4.7",{"$f":"_xlfn.XLOOKUP($B84,Tabela!A:A,Tabela!C:C,\"não encontrado\")","v":"Mature"},"Contacto std embutir - GAP: 12mm - Cabo 3m EO L4.7K  \nEN 50131 Grau 2  ",{"$f":"_xlfn.XLOOKUP($B84,Tabela!$A:$A,Tabela!$D:$D,\"não encontrado\")","v":18.420000000000002},{"$f":"IF(B84 =ISTEXT(qualquer), \"\", HYPERLINK(\"https://pt.firesecurityproducts.com/pt/search?q=\"&B84, \"Link Web\"))","v":"Link Web"},{"$f":"$G$2","v":0},18.420000000000002]
[null,null,null,null,null,{"$f":"IF(B85 =ISTEXT(qualquer), \"\", HYPERLINK(\"https://pt.firesecurityproducts.com/pt/search?q=\"&B85, \"Link Web\"))","v":""}]
["DC12x",null,"Contacto Magnético de Embutir com Fixação por Pressão",null,null,{"$f":"IF(B86 =ISTEXT(qualquer), \"\", HYPERLINK(\"https://pt.firesecurityproducts.com/pt/search?q=\"&B86, \"Link Web\"))","v":""}]
[null,null,"Os contactos de encastrar DC120 foram concebidos para aplicações onde o espaço é limitado. As unidades podem ser utilizadas em portas e janelas com moldura de madeira e metal.\n• Cabo de 2m ou 6m\n• GAP: 18mm\n• Cor Branco\n• Dimensões 19mm : Orifício 9mm\n• EN 50131 Grau 2",null,null,{"$f":"IF(B87 =ISTEXT(qualquer), \"\", HYPERLINK(\"https://pt.firesecurityproducts.com/pt/search?q=\"&B87, \"Link Web\"))","v":""}]
[null,null,null,null,null,{"$f":"IF(B88 =ISTEXT(qualquer), \"\", HYPERLINK(\"https://pt.firesecurityproducts.com/pt/search?q=\"&B88, \"Link Web\"))","v":""}]
[null,null,null,null,null,{"$f":"IF(B89 =ISTEXT(qualquer), \"\", HYPERLINK(\"https://pt.firesecurityproducts.com/pt/search?q=\"&B89, \"Link Web\"))","v":""}]
[null,null,null,null,null,{"$f":"IF(B90 =ISTEXT(qualquer), \"\", HYPERLINK(\"https://pt.firesecurityproducts.com/pt/search?q=\"&B90, \"Link Web\"))","v":""}]
[null,null,null,null,null,{"$f":"IF(B91 =ISTEXT(qualquer), \"\", HYPERLINK(\"https://pt.firesecurityproducts.com/pt/search?q=\"&B91, \"Link Web\"))","v":""}]
[null,null,null,null,null,{"$f":"IF(B92 =ISTEXT(qualquer), \"\", HYPERLINK(\"https://pt.firesecurityproducts.com/pt/search?q=\"&B92, \"Link Web\"))","v":""}]
[null,null,null,null,null,{"$f":"IF(B93 =ISTEXT(qualquer), \"\", HYPERLINK(\"https://pt.firesecurityproducts.com/pt/search?q=\"&B93, \"Link Web\"))","v":""}]
[null,null,null,null,null,{"$f":"IF(B94 =ISTEXT(qualquer), \"\", HYPERLINK(\"https://pt.firesecurityproducts.com/pt/search?q=\"&B94, \"Link Web\"))","v":""}]
[null,"DC120",{"$f":"_xlfn.XLOOKUP($B95,Tabela!A:A,Tabela!C:C,\"não encontrado\")","v":"Mature"},"Contacto std embutir por pressão - GAP: 18mm cabo 2,5m\nEN 50131 Grau 2",{"$f":"_xlfn.XLOOKUP($B95,Tabela!$A:$A,Tabela!$D:$D,\"não encontrado\")","v":18.850000000000001},{"$f":"IF(B95 =ISTEXT(qualquer), \"\", HYPERLINK(\"https://pt.firesecurityproducts.com/pt/search?q=\"&B95, \"Link Web\"))","v":"Link Web"},{"$f":"$G$2","v":0},{"$f":"IF(ISBLANK(G95),\"\",E95-(E95*$G95))","v":18.850000000000001}]
[null,"DC120S60",{"$f":"_xlfn.XLOOKUP($B96,Tabela!A:A,Tabela!C:C,\"não encontrado\")","v":"Mature"},"Contacto std embutir por pressão - GAP: 18mm cabo 6m\nEN 50131 Grau 2",{"$f":"_xlfn.XLOOKUP($B96,Tabela!$A:$A,Tabela!$D:$D,\"não encontrado\")","v":28.8},{"$f":"IF(B96 =ISTEXT(qualquer), \"\", HYPERLINK(\"https://pt.firesecurityproducts.com/pt/search?q=\"&B96, \"Link Web\"))","v":"Link Web"},{"$f":"$G$2","v":0},28.8]
[null,null,null,null,null,{"$f":"IF(B97 =ISTEXT(qualquer), \"\", HYPERLINK(\"https://pt.firesecurityproducts.com/pt/search?q=\"&B97, \"Link Web\"))","v":""}]
["DC12x Extra Fluxo",null,"Contacto Magnético de Embutir com Fixação por Pressão",null,null,{"$f":"IF(B98 =ISTEXT(qualquer), \"\", HYPERLINK(\"https://pt.firesecurityproducts.com/pt/search?q=\"&B98, \"Link Web\"))","v":""}]
[null,null,"Os contactos de encastrar DC121 e DC127 (Extra GAP)  foram concebidos para aplicações em portas e janelas com moldura de madeira e metal.\n• Cabo de 2m ou 6m\n• Versão com resistência incorporada\n• GAP DC121: 12mm\n• GAP DC127: 31mm\n• Cor Branco\n• Dimensões 33mm : Orifício 10mm",null,null,{"$f":"IF(B99 =ISTEXT(qualquer), \"\", HYPERLINK(\"https://pt.firesecurityproducts.com/pt/search?q=\"&B99, \"Link Web\"))","v":""}]
[null,null,null,null,null,{"$f":"IF(B100 =ISTEXT(qualquer), \"\", HYPERLINK(\"https://pt.firesecurityproducts.com/pt/search?q=\"&B100, \"Link Web\"))","v":""}]
[null,null,null,null,null,{"$f":"IF(B101 =ISTEXT(qualquer), \"\", HYPERLINK(\"https://pt.firesecurityproducts.com/pt/search?q=\"&B101, \"Link Web\"))","v":""}]
[null,null,null,null,null,{"$f":"IF(B102 =ISTEXT(qualquer), \"\", HYPERLINK(\"https://pt.firesecurityproducts.com/pt/search?q=\"&B102, \"Link Web\"))","v":""}]
[]
[null,null,null,null,null,{"$f":"IF(B104 =ISTEXT(qualquer), \"\", HYPERLINK(\"https://pt.firesecurityproducts.com/pt/search?q=\"&B104, \"Link Web\"))","v":""}]
[null,null,null,null,null,{"$f":"IF(B105 =ISTEXT(qualquer), \"\", HYPERLINK(\"https://pt.firesecurityproducts.com/pt/search?q=\"&B105, \"Link Web\"))","v":""}]
[null,null,null,null,null,{"$f":"IF(B106 =ISTEXT(qualquer), \"\", HYPERLINK(\"https://pt.firesecurityproducts.com/pt/search?q=\"&B106, \"Link Web\"))","v":""}]
[null,null,null,null,"PVP",{"$f":"IF(B107 =ISTEXT(qualquer), \"\", HYPERLINK(\"https://pt.firesecurityproducts.com/pt/search?q=\"&B107, \"Link Web\"))","v":""},"Desconto","Preço Liquido"]
[null,"DC121",{"$f":"_xlfn.XLOOKUP($B108,Tabela!A:A,Tabela!C:C,\"não encontrado\")","v":"Mature"},"Contacto std embutir por pressão - GAP: 12mm- Contacto NF - cabo 2m ",{"$f":"_xlfn.XLOOKUP($B108,Tabela!$A:$A,Tabela!$D:$D,\"não encontrado\")","v":11.58},{"$f":"IF(B108 =ISTEXT(qualquer), \"\", HYPERLINK(\"https://pt.firesecurityproducts.com/pt/search?q=\"&B108, \"Link Web\"))","v":"Link Web"},{"$f":"$G$2","v":0},{"$f":"IF(ISBLANK(G108),\"\",E108-(E108*$G108))","v":11.58}]
[null,"DC121S60",{"$f":"_xlfn.XLOOKUP($B109,Tabela!A:A,Tabela!C:C,\"não encontrado\")","v":"Mature"},"Contacto std embutir por pressão - GAP: 12mm- Contacto NF - cabo 6m ",{"$f":"_xlfn.XLOOKUP($B109,Tabela!$A:$A,Tabela!$D:$D,\"não encontrado\")","v":25.81},{"$f":"IF(B109 =ISTEXT(qualquer), \"\", HYPERLINK(\"https://pt.firesecurityproducts.com/pt/search?q=\"&B109, \"Link Web\"))","v":"Link Web"},{"$f":"$G$2","v":0},25.81]
[null,"DC127",{"$f":"_xlfn.XLOOKUP($B110,Tabela!A:A,Tabela!C:C,\"não encontrado\")","v":"Mature"},"Contacto std embutir por pressão - GAP: 31mm- Contacto NF - cabo 2m ",{"$f":"_xlfn.XLOOKUP($B110,Tabela!$A:$A,Tabela!$D:$D,\"não encontrado\")","v":15.44},{"$f":"IF(B110 =ISTEXT(qualquer), \"\", HYPERLINK(\"https://pt.firesecurityproducts.com/pt/search?q=\"&B110, \"Link Web\"))","v":"Link Web"},{"$f":"$G$2","v":0},15.44]
[null,null,null,null,null,{"$f":"IF(B111 =ISTEXT(qualquer), \"\", HYPERLINK(\"https://pt.firesecurityproducts.com/pt/search?q=\"&B111, \"Link Web\"))","v":""}]
["DC12x Extra Fluxo",null,"Contacto Magnético de Embutir com Fixação por Pressão",null,null,{"$f":"IF(B112 =ISTEXT(qualquer), \"\", HYPERLINK(\"https://pt.firesecurityproducts.com/pt/search?q=\"&B112, \"Link Web\"))","v":""}]
[null,null,"Os contactos de encastrar DC107, DC124  foram concebidos especificamente para aplicações em portas metálicas.\n• Cabo de 2.5m\n• Versão com resistência incorporada\n• GAP DC107: 9mm\n• GAP DC127: 31mm\n• Cor branca\n• Dimensões 39mm : Orifício 19mm\n• EN 50131 Grau 2",null,null,{"$f":"IF(B113 =ISTEXT(qualquer), \"\", HYPERLINK(\"https://pt.firesecurityproducts.com/pt/search?q=\"&B113, \"Link Web\"))","v":""}]
[null,null,null,null,null,{"$f":"IF(B114 =ISTEXT(qualquer), \"\", HYPERLINK(\"https://pt.firesecurityproducts.com/pt/search?q=\"&B114, \"Link Web\"))","v":""}]
[null,null,null,null,null,{"$f":"IF(B115 =ISTEXT(qualquer), \"\", HYPERLINK(\"https://pt.firesecurityproducts.com/pt/search?q=\"&B115, \"Link Web\"))","v":""}]
[null,null,null,null,null,{"$f":"IF(B116 =ISTEXT(qualquer), \"\", HYPERLINK(\"https://pt.firesecurityproducts.com/pt/search?q=\"&B116, \"Link Web\"))","v":""}]
[null,null,null,null,null,{"$f":"IF(B117 =ISTEXT(qualquer), \"\", HYPERLINK(\"https://pt.firesecurityproducts.com/pt/search?q=\"&B117, \"Link Web\"))","v":""}]
[null,null,null,null,null,{"$f":"IF(B118 =ISTEXT(qualquer), \"\", HYPERLINK(\"https://pt.firesecurityproducts.com/pt/search?q=\"&B118, \"Link Web\"))","v":""}]
[null,null,null,null,null,{"$f":"IF(B119 =ISTEXT(qualquer), \"\", HYPERLINK(\"https://pt.firesecurityproducts.com/pt/search?q=\"&B119, \"Link Web\"))","v":""}]
[null,null,null,null,null,{"$f":"IF(B120 =ISTEXT(qualquer), \"\", HYPERLINK(\"https://pt.firesecurityproducts.com/pt/search?q=\"&B120, \"Link Web\"))","v":""}]
[null,null,null,null,null,{"$f":"IF(B121 =ISTEXT(qualquer), \"\", HYPERLINK(\"https://pt.firesecurityproducts.com/pt/search?q=\"&B121, \"Link Web\"))","v":""}]
[null,"DC107",{"$f":"_xlfn.XLOOKUP($B122,Tabela!A:A,Tabela!C:C,\"não encontrado\")","v":"Mature"},"Contacto embutir portas de ferro - GAP: 9mm - cabo 2,5 m ",{"$f":"_xlfn.XLOOKUP($B122,Tabela!$A:$A,Tabela!$D:$D,\"não encontrado\")","v":22.56},{"$f":"IF(B122 =ISTEXT(qualquer), \"\", HYPERLINK(\"https://pt.firesecurityproducts.com/pt/search?q=\"&B122, \"Link Web\"))","v":"Link Web"},{"$f":"$G$2","v":0},{"$f":"IF(ISBLANK(G122),\"\",E122-(E122*$G122))","v":22.56}]
[null,"DC107S60",{"$f":"_xlfn.XLOOKUP($B123,Tabela!A:A,Tabela!C:C,\"não encontrado\")","v":"Mature"},"Contacto embutir portas de ferro - GAP: 9mm - cabo 6 m ",{"$f":"_xlfn.XLOOKUP($B123,Tabela!$A:$A,Tabela!$D:$D,\"não encontrado\")","v":20.37},{"$f":"IF(B123 =ISTEXT(qualquer), \"\", HYPERLINK(\"https://pt.firesecurityproducts.com/pt/search?q=\"&B123, \"Link Web\"))","v":"Link Web"},{"$f":"$G$2","v":0},20.37]
[null,"DC107R4.7",{"$f":"_xlfn.XLOOKUP($B124,Tabela!A:A,Tabela!C:C,\"não encontrado\")","v":"Mature"},"Contacto embutir porta ferro - GAP: 9mm - EOL4K7, cabo 2,5m",{"$f":"_xlfn.XLOOKUP($B124,Tabela!$A:$A,Tabela!$D:$D,\"não encontrado\")","v":23.46},{"$f":"IF(B124 =ISTEXT(qualquer), \"\", HYPERLINK(\"https://pt.firesecurityproducts.com/pt/search?q=\"&B124, \"Link Web\"))","v":"Link Web"},{"$f":"$G$2","v":0},23.46]
[null,"DC124",{"$f":"_xlfn.XLOOKUP($B125,Tabela!A:A,Tabela!C:C,\"não encontrado\")","v":"Mature"},"Contacto embutir portas ferro - GAP9 cm - NA/C/NF, cabo 2,5m ",{"$f":"_xlfn.XLOOKUP($B125,Tabela!$A:$A,Tabela!$D:$D,\"não encontrado\")","v":25.81},{"$f":"IF(B125 =ISTEXT(qualquer), \"\", HYPERLINK(\"https://pt.firesecurityproducts.com/pt/search?q=\"&B125, \"Link Web\"))","v":"Link Web"},{"$f":"$G$2","v":0},25.81]
[null,null,null,null,null,{"$f":"IF(B126 =ISTEXT(qualquer), \"\", HYPERLINK(\"https://pt.firesecurityproducts.com/pt/search?q=\"&B126, \"Link Web\"))","v":""}]
["Pressão",null,"Contacto Magnético de Pressão e Montagem de Embutir",null,null,{"$f":"IF(B127 =ISTEXT(qualquer), \"\", HYPERLINK(\"https://pt.firesecurityproducts.com/pt/search?q=\"&B127, \"Link Web\"))","v":""}]
[null,null,null,null,null,{"$f":"IF(B128 =ISTEXT(qualquer), \"\", HYPERLINK(\"https://pt.firesecurityproducts.com/pt/search?q=\"&B128, \"Link Web\"))","v":""}]
[null,"DC113",{"$f":"_xlfn.XLOOKUP($B129,Tabela!A:A,Tabela!C:C,\"não encontrado\")","v":"Mature"},"Contacto sw interruptor embutir - Contacto NF - 4 Fios 2m - Creme, 120V máx/0,5A máx. Diâmetro -1,9x3,8 comp.",{"$f":"_xlfn.XLOOKUP($B129,Tabela!$A:$A,Tabela!$D:$D,\"não encontrado\")","v":26.71},{"$f":"IF(B129 =ISTEXT(qualquer), \"\", HYPERLINK(\"https://pt.firesecurityproducts.com/pt/search?q=\"&B129, \"Link Web\"))","v":"Link Web"},{"$f":"$G$2","v":0},{"$f":"IF(ISBLANK(G129),\"\",E129-(E129*$G129))","v":26.71}]
[null,"DC114",{"$f":"_xlfn.XLOOKUP($B130,Tabela!A:A,Tabela!C:C,\"não encontrado\")","v":"Mature"},"Contacto sw interruptor ajustável embutir - - Contacto NF - 4 Fios 2m - Creme, 120V máx/0,5A máx, Diâmetro -1,2x4,0 comp.",{"$f":"_xlfn.XLOOKUP($B130,Tabela!$A:$A,Tabela!$D:$D,\"não encontrado\")","v":26.54},{"$f":"IF(B130 =ISTEXT(qualquer), \"\", HYPERLINK(\"https://pt.firesecurityproducts.com/pt/search?q=\"&B130, \"Link Web\"))","v":"Link Web"},{"$f":"$G$2","v":0},26.54]
[null,"DC501",{"$f":"_xlfn.XLOOKUP($B131,Tabela!A:A,Tabela!C:C,\"não encontrado\")","v":"Mature"},"Mini contacto magnético superfície - Contacto NF - 4 Fios 2m - Creme, Mag: 5 x 0,2   Cont: 3,8 x 0,7 cm",{"$f":"_xlfn.XLOOKUP($B131,Tabela!$A:$A,Tabela!$D:$D,\"não encontrado\")","v":17.829999999999998},{"$f":"IF(B131 =ISTEXT(qualquer), \"\", HYPERLINK(\"https://pt.firesecurityproducts.com/pt/search?q=\"&B131, \"Link Web\"))","v":"Link Web"},{"$f":"$G$2","v":0},17.829999999999998]
[null,null,null,null,null,{"$f":"IF(B132 =ISTEXT(qualquer), \"\", HYPERLINK(\"https://pt.firesecurityproducts.com/pt/search?q=\"&B132, \"Link Web\"))","v":""}]
["DC11x ",null,"Contacto Magnético de Superfície - EN 50131 Grau 3",null,null,{"$f":"IF(B133 =ISTEXT(qualquer), \"\", HYPERLINK(\"https://pt.firesecurityproducts.com/pt/search?q=\"&B133, \"Link Web\"))","v":""}]
[null,null,"Os reed com triplo balanceamento do contato magnético DC111 tornam virtualmente impossível a sua sabotagem. Para maior segurança, a alteração do campo magnético e a remoção são características padrão. \n• Alumínio Anodizado\n• Cabo de 2m com bainha de aço\n• Proteção Tamper\n• GAP: 5mm - 15mm\n• Dimensões 108 x 38 x 19\n• EN 50131-2-6 Grade 3 e VDS",null,null,{"$f":"IF(B134 =ISTEXT(qualquer), \"\", HYPERLINK(\"https://pt.firesecurityproducts.com/pt/search?q=\"&B134, \"Link Web\"))","v":""}]
[null,null,null,null,null,{"$f":"IF(B135 =ISTEXT(qualquer), \"\", HYPERLINK(\"https://pt.firesecurityproducts.com/pt/search?q=\"&B135, \"Link Web\"))","v":""}]
[null,null,null,null,null,{"$f":"IF(B136 =ISTEXT(qualquer), \"\", HYPERLINK(\"https://pt.firesecurityproducts.com/pt/search?q=\"&B136, \"Link Web\"))","v":""}]
[null,null,null,null,null,{"$f":"IF(B137 =ISTEXT(qualquer), \"\", HYPERLINK(\"https://pt.firesecurityproducts.com/pt/search?q=\"&B137, \"Link Web\"))","v":""}]
[null,null,null,null,null,{"$f":"IF(B138 =ISTEXT(qualquer), \"\", HYPERLINK(\"https://pt.firesecurityproducts.com/pt/search?q=\"&B138, \"Link Web\"))","v":""}]
[null,null,null,null,null,{"$f":"IF(B139 =ISTEXT(qualquer), \"\", HYPERLINK(\"https://pt.firesecurityproducts.com/pt/search?q=\"&B139, \"Link Web\"))","v":""}]
[null,null,null,null,null,{"$f":"IF(B140 =ISTEXT(qualquer), \"\", HYPERLINK(\"https://pt.firesecurityproducts.com/pt/search?q=\"&B140, \"Link Web\"))","v":""}]
[null,null,null,null,null,{"$f":"IF(B141 =ISTEXT(qualquer), \"\", HYPERLINK(\"https://pt.firesecurityproducts.com/pt/search?q=\"&B141, \"Link Web\"))","v":""}]
[null,null,null,null,null,{"$f":"IF(B142 =ISTEXT(qualquer), \"\", HYPERLINK(\"https://pt.firesecurityproducts.com/pt/search?q=\"&B142, \"Link Web\"))","v":""}]
[null,"DC111",{"$f":"_xlfn.XLOOKUP($B143,Tabela!A:A,Tabela!C:C,\"não encontrado\")","v":"Mature"},"Contacto balanceado triplo de alta segurança \nEN50131 Grau 3",{"$f":"_xlfn.XLOOKUP($B143,Tabela!$A:$A,Tabela!$D:$D,\"não encontrado\")","v":220.94},{"$f":"IF(B143 =ISTEXT(qualquer), \"\", HYPERLINK(\"https://pt.firesecurityproducts.com/pt/search?q=\"&B143, \"Link Web\"))","v":"Link Web"},{"$f":"$G$2","v":0},{"$f":"IF(ISBLANK(G143),\"\",E143-(E143*$G143))","v":220.94}]
[null,null,null,null,null,{"$f":"IF(B144 =ISTEXT(qualquer), \"\", HYPERLINK(\"https://pt.firesecurityproducts.com/pt/search?q=\"&B144, \"Link Web\"))","v":""}]
["DC14x ",null,"Contacto Magnético de Superfície - EN 50131 Grau 3",null,null,{"$f":"IF(B145 =ISTEXT(qualquer), \"\", HYPERLINK(\"https://pt.firesecurityproducts.com/pt/search?q=\"&B145, \"Link Web\"))","v":""}]
[null,null,"Os contactos magnéticos de grau 3 são contactos de alta segurança que satisfazem os seguintes requisitos: precisão da distância de abertura, polarização do íman, resistência do íman) \n• IP67\n• Cabo de 2m ou 6m\n• Verão com resistência incorporada\n• Proteção Tamper\n• GAP em não porta metálicas: 19mm, +/-4mm\n• GAP em porta metálicas: 12mm, +/-4mm\n• Dimensões 54 x 13 x 12.5 mm\n• EN 50131-2-6 Grade 3 e VDS certified",null,null,{"$f":"IF(B146 =ISTEXT(qualquer), \"\", HYPERLINK(\"https://pt.firesecurityproducts.com/pt/search?q=\"&B146, \"Link Web\"))","v":""}]
[null,null,null,null,null,{"$f":"IF(B147 =ISTEXT(qualquer), \"\", HYPERLINK(\"https://pt.firesecurityproducts.com/pt/search?q=\"&B147, \"Link Web\"))","v":""}]
[null,null,null,null,null,{"$f":"IF(B148 =ISTEXT(qualquer), \"\", HYPERLINK(\"https://pt.firesecurityproducts.com/pt/search?q=\"&B148, \"Link Web\"))","v":""}]
[null,null,null,null,null,{"$f":"IF(B149 =ISTEXT(qualquer), \"\", HYPERLINK(\"https://pt.firesecurityproducts.com/pt/search?q=\"&B149, \"Link Web\"))","v":""}]
[null,null,null,null,null,{"$f":"IF(B150 =ISTEXT(qualquer), \"\", HYPERLINK(\"https://pt.firesecurityproducts.com/pt/search?q=\"&B150, \"Link Web\"))","v":""}]
[null,null,null,null,null,{"$f":"IF(B151 =ISTEXT(qualquer), \"\", HYPERLINK(\"https://pt.firesecurityproducts.com/pt/search?q=\"&B151, \"Link Web\"))","v":""}]
[null,null,null,null,null,{"$f":"IF(B152 =ISTEXT(qualquer), \"\", HYPERLINK(\"https://pt.firesecurityproducts.com/pt/search?q=\"&B152, \"Link Web\"))","v":""}]
[null,null,null,null,null,{"$f":"IF(B153 =ISTEXT(qualquer), \"\", HYPERLINK(\"https://pt.firesecurityproducts.com/pt/search?q=\"&B153, \"Link Web\"))","v":""}]
[null,null,null,null,null,{"$f":"IF(B154 =ISTEXT(qualquer), \"\", HYPERLINK(\"https://pt.firesecurityproducts.com/pt/search?q=\"&B154, \"Link Web\"))","v":""}]
[null,null,null,null,null,{"$f":"IF(B155 =ISTEXT(qualquer), \"\", HYPERLINK(\"https://pt.firesecurityproducts.com/pt/search?q=\"&B155, \"Link Web\"))","v":""}]
[null,null,null,null,"PVP",{"$f":"IF(B156 =ISTEXT(qualquer), \"\", HYPERLINK(\"https://pt.firesecurityproducts.com/pt/search?q=\"&B156, \"Link Web\"))","v":""},"Desconto","Preço Liquido"]
[null,"DC148",{"$f":"_xlfn.XLOOKUP($B157,Tabela!A:A,Tabela!C:C,\"não encontrado\")","v":"Mature"},"Contacto Superfície com 2m de cabo \nEN50131 Grau 3",{"$f":"_xlfn.XLOOKUP($B157,Tabela!$A:$A,Tabela!$D:$D,\"não encontrado\")","v":38.64},{"$f":"IF(B157 =ISTEXT(qualquer), \"\", HYPERLINK(\"https://pt.firesecurityproducts.com/pt/search?q=\"&B157, \"Link Web\"))","v":"Link Web"},{"$f":"$G$2","v":0},{"$f":"IF(ISBLANK(G157),\"\",E157-(E157*$G157))","v":38.64}]
[null,"DC148S60",{"$f":"_xlfn.XLOOKUP($B158,Tabela!A:A,Tabela!C:C,\"não encontrado\")","v":"Mature"},"Contacto Superfície com 6m de cabo \nEN50131 Grau 3",{"$f":"_xlfn.XLOOKUP($B158,Tabela!$A:$A,Tabela!$D:$D,\"não encontrado\")","v":44.41},{"$f":"IF(B158 =ISTEXT(qualquer), \"\", HYPERLINK(\"https://pt.firesecurityproducts.com/pt/search?q=\"&B158, \"Link Web\"))","v":"Link Web"},{"$f":"$G$2","v":0},44.41]
[null,"DC148R4.7",{"$f":"_xlfn.XLOOKUP($B159,Tabela!A:A,Tabela!C:C,\"não encontrado\")","v":"Mature"},"Contacto Superfície com 6m de cabo, resistência EOL 4K7 \nEN50131 Grau 3",{"$f":"_xlfn.XLOOKUP($B159,Tabela!$A:$A,Tabela!$D:$D,\"não encontrado\")","v":42.07},{"$f":"IF(B159 =ISTEXT(qualquer), \"\", HYPERLINK(\"https://pt.firesecurityproducts.com/pt/search?q=\"&B159, \"Link Web\"))","v":"Link Web"},{"$f":"$G$2","v":0},42.07]
[null,null,null,null,null,{"$f":"IF(B160 =ISTEXT(qualquer), \"\", HYPERLINK(\"https://pt.firesecurityproducts.com/pt/search?q=\"&B160, \"Link Web\"))","v":""}]
["DC40x ",null,"Contacto Magnético Montagem Industrial - EN 50131 Grau 3",null,null,{"$f":"IF(B161 =ISTEXT(qualquer), \"\", HYPERLINK(\"https://pt.firesecurityproducts.com/pt/search?q=\"&B161, \"Link Web\"))","v":""}]
[null,null,"Os contactos magnéticos industriais de grau 3 são contactos de alta segurança que satisfazem os seguintes requisitos: precisão da distância de abertura, polarização do íman, resistência do íman) \n• IP67 : Class III - Exterior  \n• Cabo de 2m com bainha de aço\n• Verão com resistência incorporada\n• Proteção Tamper\n• GAP: 34mm\n• Cor cinza\n• Dimensões 144 x 50 x 16,5 mm\n• EN 50131-2-6 Grade 3 e VDS certified",null,null,{"$f":"IF(B162 =ISTEXT(qualquer), \"\", HYPERLINK(\"https://pt.firesecurityproducts.com/pt/search?q=\"&B162, \"Link Web\"))","v":""}]
[null,null,null,null,null,{"$f":"IF(B163 =ISTEXT(qualquer), \"\", HYPERLINK(\"https://pt.firesecurityproducts.com/pt/search?q=\"&B163, \"Link Web\"))","v":""}]
[null,null,null,null,null,{"$f":"IF(B164 =ISTEXT(qualquer), \"\", HYPERLINK(\"https://pt.firesecurityproducts.com/pt/search?q=\"&B164, \"Link Web\"))","v":""}]
[null,null,null,null,null,{"$f":"IF(B165 =ISTEXT(qualquer), \"\", HYPERLINK(\"https://pt.firesecurityproducts.com/pt/search?q=\"&B165, \"Link Web\"))","v":""}]
[null,null,null,null,null,{"$f":"IF(B166 =ISTEXT(qualquer), \"\", HYPERLINK(\"https://pt.firesecurityproducts.com/pt/search?q=\"&B166, \"Link Web\"))","v":""}]
[null,null,null,null,null,{"$f":"IF(B167 =ISTEXT(qualquer), \"\", HYPERLINK(\"https://pt.firesecurityproducts.com/pt/search?q=\"&B167, \"Link Web\"))","v":""}]
[null,null,null,null,null,{"$f":"IF(B168 =ISTEXT(qualquer), \"\", HYPERLINK(\"https://pt.firesecurityproducts.com/pt/search?q=\"&B168, \"Link Web\"))","v":""}]
[null,null,null,null,null,{"$f":"IF(B169 =ISTEXT(qualquer), \"\", HYPERLINK(\"https://pt.firesecurityproducts.com/pt/search?q=\"&B169, \"Link Web\"))","v":""}]
[null,null,null,null,null,{"$f":"IF(B170 =ISTEXT(qualquer), \"\", HYPERLINK(\"https://pt.firesecurityproducts.com/pt/search?q=\"&B170, \"Link Web\"))","v":""}]
[null,null,null,null,null,{"$f":"IF(B171 =ISTEXT(qualquer), \"\", HYPERLINK(\"https://pt.firesecurityproducts.com/pt/search?q=\"&B171, \"Link Web\"))","v":""}]
[null,null,null,null,null,{"$f":"IF(B172 =ISTEXT(qualquer), \"\", HYPERLINK(\"https://pt.firesecurityproducts.com/pt/search?q=\"&B172, \"Link Web\"))","v":""}]
[null,"DC408",{"$f":"_xlfn.XLOOKUP($B173,Tabela!A:A,Tabela!C:C,\"não encontrado\")","v":"Mature"},"Contacto magnético Industrial de montagem no solo. \nEN50131 Grau 3 ",{"$f":"_xlfn.XLOOKUP($B173,Tabela!$A:$A,Tabela!$D:$D,\"não encontrado\")","v":89.31},{"$f":"IF(B173 =ISTEXT(qualquer), \"\", HYPERLINK(\"https://pt.firesecurityproducts.com/pt/search?q=\"&B173, \"Link Web\"))","v":"Link Web"},{"$f":"$G$2","v":0},{"$f":"IF(ISBLANK(G173),\"\",E173-(E173*$G173))","v":89.31}]
[null,"DC408R4.7",{"$f":"_xlfn.XLOOKUP($B174,Tabela!A:A,Tabela!C:C,\"não encontrado\")","v":"Mature"},"Contacto magnético Industrial de montagem no solo, com resistência EOL de 4.7K \nEN50131 Grau 3 ",{"$f":"_xlfn.XLOOKUP($B174,Tabela!$A:$A,Tabela!$D:$D,\"não encontrado\")","v":92.77},{"$f":"IF(B174 =ISTEXT(qualquer), \"\", HYPERLINK(\"https://pt.firesecurityproducts.com/pt/search?q=\"&B174, \"Link Web\"))","v":"Link Web"},{"$f":"$G$2","v":0},{"$f":"IF(ISBLANK(G174),\"\",E174-(E174*$G174))","v":92.77}]
[null,null,null,null,null,{"$f":"IF(B175 =ISTEXT(qualquer), \"\", HYPERLINK(\"https://pt.firesecurityproducts.com/pt/search?q=\"&B175, \"Link Web\"))","v":""}]
["DC12x ",null,"Contacto Magnético Embutir Montagem Industrial - EN 50131 Grau 3",null,null,{"$f":"IF(B176 =ISTEXT(qualquer), \"\", HYPERLINK(\"https://pt.firesecurityproducts.com/pt/search?q=\"&B176, \"Link Web\"))","v":""}]
[null,null,"Os contactos magnéticos industriais de grau 3 são contactos de alta segurança que satisfazem os seguintes requisitos: precisão da distância de abertura, polarização do íman, resistência do íman) \n• IP67 : Class III - Exterior\n• Cabo de 2m ou 6m\n• Verão com resistência incorporada\n• Proteção Tamper\n• GAP: 12mm\n• Cor branca\n• Dimensões 8 x 32\n• EN 50131-2-6 Grade 3 e VDS certified",null,null,{"$f":"IF(B177 =ISTEXT(qualquer), \"\", HYPERLINK(\"https://pt.firesecurityproducts.com/pt/search?q=\"&B177, \"Link Web\"))","v":""}]
[null,null,null,null,null,{"$f":"IF(B178 =ISTEXT(qualquer), \"\", HYPERLINK(\"https://pt.firesecurityproducts.com/pt/search?q=\"&B178, \"Link Web\"))","v":""}]
[null,null,null,null,null,{"$f":"IF(B179 =ISTEXT(qualquer), \"\", HYPERLINK(\"https://pt.firesecurityproducts.com/pt/search?q=\"&B179, \"Link Web\"))","v":""}]
[null,null,null,null,null,{"$f":"IF(B180 =ISTEXT(qualquer), \"\", HYPERLINK(\"https://pt.firesecurityproducts.com/pt/search?q=\"&B180, \"Link Web\"))","v":""}]
[null,null,null,null,null,{"$f":"IF(B181 =ISTEXT(qualquer), \"\", HYPERLINK(\"https://pt.firesecurityproducts.com/pt/search?q=\"&B181, \"Link Web\"))","v":""}]
[null,null,null,null,null,{"$f":"IF(B182 =ISTEXT(qualquer), \"\", HYPERLINK(\"https://pt.firesecurityproducts.com/pt/search?q=\"&B182, \"Link Web\"))","v":""}]
[null,null,null,null,null,{"$f":"IF(B183 =ISTEXT(qualquer), \"\", HYPERLINK(\"https://pt.firesecurityproducts.com/pt/search?q=\"&B183, \"Link Web\"))","v":""}]
[null,null,null,null,null,{"$f":"IF(B184 =ISTEXT(qualquer), \"\", HYPERLINK(\"https://pt.firesecurityproducts.com/pt/search?q=\"&B184, \"Link Web\"))","v":""}]
[null,null,null,null,null,{"$f":"IF(B185 =ISTEXT(qualquer), \"\", HYPERLINK(\"https://pt.firesecurityproducts.com/pt/search?q=\"&B185, \"Link Web\"))","v":""}]
[null,null,null,null,null,{"$f":"IF(B186 =ISTEXT(qualquer), \"\", HYPERLINK(\"https://pt.firesecurityproducts.com/pt/search?q=\"&B186, \"Link Web\"))","v":""}]
[null,null,null,null,null,{"$f":"IF(B187 =ISTEXT(qualquer), \"\", HYPERLINK(\"https://pt.firesecurityproducts.com/pt/search?q=\"&B187, \"Link Web\"))","v":""}]
[null,"DC128",{"$f":"_xlfn.XLOOKUP($B188,Tabela!A:A,Tabela!C:C,\"não encontrado\")","v":"Mature"},"Contacto magnético Industrial de embutir, 2m cabo \nEN 50131-2-6 Grau 3 ",{"$f":"_xlfn.XLOOKUP($B188,Tabela!$A:$A,Tabela!$D:$D,\"não encontrado\")","v":31.71},{"$f":"IF(B188 =ISTEXT(qualquer), \"\", HYPERLINK(\"https://pt.firesecurityproducts.com/pt/search?q=\"&B188, \"Link Web\"))","v":"Link Web"},{"$f":"$G$2","v":0},{"$f":"IF(ISBLANK(G188),\"\",E188-(E188*$G188))","v":31.71}]
[null,"DC128S60",{"$f":"_xlfn.XLOOKUP($B189,Tabela!A:A,Tabela!C:C,\"não encontrado\")","v":"Mature"},"Contacto magnético Industrial de embutir, 6m cabo \nEN 50131-2-6 Grau 3",{"$f":"_xlfn.XLOOKUP($B189,Tabela!$A:$A,Tabela!$D:$D,\"não encontrado\")","v":37.46},{"$f":"IF(B189 =ISTEXT(qualquer), \"\", HYPERLINK(\"https://pt.firesecurityproducts.com/pt/search?q=\"&B189, \"Link Web\"))","v":"Link Web"},{"$f":"$G$2","v":0},37.46]
[null,"DC128R4.7",{"$f":"_xlfn.XLOOKUP($B190,Tabela!A:A,Tabela!C:C,\"não encontrado\")","v":"Mature"},"Contacto magnético Industrial de embutir, 2m cabo, EOL4K7  \nEN 50131 Grau 3",{"$f":"_xlfn.XLOOKUP($B190,Tabela!$A:$A,Tabela!$D:$D,\"não encontrado\")","v":35.159999999999997},{"$f":"IF(B190 =ISTEXT(qualquer), \"\", HYPERLINK(\"https://pt.firesecurityproducts.com/pt/search?q=\"&B190, \"Link Web\"))","v":"Link Web"},{"$f":"$G$2","v":0},35.159999999999997]
[null,null,null,null,null,{"$f":"IF(B191 =ISTEXT(qualquer), \"\", HYPERLINK(\"https://pt.firesecurityproducts.com/pt/search?q=\"&B191, \"Link Web\"))","v":""}]
["DC13x ",null,"Contacto Magnético Embutir Montagem Industrial - EN 50131 Grau 3",null,null,{"$f":"IF(B192 =ISTEXT(qualquer), \"\", HYPERLINK(\"https://pt.firesecurityproducts.com/pt/search?q=\"&B192, \"Link Web\"))","v":""}]
[null,null,"Os contactos magnéticos industriais de grau 3 são contactos de alta segurança que satisfazem os seguintes requisitos: \nprecisão da distância de abertura, polarização do íman, resistência do íman)\n• IP67 : Class III - Exterior\n• Cabo de 2m ou 6m\n• Verão com resistência incorporada\n• Proteção Tamper\n• GAP: 12mm\n• Cor branca\n• Dimensões 8 x 32\n• EN 50131-2-6 Grade 3 e VDS certified",null,null,{"$f":"IF(B193 =ISTEXT(qualquer), \"\", HYPERLINK(\"https://pt.firesecurityproducts.com/pt/search?q=\"&B193, \"Link Web\"))","v":""}]
[null,null,null,null,null,{"$f":"IF(B194 =ISTEXT(qualquer), \"\", HYPERLINK(\"https://pt.firesecurityproducts.com/pt/search?q=\"&B194, \"Link Web\"))","v":""}]
[]
[null,null,null,null,null,{"$f":"IF(B196 =ISTEXT(qualquer), \"\", HYPERLINK(\"https://pt.firesecurityproducts.com/pt/search?q=\"&B196, \"Link Web\"))","v":""}]
[null,null,null,null,null,{"$f":"IF(B197 =ISTEXT(qualquer), \"\", HYPERLINK(\"https://pt.firesecurityproducts.com/pt/search?q=\"&B197, \"Link Web\"))","v":""}]
[null,null,null,null,null,{"$f":"IF(B198 =ISTEXT(qualquer), \"\", HYPERLINK(\"https://pt.firesecurityproducts.com/pt/search?q=\"&B198, \"Link Web\"))","v":""}]
[]
[null,null,null,null,null,{"$f":"IF(B200 =ISTEXT(qualquer), \"\", HYPERLINK(\"https://pt.firesecurityproducts.com/pt/search?q=\"&B200, \"Link Web\"))","v":""}]
[null,null,null,null,null,{"$f":"IF(B201 =ISTEXT(qualquer), \"\", HYPERLINK(\"https://pt.firesecurityproducts.com/pt/search?q=\"&B201, \"Link Web\"))","v":""}]
[null,null,null,null,null,{"$f":"IF(B202 =ISTEXT(qualquer), \"\", HYPERLINK(\"https://pt.firesecurityproducts.com/pt/search?q=\"&B202, \"Link Web\"))","v":""}]
[null,null,null,null,null,{"$f":"IF(B203 =ISTEXT(qualquer), \"\", HYPERLINK(\"https://pt.firesecurityproducts.com/pt/search?q=\"&B203, \"Link Web\"))","v":""}]
[null,"DC138",{"$f":"_xlfn.XLOOKUP($B204,Tabela!A:A,Tabela!C:C,\"não encontrado\")","v":"Mature"},"Contacto magnético Industrial de embutir, para portas metálicas. Branco com 2m de cabo\nEN 50131-2-6 Grau 3 e certificação VDS ",{"$f":"_xlfn.XLOOKUP($B204,Tabela!$A:$A,Tabela!$D:$D,\"não encontrado\")","v":34.56},{"$f":"IF(B204 =ISTEXT(qualquer), \"\", HYPERLINK(\"https://pt.firesecurityproducts.com/pt/search?q=\"&B204, \"Link Web\"))","v":"Link Web"},{"$f":"$G$2","v":0},{"$f":"IF(ISBLANK(G204),\"\",E204-(E204*$G204))","v":34.56}]
[null,"DC138S60",{"$f":"_xlfn.XLOOKUP($B205,Tabela!A:A,Tabela!C:C,\"não encontrado\")","v":"Mature"},"Contacto magnético Industrial de embutir, para portas metálicas. Branco com 6m de cabo\nEN 50131-2-6 Grau 3 e certificação VDS ",{"$f":"_xlfn.XLOOKUP($B205,Tabela!$A:$A,Tabela!$D:$D,\"não encontrado\")","v":40.36},{"$f":"IF(B205 =ISTEXT(qualquer), \"\", HYPERLINK(\"https://pt.firesecurityproducts.com/pt/search?q=\"&B205, \"Link Web\"))","v":"Link Web"},{"$f":"$G$2","v":0},{"$f":"IF(ISBLANK(G205),\"\",E205-(E205*$G205))","v":40.36}]
[null,"DC138R4.7",{"$f":"_xlfn.XLOOKUP($B206,Tabela!A:A,Tabela!C:C,\"não encontrado\")","v":"Mature"},"Contacto magnético Industrial de embutir, para portas metálicas com resistência EOL 4K7, 2m de cabo, EN50131-2-6 Grau 3 e certificação VDS ",{"$f":"_xlfn.XLOOKUP($B206,Tabela!$A:$A,Tabela!$D:$D,\"não encontrado\")","v":38},{"$f":"IF(B206 =ISTEXT(qualquer), \"\", HYPERLINK(\"https://pt.firesecurityproducts.com/pt/search?q=\"&B206, \"Link Web\"))","v":"Link Web"},{"$f":"$G$2","v":0},{"$f":"IF(ISBLANK(G206),\"\",E206-(E206*$G206))","v":38}]
[null,null,null,null,null,{"$f":"IF(B207 =ISTEXT(qualquer), \"\", HYPERLINK(\"https://pt.firesecurityproducts.com/pt/search?q=\"&B207, \"Link Web\"))","v":""}]
["DC4xx",null,"Contacto Magnético Montagem Superfície - EN 50131 Grau 4",null,null,{"$f":"IF(B208 =ISTEXT(qualquer), \"\", HYPERLINK(\"https://pt.firesecurityproducts.com/pt/search?q=\"&B208, \"Link Web\"))","v":""}]
[null,null,"Contatos magnéticos, certificados de acordo com os requisitos da EN 50131-2-6 grau 4 e VdS classe C, permite a monitorização da abertura sem contacto de portas e janelas, de acordo com as mais elevadas especificações de segurança.\nEm comparação com outros contactos magnéticos de alta segurança, este produto incorpora um controlo reforçado do campo externo, que pode ser utilizado para detetar uma diferença anormalmente grande entre o código que foi aplicado e o código que foi ensinado.\n• EN 50131-2-6 Grade 4 e VDS ",null,null,{"$f":"IF(B209 =ISTEXT(qualquer), \"\", HYPERLINK(\"https://pt.firesecurityproducts.com/pt/search?q=\"&B209, \"Link Web\"))","v":""}]
[null,null,null,null,null,{"$f":"IF(B210 =ISTEXT(qualquer), \"\", HYPERLINK(\"https://pt.firesecurityproducts.com/pt/search?q=\"&B210, \"Link Web\"))","v":""}]
[null,null,null,null,null,{"$f":"IF(B211 =ISTEXT(qualquer), \"\", HYPERLINK(\"https://pt.firesecurityproducts.com/pt/search?q=\"&B211, \"Link Web\"))","v":""}]
[]
[null,null,null,null,null,{"$f":"IF(B213 =ISTEXT(qualquer), \"\", HYPERLINK(\"https://pt.firesecurityproducts.com/pt/search?q=\"&B213, \"Link Web\"))","v":""}]
[null,null,null,null,null,{"$f":"IF(B214 =ISTEXT(qualquer), \"\", HYPERLINK(\"https://pt.firesecurityproducts.com/pt/search?q=\"&B214, \"Link Web\"))","v":""}]
[null,null,null,null,null,{"$f":"IF(B215 =ISTEXT(qualquer), \"\", HYPERLINK(\"https://pt.firesecurityproducts.com/pt/search?q=\"&B215, \"Link Web\"))","v":""}]
[null,null,null,null,"PVP",{"$f":"IF(B216 =ISTEXT(qualquer), \"\", HYPERLINK(\"https://pt.firesecurityproducts.com/pt/search?q=\"&B216, \"Link Web\"))","v":""},"Desconto","Preço Liquido"]
[null,"DC418",{"$f":"_xlfn.XLOOKUP($B217,Tabela!A:A,Tabela!C:C,\"não encontrado\")","v":"Mature"},"Contato magnético de superfície Grau 4, IP 67 - GAP 5 a 12mm",{"$f":"_xlfn.XLOOKUP($B217,Tabela!$A:$A,Tabela!$D:$D,\"não encontrado\")","v":268.16000000000003},{"$f":"IF(B217 =ISTEXT(qualquer), \"\", HYPERLINK(\"https://pt.firesecurityproducts.com/pt/search?q=\"&B217, \"Link Web\"))","v":"Link Web"},{"$f":"$G$2","v":0},{"$f":"IF(ISBLANK(G217),\"\",E217-(E217*$G217))","v":268.16000000000003}]
[null,"DC428",{"$f":"_xlfn.XLOOKUP($B218,Tabela!A:A,Tabela!C:C,\"não encontrado\")","v":"Mature"},"Contato magnético para portões Grau 4, IP 67 - GAP 5 a 12mm",{"$f":"_xlfn.XLOOKUP($B218,Tabela!$A:$A,Tabela!$D:$D,\"não encontrado\")","v":339.92},{"$f":"IF(B218 =ISTEXT(qualquer), \"\", HYPERLINK(\"https://pt.firesecurityproducts.com/pt/search?q=\"&B218, \"Link Web\"))","v":"Link Web"},{"$f":"$G$2","v":0},{"$f":"IF(ISBLANK(G218),\"\",E218-(E218*$G218))","v":339.92}]
[null,null,null,null,null,{"$f":"IF(B219 =ISTEXT(qualquer), \"\", HYPERLINK(\"https://pt.firesecurityproducts.com/pt/search?q=\"&B219, \"Link Web\"))","v":""}]
["Acessórios",null,"Montagem e Fixação",null,null,{"$f":"IF(B220 =ISTEXT(qualquer), \"\", HYPERLINK(\"https://pt.firesecurityproducts.com/pt/search?q=\"&B220, \"Link Web\"))","v":""}]
[null,null,null,null,null,{"$f":"IF(B221 =ISTEXT(qualquer), \"\", HYPERLINK(\"https://pt.firesecurityproducts.com/pt/search?q=\"&B221, \"Link Web\"))","v":""}]
[null,"DC193",{"$f":"_xlfn.XLOOKUP($B222,Tabela!A:A,Tabela!C:C,\"não encontrado\")","v":"Mature"},"Suporte em L p/DC 102/129",{"$f":"_xlfn.XLOOKUP($B222,Tabela!$A:$A,Tabela!$D:$D,\"não encontrado\")","v":9.5},{"$f":"IF(B222 =ISTEXT(qualquer), \"\", HYPERLINK(\"https://pt.firesecurityproducts.com/pt/search?q=\"&B222, \"Link Web\"))","v":"Link Web"},{"$f":"$G$2","v":0},{"$f":"IF(ISBLANK(G222),\"\",E222-(E222*$G222))","v":9.5}]
[null,"DC1906T",{"$f":"_xlfn.XLOOKUP($B223,Tabela!A:A,Tabela!C:C,\"não encontrado\")","v":"Mature"},"Espaçador T para DC 102/123/130/137/104",{"$f":"_xlfn.XLOOKUP($B223,Tabela!$A:$A,Tabela!$D:$D,\"não encontrado\")","v":2.39},{"$f":"IF(B223 =ISTEXT(qualquer), \"\", HYPERLINK(\"https://pt.firesecurityproducts.com/pt/search?q=\"&B223, \"Link Web\"))","v":"Link Web"},{"$f":"$G$2","v":0},2.39]
[null,"DC1901",{"$f":"_xlfn.XLOOKUP($B224,Tabela!A:A,Tabela!C:C,\"não encontrado\")","v":"Mature"},"Caixa para DC 101/103/105",{"$f":"_xlfn.XLOOKUP($B224,Tabela!$A:$A,Tabela!$D:$D,\"não encontrado\")","v":1.78},{"$f":"IF(B224 =ISTEXT(qualquer), \"\", HYPERLINK(\"https://pt.firesecurityproducts.com/pt/search?q=\"&B224, \"Link Web\"))","v":"Link Web"},{"$f":"$G$2","v":0},1.78]
[null,"DC1906",{"$f":"_xlfn.XLOOKUP($B225,Tabela!A:A,Tabela!C:C,\"não encontrado\")","v":"Mature"},"Espaçador para DC 101/103/105",{"$f":"_xlfn.XLOOKUP($B225,Tabela!$A:$A,Tabela!$D:$D,\"não encontrado\")","v":0.92},{"$f":"IF(B225 =ISTEXT(qualquer), \"\", HYPERLINK(\"https://pt.firesecurityproducts.com/pt/search?q=\"&B225, \"Link Web\"))","v":"Link Web"},{"$f":"$G$2","v":0},0.92]
[null,"DC1906B",{"$f":"_xlfn.XLOOKUP($B226,Tabela!A:A,Tabela!C:C,\"não encontrado\")","v":"Mature"},"Espaçador castanho para DC 101/103/105",{"$f":"_xlfn.XLOOKUP($B226,Tabela!$A:$A,Tabela!$D:$D,\"não encontrado\")","v":2.33},{"$f":"IF(B226 =ISTEXT(qualquer), \"\", HYPERLINK(\"https://pt.firesecurityproducts.com/pt/search?q=\"&B226, \"Link Web\"))","v":"Link Web"},{"$f":"$G$2","v":0},2.33]
[null,null,null,null,null,{"$f":"IF(B227 =ISTEXT(qualquer), \"\", HYPERLINK(\"https://pt.firesecurityproducts.com/pt/search?q=\"&B227, \"Link Web\"))","v":""}]
["Série MM",null,"Contactos Magnéticos",null,null,{"$f":"IF(B228 =ISTEXT(qualquer), \"\", HYPERLINK(\"https://pt.firesecurityproducts.com/pt/search?q=\"&B228, \"Link Web\"))","v":""}]
[]
[null,"Industrial - GAP EXTRA",null,null,"PVP",null,"Desconto","Preço Liquido"]
[null,"MM106",{"$f":"_xlfn.XLOOKUP($B231,Tabela!A:A,Tabela!C:C,\"não encontrado\")","v":"Mature"},"Contacto industrial com cabo aramado - GAP: 50mm (max) - 5NC\nIdeal para aplicação em portas de enrolar\nSensor: 150 x 40 x 15    Magneto: 75 x 60 x 32",{"$f":"_xlfn.XLOOKUP($B231,Tabela!$A:$A,Tabela!$D:$D,\"não encontrado\")","v":28.08},{"$f":"IF(B231 =ISTEXT(qualquer), \"\", HYPERLINK(\"https://pt.firesecurityproducts.com/pt/search?q=\"&B231, \"Link Web\"))","v":"Link Web"},{"$f":"$G$2","v":0},{"$f":"IF(ISBLANK(G231),\"\",E231-(E231*$G231))","v":28.08}]
[null,"MM108",{"$f":"_xlfn.XLOOKUP($B232,Tabela!A:A,Tabela!C:C,\"não encontrado\")","v":"Mature"},"Contacto Standard - GAP: máx. 5,0 cm - contacto NF - cabo aramado - alumínio, 100x25x25 mm - 50V/0,5A",{"$f":"_xlfn.XLOOKUP($B232,Tabela!$A:$A,Tabela!$D:$D,\"não encontrado\")","v":28.22},{"$f":"IF(B232 =ISTEXT(qualquer), \"\", HYPERLINK(\"https://pt.firesecurityproducts.com/pt/search?q=\"&B232, \"Link Web\"))","v":"Link Web"},{"$f":"$G$2","v":0},{"$f":"IF(ISBLANK(G232),\"\",E232-(E232*$G232))","v":28.22}]
[null,"MM740",{"$f":"_xlfn.XLOOKUP($B233,Tabela!A:A,Tabela!C:C,\"não encontrado\")","v":"Mature"},"Contacto industrial com cabo aramado - GAP: 98mm (max) - NC\nIdeal para aplicação em portas de enrolar\nSensor: 175 x 50 x 12    Magneto: 78 x 43 x 47",{"$f":"_xlfn.XLOOKUP($B233,Tabela!$A:$A,Tabela!$D:$D,\"não encontrado\")","v":51.38},{"$f":"IF(B233 =ISTEXT(qualquer), \"\", HYPERLINK(\"https://pt.firesecurityproducts.com/pt/search?q=\"&B233, \"Link Web\"))","v":"Link Web"},{"$f":"$G$2","v":0},{"$f":"IF(ISBLANK(G233),\"\",E233-(E233*$G233))","v":51.38}]
[null,null,null,null,null,{"$f":"IF(B234 =ISTEXT(qualquer), \"\", HYPERLINK(\"https://pt.firesecurityproducts.com/pt/search?q=\"&B234, \"Link Web\"))","v":""}]
[null,"Superfície"]
[null,"MM102",{"$f":"_xlfn.XLOOKUP($B236,Tabela!A:A,Tabela!C:C,\"não encontrado\")","v":"Mature"},"Contacto std superfície - GAP: máx. 2.0 cm - contacto NF - 5 terminais - Branco, 63x13,5x13/65x10x13 mm - 50V/0,5A",{"$f":"_xlfn.XLOOKUP($B236,Tabela!$A:$A,Tabela!$D:$D,\"não encontrado\")","v":2.98},{"$f":"IF(B236 =ISTEXT(qualquer), \"\", HYPERLINK(\"https://pt.firesecurityproducts.com/pt/search?q=\"&B236, \"Link Web\"))","v":"Link Web"},{"$f":"$G$2","v":0},{"$f":"IF(ISBLANK(G236),\"\",E236-(E236*$G236))","v":2.98}]
[null,"MM102B",{"$f":"_xlfn.XLOOKUP($B237,Tabela!A:A,Tabela!C:C,\"não encontrado\")","v":"Mature"},"Contacto std superfície - GAP: máx. 2.0 cm - contacto NF - 5 terminais - Castanho, 63x13,5x13/65x10x13 mm - 50V/0,5A",{"$f":"_xlfn.XLOOKUP($B237,Tabela!$A:$A,Tabela!$D:$D,\"não encontrado\")","v":2.98},{"$f":"IF(B237 =ISTEXT(qualquer), \"\", HYPERLINK(\"https://pt.firesecurityproducts.com/pt/search?q=\"&B237, \"Link Web\"))","v":"Link Web"},{"$f":"$G$2","v":0},{"$f":"IF(ISBLANK(G237),\"\",E237-(E237*$G237))","v":2.98}]
[null,"MM440",{"$f":"_xlfn.XLOOKUP($B238,Tabela!A:A,Tabela!C:C,\"não encontrado\")","v":"Mature"},"Contacto std de superfície, cabo de 85cm - GAP: 11mm\nSensor: 14 x 35    Magneto: 14 x 35",{"$f":"_xlfn.XLOOKUP($B238,Tabela!$A:$A,Tabela!$D:$D,\"não encontrado\")","v":8.4700000000000006},{"$f":"IF(B238 =ISTEXT(qualquer), \"\", HYPERLINK(\"https://pt.firesecurityproducts.com/pt/search?q=\"&B238, \"Link Web\"))","v":"Link Web"},{"$f":"$G$2","v":0},{"$f":"IF(ISBLANK(G238),\"\",E238-(E238*$G238))","v":8.4700000000000006}]
[null,null,null,null,null,{"$f":"IF(B239 =ISTEXT(qualquer), \"\", HYPERLINK(\"https://pt.firesecurityproducts.com/pt/search?q=\"&B239, \"Link Web\"))","v":""}]
[null,"Embutir"]
[null,"MM101",{"$f":"_xlfn.XLOOKUP($B241,Tabela!A:A,Tabela!C:C,\"não encontrado\")","v":"Mature"},"Contacto de embutir, Branco. GAP: 14mm",{"$f":"_xlfn.XLOOKUP($B241,Tabela!$A:$A,Tabela!$D:$D,\"não encontrado\")","v":2.98},{"$f":"IF(B241 =ISTEXT(qualquer), \"\", HYPERLINK(\"https://pt.firesecurityproducts.com/pt/search?q=\"&B241, \"Link Web\"))","v":"Link Web"},{"$f":"$G$2","v":0},{"$f":"IF(ISBLANK(G241),\"\",E241-(E241*$G241))","v":2.98}]
[null,"MM110",{"$f":"_xlfn.XLOOKUP($B242,Tabela!A:A,Tabela!C:C,\"não encontrado\")","v":"Sell-out"},"Contacto std embutir - GAP: máx. 1,5 cm - contacto NF -cabo 2m - Branco, 32x8 - 150VDC/1A",{"$f":"_xlfn.XLOOKUP($B242,Tabela!$A:$A,Tabela!$D:$D,\"não encontrado\")","v":9.9},{"$f":"IF(B242 =ISTEXT(qualquer), \"\", HYPERLINK(\"https://pt.firesecurityproducts.com/pt/search?q=\"&B242, \"Link Web\"))","v":"Link Web"},{"$f":"$G$2","v":0},{"$f":"IF(ISBLANK(G242),\"\",E242-(E242*$G242))","v":9.9}]
[null,null,null,null,null,{"$f":"IF(B243 =ISTEXT(qualquer), \"\", HYPERLINK(\"https://pt.firesecurityproducts.com/pt/search?q=\"&B243, \"Link Web\"))","v":""}]
[null,null,null,null,null,{"$f":"IF(B244 =ISTEXT(qualquer), \"\", HYPERLINK(\"https://pt.firesecurityproducts.com/pt/search?q=\"&B244, \"Link Web\"))","v":""}]
["Pânico",null,"Dispositivos de Pânico",null,null,{"$f":"IF(B245 =ISTEXT(qualquer), \"\", HYPERLINK(\"https://pt.firesecurityproducts.com/pt/search?q=\"&B245, \"Link Web\"))","v":""}]
[null,null,null,null,null,{"$f":"IF(B246 =ISTEXT(qualquer), \"\", HYPERLINK(\"https://pt.firesecurityproducts.com/pt/search?q=\"&B246, \"Link Web\"))","v":""}]
[null,"Botões"]
[null,"HB191",{"$f":"_xlfn.XLOOKUP($B248,Tabela!A:A,Tabela!C:C,\"não encontrado\")","v":"Mature"},"Botão  Pânico - reed sw, reset por chave - contacto NF - Alumínio, caixa em polistireno resistente a grande impacto - 70x57x28",{"$f":"_xlfn.XLOOKUP($B248,Tabela!$A:$A,Tabela!$D:$D,\"não encontrado\")","v":18.11},{"$f":"IF(B248 =ISTEXT(qualquer), \"\", HYPERLINK(\"https://pt.firesecurityproducts.com/pt/search?q=\"&B248, \"Link Web\"))","v":"Link Web"},{"$f":"$G$2","v":0},{"$f":"IF(ISBLANK(G248),\"\",E248-(E248*$G248))","v":18.11}]
[null,"HB194",{"$f":"_xlfn.XLOOKUP($B249,Tabela!A:A,Tabela!C:C,\"não encontrado\")","v":"Mature"},"Botão Pânico-  duplo reed sw, reset por chave -contacto NF - Branco, caixa em plástico ABS branco - 75x62x29",{"$f":"_xlfn.XLOOKUP($B249,Tabela!$A:$A,Tabela!$D:$D,\"não encontrado\")","v":20.82},{"$f":"IF(B249 =ISTEXT(qualquer), \"\", HYPERLINK(\"https://pt.firesecurityproducts.com/pt/search?q=\"&B249, \"Link Web\"))","v":"Link Web"},0,20.82]
[null,"HB304",{"$f":"_xlfn.XLOOKUP($B250,Tabela!A:A,Tabela!C:C,\"não encontrado\")","v":"Mature"},"Botão Pânico Tipo Alavanca. Led indicado de ativação",{"$f":"_xlfn.XLOOKUP($B250,Tabela!$A:$A,Tabela!$D:$D,\"não encontrado\")","v":46.71},{"$f":"IF(B250 =ISTEXT(qualquer), \"\", HYPERLINK(\"https://pt.firesecurityproducts.com/pt/search?q=\"&B250, \"Link Web\"))","v":"Link Web"},0,46.71]
[null,null,null,null,null,{"$f":"IF(B251 =ISTEXT(qualquer), \"\", HYPERLINK(\"https://pt.firesecurityproducts.com/pt/search?q=\"&B251, \"Link Web\"))","v":""}]
[null,"Prendedor Notas"]
[null,"DC301",{"$f":"_xlfn.XLOOKUP($B253,Tabela!A:A,Tabela!C:C,\"não encontrado\")","v":"Mature"},"Prendedor de notas, Aplicação em caixas registadoras, contacto NF,  8,6 x 6,5 x 0,9cm ",{"$f":"_xlfn.XLOOKUP($B253,Tabela!$A:$A,Tabela!$D:$D,\"não encontrado\")","v":103.53},{"$f":"IF(B253 =ISTEXT(qualquer), \"\", HYPERLINK(\"https://pt.firesecurityproducts.com/pt/search?q=\"&B253, \"Link Web\"))","v":"Link Web"},0,{"$f":"IF(ISBLANK(G253),\"\",E253-(E253*$G253))","v":103.53}]
[null,null,null,null,null,{"$f":"IF(B254 =ISTEXT(qualquer), \"\", HYPERLINK(\"https://pt.firesecurityproducts.com/pt/search?q=\"&B254, \"Link Web\"))","v":""}]
["Inundação",null,"Deteção ",null,null,{"$f":"IF(B255 =ISTEXT(qualquer), \"\", HYPERLINK(\"https://pt.firesecurityproducts.com/pt/search?q=\"&B255, \"Link Web\"))","v":""}]
[null,null,null,null,"PVP",{"$f":"IF(B256 =ISTEXT(qualquer), \"\", HYPERLINK(\"https://pt.firesecurityproducts.com/pt/search?q=\"&B256, \"Link Web\"))","v":""},"Desconto","Preço Liquido"]
[null,"5501-M",{"$f":"_xlfn.XLOOKUP($B257,Tabela!A:A,Tabela!C:C,\"não encontrado\")","v":"Mature"},"Interface analisador para sensores de humidade\n(Máximo 4 sensores por unidade)",{"$f":"_xlfn.XLOOKUP($B257,Tabela!$A:$A,Tabela!$D:$D,\"não encontrado\")","v":82.99},{"$f":"IF(B257 =ISTEXT(qualquer), \"\", HYPERLINK(\"https://pt.firesecurityproducts.com/pt/search?q=\"&B257, \"Link Web\"))","v":"Link Web"},0,{"$f":"IF(ISBLANK(G257),\"\",E257-(E257*$G257))","v":82.99}]
[null,"5515-G",{"$f":"_xlfn.XLOOKUP($B258,Tabela!A:A,Tabela!C:C,\"não encontrado\")","v":"Mature"},"Sensor de humidade superfície",{"$f":"_xlfn.XLOOKUP($B258,Tabela!$A:$A,Tabela!$D:$D,\"não encontrado\")","v":34.270000000000003},{"$f":"IF(B258 =ISTEXT(qualquer), \"\", HYPERLINK(\"https://pt.firesecurityproducts.com/pt/search?q=\"&B258, \"Link Web\"))","v":"Link Web"},0,34.270000000000003]
[null,"VM603P",{"$f":"_xlfn.XLOOKUP($B259,Tabela!A:A,Tabela!C:C,\"não encontrado\")","v":"Mature"},"CAIXA DE PROTECÇÃO CONTRA INTEMPÉRIES",{"$f":"_xlfn.XLOOKUP($B259,Tabela!$A:$A,Tabela!$D:$D,\"não encontrado\")","v":141.72999999999999},{"$f":"IF(B259 =ISTEXT(qualquer), \"\", HYPERLINK(\"https://pt.firesecurityproducts.com/pt/search?q=\"&B259, \"Link Web\"))","v":"Link Web"},0,141.72999999999999]
[null,"VM611P",{"$f":"_xlfn.XLOOKUP($B260,Tabela!A:A,Tabela!C:C,\"não encontrado\")","v":"Mature"},"Caixa para montagem no chão",{"$f":"_xlfn.XLOOKUP($B260,Tabela!$A:$A,Tabela!$D:$D,\"não encontrado\")","v":217.2},{"$f":"IF(B260 =ISTEXT(qualquer), \"\", HYPERLINK(\"https://pt.firesecurityproducts.com/pt/search?q=\"&B260, \"Link Web\"))","v":"Link Web"},0,217.2]
[null,"VM651P",{"$f":"_xlfn.XLOOKUP($B261,Tabela!A:A,Tabela!C:C,\"não encontrado\")","v":"Mature"},"Prato de montagem amovível dia/noite",{"$f":"_xlfn.XLOOKUP($B261,Tabela!$A:$A,Tabela!$D:$D,\"não encontrado\")","v":136.57},{"$f":"IF(B261 =ISTEXT(qualquer), \"\", HYPERLINK(\"https://pt.firesecurityproducts.com/pt/search?q=\"&B261, \"Link Web\"))","v":"Link Web"},0,136.57]
[null,"VM654P",{"$f":"_xlfn.XLOOKUP($B262,Tabela!A:A,Tabela!C:C,\"não encontrado\")","v":"Mature"},"Kit de cabo blindado",{"$f":"_xlfn.XLOOKUP($B262,Tabela!$A:$A,Tabela!$D:$D,\"não encontrado\")","v":46.53},{"$f":"IF(B262 =ISTEXT(qualquer), \"\", HYPERLINK(\"https://pt.firesecurityproducts.com/pt/search?q=\"&B262, \"Link Web\"))","v":"Link Web"},0,46.53]
[null,"VM655P",{"$f":"_xlfn.XLOOKUP($B263,Tabela!A:A,Tabela!C:C,\"não encontrado\")","v":"Mature"},"Caixa de junção com proteção contra arrombamento",{"$f":"_xlfn.XLOOKUP($B263,Tabela!$A:$A,Tabela!$D:$D,\"não encontrado\")","v":118.78},{"$f":"IF(B263 =ISTEXT(qualquer), \"\", HYPERLINK(\"https://pt.firesecurityproducts.com/pt/search?q=\"&B263, \"Link Web\"))","v":"Link Web"},0,118.78]
[null,"VM704P",{"$f":"_xlfn.XLOOKUP($B264,Tabela!A:A,Tabela!C:C,\"não encontrado\")","v":"Mature"},"Placa de fixação por soldadura para montagem de  VV60X e VV700",{"$f":"_xlfn.XLOOKUP($B264,Tabela!$A:$A,Tabela!$D:$D,\"não encontrado\")","v":27.12},{"$f":"IF(B264 =ISTEXT(qualquer), \"\", HYPERLINK(\"https://pt.firesecurityproducts.com/pt/search?q=\"&B264, \"Link Web\"))","v":"Link Web"},0,27.12]

{"sheet":"Deteção Perimétrica","index":8,"n_rows":190,"n_cols":8,"rows_kept":190,"cut":false,"hidden":false,"merged":[[146,2,154,4],[102,2,110,4],[1,6,2,6],[20,2,28,4],[0,2,2,3],[5,2,14,4],[47,2,56,4]]}
[null,null,"Deteção Perimétrica"]
[null,null,null,null,null,null,0]
[]
[null,null,"Status",null,"PVP",null,"Desconto","Preço \nLiquido"]
["Série 63xx",null,"Mini Detetor Exterior"]
[null,null,"Este mini detetor utiliza dois detetores de infravermelhos passivos independentes. Para que seja originado é necessária a ativação simultânea dos 2 sensores. \n• Versão Dupla Tecnologia\n• Deteção: 15m\n• Campo visão: 70º\n• Frequência Micro-ondas: 10.525GHz (6820P)\n• Dimensões; 70 x 120 x 75mm  \n• Altura de instalação: 3 a 6 m                                                                                   \n• Cor: Bronze                                                                                                                           \n• IP65"]
[]
[]
[]
[]
[]
[]
[]
[]
[]
[]
[null,"Detetor PIR",null,null,"PVP",null,"Desconto","Preço Liquido"]
[null,"6910P",{"$f":"_xlfn.XLOOKUP($B18,Tabela!A:A,Tabela!C:C,\"não encontrado\")","v":"Mature"},"Detetor PIR Mini exterior, 15 m, Duplo PIR, Angulo deteção 14º-70º, IP65",{"$f":"_xlfn.XLOOKUP($B18,Tabela!$A:$A,Tabela!$D:$D,\"não encontrado\")","v":179.36},{"$f":"IF(B18 =ISTEXT(qualquer), \"\", HYPERLINK(\"https://pt.firesecurityproducts.com/pt/search?q=\"&B18, \"Link Web\"))","v":"Link Web"},{"$f":"$G$2","v":0},{"$f":"IF(ISBLANK(G18),\"\",E18-(E18*$G18))","v":179.36}]
[null,null,null,null,null,{"$f":"IF(B19 =ISTEXT(qualquer), \"\", HYPERLINK(\"https://pt.firesecurityproducts.com/pt/search?q=\"&B19, \"Link Web\"))","v":""}]
["Série DI6xx e DDI6xx",null,"Detetor Longo Alcance",null,null,{"$f":"IF(B20 =ISTEXT(qualquer), \"\", HYPERLINK(\"https://pt.firesecurityproducts.com/pt/search?q=\"&B20, \"Link Web\"))","v":""}]
[null,null,"Este detetor utiliza dois detetores de infravermelhos passivos independentes. Para que seja originado é necessária a ativação simultânea dos 2 sensores. Versão Dupla Tecnologia\n• Deteção: 10 , 20, 30m (programável)\n• Campo visão: 10º a 70º \n• Frequência Micro-ondas: 10.525GHz (DDI602-F1)\n• Dimensões; 70 x 120 x 75mm\n• Altura de instalação: 3 a 6 m\n• Cor: Prata\n• IP55",null,null,{"$f":"IF(B21 =ISTEXT(qualquer), \"\", HYPERLINK(\"https://pt.firesecurityproducts.com/pt/search?q=\"&B21, \"Link Web\"))","v":""}]
[null,null,null,null,null,{"$f":"IF(B22 =ISTEXT(qualquer), \"\", HYPERLINK(\"https://pt.firesecurityproducts.com/pt/search?q=\"&B22, \"Link Web\"))","v":""}]
[null,null,null,null,null,{"$f":"IF(B23 =ISTEXT(qualquer), \"\", HYPERLINK(\"https://pt.firesecurityproducts.com/pt/search?q=\"&B23, \"Link Web\"))","v":""}]
[null,null,null,null,null,{"$f":"IF(B24 =ISTEXT(qualquer), \"\", HYPERLINK(\"https://pt.firesecurityproducts.com/pt/search?q=\"&B24, \"Link Web\"))","v":""}]
[null,null,null,null,null,{"$f":"IF(B25 =ISTEXT(qualquer), \"\", HYPERLINK(\"https://pt.firesecurityproducts.com/pt/search?q=\"&B25, \"Link Web\"))","v":""}]
[null,null,null,null,null,{"$f":"IF(B26 =ISTEXT(qualquer), \"\", HYPERLINK(\"https://pt.firesecurityproducts.com/pt/search?q=\"&B26, \"Link Web\"))","v":""}]
[null,null,null,null,null,{"$f":"IF(B27 =ISTEXT(qualquer), \"\", HYPERLINK(\"https://pt.firesecurityproducts.com/pt/search?q=\"&B27, \"Link Web\"))","v":""}]
[null,null,null,null,null,{"$f":"IF(B28 =ISTEXT(qualquer), \"\", HYPERLINK(\"https://pt.firesecurityproducts.com/pt/search?q=\"&B28, \"Link Web\"))","v":""}]
[null,null,null,null,null,{"$f":"IF(B29 =ISTEXT(qualquer), \"\", HYPERLINK(\"https://pt.firesecurityproducts.com/pt/search?q=\"&B29, \"Link Web\"))","v":""}]
[null,null,null,null,null,{"$f":"IF(B30 =ISTEXT(qualquer), \"\", HYPERLINK(\"https://pt.firesecurityproducts.com/pt/search?q=\"&B30, \"Link Web\"))","v":""}]
[null,"PIR Longo Alcance"]
[null,"DI601",{"$f":"_xlfn.XLOOKUP($B32,Tabela!A:A,Tabela!C:C,\"não encontrado\")","v":"Mature"},"Detetor PIR para Exterior Longo alcance - 30 metros\nClasse Ambiental IV - IP55",{"$f":"_xlfn.XLOOKUP($B32,Tabela!$A:$A,Tabela!$D:$D,\"não encontrado\")","v":198.31},{"$f":"IF(B32 =ISTEXT(qualquer), \"\", HYPERLINK(\"https://pt.firesecurityproducts.com/pt/search?q=\"&B32, \"Link Web\"))","v":"Link Web"},{"$f":"$G$2","v":0},{"$f":"IF(ISBLANK(G32),\"\",E32-(E32*$G32))","v":198.31}]
[null,null,null,null,null,{"$f":"IF(B33 =ISTEXT(qualquer), \"\", HYPERLINK(\"https://pt.firesecurityproducts.com/pt/search?q=\"&B33, \"Link Web\"))","v":""}]
[null,"Dupla Tecnologia Longo Alcance"]
[null,"DDI602-F1",{"$f":"_xlfn.XLOOKUP($B35,Tabela!A:A,Tabela!C:C,\"não encontrado\")","v":"Mature"},"Detetor PIR/MO para Exterior Longo alcance - 30 metros\nClasse Ambiental IV - IP55",{"$f":"_xlfn.XLOOKUP($B35,Tabela!$A:$A,Tabela!$D:$D,\"não encontrado\")","v":339.95},{"$f":"IF(B35 =ISTEXT(qualquer), \"\", HYPERLINK(\"https://pt.firesecurityproducts.com/pt/search?q=\"&B35, \"Link Web\"))","v":"Link Web"},{"$f":"$G$2","v":0},{"$f":"IF(ISBLANK(G35),\"\",E35-(E35*$G35))","v":339.95}]
[null,"DDI602AM-F4",{"$f":"_xlfn.XLOOKUP($B36,Tabela!A:A,Tabela!C:C,\"não encontrado\")","v":"NPI"},"OUTDOOR DUAL/AM TECHNOLOGY DETECTOR 9.35 GHZ",{"$f":"_xlfn.XLOOKUP($B36,Tabela!$A:$A,Tabela!$D:$D,\"não encontrado\")","v":418.92},{"$f":"IF(B36 =ISTEXT(qualquer), \"\", HYPERLINK(\"https://pt.firesecurityproducts.com/pt/search?q=\"&B36, \"Link Web\"))","v":"Link Web"},{"$f":"$G$2","v":0},{"$f":"IF(ISBLANK(G36),\"\",E36-(E36*$G36))","v":418.92}]
[null,null,null,null,null,{"$f":"IF(B37 =ISTEXT(qualquer), \"\", HYPERLINK(\"https://pt.firesecurityproducts.com/pt/search?q=\"&B37, \"Link Web\"))","v":""}]
[null,"PIR Longo Alcance Anti Máscara - EN50131 Grau 3"]
[null,"DI601AM",{"$f":"_xlfn.XLOOKUP($B39,Tabela!A:A,Tabela!C:C,\"não encontrado\")","v":"Mature"},"Detetor PIR para exterior, Anti Máscara - 30 metros - EN50131 Grau 3",{"$f":"_xlfn.XLOOKUP($B39,Tabela!$A:$A,Tabela!$D:$D,\"não encontrado\")","v":283.08},{"$f":"IF(B39 =ISTEXT(qualquer), \"\", HYPERLINK(\"https://pt.firesecurityproducts.com/pt/search?q=\"&B39, \"Link Web\"))","v":"Link Web"},{"$f":"$G$2","v":0},{"$f":"IF(ISBLANK(G39),\"\",E39-(E39*$G39))","v":283.08}]
[null,null,null,null,null,{"$f":"IF(B40 =ISTEXT(qualquer), \"\", HYPERLINK(\"https://pt.firesecurityproducts.com/pt/search?q=\"&B40, \"Link Web\"))","v":""}]
[null,"Dupla Tecnologia Longo Alcance Anti Máscara - EN50131 Grau 3"]
[null,"DDI602AM-F1",{"$f":"_xlfn.XLOOKUP($B42,Tabela!A:A,Tabela!C:C,\"não encontrado\")","v":"Mature"},"Detetor Dupla Tecnologia, Anti Máscara  - 30m - EN50131 Grau 3",{"$f":"_xlfn.XLOOKUP($B42,Tabela!$A:$A,Tabela!$D:$D,\"não encontrado\")","v":427.3},{"$f":"IF(B42 =ISTEXT(qualquer), \"\", HYPERLINK(\"https://pt.firesecurityproducts.com/pt/search?q=\"&B42, \"Link Web\"))","v":"Link Web"},{"$f":"$G$2","v":0},{"$f":"IF(ISBLANK(G42),\"\",E42-(E42*$G42))","v":427.3}]
[null,null,null,null,null,{"$f":"IF(B43 =ISTEXT(qualquer), \"\", HYPERLINK(\"https://pt.firesecurityproducts.com/pt/search?q=\"&B43, \"Link Web\"))","v":""}]
[null,"Ferramenta"]
[null,"DI601-WT",{"$f":"_xlfn.XLOOKUP($B45,Tabela!A:A,Tabela!C:C,\"não encontrado\")","v":"Mature"},"Walk tester para as séries DI601 e DDI602",{"$f":"_xlfn.XLOOKUP($B45,Tabela!$A:$A,Tabela!$D:$D,\"não encontrado\")","v":138.37},{"$f":"IF(B45 =ISTEXT(qualquer), \"\", HYPERLINK(\"https://pt.firesecurityproducts.com/pt/search?q=\"&B45, \"Link Web\"))","v":"Link Web"},{"$f":"$G$2","v":0},{"$f":"IF(ISBLANK(G45),\"\",E45-(E45*$G45))","v":138.37}]
[null,null,null,null,null,{"$f":"IF(B46 =ISTEXT(qualquer), \"\", HYPERLINK(\"https://pt.firesecurityproducts.com/pt/search?q=\"&B46, \"Link Web\"))","v":""}]
["Série SB",null,"Barreira de Infravermelhos Ativos ",null,null,{"$f":"IF(B47 =ISTEXT(qualquer), \"\", HYPERLINK(\"https://pt.firesecurityproducts.com/pt/search?q=\"&B47, \"Link Web\"))","v":""}]
[null,null,"As barreiras de infravermelhos ativos (AIR) da série SB é disponibilizada em versões de 2 e 4 beams. O alarme é gerando quando são interrompidos 1 ou 2 feixes. São constituídos por dois módulos de detetores idênticos, equipados com células de deteção que integram funções de transmissão e receção. Estes módulos são instalados virados um para o outro ao longo da distância a proteger, proporcionando uma zona de deteção invisível\n• Deteção: 50 a 200m \n• 4 canais de operação\n• Alimentação: 10 - 15 VDC\n• Função de desqualificação\n• Aquecimento incorporado\n• Possibilidade de montagem em pilar",null,null,{"$f":"IF(B48 =ISTEXT(qualquer), \"\", HYPERLINK(\"https://pt.firesecurityproducts.com/pt/search?q=\"&B48, \"Link Web\"))","v":""}]
[null,null,null,null,null,{"$f":"IF(B49 =ISTEXT(qualquer), \"\", HYPERLINK(\"https://pt.firesecurityproducts.com/pt/search?q=\"&B49, \"Link Web\"))","v":""}]
[null,null,null,null,null,{"$f":"IF(B50 =ISTEXT(qualquer), \"\", HYPERLINK(\"https://pt.firesecurityproducts.com/pt/search?q=\"&B50, \"Link Web\"))","v":""}]
[null,null,null,null,null,{"$f":"IF(B51 =ISTEXT(qualquer), \"\", HYPERLINK(\"https://pt.firesecurityproducts.com/pt/search?q=\"&B51, \"Link Web\"))","v":""}]
[null,null,null,null,null,{"$f":"IF(B52 =ISTEXT(qualquer), \"\", HYPERLINK(\"https://pt.firesecurityproducts.com/pt/search?q=\"&B52, \"Link Web\"))","v":""}]
[null,null,null,null,null,{"$f":"IF(B53 =ISTEXT(qualquer), \"\", HYPERLINK(\"https://pt.firesecurityproducts.com/pt/search?q=\"&B53, \"Link Web\"))","v":""}]
[null,null,null,null,null,{"$f":"IF(B54 =ISTEXT(qualquer), \"\", HYPERLINK(\"https://pt.firesecurityproducts.com/pt/search?q=\"&B54, \"Link Web\"))","v":""}]
[null,null,null,null,null,{"$f":"IF(B55 =ISTEXT(qualquer), \"\", HYPERLINK(\"https://pt.firesecurityproducts.com/pt/search?q=\"&B55, \"Link Web\"))","v":""}]
[]
[null,null,null,null,null,{"$f":"IF(B57 =ISTEXT(qualquer), \"\", HYPERLINK(\"https://pt.firesecurityproducts.com/pt/search?q=\"&B57, \"Link Web\"))","v":""}]
[null,null,null,null,null,{"$f":"IF(B58 =ISTEXT(qualquer), \"\", HYPERLINK(\"https://pt.firesecurityproducts.com/pt/search?q=\"&B58, \"Link Web\"))","v":""}]
[null,"50 m",null,null,"PVP",null,"Desconto","Preço Liquido"]
[null,"SB250-N",{"$f":"_xlfn.XLOOKUP($B60,Tabela!A:A,Tabela!C:C,\"não encontrado\")","v":"Mature"},"Infravermelho Ativo Linear de 2 beams infravermelhos - 50m exterior\nAlcance interior: 125 m - Dimensões:  280 x 84 x 113 mm",{"$f":"_xlfn.XLOOKUP($B60,Tabela!$A:$A,Tabela!$D:$D,\"não encontrado\")","v":527.37},{"$f":"IF(B60 =ISTEXT(qualquer), \"\", HYPERLINK(\"https://pt.firesecurityproducts.com/pt/search?q=\"&B60, \"Link Web\"))","v":"Link Web"},{"$f":"$G$2","v":0},{"$f":"IF(ISBLANK(G60),\"\",E60-(E60*$G60))","v":527.37}]
[null,"SB450-N",{"$f":"_xlfn.XLOOKUP($B61,Tabela!A:A,Tabela!C:C,\"não encontrado\")","v":"Mature"},"Infravermelho Ativo Linear de 4 beams infravermelhos - 50m exterior\nAlcance interior: 125 m - Dimensões: 390 x 84 x 113 mm",{"$f":"_xlfn.XLOOKUP($B61,Tabela!$A:$A,Tabela!$D:$D,\"não encontrado\")","v":814.45},{"$f":"IF(B61 =ISTEXT(qualquer), \"\", HYPERLINK(\"https://pt.firesecurityproducts.com/pt/search?q=\"&B61, \"Link Web\"))","v":"Link Web"},{"$f":"$G$2","v":0},{"$f":"IF(ISBLANK(G61),\"\",E61-(E61*$G61))","v":814.45}]
[null,null,null,null,null,{"$f":"IF(B62 =ISTEXT(qualquer), \"\", HYPERLINK(\"https://pt.firesecurityproducts.com/pt/search?q=\"&B62, \"Link Web\"))","v":""}]
[null,"100 m"]
[null,"SB2100-N",{"$f":"_xlfn.XLOOKUP($B64,Tabela!A:A,Tabela!C:C,\"não encontrado\")","v":"Mature"},"Infravermelho Ativo Linear de 2 beams infravermelhos - 100m exterior\nAlcance interior: 250 m - Dimensões: 280 x 84 x 113 mm",{"$f":"_xlfn.XLOOKUP($B64,Tabela!$A:$A,Tabela!$D:$D,\"não encontrado\")","v":592.91999999999996},{"$f":"IF(B64 =ISTEXT(qualquer), \"\", HYPERLINK(\"https://pt.firesecurityproducts.com/pt/search?q=\"&B64, \"Link Web\"))","v":"Link Web"},{"$f":"$G$2","v":0},{"$f":"IF(ISBLANK(G64),\"\",E64-(E64*$G64))","v":592.91999999999996}]
[null,"SB4100-N",{"$f":"_xlfn.XLOOKUP($B65,Tabela!A:A,Tabela!C:C,\"não encontrado\")","v":"Mature"},"Infravermelho Ativo Linear de 4 beams infravermelhos - 100m exterior\nAlcance interior: 250 m - Dimensões: 390 x 84 x 113 mm",{"$f":"_xlfn.XLOOKUP($B65,Tabela!$A:$A,Tabela!$D:$D,\"não encontrado\")","v":958.04},{"$f":"IF(B65 =ISTEXT(qualquer), \"\", HYPERLINK(\"https://pt.firesecurityproducts.com/pt/search?q=\"&B65, \"Link Web\"))","v":"Link Web"},{"$f":"$G$2","v":0},{"$f":"IF(ISBLANK(G65),\"\",E65-(E65*$G65))","v":958.04}]
[null,null,null,null,null,{"$f":"IF(B66 =ISTEXT(qualquer), \"\", HYPERLINK(\"https://pt.firesecurityproducts.com/pt/search?q=\"&B66, \"Link Web\"))","v":""}]
[null,"200 m"]
[null,"SB4200-N",{"$f":"_xlfn.XLOOKUP($B68,Tabela!A:A,Tabela!C:C,\"não encontrado\")","v":"Mature"},"Infravermelho Ativo Linear de 4 beams infravermelhos - 200m exterior\nAlcance interior: 500 m - Dimensões: 390 x 84 x 113 mm",{"$f":"_xlfn.XLOOKUP($B68,Tabela!$A:$A,Tabela!$D:$D,\"não encontrado\")","v":1120.31},{"$f":"IF(B68 =ISTEXT(qualquer), \"\", HYPERLINK(\"https://pt.firesecurityproducts.com/pt/search?q=\"&B68, \"Link Web\"))","v":"Link Web"},{"$f":"$G$2","v":0},{"$f":"IF(ISBLANK(G68),\"\",E68-(E68*$G68))","v":1120.31}]
[null,null,null,null,null,{"$f":"IF(B69 =ISTEXT(qualquer), \"\", HYPERLINK(\"https://pt.firesecurityproducts.com/pt/search?q=\"&B69, \"Link Web\"))","v":""}]
[null,"Pilares para montagem"]
[null,"SB15",{"$f":"_xlfn.XLOOKUP($B71,Tabela!A:A,Tabela!C:C,\"não encontrado\")","v":"Mature"},"Pilar em alumínio com switch de tamper - 1,5 m (unidade)",{"$f":"_xlfn.XLOOKUP($B71,Tabela!$A:$A,Tabela!$D:$D,\"não encontrado\")","v":605.38},{"$f":"IF(B71 =ISTEXT(qualquer), \"\", HYPERLINK(\"https://pt.firesecurityproducts.com/pt/search?q=\"&B71, \"Link Web\"))","v":"Link Web"},{"$f":"$G$2","v":0},{"$f":"IF(ISBLANK(G71),\"\",E71-(E71*$G71))","v":605.38}]
[null,"SB20",{"$f":"_xlfn.XLOOKUP($B72,Tabela!A:A,Tabela!C:C,\"não encontrado\")","v":"Mature"},"Pilar em alumínio com switch de tamper - 2 m (unidade)",{"$f":"_xlfn.XLOOKUP($B72,Tabela!$A:$A,Tabela!$D:$D,\"não encontrado\")","v":667.77},{"$f":"IF(B72 =ISTEXT(qualquer), \"\", HYPERLINK(\"https://pt.firesecurityproducts.com/pt/search?q=\"&B72, \"Link Web\"))","v":"Link Web"},{"$f":"$G$2","v":0},667.77]
[null,"SB25",{"$f":"_xlfn.XLOOKUP($B73,Tabela!A:A,Tabela!C:C,\"não encontrado\")","v":"Mature"},"Pilar em alumínio com switch de tamper - 2,5m (unidade)",{"$f":"_xlfn.XLOOKUP($B73,Tabela!$A:$A,Tabela!$D:$D,\"não encontrado\")","v":786.43},{"$f":"IF(B73 =ISTEXT(qualquer), \"\", HYPERLINK(\"https://pt.firesecurityproducts.com/pt/search?q=\"&B73, \"Link Web\"))","v":"Link Web"},{"$f":"$G$2","v":0},786.43]
[null,"SB30",{"$f":"_xlfn.XLOOKUP($B74,Tabela!A:A,Tabela!C:C,\"não encontrado\")","v":"Mature"},"Pilar em alumínio com switch de tamper - 3,5 m (unidade)",{"$f":"_xlfn.XLOOKUP($B74,Tabela!$A:$A,Tabela!$D:$D,\"não encontrado\")","v":948.64},{"$f":"IF(B74 =ISTEXT(qualquer), \"\", HYPERLINK(\"https://pt.firesecurityproducts.com/pt/search?q=\"&B74, \"Link Web\"))","v":"Link Web"},{"$f":"$G$2","v":0},948.64]
[null,null,null,null,null,{"$f":"IF(B75 =ISTEXT(qualquer), \"\", HYPERLINK(\"https://pt.firesecurityproducts.com/pt/search?q=\"&B75, \"Link Web\"))","v":""}]
[null,"Base Fixação de Pilar"]
[null,"SB53",{"$f":"_xlfn.XLOOKUP($B77,Tabela!A:A,Tabela!C:C,\"não encontrado\")","v":"Mature"},"Base para fixação de Pilar - 250 x 250 mm",{"$f":"_xlfn.XLOOKUP($B77,Tabela!$A:$A,Tabela!$D:$D,\"não encontrado\")","v":349.52},{"$f":"IF(B77 =ISTEXT(qualquer), \"\", HYPERLINK(\"https://pt.firesecurityproducts.com/pt/search?q=\"&B77, \"Link Web\"))","v":"Link Web"},{"$f":"$G$2","v":0},{"$f":"IF(ISBLANK(G77),\"\",E77-(E77*$G77))","v":349.52}]
[null,null,null,null,null,{"$f":"IF(B78 =ISTEXT(qualquer), \"\", HYPERLINK(\"https://pt.firesecurityproducts.com/pt/search?q=\"&B78, \"Link Web\"))","v":""}]
[null,"Anti Escalada"]
[null,"SB18",{"$f":"_xlfn.XLOOKUP($B80,Tabela!A:A,Tabela!C:C,\"não encontrado\")","v":"Mature"},"Detetor anti escalamento (unidade)",{"$f":"_xlfn.XLOOKUP($B80,Tabela!$A:$A,Tabela!$D:$D,\"não encontrado\")","v":649.07000000000005},{"$f":"IF(B80 =ISTEXT(qualquer), \"\", HYPERLINK(\"https://pt.firesecurityproducts.com/pt/search?q=\"&B80, \"Link Web\"))","v":"Link Web"},{"$f":"$G$2","v":0},{"$f":"IF(ISBLANK(G80),\"\",E80-(E80*$G80))","v":649.07000000000005}]
[null,"SB20",{"$f":"_xlfn.XLOOKUP($B81,Tabela!A:A,Tabela!C:C,\"não encontrado\")","v":"Mature"},"Pilar em alumínio com switch de tamper - 2 m (unidade)",{"$f":"_xlfn.XLOOKUP($B81,Tabela!$A:$A,Tabela!$D:$D,\"não encontrado\")","v":667.77},{"$f":"IF(B81 =ISTEXT(qualquer), \"\", HYPERLINK(\"https://pt.firesecurityproducts.com/pt/search?q=\"&B81, \"Link Web\"))","v":"Link Web"},{"$f":"$G$2","v":0},667.77]
[null,"SB25",{"$f":"_xlfn.XLOOKUP($B82,Tabela!A:A,Tabela!C:C,\"não encontrado\")","v":"Mature"},"Pilar em alumínio com switch de tamper - 2,5m (unidade)",{"$f":"_xlfn.XLOOKUP($B82,Tabela!$A:$A,Tabela!$D:$D,\"não encontrado\")","v":786.43},{"$f":"IF(B82 =ISTEXT(qualquer), \"\", HYPERLINK(\"https://pt.firesecurityproducts.com/pt/search?q=\"&B82, \"Link Web\"))","v":"Link Web"},{"$f":"$G$2","v":0},786.43]
[null,"SB30",{"$f":"_xlfn.XLOOKUP($B83,Tabela!A:A,Tabela!C:C,\"não encontrado\")","v":"Mature"},"Pilar em alumínio com switch de tamper - 3,5 m (unidade)",{"$f":"_xlfn.XLOOKUP($B83,Tabela!$A:$A,Tabela!$D:$D,\"não encontrado\")","v":948.64},{"$f":"IF(B83 =ISTEXT(qualquer), \"\", HYPERLINK(\"https://pt.firesecurityproducts.com/pt/search?q=\"&B83, \"Link Web\"))","v":"Link Web"},{"$f":"$G$2","v":0},948.64]
[null,null,null,null,null,{"$f":"IF(B84 =ISTEXT(qualquer), \"\", HYPERLINK(\"https://pt.firesecurityproducts.com/pt/search?q=\"&B84, \"Link Web\"))","v":""}]
[null,"Coberturas Substituição",null,null,"PVP",null,"Desconto","Preço Liquido"]
[null,"SB13",{"$f":"_xlfn.XLOOKUP($B86,Tabela!A:A,Tabela!C:C,\"não encontrado\")","v":"Mature"},"Cobertura de substituição para SB2xx - 1 unidade",{"$f":"_xlfn.XLOOKUP($B86,Tabela!$A:$A,Tabela!$D:$D,\"não encontrado\")","v":127.93},{"$f":"IF(B86 =ISTEXT(qualquer), \"\", HYPERLINK(\"https://pt.firesecurityproducts.com/pt/search?q=\"&B86, \"Link Web\"))","v":"Link Web"},{"$f":"$G$2","v":0},{"$f":"IF(ISBLANK(G86),\"\",E86-(E86*$G86))","v":127.93}]
[null,"SB14",{"$f":"_xlfn.XLOOKUP($B87,Tabela!A:A,Tabela!C:C,\"não encontrado\")","v":"Mature"},"Cobertura de substituição para SB4xx - 1 unidade",{"$f":"_xlfn.XLOOKUP($B87,Tabela!$A:$A,Tabela!$D:$D,\"não encontrado\")","v":154.57},{"$f":"IF(B87 =ISTEXT(qualquer), \"\", HYPERLINK(\"https://pt.firesecurityproducts.com/pt/search?q=\"&B87, \"Link Web\"))","v":"Link Web"},0,{"$f":"IF(ISBLANK(G87),\"\",E87-(E87*$G87))","v":154.57}]
[null,"SB17",{"$f":"_xlfn.XLOOKUP($B88,Tabela!A:A,Tabela!C:C,\"não encontrado\")","v":"Mature"},"Cobertura substituição para pilar 1.50m ",{"$f":"_xlfn.XLOOKUP($B88,Tabela!$A:$A,Tabela!$D:$D,\"não encontrado\")","v":362.03},{"$f":"IF(B88 =ISTEXT(qualquer), \"\", HYPERLINK(\"https://pt.firesecurityproducts.com/pt/search?q=\"&B88, \"Link Web\"))","v":"Link Web"},0,362.03]
[null,"SB22",{"$f":"_xlfn.XLOOKUP($B89,Tabela!A:A,Tabela!C:C,\"não encontrado\")","v":"Mature"},"Cobertura substituição para pilar 2m ",{"$f":"_xlfn.XLOOKUP($B89,Tabela!$A:$A,Tabela!$D:$D,\"não encontrado\")","v":380.68},{"$f":"IF(B89 =ISTEXT(qualquer), \"\", HYPERLINK(\"https://pt.firesecurityproducts.com/pt/search?q=\"&B89, \"Link Web\"))","v":"Link Web"},0,380.68]
[null,"SB27",{"$f":"_xlfn.XLOOKUP($B90,Tabela!A:A,Tabela!C:C,\"não encontrado\")","v":"Mature"},"Cobertura substituição para pilar 2.50m ",{"$f":"_xlfn.XLOOKUP($B90,Tabela!$A:$A,Tabela!$D:$D,\"não encontrado\")","v":471.2},{"$f":"IF(B90 =ISTEXT(qualquer), \"\", HYPERLINK(\"https://pt.firesecurityproducts.com/pt/search?q=\"&B90, \"Link Web\"))","v":"Link Web"},0,471.2]
[null,"SB32",{"$f":"_xlfn.XLOOKUP($B91,Tabela!A:A,Tabela!C:C,\"não encontrado\")","v":"Mature"},"Cobertura substituição para pilar 3.50m ",{"$f":"_xlfn.XLOOKUP($B91,Tabela!$A:$A,Tabela!$D:$D,\"não encontrado\")","v":555.46},{"$f":"IF(B91 =ISTEXT(qualquer), \"\", HYPERLINK(\"https://pt.firesecurityproducts.com/pt/search?q=\"&B91, \"Link Web\"))","v":"Link Web"},0,555.46]
[null,null,null,null,null,{"$f":"IF(B92 =ISTEXT(qualquer), \"\", HYPERLINK(\"https://pt.firesecurityproducts.com/pt/search?q=\"&B92, \"Link Web\"))","v":""}]
[null,"Kits 180º"]
[null,"SB16",{"$f":"_xlfn.XLOOKUP($B94,Tabela!A:A,Tabela!C:C,\"não encontrado\")","v":"não encontrado"},"Kit para 180º para pilar de 1,5m (unidade)",{"$f":"_xlfn.XLOOKUP($B94,Tabela!$A:$A,Tabela!$D:$D,\"não encontrado\")","v":"não encontrado"},{"$f":"IF(B94 =ISTEXT(qualquer), \"\", HYPERLINK(\"https://pt.firesecurityproducts.com/pt/search?q=\"&B94, \"Link Web\"))","v":"Link Web"},{"$f":"$G$2","v":0},{"$f":"IF(ISBLANK(G94),\"\",E94-(E94*$G94))","v":{"$error":"#VALUE!"}}]
[null,"SB21",{"$f":"_xlfn.XLOOKUP($B95,Tabela!A:A,Tabela!C:C,\"não encontrado\")","v":"Mature"},"Kit para 180º para pilar de 2m (unidade)",{"$f":"_xlfn.XLOOKUP($B95,Tabela!$A:$A,Tabela!$D:$D,\"não encontrado\")","v":474.34},{"$f":"IF(B95 =ISTEXT(qualquer), \"\", HYPERLINK(\"https://pt.firesecurityproducts.com/pt/search?q=\"&B95, \"Link Web\"))","v":"Link Web"},{"$f":"$G$2","v":0},474.34]
[null,"SB26",{"$f":"_xlfn.XLOOKUP($B96,Tabela!A:A,Tabela!C:C,\"não encontrado\")","v":"Mature"},"Kit para 180º para pilar de 2,5m (unidade)",{"$f":"_xlfn.XLOOKUP($B96,Tabela!$A:$A,Tabela!$D:$D,\"não encontrado\")","v":514.91},{"$f":"IF(B96 =ISTEXT(qualquer), \"\", HYPERLINK(\"https://pt.firesecurityproducts.com/pt/search?q=\"&B96, \"Link Web\"))","v":"Link Web"},{"$f":"$G$2","v":0},514.91]
[null,"SB31",{"$f":"_xlfn.XLOOKUP($B97,Tabela!A:A,Tabela!C:C,\"não encontrado\")","v":"Mature"},"Kit para 360º para pilar de 3m (unidade)",{"$f":"_xlfn.XLOOKUP($B97,Tabela!$A:$A,Tabela!$D:$D,\"não encontrado\")","v":615.17999999999995},{"$f":"IF(B97 =ISTEXT(qualquer), \"\", HYPERLINK(\"https://pt.firesecurityproducts.com/pt/search?q=\"&B97, \"Link Web\"))","v":"Link Web"},{"$f":"$G$2","v":0},615.17999999999995]
[null,null,null,null,null,{"$f":"IF(B98 =ISTEXT(qualquer), \"\", HYPERLINK(\"https://pt.firesecurityproducts.com/pt/search?q=\"&B98, \"Link Web\"))","v":""}]
[null,"Fonte Alimentação para Pilar"]
[null,"SB52",{"$f":"_xlfn.XLOOKUP($B100,Tabela!A:A,Tabela!C:C,\"não encontrado\")","v":"Mature"},"Fonte de alimentação 230 VAC - 12 VAC 1A & 12VDC 500mA\nCapacidade para bateria de backup 1.2Ah",{"$f":"_xlfn.XLOOKUP($B100,Tabela!$A:$A,Tabela!$D:$D,\"não encontrado\")","v":327.68},{"$f":"IF(B100 =ISTEXT(qualquer), \"\", HYPERLINK(\"https://pt.firesecurityproducts.com/pt/search?q=\"&B100, \"Link Web\"))","v":"Link Web"},{"$f":"$G$2","v":0},{"$f":"IF(ISBLANK(G100),\"\",E100-(E100*$G100))","v":327.68}]
[null,null,null,null,null,{"$f":"IF(B101 =ISTEXT(qualquer), \"\", HYPERLINK(\"https://pt.firesecurityproducts.com/pt/search?q=\"&B101, \"Link Web\"))","v":""}]
["Série PB",null,"Barreira de Infravermelhos Ativos ",null,null,{"$f":"IF(B102 =ISTEXT(qualquer), \"\", HYPERLINK(\"https://pt.firesecurityproducts.com/pt/search?q=\"&B102, \"Link Web\"))","v":""}]
[null,null,"As barreiras de infravermelhos ativos (AIR) da série PB é disponibilizada em versões de 2 e 4 beams. \nSão constituídos por dois módulos de detetores idênticos, equipados com células de deteção que integram funções de transmissão e receção. Estes módulos são instalados virados um para o outro ao longo da distância a proteger, proporcionando uma zona de deteção invisível.\n• Deteção exterior: 20 a 200m\n• 4 canais de operação\n• Alimentação: 10 - 15 VDC\n• Aquecimento incorporado  \n• Controlo AGC                                                                                          ",null,null,{"$f":"IF(B103 =ISTEXT(qualquer), \"\", HYPERLINK(\"https://pt.firesecurityproducts.com/pt/search?q=\"&B103, \"Link Web\"))","v":""}]
[null,null,null,null,null,{"$f":"IF(B104 =ISTEXT(qualquer), \"\", HYPERLINK(\"https://pt.firesecurityproducts.com/pt/search?q=\"&B104, \"Link Web\"))","v":""}]
[null,null,null,null,null,{"$f":"IF(B105 =ISTEXT(qualquer), \"\", HYPERLINK(\"https://pt.firesecurityproducts.com/pt/search?q=\"&B105, \"Link Web\"))","v":""}]
[null,null,null,null,null,{"$f":"IF(B106 =ISTEXT(qualquer), \"\", HYPERLINK(\"https://pt.firesecurityproducts.com/pt/search?q=\"&B106, \"Link Web\"))","v":""}]
[null,null,null,null,null,{"$f":"IF(B107 =ISTEXT(qualquer), \"\", HYPERLINK(\"https://pt.firesecurityproducts.com/pt/search?q=\"&B107, \"Link Web\"))","v":""}]
[]
[null,null,null,null,null,{"$f":"IF(B109 =ISTEXT(qualquer), \"\", HYPERLINK(\"https://pt.firesecurityproducts.com/pt/search?q=\"&B109, \"Link Web\"))","v":""}]
[null,null,null,null,null,{"$f":"IF(B110 =ISTEXT(qualquer), \"\", HYPERLINK(\"https://pt.firesecurityproducts.com/pt/search?q=\"&B110, \"Link Web\"))","v":""}]
[null,null,null,null,null,{"$f":"IF(B111 =ISTEXT(qualquer), \"\", HYPERLINK(\"https://pt.firesecurityproducts.com/pt/search?q=\"&B111, \"Link Web\"))","v":""}]
[null,null,null,null,null,{"$f":"IF(B112 =ISTEXT(qualquer), \"\", HYPERLINK(\"https://pt.firesecurityproducts.com/pt/search?q=\"&B112, \"Link Web\"))","v":""}]
[null,"2 Feixes",null,null,"PVP",null,"Desconto","Preço Liquido"]
[null,"PB501",{"$f":"_xlfn.XLOOKUP($B114,Tabela!A:A,Tabela!C:C,\"não encontrado\")","v":"Mature"},"Infravermelho Ativo Linear de 2 beams infravermelhos - 20m exterior\nAlcance interior: 40 m - Dimensões: 170 x 72 x 70 mm",{"$f":"_xlfn.XLOOKUP($B114,Tabela!$A:$A,Tabela!$D:$D,\"não encontrado\")","v":344.63},{"$f":"IF(B114 =ISTEXT(qualquer), \"\", HYPERLINK(\"https://pt.firesecurityproducts.com/pt/search?q=\"&B114, \"Link Web\"))","v":"Link Web"},{"$f":"$G$2","v":0},{"$f":"IF(ISBLANK(G114),\"\",E114-(E114*$G114))","v":344.63}]
[null,"PB511",{"$f":"_xlfn.XLOOKUP($B115,Tabela!A:A,Tabela!C:C,\"não encontrado\")","v":"Mature"},"Infravermelho Ativo Linear de 2 beams infravermelhos - 40m exterior\nAlcance interior: 80 m - Dimensões: 170 x 72 x 72 mm",{"$f":"_xlfn.XLOOKUP($B115,Tabela!$A:$A,Tabela!$D:$D,\"não encontrado\")","v":366.21},{"$f":"IF(B115 =ISTEXT(qualquer), \"\", HYPERLINK(\"https://pt.firesecurityproducts.com/pt/search?q=\"&B115, \"Link Web\"))","v":"Link Web"},{"$f":"$G$2","v":0},366.21]
[null,"PB521",{"$f":"_xlfn.XLOOKUP($B116,Tabela!A:A,Tabela!C:C,\"não encontrado\")","v":"Mature"},"Infravermelho Ativo Linear de 2 beams infravermelhos - 60m exterior\nAlcance interior: 120 m - Dimensões: 170 x 72 x 72 mm",{"$f":"_xlfn.XLOOKUP($B116,Tabela!$A:$A,Tabela!$D:$D,\"não encontrado\")","v":393.51},{"$f":"IF(B116 =ISTEXT(qualquer), \"\", HYPERLINK(\"https://pt.firesecurityproducts.com/pt/search?q=\"&B116, \"Link Web\"))","v":"Link Web"},{"$f":"$G$2","v":0},393.51]
[null,null,null,null,null,{"$f":"IF(B117 =ISTEXT(qualquer), \"\", HYPERLINK(\"https://pt.firesecurityproducts.com/pt/search?q=\"&B117, \"Link Web\"))","v":""}]
[null,"4 Feixes"]
[null,"PB601",{"$f":"_xlfn.XLOOKUP($B119,Tabela!A:A,Tabela!C:C,\"não encontrado\")","v":"Mature"},"Infravermelho Ativo Linear de 4 beams infravermelhos - 50m exterior\nDimensões: 390 x 104 x 98 mm",{"$f":"_xlfn.XLOOKUP($B119,Tabela!$A:$A,Tabela!$D:$D,\"não encontrado\")","v":594.12},{"$f":"IF(B119 =ISTEXT(qualquer), \"\", HYPERLINK(\"https://pt.firesecurityproducts.com/pt/search?q=\"&B119, \"Link Web\"))","v":"Link Web"},{"$f":"$G$2","v":0},{"$f":"IF(ISBLANK(G119),\"\",E119-(E119*$G119))","v":594.12}]
[null,"PB611",{"$f":"_xlfn.XLOOKUP($B120,Tabela!A:A,Tabela!C:C,\"não encontrado\")","v":"Mature"},"Infravermelho Ativo Linear de 4 beams infravermelhos - 100m exterior\nDimensões: 390 x 104 x 98 mm",{"$f":"_xlfn.XLOOKUP($B120,Tabela!$A:$A,Tabela!$D:$D,\"não encontrado\")","v":666.16},{"$f":"IF(B120 =ISTEXT(qualquer), \"\", HYPERLINK(\"https://pt.firesecurityproducts.com/pt/search?q=\"&B120, \"Link Web\"))","v":"Link Web"},{"$f":"$G$2","v":0},666.16]
[null,"PB621",{"$f":"_xlfn.XLOOKUP($B121,Tabela!A:A,Tabela!C:C,\"não encontrado\")","v":"Mature"},"Infravermelho Ativo Linear de 4 beams infravermelhos - 200m exterior\nDimensões: 390 x 104 x 98 mm",{"$f":"_xlfn.XLOOKUP($B121,Tabela!$A:$A,Tabela!$D:$D,\"não encontrado\")","v":758.17},{"$f":"IF(B121 =ISTEXT(qualquer), \"\", HYPERLINK(\"https://pt.firesecurityproducts.com/pt/search?q=\"&B121, \"Link Web\"))","v":"Link Web"},{"$f":"$G$2","v":0},758.17]
[null,null,null,null,null,{"$f":"IF(B122 =ISTEXT(qualquer), \"\", HYPERLINK(\"https://pt.firesecurityproducts.com/pt/search?q=\"&B122, \"Link Web\"))","v":""}]
[null,"4 Feixes Para Pilar"]
[null,"PB611M",{"$f":"_xlfn.XLOOKUP($B124,Tabela!A:A,Tabela!C:C,\"não encontrado\")","v":"Mature"},"Infravermelho Ativo Linear de 4 beams infravermelhos - 100m - Sem Caixa",{"$f":"_xlfn.XLOOKUP($B124,Tabela!$A:$A,Tabela!$D:$D,\"não encontrado\")","v":633.28},{"$f":"IF(B124 =ISTEXT(qualquer), \"\", HYPERLINK(\"https://pt.firesecurityproducts.com/pt/search?q=\"&B124, \"Link Web\"))","v":"Link Web"},{"$f":"$G$2","v":0},{"$f":"IF(ISBLANK(G124),\"\",E124-(E124*$G124))","v":633.28}]
[null,"PB621",{"$f":"_xlfn.XLOOKUP($B125,Tabela!A:A,Tabela!C:C,\"não encontrado\")","v":"Mature"},"Infravermelho Ativo Linear de 4 beams infravermelhos - 200m exterior\nDimensões: 390 x 104 x 98 mm",{"$f":"_xlfn.XLOOKUP($B125,Tabela!$A:$A,Tabela!$D:$D,\"não encontrado\")","v":758.17},{"$f":"IF(B125 =ISTEXT(qualquer), \"\", HYPERLINK(\"https://pt.firesecurityproducts.com/pt/search?q=\"&B125, \"Link Web\"))","v":"Link Web"},{"$f":"$G$2","v":0},{"$f":"IF(ISBLANK(G125),\"\",E125-(E125*$G125))","v":758.17}]
[null,null,null,null,null,{"$f":"IF(B126 =ISTEXT(qualquer), \"\", HYPERLINK(\"https://pt.firesecurityproducts.com/pt/search?q=\"&B126, \"Link Web\"))","v":""}]
[null,"Pilares para montagem 1 Lado",null,null,"PVP",null,"Desconto","Preço Liquido"]
[null,"PB10",{"$f":"_xlfn.XLOOKUP($B128,Tabela!A:A,Tabela!C:C,\"não encontrado\")","v":"Mature"},"Pilar 1m - 180º\nInclui kit instalação",{"$f":"_xlfn.XLOOKUP($B128,Tabela!$A:$A,Tabela!$D:$D,\"não encontrado\")","v":368.84},{"$f":"IF(B128 =ISTEXT(qualquer), \"\", HYPERLINK(\"https://pt.firesecurityproducts.com/pt/search?q=\"&B128, \"Link Web\"))","v":"Link Web"},{"$f":"$G$2","v":0},{"$f":"IF(ISBLANK(G128),\"\",E128-(E128*$G128))","v":368.84}]
[null,"PB15",{"$f":"_xlfn.XLOOKUP($B129,Tabela!A:A,Tabela!C:C,\"não encontrado\")","v":"Mature"},"Pilar 1,5m - 180º\nInclui kit instalação",{"$f":"_xlfn.XLOOKUP($B129,Tabela!$A:$A,Tabela!$D:$D,\"não encontrado\")","v":494.68},{"$f":"IF(B129 =ISTEXT(qualquer), \"\", HYPERLINK(\"https://pt.firesecurityproducts.com/pt/search?q=\"&B129, \"Link Web\"))","v":"Link Web"},{"$f":"$G$2","v":0},494.68]
[null,"PB20",{"$f":"_xlfn.XLOOKUP($B130,Tabela!A:A,Tabela!C:C,\"não encontrado\")","v":"Mature"},"Pilar 2m - 180º\nInclui kit instalação",{"$f":"_xlfn.XLOOKUP($B130,Tabela!$A:$A,Tabela!$D:$D,\"não encontrado\")","v":629.07000000000005},{"$f":"IF(B130 =ISTEXT(qualquer), \"\", HYPERLINK(\"https://pt.firesecurityproducts.com/pt/search?q=\"&B130, \"Link Web\"))","v":"Link Web"},{"$f":"$G$2","v":0},629.07000000000005]
[null,"PB30",{"$f":"_xlfn.XLOOKUP($B131,Tabela!A:A,Tabela!C:C,\"não encontrado\")","v":"Mature"},"Pilar 3m - 180º\nInclui kit instalação",{"$f":"_xlfn.XLOOKUP($B131,Tabela!$A:$A,Tabela!$D:$D,\"não encontrado\")","v":913.27},{"$f":"IF(B131 =ISTEXT(qualquer), \"\", HYPERLINK(\"https://pt.firesecurityproducts.com/pt/search?q=\"&B131, \"Link Web\"))","v":"Link Web"},{"$f":"$G$2","v":0},913.27]
[null,null,null,null,null,{"$f":"IF(B132 =ISTEXT(qualquer), \"\", HYPERLINK(\"https://pt.firesecurityproducts.com/pt/search?q=\"&B132, \"Link Web\"))","v":""}]
[null,"Pilares para montagem 2 Lados"]
[null,"PB21",{"$f":"_xlfn.XLOOKUP($B134,Tabela!A:A,Tabela!C:C,\"não encontrado\")","v":"Mature"},"Pilar 2m - 360º\nInclui kit instalação",{"$f":"_xlfn.XLOOKUP($B134,Tabela!$A:$A,Tabela!$D:$D,\"não encontrado\")","v":866.46},{"$f":"IF(B134 =ISTEXT(qualquer), \"\", HYPERLINK(\"https://pt.firesecurityproducts.com/pt/search?q=\"&B134, \"Link Web\"))","v":"Link Web"},{"$f":"$G$2","v":0},{"$f":"IF(ISBLANK(G134),\"\",E134-(E134*$G134))","v":866.46}]
[null,"PB30",{"$f":"_xlfn.XLOOKUP($B135,Tabela!A:A,Tabela!C:C,\"não encontrado\")","v":"Mature"},"Pilar 3m - 360º\nInclui kit instalação",{"$f":"_xlfn.XLOOKUP($B135,Tabela!$A:$A,Tabela!$D:$D,\"não encontrado\")","v":913.27},{"$f":"IF(B135 =ISTEXT(qualquer), \"\", HYPERLINK(\"https://pt.firesecurityproducts.com/pt/search?q=\"&B135, \"Link Web\"))","v":"Link Web"},{"$f":"$G$2","v":0},913.27]
[null,null,null,null,null,{"$f":"IF(B136 =ISTEXT(qualquer), \"\", HYPERLINK(\"https://pt.firesecurityproducts.com/pt/search?q=\"&B136, \"Link Web\"))","v":""}]
[null,"Proteção Anti Escalada"]
[null,"PB50-AC180",{"$f":"_xlfn.XLOOKUP($B138,Tabela!A:A,Tabela!C:C,\"não encontrado\")","v":"Mature"},"Proteção Tamper anti escalada para Pilares 180º",{"$f":"_xlfn.XLOOKUP($B138,Tabela!$A:$A,Tabela!$D:$D,\"não encontrado\")","v":76.09},{"$f":"IF(B138 =ISTEXT(qualquer), \"\", HYPERLINK(\"https://pt.firesecurityproducts.com/pt/search?q=\"&B138, \"Link Web\"))","v":"Link Web"},{"$f":"$G$2","v":0},{"$f":"IF(ISBLANK(G138),\"\",E138-(E138*$G138))","v":76.09}]
[null,null,null,null,null,{"$f":"IF(B139 =ISTEXT(qualquer), \"\", HYPERLINK(\"https://pt.firesecurityproducts.com/pt/search?q=\"&B139, \"Link Web\"))","v":""}]
[null,"Fixação"]
[null,"PB50-WB",{"$f":"_xlfn.XLOOKUP($B141,Tabela!A:A,Tabela!C:C,\"não encontrado\")","v":"Mature"},"Suporte de parede para Pilares 180º",{"$f":"_xlfn.XLOOKUP($B141,Tabela!$A:$A,Tabela!$D:$D,\"não encontrado\")","v":70.25},{"$f":"IF(B141 =ISTEXT(qualquer), \"\", HYPERLINK(\"https://pt.firesecurityproducts.com/pt/search?q=\"&B141, \"Link Web\"))","v":"Link Web"},{"$f":"$G$2","v":0},{"$f":"IF(ISBLANK(G141),\"\",E141-(E141*$G141))","v":70.25}]
[null,null,null,null,null,{"$f":"IF(B142 =ISTEXT(qualquer), \"\", HYPERLINK(\"https://pt.firesecurityproducts.com/pt/search?q=\"&B142, \"Link Web\"))","v":""}]
[null,"Aquecimento"]
[null,"PB103",{"$f":"_xlfn.XLOOKUP($B144,Tabela!A:A,Tabela!C:C,\"não encontrado\")","v":"Mature"},"Aquecimento com termostato para a série PB5xx e PB6xx\nConjunto para TX e RX",{"$f":"_xlfn.XLOOKUP($B144,Tabela!$A:$A,Tabela!$D:$D,\"não encontrado\")","v":212.2},{"$f":"IF(B144 =ISTEXT(qualquer), \"\", HYPERLINK(\"https://pt.firesecurityproducts.com/pt/search?q=\"&B144, \"Link Web\"))","v":"Link Web"},{"$f":"$G$2","v":0},{"$f":"IF(ISBLANK(G144),\"\",E144-(E144*$G144))","v":212.2}]
[null,null,null,null,null,{"$f":"IF(B145 =ISTEXT(qualquer), \"\", HYPERLINK(\"https://pt.firesecurityproducts.com/pt/search?q=\"&B145, \"Link Web\"))","v":""}]
["Série DF",null,"Proteção de Rede",null,null,{"$f":"IF(B146 =ISTEXT(qualquer), \"\", HYPERLINK(\"https://pt.firesecurityproducts.com/pt/search?q=\"&B146, \"Link Web\"))","v":""}]
[null,null,"O processador FlexZone, possibilita o alarme antecipado de intrusões indesejadas no perímetro e é facilmente instalado na maioria das vedações, ligando o seu cabo sensor leve ao tecido da vedação com braçadeiras de cabo.\n• Processamento Avançado de Sinal Digital (DSP) permite uma grande flexibilidade de instalação ao permitir que o FlexZone se adapte a uma ampla variedade de tipos de redes.\n• Requisitos de infraestrutura simples, pois permite o transporte de dados e energia através do cabo sensor\n• Baixa taxa de falsos alarmes através de analise de perturbações ambientais localizadas e distribuídas\n• Fácil de instalar e manter\n• Caixa em Alumínio NEMA.\n• Até 600m cabo (2 entradas)",null,null,{"$f":"IF(B147 =ISTEXT(qualquer), \"\", HYPERLINK(\"https://pt.firesecurityproducts.com/pt/search?q=\"&B147, \"Link Web\"))","v":""}]
[null,null,null,null,null,{"$f":"IF(B148 =ISTEXT(qualquer), \"\", HYPERLINK(\"https://pt.firesecurityproducts.com/pt/search?q=\"&B148, \"Link Web\"))","v":""}]
[null,null,null,null,null,{"$f":"IF(B149 =ISTEXT(qualquer), \"\", HYPERLINK(\"https://pt.firesecurityproducts.com/pt/search?q=\"&B149, \"Link Web\"))","v":""}]
[null,null,null,null,null,{"$f":"IF(B150 =ISTEXT(qualquer), \"\", HYPERLINK(\"https://pt.firesecurityproducts.com/pt/search?q=\"&B150, \"Link Web\"))","v":""}]
[null,null,null,null,null,{"$f":"IF(B151 =ISTEXT(qualquer), \"\", HYPERLINK(\"https://pt.firesecurityproducts.com/pt/search?q=\"&B151, \"Link Web\"))","v":""}]
[null,null,null,null,null,{"$f":"IF(B152 =ISTEXT(qualquer), \"\", HYPERLINK(\"https://pt.firesecurityproducts.com/pt/search?q=\"&B152, \"Link Web\"))","v":""}]
[null,null,null,null,null,{"$f":"IF(B153 =ISTEXT(qualquer), \"\", HYPERLINK(\"https://pt.firesecurityproducts.com/pt/search?q=\"&B153, \"Link Web\"))","v":""}]
[null,null,null,null,null,{"$f":"IF(B154 =ISTEXT(qualquer), \"\", HYPERLINK(\"https://pt.firesecurityproducts.com/pt/search?q=\"&B154, \"Link Web\"))","v":""}]
[null,null,null,null,null,{"$f":"IF(B155 =ISTEXT(qualquer), \"\", HYPERLINK(\"https://pt.firesecurityproducts.com/pt/search?q=\"&B155, \"Link Web\"))","v":""}]
[null,null,null,null,"PVP",{"$f":"IF(B156 =ISTEXT(qualquer), \"\", HYPERLINK(\"https://pt.firesecurityproducts.com/pt/search?q=\"&B156, \"Link Web\"))","v":""},"Desconto","Preço Liquido"]
[null,"DF104",{"$f":"_xlfn.XLOOKUP($B157,Tabela!A:A,Tabela!C:C,\"não encontrado\")","v":"Mature"},"Processador FlexZone-4, até 600 metros,  4 zonas independentes.",{"$f":"_xlfn.XLOOKUP($B157,Tabela!$A:$A,Tabela!$D:$D,\"não encontrado\")","v":6208.45},{"$f":"IF(B157 =ISTEXT(qualquer), \"\", HYPERLINK(\"https://pt.firesecurityproducts.com/pt/search?q=\"&B157, \"Link Web\"))","v":"Link Web"},{"$f":"$G$2","v":0},{"$f":"IF(ISBLANK(G157),\"\",E157-(E157*$G157))","v":6208.45}]
[null,"DF160",{"$f":"_xlfn.XLOOKUP($B158,Tabela!A:A,Tabela!C:C,\"não encontrado\")","v":"Mature"},"Processador FlexZone-60. até 600 metros, 60 zonas independentes.",{"$f":"_xlfn.XLOOKUP($B158,Tabela!$A:$A,Tabela!$D:$D,\"não encontrado\")","v":8795.24},{"$f":"IF(B158 =ISTEXT(qualquer), \"\", HYPERLINK(\"https://pt.firesecurityproducts.com/pt/search?q=\"&B158, \"Link Web\"))","v":"Link Web"},{"$f":"$G$2","v":0},{"$f":"IF(ISBLANK(G158),\"\",E158-(E158*$G158))","v":8795.24}]
[null,null,null,null,null,{"$f":"IF(B159 =ISTEXT(qualquer), \"\", HYPERLINK(\"https://pt.firesecurityproducts.com/pt/search?q=\"&B159, \"Link Web\"))","v":""}]
[null,"Interfaces de Comunicação"]
[null,"DF955-U",{"$f":"_xlfn.XLOOKUP($B161,Tabela!A:A,Tabela!C:C,\"não encontrado\")","v":"Mature"},"Interface de comunicação em rede 'Silver Network'  (SNIU) - sem fonte de alimentação",{"$f":"_xlfn.XLOOKUP($B161,Tabela!$A:$A,Tabela!$D:$D,\"não encontrado\")","v":5902.25},{"$f":"IF(B161 =ISTEXT(qualquer), \"\", HYPERLINK(\"https://pt.firesecurityproducts.com/pt/search?q=\"&B161, \"Link Web\"))","v":"Link Web"},{"$f":"$G$2","v":0},{"$f":"IF(ISBLANK(G161),\"\",E161-(E161*$G161))","v":5902.25}]
[null,"DF955-C1",{"$f":"_xlfn.XLOOKUP($B162,Tabela!A:A,Tabela!C:C,\"não encontrado\")","v":"Mature"},"Interface de comunicação via  fibra multi modo (MMFO), rede de processadores",{"$f":"_xlfn.XLOOKUP($B162,Tabela!$A:$A,Tabela!$D:$D,\"não encontrado\")","v":1478.21},{"$f":"IF(B162 =ISTEXT(qualquer), \"\", HYPERLINK(\"https://pt.firesecurityproducts.com/pt/search?q=\"&B162, \"Link Web\"))","v":"Link Web"},0,1478.21]
[null,"DF955-C2",{"$f":"_xlfn.XLOOKUP($B163,Tabela!A:A,Tabela!C:C,\"não encontrado\")","v":"Mature"},"Carta comunicação via cobre EIA-422 , rede de processadores",{"$f":"_xlfn.XLOOKUP($B163,Tabela!$A:$A,Tabela!$D:$D,\"não encontrado\")","v":1552.11},{"$f":"IF(B163 =ISTEXT(qualquer), \"\", HYPERLINK(\"https://pt.firesecurityproducts.com/pt/search?q=\"&B163, \"Link Web\"))","v":"Link Web"},0,1552.11]
[null,"DF955-C3",{"$f":"_xlfn.XLOOKUP($B164,Tabela!A:A,Tabela!C:C,\"não encontrado\")","v":"Mature"},"Interface de comunicação via fibra mono modo (SMFO) , rede de processadores",{"$f":"_xlfn.XLOOKUP($B164,Tabela!$A:$A,Tabela!$D:$D,\"não encontrado\")","v":1552.11},{"$f":"IF(B164 =ISTEXT(qualquer), \"\", HYPERLINK(\"https://pt.firesecurityproducts.com/pt/search?q=\"&B164, \"Link Web\"))","v":"Link Web"},0,1552.11]
[null,"DF955-C4",{"$f":"_xlfn.XLOOKUP($B165,Tabela!A:A,Tabela!C:C,\"não encontrado\")","v":"Mature"},"Carta Ethernet, 10/100BASE-TX , RJ45, PoE, G2 Silver",{"$f":"_xlfn.XLOOKUP($B165,Tabela!$A:$A,Tabela!$D:$D,\"não encontrado\")","v":1552.11},{"$f":"IF(B165 =ISTEXT(qualquer), \"\", HYPERLINK(\"https://pt.firesecurityproducts.com/pt/search?q=\"&B165, \"Link Web\"))","v":"Link Web"},0,1552.11]
[null,"DF502",{"$f":"_xlfn.XLOOKUP($B166,Tabela!A:A,Tabela!C:C,\"não encontrado\")","v":"Mature"},"Mini Interface de rede 'Silver Network' – USB para RS-422 e fibra monomodo  – montagem em calha DIN",{"$f":"_xlfn.XLOOKUP($B166,Tabela!$A:$A,Tabela!$D:$D,\"não encontrado\")","v":1806.75},{"$f":"IF(B166 =ISTEXT(qualquer), \"\", HYPERLINK(\"https://pt.firesecurityproducts.com/pt/search?q=\"&B166, \"Link Web\"))","v":"Link Web"},0,1806.75]
[null,null,null,null,null,{"$f":"IF(B167 =ISTEXT(qualquer), \"\", HYPERLINK(\"https://pt.firesecurityproducts.com/pt/search?q=\"&B167, \"Link Web\"))","v":""}]
[null,"Interfaces I/O"]
[null,"DF400",{"$f":"_xlfn.XLOOKUP($B169,Tabela!A:A,Tabela!C:C,\"não encontrado\")","v":"Mature"},"Módulo processador UltraLink com 8 entradas e 8 relés. Montagem calha DIN",{"$f":"_xlfn.XLOOKUP($B169,Tabela!$A:$A,Tabela!$D:$D,\"não encontrado\")","v":2724.82},{"$f":"IF(B169 =ISTEXT(qualquer), \"\", HYPERLINK(\"https://pt.firesecurityproducts.com/pt/search?q=\"&B169, \"Link Web\"))","v":"Link Web"},{"$f":"$G$2","v":0},{"$f":"IF(ISBLANK(G169),\"\",E169-(E169*$G169))","v":2724.82}]
[null,"DF432",{"$f":"_xlfn.XLOOKUP($B170,Tabela!A:A,Tabela!C:C,\"não encontrado\")","v":"Mature"},"Módulo expansão UltraLink, 32 relés",{"$f":"_xlfn.XLOOKUP($B170,Tabela!$A:$A,Tabela!$D:$D,\"não encontrado\")","v":3120.64},{"$f":"IF(B170 =ISTEXT(qualquer), \"\", HYPERLINK(\"https://pt.firesecurityproducts.com/pt/search?q=\"&B170, \"Link Web\"))","v":"Link Web"},{"$f":"$G$2","v":0},3120.64]
[null,"DF205",{"$f":"_xlfn.XLOOKUP($B171,Tabela!A:A,Tabela!C:C,\"não encontrado\")","v":"Mature"},"Cabo de extensão ligação UltraLink, 58 cm",{"$f":"_xlfn.XLOOKUP($B171,Tabela!$A:$A,Tabela!$D:$D,\"não encontrado\")","v":172.51},{"$f":"IF(B171 =ISTEXT(qualquer), \"\", HYPERLINK(\"https://pt.firesecurityproducts.com/pt/search?q=\"&B171, \"Link Web\"))","v":"Link Web"},{"$f":"$G$2","v":0},172.51]
[null,null,null,null,null,{"$f":"IF(B172 =ISTEXT(qualquer), \"\", HYPERLINK(\"https://pt.firesecurityproducts.com/pt/search?q=\"&B172, \"Link Web\"))","v":""}]
[null,"Fonte Alimentação"]
[null,"DF648",{"$f":"_xlfn.XLOOKUP($B174,Tabela!A:A,Tabela!C:C,\"não encontrado\")","v":"Mature"},"Fonte de Alimentação para módulos I/O UltraLink. Montagem calha DIN\n 24 VDC, 40W, 85 – 264 VAC 47 – 64 Hz input, Relé DC OK",{"$f":"_xlfn.XLOOKUP($B174,Tabela!$A:$A,Tabela!$D:$D,\"não encontrado\")","v":362.18},{"$f":"IF(B174 =ISTEXT(qualquer), \"\", HYPERLINK(\"https://pt.firesecurityproducts.com/pt/search?q=\"&B174, \"Link Web\"))","v":"Link Web"},{"$f":"$G$2","v":0},{"$f":"IF(ISBLANK(G174),\"\",E174-(E174*$G174))","v":362.18}]
[null,null,null,null,null,{"$f":"IF(B175 =ISTEXT(qualquer), \"\", HYPERLINK(\"https://pt.firesecurityproducts.com/pt/search?q=\"&B175, \"Link Web\"))","v":""}]
[null,"Acessórios Controlo Portões",null,null,"PVP",null,"Desconto","Preço Liquido"]
[null,"DF410",{"$f":"_xlfn.XLOOKUP($B177,Tabela!A:A,Tabela!C:C,\"não encontrado\")","v":"Mature"},"Módulo sensor de portão, sem fios. Alimentação por bateria. Cor cinzento",{"$f":"_xlfn.XLOOKUP($B177,Tabela!$A:$A,Tabela!$D:$D,\"não encontrado\")","v":1552.11},{"$f":"IF(B177 =ISTEXT(qualquer), \"\", HYPERLINK(\"https://pt.firesecurityproducts.com/pt/search?q=\"&B177, \"Link Web\"))","v":"Link Web"},{"$f":"$G$2","v":0},{"$f":"IF(ISBLANK(G177),\"\",E177-(E177*$G177))","v":1552.11}]
[null,"DF955-C5",{"$f":"_xlfn.XLOOKUP($B178,Tabela!A:A,Tabela!C:C,\"não encontrado\")","v":"Mature"},"Cabo de extensão ligação UltraLink, 58 cm",{"$f":"_xlfn.XLOOKUP($B178,Tabela!$A:$A,Tabela!$D:$D,\"não encontrado\")","v":2463.69},{"$f":"IF(B178 =ISTEXT(qualquer), \"\", HYPERLINK(\"https://pt.firesecurityproducts.com/pt/search?q=\"&B178, \"Link Web\"))","v":"Link Web"},{"$f":"$G$2","v":0},2463.69]
[null,null,null,null,null,{"$f":"IF(B179 =ISTEXT(qualquer), \"\", HYPERLINK(\"https://pt.firesecurityproducts.com/pt/search?q=\"&B179, \"Link Web\"))","v":""}]
[null,"Cabos e Acessórios"]
[null,"DF215",{"$f":"_xlfn.XLOOKUP($B181,Tabela!A:A,Tabela!C:C,\"não encontrado\")","v":"Mature"},"Cabo sensor FlexZone - Bobine 150m",{"$f":"_xlfn.XLOOKUP($B181,Tabela!$A:$A,Tabela!$D:$D,\"não encontrado\")","v":3276.67},{"$f":"IF(B181 =ISTEXT(qualquer), \"\", HYPERLINK(\"https://pt.firesecurityproducts.com/pt/search?q=\"&B181, \"Link Web\"))","v":"Link Web"},{"$f":"$G$2","v":0},{"$f":"IF(ISBLANK(G181),\"\",E181-(E181*$G181))","v":3276.67}]
[null,"DF800",{"$f":"_xlfn.XLOOKUP($B182,Tabela!A:A,Tabela!C:C,\"não encontrado\")","v":"Mature"},"Kit de emenda de cabo FlexZone",{"$f":"_xlfn.XLOOKUP($B182,Tabela!$A:$A,Tabela!$D:$D,\"não encontrado\")","v":207},{"$f":"IF(B182 =ISTEXT(qualquer), \"\", HYPERLINK(\"https://pt.firesecurityproducts.com/pt/search?q=\"&B182, \"Link Web\"))","v":"Link Web"},{"$f":"$G$2","v":0},207]
[null,"DF801",{"$f":"_xlfn.XLOOKUP($B183,Tabela!A:A,Tabela!C:C,\"não encontrado\")","v":"Mature"},"Terminação de cabo FlexZone",{"$f":"_xlfn.XLOOKUP($B183,Tabela!$A:$A,Tabela!$D:$D,\"não encontrado\")","v":310.44},{"$f":"IF(B183 =ISTEXT(qualquer), \"\", HYPERLINK(\"https://pt.firesecurityproducts.com/pt/search?q=\"&B183, \"Link Web\"))","v":"Link Web"},{"$f":"$G$2","v":0},310.44]
[null,"DF860",{"$f":"_xlfn.XLOOKUP($B184,Tabela!A:A,Tabela!C:C,\"não encontrado\")","v":"Mature"},"Braçadeiras (1000 peças)",{"$f":"_xlfn.XLOOKUP($B184,Tabela!$A:$A,Tabela!$D:$D,\"não encontrado\")","v":275.99},{"$f":"IF(B184 =ISTEXT(qualquer), \"\", HYPERLINK(\"https://pt.firesecurityproducts.com/pt/search?q=\"&B184, \"Link Web\"))","v":"Link Web"},{"$f":"$G$2","v":0},275.99]
[null,null,null,null,null,{"$f":"IF(B185 =ISTEXT(qualquer), \"\", HYPERLINK(\"https://pt.firesecurityproducts.com/pt/search?q=\"&B185, \"Link Web\"))","v":""}]
[null,"Software Configuração"]
[null,"DF950-CM",{"$f":"_xlfn.XLOOKUP($B187,Tabela!A:A,Tabela!C:C,\"não encontrado\")","v":"Mature"},"Software UCM (Universal Configuration Module) Kit, Incluí cabo.",{"$f":"_xlfn.XLOOKUP($B187,Tabela!$A:$A,Tabela!$D:$D,\"não encontrado\")","v":310.44},{"$f":"IF(B187 =ISTEXT(qualquer), \"\", HYPERLINK(\"https://pt.firesecurityproducts.com/pt/search?q=\"&B187, \"Link Web\"))","v":"Link Web"},{"$f":"$G$2","v":0},{"$f":"IF(ISBLANK(G187),\"\",E187-(E187*$G187))","v":310.44}]
[null,null,null,null,null,{"$f":"IF(B188 =ISTEXT(qualquer), \"\", HYPERLINK(\"https://pt.firesecurityproducts.com/pt/search?q=\"&B188, \"Link Web\"))","v":""}]
[null,"Software Gestão"]
[null,"DF955-SW",{"$f":"_xlfn.XLOOKUP($B190,Tabela!A:A,Tabela!C:C,\"não encontrado\")","v":"Mature"},"Software de Gestão de Processadores em Rede",{"$f":"_xlfn.XLOOKUP($B190,Tabela!$A:$A,Tabela!$D:$D,\"não encontrado\")","v":2356.7399999999998},{"$f":"IF(B190 =ISTEXT(qualquer), \"\", HYPERLINK(\"https://pt.firesecurityproducts.com/pt/search?q=\"&B190, \"Link Web\"))","v":"Link Web"},{"$f":"$G$2","v":0},{"$f":"IF(ISBLANK(G190),\"\",E190-(E190*$G190))","v":2356.7399999999998}]

{"sheet":"Série Advanced + Everon","index":9,"n_rows":216,"n_cols":8,"rows_kept":216,"cut":false,"hidden":false,"merged":[[123,2,134,4],[0,2,2,3],[1,6,2,6],[5,2,23,4]]}
[null,null,"Centrais Intrusão"]
[null,null,null,null,null,null,0]
[]
[null,null,"Status",null,"PVP",null,"Desconto","Preço \nLiquido"]
["Everon"]
[null,null,"Novo painel de segurança integrado da Aritech™ coloca mais no núcleo da nossa gama de tecnologia de edifícios inteligentes - mais intuitivo, mais inovador e mais integrado.\n\n •  8 ou 16 entradas de zona na central (depende do modelo)\n •  Capacidade máxima de 48 a 1000 zonas (depende do modelo, cabladas, via radio ou mista)\n •  Expansão de entradas e saídas “plug in”\n •  Até 16 entradas de sensores de choque\n •  Até 64 áreas\n •  Até 65000 utilizadores\n •  EN50131 Grau de segurança da classe 3 / 2 Ambiental\n •  Porta USB para configuração local\n •  Multilingue - cada utilizador pode ter o seu próprio idioma\n •  Ligação Ethernet integrada 10/100Mb\n •  Reporte de Alarme por IP para a recetora OH-NETREC / opcional por GPRS)\n •  Configuração via Web browser \n •  Funcionamento com cloud \"UltraSync\"\n •  Conetores amovíveis e código de cores\n •  Retrocompatível com ATS Advanced\n •  Fonte de Alimentação inteligente"]
[]
[]
[]
[]
[]
[]
[]
[]
[]
[]
[]
[]
[]
[]
[]
[]
[]
[]
[]
[null,"Central de 8 a 48 Zonas",null,null,"PVP",null,"Desconto","Preço Liquido"]
[null,"EVN1700-MM",{"$f":"_xlfn.XLOOKUP($B27,Tabela!A:A,Tabela!C:C,\"não encontrado\")","v":"NPI"},"Painel de segurança Everon 1700, IP incorporado, EN grau 3, Web App, 8 a 48 zonas, 4 áreas, caixa metálica média, multilingue\nEN50131 Grau 3",{"$f":"_xlfn.XLOOKUP($B27,Tabela!$A:$A,Tabela!$D:$D,\"não encontrado\")","v":485.95},{"$f":"IF(B27 =ISTEXT(qualquer), \"\", HYPERLINK(\"https://pt.firesecurityproducts.com/pt/search?q=\"&B27, \"Link Web\"))","v":"Link Web"},{"$f":"$G$2","v":0},{"$f":"IF(ISBLANK(G27),\"\",E27-(E27*$G27))","v":485.95}]
[null,null,null,null,null,{"$f":"IF(B28 =ISTEXT(qualquer), \"\", HYPERLINK(\"https://pt.firesecurityproducts.com/pt/search?q=\"&B28, \"Link Web\"))","v":""}]
[null,"Central de 8 a 256 Zonas"]
[null,"EVN3700-MM",{"$f":"_xlfn.XLOOKUP($B30,Tabela!A:A,Tabela!C:C,\"não encontrado\")","v":"NPI"},"Painel de segurança Everon 3700, IP incorporado, EN grau 3, Web App, 8 a 256 zonas,16 áreas, caixa metálica média, multilingue\nEN50131 Grau 3",{"$f":"_xlfn.XLOOKUP($B30,Tabela!$A:$A,Tabela!$D:$D,\"não encontrado\")","v":853.47},{"$f":"IF(B30 =ISTEXT(qualquer), \"\", HYPERLINK(\"https://pt.firesecurityproducts.com/pt/search?q=\"&B30, \"Link Web\"))","v":"Link Web"},{"$f":"$G$2","v":0},{"$f":"IF(ISBLANK(G30),\"\",E30-(E30*$G30))","v":853.47}]
[]
[null,"Centrais de 16 a 1000 Zonas"]
[null,"EVN4700-MM",{"$f":"_xlfn.XLOOKUP($B33,Tabela!A:A,Tabela!C:C,\"não encontrado\")","v":"NPI"},"Painel de segurança Everon 4700, IP incorporado, EN grau 3, Web App, 16 a 1000 zonas, 64 áreas, caixa metálica média, multilingue\nEN50131 Grau 3",{"$f":"_xlfn.XLOOKUP($B33,Tabela!$A:$A,Tabela!$D:$D,\"não encontrado\")","v":1270.42},{"$f":"IF(B33 =ISTEXT(qualquer), \"\", HYPERLINK(\"https://pt.firesecurityproducts.com/pt/search?q=\"&B33, \"Link Web\"))","v":"Link Web"},{"$f":"$G$2","v":0},{"$f":"IF(ISBLANK(G33),\"\",E33-(E33*$G33))","v":1270.42}]
[null,"EVN4700-LM",{"$f":"_xlfn.XLOOKUP($B34,Tabela!A:A,Tabela!C:C,\"não encontrado\")","v":"NPI"},"Painel de segurança Everon 4700, IP incorporado, EN grau 3, Web App, 16 a 1000 zonas, 64 áreas, caixa metálica grande, multilingue\nEN50131 Grau 3",{"$f":"_xlfn.XLOOKUP($B34,Tabela!$A:$A,Tabela!$D:$D,\"não encontrado\")","v":1343.63},{"$f":"IF(B34 =ISTEXT(qualquer), \"\", HYPERLINK(\"https://pt.firesecurityproducts.com/pt/search?q=\"&B34, \"Link Web\"))","v":"Link Web"},{"$f":"$G$2","v":0},{"$f":"IF(ISBLANK(G34),\"\",E34-(E34*$G34))","v":1343.63}]
[]
["Everon",null,"Teclados e Leitores",null,null,{"$f":"IF(B36 =ISTEXT(qualquer), \"\", HYPERLINK(\"https://pt.firesecurityproducts.com/pt/search?q=\"&B36, \"Link Web\"))","v":""}]
[null,null,null,null,null,{"$f":"IF(B37 =ISTEXT(qualquer), \"\", HYPERLINK(\"https://pt.firesecurityproducts.com/pt/search?q=\"&B37, \"Link Web\"))","v":""}]
[null,"Teclados com Leitor Incorporado - Cartões Mifare"]
[null,"ATS1125",{"$f":"_xlfn.XLOOKUP($B39,Tabela!A:A,Tabela!C:C,\"não encontrado\")","v":"Mature"},"Teclado Everon com leitor Mifare (Desfire EV1/EV2/EV3) - Branco LCD Gráfico de grades dimensões (possibilidade de colocar logótipo da empresa) Compatível com cartões ATS145x. EN50131 Grau 3",{"$f":"_xlfn.XLOOKUP($B39,Tabela!$A:$A,Tabela!$D:$D,\"não encontrado\")","v":184.64},{"$f":"IF(B39 =ISTEXT(qualquer), \"\", HYPERLINK(\"https://pt.firesecurityproducts.com/pt/search?q=\"&B39, \"Link Web\"))","v":"Link Web"},{"$f":"$G$2","v":0},{"$f":"IF(ISBLANK(G39),\"\",E39-(E39*$G39))","v":184.64}]
[null,"ATS1125-B",{"$f":"_xlfn.XLOOKUP($B40,Tabela!A:A,Tabela!C:C,\"não encontrado\")","v":"Mature"},"Teclado Everon com leitor Mifare (Desfire EV1/EV2/EV3) - Preto LCD Gráfico de grades dimensões (possibilidade de colocar logótipo da empresa) Compatível com cartões ATS145x. EN50131 Grau 3",{"$f":"_xlfn.XLOOKUP($B40,Tabela!$A:$A,Tabela!$D:$D,\"não encontrado\")","v":206.84},{"$f":"IF(B40 =ISTEXT(qualquer), \"\", HYPERLINK(\"https://pt.firesecurityproducts.com/pt/search?q=\"&B40, \"Link Web\"))","v":"Link Web"},{"$f":"$G$2","v":0},{"$f":"IF(ISBLANK(G40),\"\",E40-(E40*$G40))","v":206.84}]
[null,"ATS1140",{"$f":"_xlfn.XLOOKUP($B41,Tabela!A:A,Tabela!C:C,\"não encontrado\")","v":"Mature"},"Teclado Touch de 7\" Everon com Mifare (Desfire EV1/EV2/EV3). EN50131 Grau 3",{"$f":"_xlfn.XLOOKUP($B41,Tabela!$A:$A,Tabela!$D:$D,\"não encontrado\")","v":543.58000000000004},{"$f":"IF(B41 =ISTEXT(qualquer), \"\", HYPERLINK(\"https://pt.firesecurityproducts.com/pt/search?q=\"&B41, \"Link Web\"))","v":"Link Web"},{"$f":"$G$2","v":0},{"$f":"IF(ISBLANK(G41),\"\",E41-(E41*$G41))","v":543.58000000000004}]
[null,null,null,null,null,{"$f":"IF(B42 =ISTEXT(qualquer), \"\", HYPERLINK(\"https://pt.firesecurityproducts.com/pt/search?q=\"&B42, \"Link Web\"))","v":""}]
["ATSx500",null,"Centrais Intrusão",null,null,{"$f":"IF(B43 =ISTEXT(qualquer), \"\", HYPERLINK(\"https://pt.firesecurityproducts.com/pt/search?q=\"&B43, \"Link Web\"))","v":""}]
[null,"Centrais de 8 a 32 Zonas",null,null,"PVP",null,"Desconto","Preço Liquido"]
[null,"ATS1500A-IP-LP",{"$f":"_xlfn.XLOOKUP($B45,Tabela!A:A,Tabela!C:C,\"não encontrado\")","v":"Mature"},"Central 8 a 48 Zonas",{"$f":"_xlfn.XLOOKUP($B45,Tabela!$A:$A,Tabela!$D:$D,\"não encontrado\")","v":558.41},{"$f":"IF(B45 =ISTEXT(qualquer), \"\", HYPERLINK(\"https://pt.firesecurityproducts.com/pt/search?q=\"&B45, \"Link Web\"))","v":"Link Web"},{"$f":"$G$2","v":0},{"$f":"IF(ISBLANK(G45),\"\",E45-(E45*$G45))","v":558.41}]
[null,"ATS1500A-IP-MM",{"$f":"_xlfn.XLOOKUP($B46,Tabela!A:A,Tabela!C:C,\"não encontrado\")","v":"Mature"},"Central 8 a 48 Zonas",{"$f":"_xlfn.XLOOKUP($B46,Tabela!$A:$A,Tabela!$D:$D,\"não encontrado\")","v":512.16},{"$f":"IF(B46 =ISTEXT(qualquer), \"\", HYPERLINK(\"https://pt.firesecurityproducts.com/pt/search?q=\"&B46, \"Link Web\"))","v":"Link Web"},{"$f":"$G$2","v":0},{"$f":"IF(ISBLANK(G46),\"\",E46-(E46*$G46))","v":512.16}]
[null,"ATS-MM-TK",{"$f":"_xlfn.XLOOKUP($B47,Tabela!A:A,Tabela!C:C,\"não encontrado\")","v":"Mature"},"Kit de Tamper de Caixa  para ATS1500A",{"$f":"_xlfn.XLOOKUP($B47,Tabela!$A:$A,Tabela!$D:$D,\"não encontrado\")","v":73.55},{"$f":"IF(B47 =ISTEXT(qualquer), \"\", HYPERLINK(\"https://pt.firesecurityproducts.com/pt/search?q=\"&B47, \"Link Web\"))","v":"Link Web"},{"$f":"$G$2","v":0},{"$f":"IF(ISBLANK(G47),\"\",E47-(E47*$G47))","v":73.55}]
[null,null,null,null,null,{"$f":"IF(B48 =ISTEXT(qualquer), \"\", HYPERLINK(\"https://pt.firesecurityproducts.com/pt/search?q=\"&B48, \"Link Web\"))","v":""}]
[null,"Centrais de 8 a 128 Zonas"]
[null,"ATS3500A-IP-MM",{"$f":"_xlfn.XLOOKUP($B50,Tabela!A:A,Tabela!C:C,\"não encontrado\")","v":"Mature"},"Central 8 a 128 zonas ",{"$f":"_xlfn.XLOOKUP($B50,Tabela!$A:$A,Tabela!$D:$D,\"não encontrado\")","v":860.83},{"$f":"IF(B50 =ISTEXT(qualquer), \"\", HYPERLINK(\"https://pt.firesecurityproducts.com/pt/search?q=\"&B50, \"Link Web\"))","v":"Link Web"},{"$f":"$G$2","v":0},{"$f":"IF(ISBLANK(G50),\"\",E50-(E50*$G50))","v":860.83}]
[null,null,null,null,null,{"$f":"IF(B51 =ISTEXT(qualquer), \"\", HYPERLINK(\"https://pt.firesecurityproducts.com/pt/search?q=\"&B51, \"Link Web\"))","v":""}]
[null,"Centrais de 8 a 512 Zonas"]
[null,"ATS4500A-IP-MM",{"$f":"_xlfn.XLOOKUP($B53,Tabela!A:A,Tabela!C:C,\"não encontrado\")","v":"Mature"},"Central 8 a 512 zonas",{"$f":"_xlfn.XLOOKUP($B53,Tabela!$A:$A,Tabela!$D:$D,\"não encontrado\")","v":1208.8900000000001},{"$f":"IF(B53 =ISTEXT(qualquer), \"\", HYPERLINK(\"https://pt.firesecurityproducts.com/pt/search?q=\"&B53, \"Link Web\"))","v":"Link Web"},{"$f":"$G$2","v":0},{"$f":"IF(ISBLANK(G53),\"\",E53-(E53*$G53))","v":1208.8900000000001}]
[null,"ATS4500A-IP-LM",{"$f":"_xlfn.XLOOKUP($B54,Tabela!A:A,Tabela!C:C,\"não encontrado\")","v":"Mature"},"Central 8 a 512 zonas",{"$f":"_xlfn.XLOOKUP($B54,Tabela!$A:$A,Tabela!$D:$D,\"não encontrado\")","v":1290.6300000000001},{"$f":"IF(B54 =ISTEXT(qualquer), \"\", HYPERLINK(\"https://pt.firesecurityproducts.com/pt/search?q=\"&B54, \"Link Web\"))","v":"Link Web"},{"$f":"$G$2","v":0},{"$f":"IF(ISBLANK(G54),\"\",E54-(E54*$G54))","v":1290.6300000000001}]
[null,"ATS670",{"$f":"_xlfn.XLOOKUP($B55,Tabela!A:A,Tabela!C:C,\"não encontrado\")","v":"Mature"},"Placa de expansão de segundo BUS RS485. Apenas para ATS4500A",{"$f":"_xlfn.XLOOKUP($B55,Tabela!$A:$A,Tabela!$D:$D,\"não encontrado\")","v":142.16999999999999},{"$f":"IF(B55 =ISTEXT(qualquer), \"\", HYPERLINK(\"https://pt.firesecurityproducts.com/pt/search?q=\"&B55, \"Link Web\"))","v":"Link Web"},{"$f":"$G$2","v":0},{"$f":"IF(ISBLANK(G55),\"\",E55-(E55*$G55))","v":142.16999999999999}]
[null,null,null,null,null,{"$f":"IF(B56 =ISTEXT(qualquer), \"\", HYPERLINK(\"https://pt.firesecurityproducts.com/pt/search?q=\"&B56, \"Link Web\"))","v":""}]
["Plugin",null,"Módulos para Centrais ATS",null,null,{"$f":"IF(B57 =ISTEXT(qualquer), \"\", HYPERLINK(\"https://pt.firesecurityproducts.com/pt/search?q=\"&B57, \"Link Web\"))","v":""}]
[null,null,null,null,null,{"$f":"IF(B58 =ISTEXT(qualquer), \"\", HYPERLINK(\"https://pt.firesecurityproducts.com/pt/search?q=\"&B58, \"Link Web\"))","v":""}]
[null,"Entradas e Saídas",null,null,"PVP",null,"Desconto","Preço Liquido"]
[null,"ATS608",{"$f":"_xlfn.XLOOKUP($B60,Tabela!A:A,Tabela!C:C,\"não encontrado\")","v":"Mature"},"Expansor \"plug in\" de 8 Zonas",{"$f":"_xlfn.XLOOKUP($B60,Tabela!$A:$A,Tabela!$D:$D,\"não encontrado\")","v":98.22},{"$f":"IF(B60 =ISTEXT(qualquer), \"\", HYPERLINK(\"https://pt.firesecurityproducts.com/pt/search?q=\"&B60, \"Link Web\"))","v":"Link Web"},{"$f":"$G$2","v":0},{"$f":"IF(ISBLANK(G60),\"\",E60-(E60*$G60))","v":98.22}]
[null,"ATS624",{"$f":"_xlfn.XLOOKUP($B61,Tabela!A:A,Tabela!C:C,\"não encontrado\")","v":"Mature"},"Expansor \"plug in\" 4 Saídas por relé",{"$f":"_xlfn.XLOOKUP($B61,Tabela!$A:$A,Tabela!$D:$D,\"não encontrado\")","v":114.94},{"$f":"IF(B61 =ISTEXT(qualquer), \"\", HYPERLINK(\"https://pt.firesecurityproducts.com/pt/search?q=\"&B61, \"Link Web\"))","v":"Link Web"},{"$f":"$G$2","v":0},{"$f":"IF(ISBLANK(G61),\"\",E61-(E61*$G61))","v":114.94}]
[null,"ATS626",{"$f":"_xlfn.XLOOKUP($B62,Tabela!A:A,Tabela!C:C,\"não encontrado\")","v":"Mature"},"Expansor \"plug in\" 16 Saídas \"Open Coletor\"",{"$f":"_xlfn.XLOOKUP($B62,Tabela!$A:$A,Tabela!$D:$D,\"não encontrado\")","v":111.55},{"$f":"IF(B62 =ISTEXT(qualquer), \"\", HYPERLINK(\"https://pt.firesecurityproducts.com/pt/search?q=\"&B62, \"Link Web\"))","v":"Link Web"},{"$f":"$G$2","v":0},{"$f":"IF(ISBLANK(G62),\"\",E62-(E62*$G62))","v":111.55}]
[null,null,null,null,null,{"$f":"IF(B63 =ISTEXT(qualquer), \"\", HYPERLINK(\"https://pt.firesecurityproducts.com/pt/search?q=\"&B63, \"Link Web\"))","v":""}]
[null,"Interface Linha Telefónica"]
[null,"ATS7700",{"$f":"_xlfn.XLOOKUP($B65,Tabela!A:A,Tabela!C:C,\"não encontrado\")","v":"Mature"},"Transmissor telefónico para ATSX500A",{"$f":"_xlfn.XLOOKUP($B65,Tabela!$A:$A,Tabela!$D:$D,\"não encontrado\")","v":114.81},{"$f":"IF(B65 =ISTEXT(qualquer), \"\", HYPERLINK(\"https://pt.firesecurityproducts.com/pt/search?q=\"&B65, \"Link Web\"))","v":"Link Web"},{"$f":"$G$2","v":0},{"$f":"IF(ISBLANK(G65),\"\",E65-(E65*$G65))","v":114.81}]
[null,null,null,null,null,{"$f":"IF(B66 =ISTEXT(qualquer), \"\", HYPERLINK(\"https://pt.firesecurityproducts.com/pt/search?q=\"&B66, \"Link Web\"))","v":""}]
[null,"Mensagens de Voz"]
[null,"ATS7200E",{"$f":"_xlfn.XLOOKUP($B68,Tabela!A:A,Tabela!C:C,\"não encontrado\")","v":"Mature"},"Módulo de Mensagens de Voz                                                                                                                \nPermite a gravação até 6 mensagens de alarme",{"$f":"_xlfn.XLOOKUP($B68,Tabela!$A:$A,Tabela!$D:$D,\"não encontrado\")","v":142.74},{"$f":"IF(B68 =ISTEXT(qualquer), \"\", HYPERLINK(\"https://pt.firesecurityproducts.com/pt/search?q=\"&B68, \"Link Web\"))","v":"Link Web"},{"$f":"$G$2","v":0},{"$f":"IF(ISBLANK(G68),\"\",E68-(E68*$G68))","v":142.74}]
[null,null,null,null,null,{"$f":"IF(B69 =ISTEXT(qualquer), \"\", HYPERLINK(\"https://pt.firesecurityproducts.com/pt/search?q=\"&B69, \"Link Web\"))","v":""}]
[null,"Interface Backup GSM"]
[null,"ATS7341",{"$f":"_xlfn.XLOOKUP($B71,Tabela!A:A,Tabela!C:C,\"não encontrado\")","v":"Mature"},"Módulo Backup 4G/3G/2G - ATSX500A / Everon\nComando e controlo via SMS, Upload e Download e controlo via App. Utiliza cartões Micro SIM",{"$f":"_xlfn.XLOOKUP($B71,Tabela!$A:$A,Tabela!$D:$D,\"não encontrado\")","v":384.11},{"$f":"IF(B71 =ISTEXT(qualquer), \"\", HYPERLINK(\"https://pt.firesecurityproducts.com/pt/search?q=\"&B71, \"Link Web\"))","v":"Link Web"},{"$f":"$G$2","v":0},{"$f":"IF(ISBLANK(G71),\"\",E71-(E71*$G71))","v":384.11}]
[null,"ATS7341-SIM",{"$f":"_xlfn.XLOOKUP($B72,Tabela!A:A,Tabela!C:C,\"não encontrado\")","v":"Mature"},"Módulo Backup 4G/3G/2G - ATSX500A / Everon\nComando e controlo via SMS, Upload e Download e controlo via App. Incorpora cartão Micro SIM para ligação via UltraSync",{"$f":"_xlfn.XLOOKUP($B72,Tabela!$A:$A,Tabela!$D:$D,\"não encontrado\")","v":316.93},{"$f":"IF(B72 =ISTEXT(qualquer), \"\", HYPERLINK(\"https://pt.firesecurityproducts.com/pt/search?q=\"&B72, \"Link Web\"))","v":"Link Web"},{"$f":"$G$2","v":0},{"$f":"IF(ISBLANK(G72),\"\",E72-(E72*$G72))","v":316.93}]
[null,"ANT-MLTB",{"$f":"_xlfn.XLOOKUP($B73,Tabela!A:A,Tabela!C:C,\"não encontrado\")","v":"Mature"},"Antena de alto ganho para ATS7340/41 - Cabo de 3m\nFrequências 698-960 / 170-2690 MHz",{"$f":"_xlfn.XLOOKUP($B73,Tabela!$A:$A,Tabela!$D:$D,\"não encontrado\")","v":110.1},{"$f":"IF(B73 =ISTEXT(qualquer), \"\", HYPERLINK(\"https://pt.firesecurityproducts.com/pt/search?q=\"&B73, \"Link Web\"))","v":"Link Web"},{"$f":"$G$2","v":0},{"$f":"IF(ISBLANK(G73),\"\",E73-(E73*$G73))","v":110.1}]
[null,null,null,null,null,{"$f":"IF(B74 =ISTEXT(qualquer), \"\", HYPERLINK(\"https://pt.firesecurityproducts.com/pt/search?q=\"&B74, \"Link Web\"))","v":""}]
["ATS Smart",null,"Teclados e Leitores",null,null,{"$f":"IF(B75 =ISTEXT(qualquer), \"\", HYPERLINK(\"https://pt.firesecurityproducts.com/pt/search?q=\"&B75, \"Link Web\"))","v":""}]
[null,null,null,null,null,{"$f":"IF(B76 =ISTEXT(qualquer), \"\", HYPERLINK(\"https://pt.firesecurityproducts.com/pt/search?q=\"&B76, \"Link Web\"))","v":""}]
[null,"Teclados com Leitor Incorporado - Cartões ATS Smart"]
[null,"ATS1110A-N",{"$f":"_xlfn.XLOOKUP($B78,Tabela!A:A,Tabela!C:C,\"não encontrado\")","v":"Mature"},"Teclado LCD 2x16 Carateres,  Indicação LED 16 Áreas                                         \nEN50131 Grau 3",{"$f":"_xlfn.XLOOKUP($B78,Tabela!$A:$A,Tabela!$D:$D,\"não encontrado\")","v":229.4},{"$f":"IF(B78 =ISTEXT(qualquer), \"\", HYPERLINK(\"https://pt.firesecurityproducts.com/pt/search?q=\"&B78, \"Link Web\"))","v":"Link Web"},{"$f":"$G$2","v":0},{"$f":"IF(ISBLANK(G78),\"\",E78-(E78*$G78))","v":229.4}]
[null,"ATS1115A-N",{"$f":"_xlfn.XLOOKUP($B79,Tabela!A:A,Tabela!C:C,\"não encontrado\")","v":"Mature"},"Teclado LCD 2 x 16 caracteres com Leitor de cartões, indicação LED 16 áreas  \nEN50131 Grau 3                                                                                                                 ",{"$f":"_xlfn.XLOOKUP($B79,Tabela!$A:$A,Tabela!$D:$D,\"não encontrado\")","v":293.88},{"$f":"IF(B79 =ISTEXT(qualquer), \"\", HYPERLINK(\"https://pt.firesecurityproducts.com/pt/search?q=\"&B79, \"Link Web\"))","v":"Link Web"},{"$f":"$G$2","v":0},{"$f":"IF(ISBLANK(G79),\"\",E79-(E79*$G79))","v":293.88}]
[null,"ATS1135",{"$f":"_xlfn.XLOOKUP($B80,Tabela!A:A,Tabela!C:C,\"não encontrado\")","v":"Mature"},"Teclado LCD 2 x 16 caracteres com indicação de áreas e Leitor de cartões \nEN50131 Grau 3",{"$f":"_xlfn.XLOOKUP($B80,Tabela!$A:$A,Tabela!$D:$D,\"não encontrado\")","v":165.67},{"$f":"IF(B80 =ISTEXT(qualquer), \"\", HYPERLINK(\"https://pt.firesecurityproducts.com/pt/search?q=\"&B80, \"Link Web\"))","v":"Link Web"},{"$f":"$G$2","v":0},{"$f":"IF(ISBLANK(G80),\"\",E80-(E80*$G80))","v":165.67}]
[null,null,null,null,null,{"$f":"IF(B81 =ISTEXT(qualquer), \"\", HYPERLINK(\"https://pt.firesecurityproducts.com/pt/search?q=\"&B81, \"Link Web\"))","v":""}]
[null,"Leitor - Cartões ATS Smart"]
[null,"ATS1190",{"$f":"_xlfn.XLOOKUP($B83,Tabela!A:A,Tabela!C:C,\"não encontrado\")","v":"Mature"},"Leitor de proximidade \"ATS Smart cards ( 2,5 m de cabo)\n(necessita do cartão de programação de endereços)",{"$f":"_xlfn.XLOOKUP($B83,Tabela!$A:$A,Tabela!$D:$D,\"não encontrado\")","v":332.63},{"$f":"IF(B83 =ISTEXT(qualquer), \"\", HYPERLINK(\"https://pt.firesecurityproducts.com/pt/search?q=\"&B83, \"Link Web\"))","v":"Link Web"},{"$f":"$G$2","v":0},{"$f":"IF(ISBLANK(G83),\"\",E83-(E83*$G83))","v":332.63}]
[null,"ATS1192",{"$f":"_xlfn.XLOOKUP($B84,Tabela!A:A,Tabela!C:C,\"não encontrado\")","v":"Mature"},"Leitor de proximidade \"Heavy duty\" ( 2,5 m de cabo)\n(necessita do cartão de programação de endereços)",{"$f":"_xlfn.XLOOKUP($B84,Tabela!$A:$A,Tabela!$D:$D,\"não encontrado\")","v":348.45},{"$f":"IF(B84 =ISTEXT(qualquer), \"\", HYPERLINK(\"https://pt.firesecurityproducts.com/pt/search?q=\"&B84, \"Link Web\"))","v":"Link Web"},{"$f":"$G$2","v":0},{"$f":"IF(ISBLANK(G84),\"\",E84-(E84*$G84))","v":348.45}]
[null,null,null,null,null,{"$f":"IF(B85 =ISTEXT(qualquer), \"\", HYPERLINK(\"https://pt.firesecurityproducts.com/pt/search?q=\"&B85, \"Link Web\"))","v":""}]
[null,"Teclado Com Leitor Incorporado para Exterior - Cartões ATS Smart "]
[null,"ATS1197",{"$f":"_xlfn.XLOOKUP($B87,Tabela!A:A,Tabela!C:C,\"não encontrado\")","v":"Mature"},"Leitor de Smart card & Teclado Pin\n(necessita do cartão de programação de endereços)",{"$f":"_xlfn.XLOOKUP($B87,Tabela!$A:$A,Tabela!$D:$D,\"não encontrado\")","v":474.78},{"$f":"IF(B87 =ISTEXT(qualquer), \"\", HYPERLINK(\"https://pt.firesecurityproducts.com/pt/search?q=\"&B87, \"Link Web\"))","v":"Link Web"},{"$f":"$G$2","v":0},{"$f":"IF(ISBLANK(G87),\"\",E87-(E87*$G87))","v":474.78}]
[null,null,null,null,null,{"$f":"IF(B88 =ISTEXT(qualquer), \"\", HYPERLINK(\"https://pt.firesecurityproducts.com/pt/search?q=\"&B88, \"Link Web\"))","v":""}]
[null,null,null,null,null,{"$f":"IF(B89 =ISTEXT(qualquer), \"\", HYPERLINK(\"https://pt.firesecurityproducts.com/pt/search?q=\"&B89, \"Link Web\"))","v":""}]
[null,"Interface para Leitores c/ Protocolo Wiegand"]
[null,"ATS1170",{"$f":"_xlfn.XLOOKUP($B91,Tabela!A:A,Tabela!C:C,\"não encontrado\")","v":"Mature"},"Interface para Leitor  Wiegand - ATS",{"$f":"_xlfn.XLOOKUP($B91,Tabela!$A:$A,Tabela!$D:$D,\"não encontrado\")","v":126.18},{"$f":"IF(B91 =ISTEXT(qualquer), \"\", HYPERLINK(\"https://pt.firesecurityproducts.com/pt/search?q=\"&B91, \"Link Web\"))","v":"Link Web"},{"$f":"$G$2","v":0},{"$f":"IF(ISBLANK(G91),\"\",E91-(E91*$G91))","v":126.18}]
[null,null,null,null,null,{"$f":"IF(B92 =ISTEXT(qualquer), \"\", HYPERLINK(\"https://pt.firesecurityproducts.com/pt/search?q=\"&B92, \"Link Web\"))","v":""}]
["ATS Mifare",null,"Teclados e Leitores - Comunicação Encriptada com a Central",null,null,{"$f":"IF(B93 =ISTEXT(qualquer), \"\", HYPERLINK(\"https://pt.firesecurityproducts.com/pt/search?q=\"&B93, \"Link Web\"))","v":""}]
[null,null,null,null,null,{"$f":"IF(B94 =ISTEXT(qualquer), \"\", HYPERLINK(\"https://pt.firesecurityproducts.com/pt/search?q=\"&B94, \"Link Web\"))","v":""}]
[null,"Teclado com Leitor Incorporado - Cartões Mifare",null,null,"PVP",null,"Desconto","Preço Liquido"]
[null,"ATS1136",{"$f":"_xlfn.XLOOKUP($B96,Tabela!A:A,Tabela!C:C,\"não encontrado\")","v":"Mature"},"Teclado LCD 2 x 16 caracteres e Leitor de cartões Mifare Desfire EV1/EV2\nEN50131 Grau 3",{"$f":"_xlfn.XLOOKUP($B96,Tabela!$A:$A,Tabela!$D:$D,\"não encontrado\")","v":173.66},{"$f":"IF(B96 =ISTEXT(qualquer), \"\", HYPERLINK(\"https://pt.firesecurityproducts.com/pt/search?q=\"&B96, \"Link Web\"))","v":"Link Web"},{"$f":"$G$2","v":0},{"$f":"IF(ISBLANK(G96),\"\",E96-(E96*$G96))","v":173.66}]
[null,null,null,null,null,{"$f":"IF(B97 =ISTEXT(qualquer), \"\", HYPERLINK(\"https://pt.firesecurityproducts.com/pt/search?q=\"&B97, \"Link Web\"))","v":""}]
[null,"Aplicação Exterior"]
[null,"ATS1180",{"$f":"_xlfn.XLOOKUP($B99,Tabela!A:A,Tabela!C:C,\"não encontrado\")","v":"Phase-out"},"Leitor Seguro MIFARE DesFire EV1/EV2 - IP67\nIncorpora saída OC para abertura de porta e entrada para botão RTE",{"$f":"_xlfn.XLOOKUP($B99,Tabela!$A:$A,Tabela!$D:$D,\"não encontrado\")","v":309.39},{"$f":"IF(B99 =ISTEXT(qualquer), \"\", HYPERLINK(\"https://pt.firesecurityproducts.com/pt/search?q=\"&B99, \"Link Web\"))","v":"Link Web"},{"$f":"$G$2","v":0},{"$f":"IF(ISBLANK(G99),\"\",E99-(E99*$G99))","v":309.39}]
[null,"ATS1181",{"$f":"_xlfn.XLOOKUP($B100,Tabela!A:A,Tabela!C:C,\"não encontrado\")","v":"Phase-out"},"Leitor Seguro MIFARE DesFire EV1/EV2 com PIN\nIncorpora saída OC para abertura de porta e entrada para botão RTE",{"$f":"_xlfn.XLOOKUP($B100,Tabela!$A:$A,Tabela!$D:$D,\"não encontrado\")","v":433.16},{"$f":"IF(B100 =ISTEXT(qualquer), \"\", HYPERLINK(\"https://pt.firesecurityproducts.com/pt/search?q=\"&B100, \"Link Web\"))","v":"Link Web"},0,433.16]
[null,"ATS1188",{"$f":"_xlfn.XLOOKUP($B101,Tabela!A:A,Tabela!C:C,\"não encontrado\")","v":"NPI"},"MIFARE READER - BLE -PIN - ATS LAN - STD FORMAT - EV3",{"$f":"_xlfn.XLOOKUP($B101,Tabela!$A:$A,Tabela!$D:$D,\"não encontrado\")","v":476.59},{"$f":"IF(B101 =ISTEXT(qualquer), \"\", HYPERLINK(\"https://pt.firesecurityproducts.com/pt/search?q=\"&B101, \"Link Web\"))","v":"Link Web"},0,476.59]
[null,"ATS1180M",{"$f":"_xlfn.XLOOKUP($B102,Tabela!A:A,Tabela!C:C,\"não encontrado\")","v":"Phase-out"},"Leitor Seguro MIFARE DesFire EV1/EV2 - IP67\nIncorpora saída OC para abertura de porta e entrada para botão RTE \nPreparado para credenciação móvel utilizando Bluetooth                                                                        ",{"$f":"_xlfn.XLOOKUP($B102,Tabela!$A:$A,Tabela!$D:$D,\"não encontrado\")","v":341.05},{"$f":"IF(B102 =ISTEXT(qualquer), \"\", HYPERLINK(\"https://pt.firesecurityproducts.com/pt/search?q=\"&B102, \"Link Web\"))","v":"Link Web"},0,341.05]
[null,"ATS1181M",{"$f":"_xlfn.XLOOKUP($B103,Tabela!A:A,Tabela!C:C,\"não encontrado\")","v":"Phase-out"},"Leitor Seguro MIFARE DesFire EV1/EV2 com PIN - IP67\nIncorpora saída OC para abertura de porta e entrada para botão RTE \nPreparado para credenciação móvel utilizando Bluetooth                                                                        ",{"$f":"_xlfn.XLOOKUP($B103,Tabela!$A:$A,Tabela!$D:$D,\"não encontrado\")","v":465.75},{"$f":"IF(B103 =ISTEXT(qualquer), \"\", HYPERLINK(\"https://pt.firesecurityproducts.com/pt/search?q=\"&B103, \"Link Web\"))","v":"Link Web"},0,465.75]
[]
[null,null,null,null,null,{"$f":"IF(B105 =ISTEXT(qualquer), \"\", HYPERLINK(\"https://pt.firesecurityproducts.com/pt/search?q=\"&B105, \"Link Web\"))","v":""}]
["DGP",null,"Expansores - Instalação no BUS",null,null,{"$f":"IF(B106 =ISTEXT(qualquer), \"\", HYPERLINK(\"https://pt.firesecurityproducts.com/pt/search?q=\"&B106, \"Link Web\"))","v":""}]
[null,null,null,null,null,{"$f":"IF(B107 =ISTEXT(qualquer), \"\", HYPERLINK(\"https://pt.firesecurityproducts.com/pt/search?q=\"&B107, \"Link Web\"))","v":""}]
[null,"Expansores Sem Fonte de Alimentação"]
[null,"ATS1210E",{"$f":"_xlfn.XLOOKUP($B109,Tabela!A:A,Tabela!C:C,\"não encontrado\")","v":"Mature"},"Expansor de 8 zonas com 8 outputs do tipo coletor aberto - Caixa Plástica\nEN50131 Grau 3",{"$f":"_xlfn.XLOOKUP($B109,Tabela!$A:$A,Tabela!$D:$D,\"não encontrado\")","v":188.91},{"$f":"IF(B109 =ISTEXT(qualquer), \"\", HYPERLINK(\"https://pt.firesecurityproducts.com/pt/search?q=\"&B109, \"Link Web\"))","v":"Link Web"},{"$f":"$G$2","v":0},{"$f":"IF(ISBLANK(G109),\"\",E109-(E109*$G109))","v":188.91}]
[null,"ATS1210LE",{"$f":"_xlfn.XLOOKUP($B110,Tabela!A:A,Tabela!C:C,\"não encontrado\")","v":"Mature"},"Expansor de 8 zonas com 8 outputs do tipo coletor aberto- Caixa Plástica Grande\nEN50131 Grau 3",{"$f":"_xlfn.XLOOKUP($B110,Tabela!$A:$A,Tabela!$D:$D,\"não encontrado\")","v":226.05},{"$f":"IF(B110 =ISTEXT(qualquer), \"\", HYPERLINK(\"https://pt.firesecurityproducts.com/pt/search?q=\"&B110, \"Link Web\"))","v":"Link Web"},{"$f":"$G$2","v":0},{"$f":"IF(ISBLANK(G110),\"\",E110-(E110*$G110))","v":226.05}]
[null,"ATS1211E",{"$f":"_xlfn.XLOOKUP($B111,Tabela!A:A,Tabela!C:C,\"não encontrado\")","v":"Mature"},"Expansor de 8 zonas com 8 outputs do tipo coletor aberto - Caixa Metálica \nEN50131 Grau 3",{"$f":"_xlfn.XLOOKUP($B111,Tabela!$A:$A,Tabela!$D:$D,\"não encontrado\")","v":285},{"$f":"IF(B111 =ISTEXT(qualquer), \"\", HYPERLINK(\"https://pt.firesecurityproducts.com/pt/search?q=\"&B111, \"Link Web\"))","v":"Link Web"},{"$f":"$G$2","v":0},{"$f":"IF(ISBLANK(G111),\"\",E111-(E111*$G111))","v":285}]
[null,null,null,null,null,{"$f":"IF(B112 =ISTEXT(qualquer), \"\", HYPERLINK(\"https://pt.firesecurityproducts.com/pt/search?q=\"&B112, \"Link Web\"))","v":""}]
[null,"Expansor Para Porta "]
[null,"ATS1226",{"$f":"_xlfn.XLOOKUP($B114,Tabela!A:A,Tabela!C:C,\"não encontrado\")","v":"Mature"},"Expansor Interligação de Porta com 4 zonas; 2 Relés; 6 saídas OC; Saída Isolada para leitor \nCaixa Plástica ",{"$f":"_xlfn.XLOOKUP($B114,Tabela!$A:$A,Tabela!$D:$D,\"não encontrado\")","v":422.06},{"$f":"IF(B114 =ISTEXT(qualquer), \"\", HYPERLINK(\"https://pt.firesecurityproducts.com/pt/search?q=\"&B114, \"Link Web\"))","v":"Link Web"},{"$f":"$G$2","v":0},{"$f":"IF(ISBLANK(G114),\"\",E114-(E114*$G114))","v":422.06}]
[null,null,null,null,null,{"$f":"IF(B115 =ISTEXT(qualquer), \"\", HYPERLINK(\"https://pt.firesecurityproducts.com/pt/search?q=\"&B115, \"Link Web\"))","v":""}]
[null,"Expansores Com Fonte de Alimentação"]
[null,"ATS1201E",{"$f":"_xlfn.XLOOKUP($B117,Tabela!A:A,Tabela!C:C,\"não encontrado\")","v":"Mature"},"Expansor de 8 - 32 zonas, 8 outputs e output sirene, com PSU 12V/3 A \nFornecido em caixa metálica 315x388x85 mm. EN50131 Grau 3",{"$f":"_xlfn.XLOOKUP($B117,Tabela!$A:$A,Tabela!$D:$D,\"não encontrado\")","v":429.13},{"$f":"IF(B117 =ISTEXT(qualquer), \"\", HYPERLINK(\"https://pt.firesecurityproducts.com/pt/search?q=\"&B117, \"Link Web\"))","v":"Link Web"},{"$f":"$G$2","v":0},{"$f":"IF(ISBLANK(G117),\"\",E117-(E117*$G117))","v":429.13}]
[null,"ATS1204E",{"$f":"_xlfn.XLOOKUP($B118,Tabela!A:A,Tabela!C:C,\"não encontrado\")","v":"Mature"},"Expansor de 8 - 32 zonas, 8 outputs e output sirene , com PSU 12V/3 A \nFornecido em caixa metálica 475x460x160 mm. EN50131 Grau 3",{"$f":"_xlfn.XLOOKUP($B118,Tabela!$A:$A,Tabela!$D:$D,\"não encontrado\")","v":669.28},{"$f":"IF(B118 =ISTEXT(qualquer), \"\", HYPERLINK(\"https://pt.firesecurityproducts.com/pt/search?q=\"&B118, \"Link Web\"))","v":"Link Web"},{"$f":"$G$2","v":0},{"$f":"IF(ISBLANK(G118),\"\",E118-(E118*$G118))","v":669.28}]
[null,"ATS1810",{"$f":"_xlfn.XLOOKUP($B119,Tabela!A:A,Tabela!C:C,\"não encontrado\")","v":"Mature"},"Carta de outputs com 4 relés para ATS120xE",{"$f":"_xlfn.XLOOKUP($B119,Tabela!$A:$A,Tabela!$D:$D,\"não encontrado\")","v":96.07},{"$f":"IF(B119 =ISTEXT(qualquer), \"\", HYPERLINK(\"https://pt.firesecurityproducts.com/pt/search?q=\"&B119, \"Link Web\"))","v":"Link Web"},{"$f":"$G$2","v":0},{"$f":"IF(ISBLANK(G119),\"\",E119-(E119*$G119))","v":96.07}]
[null,"ATS1811",{"$f":"_xlfn.XLOOKUP($B120,Tabela!A:A,Tabela!C:C,\"não encontrado\")","v":"Mature"},"Carta de 8 Relé, endereçável para ATS120xE",{"$f":"_xlfn.XLOOKUP($B120,Tabela!$A:$A,Tabela!$D:$D,\"não encontrado\")","v":182.54},{"$f":"IF(B120 =ISTEXT(qualquer), \"\", HYPERLINK(\"https://pt.firesecurityproducts.com/pt/search?q=\"&B120, \"Link Web\"))","v":"Link Web"},{"$f":"$G$2","v":0},{"$f":"IF(ISBLANK(G120),\"\",E120-(E120*$G120))","v":182.54}]
[null,"ATS1202",{"$f":"_xlfn.XLOOKUP($B121,Tabela!A:A,Tabela!C:C,\"não encontrado\")","v":"Mature"},"Expansor de 8 zonas \"Plug in\" para  ATS120xE",{"$f":"_xlfn.XLOOKUP($B121,Tabela!$A:$A,Tabela!$D:$D,\"não encontrado\")","v":86.48},{"$f":"IF(B121 =ISTEXT(qualquer), \"\", HYPERLINK(\"https://pt.firesecurityproducts.com/pt/search?q=\"&B121, \"Link Web\"))","v":"Link Web"},{"$f":"$G$2","v":0},{"$f":"IF(ISBLANK(G121),\"\",E121-(E121*$G121))","v":86.48}]
[null,null,null,null,null,{"$f":"IF(B122 =ISTEXT(qualquer), \"\", HYPERLINK(\"https://pt.firesecurityproducts.com/pt/search?q=\"&B122, \"Link Web\"))","v":""}]
["Controlo Acessos",null,"Controladores 4 a 8 Portas e Elevadores",null,null,{"$f":"IF(B123 =ISTEXT(qualquer), \"\", HYPERLINK(\"https://pt.firesecurityproducts.com/pt/search?q=\"&B123, \"Link Web\"))","v":""}]
[null,null,"Controlo em tempo real de alarme & acessos de 4-8 portas por controlador.\n • Base de dados completa para operação offline\n • Até 12 Controladores de porta CDC4 disponibilizando de 48 a 96 porta  inteligentes\n • Recursos completos de controlo de acesso: interbloqueio, contagem de utilizadores, utilizadores de alta segurança, anti-passback com regiões\n • Até 32 leitores por cada CDC4 e 6 por porta\n • Dois databus locais com protocolo configurável\n • Suporta leitores seguros, leitores OSDP e fechaduras wireless\n • Entradas incorporadas, relés de porta, ligação IP e opções de expansão\n • Operação em modo estendido: utilizadores de controlo de acesso geridos pelo Advisor Management\n • Anti-passback entre todos os controladores de porta em modo standard e ligado Advisor Advanced       \n •Disponível em  Versão com aprovação EN50131-3, EN50134-6 e NFa2p para utilização em sistemas de intrusão",null,null,{"$f":"IF(B124 =ISTEXT(qualquer), \"\", HYPERLINK(\"https://pt.firesecurityproducts.com/pt/search?q=\"&B124, \"Link Web\"))","v":""}]
[null,null,null,null,null,{"$f":"IF(B125 =ISTEXT(qualquer), \"\", HYPERLINK(\"https://pt.firesecurityproducts.com/pt/search?q=\"&B125, \"Link Web\"))","v":""}]
[null,null,null,null,null,{"$f":"IF(B126 =ISTEXT(qualquer), \"\", HYPERLINK(\"https://pt.firesecurityproducts.com/pt/search?q=\"&B126, \"Link Web\"))","v":""}]
[]
[]
[]
[]
[]
[null,null,null,null,null,{"$f":"IF(B132 =ISTEXT(qualquer), \"\", HYPERLINK(\"https://pt.firesecurityproducts.com/pt/search?q=\"&B132, \"Link Web\"))","v":""}]
[null,null,null,null,null,{"$f":"IF(B133 =ISTEXT(qualquer), \"\", HYPERLINK(\"https://pt.firesecurityproducts.com/pt/search?q=\"&B133, \"Link Web\"))","v":""}]
[null,null,null,null,null,{"$f":"IF(B134 =ISTEXT(qualquer), \"\", HYPERLINK(\"https://pt.firesecurityproducts.com/pt/search?q=\"&B134, \"Link Web\"))","v":""}]
[null,null,null,null,null,{"$f":"IF(B135 =ISTEXT(qualquer), \"\", HYPERLINK(\"https://pt.firesecurityproducts.com/pt/search?q=\"&B135, \"Link Web\"))","v":""}]
[null,null,null,null,null,{"$f":"IF(B136 =ISTEXT(qualquer), \"\", HYPERLINK(\"https://pt.firesecurityproducts.com/pt/search?q=\"&B136, \"Link Web\"))","v":""}]
[null,"Controladores",null,null,"PVP",null,"Desconto","Preço Liquido"]
[null,"CDC4",{"$f":"_xlfn.XLOOKUP($B138,Tabela!A:A,Tabela!C:C,\"não encontrado\")","v":"Mature"},"Controlador Inteligente para 4 a 8 portas, com fonte de alimentação",{"$f":"_xlfn.XLOOKUP($B138,Tabela!$A:$A,Tabela!$D:$D,\"não encontrado\")","v":1534.51},{"$f":"IF(B138 =ISTEXT(qualquer), \"\", HYPERLINK(\"https://pt.firesecurityproducts.com/pt/search?q=\"&B138, \"Link Web\"))","v":"Link Web"},{"$f":"$G$2","v":0},{"$f":"IF(ISBLANK(G138),\"\",E138-(E138*$G138))","v":1534.51}]
[null,"CDC4-EN",{"$f":"_xlfn.XLOOKUP($B139,Tabela!A:A,Tabela!C:C,\"não encontrado\")","v":"Mature"},"Controlador Inteligente para 4 a 8 portas/ elevadores, com fonte de alimentação  12V\n4 Entradas Wiegand. Aprovação EN50131-3, EN50131-6 e NFa2p para utilização em sistemas de intrusão",{"$f":"_xlfn.XLOOKUP($B139,Tabela!$A:$A,Tabela!$D:$D,\"não encontrado\")","v":1849.01},{"$f":"IF(B139 =ISTEXT(qualquer), \"\", HYPERLINK(\"https://pt.firesecurityproducts.com/pt/search?q=\"&B139, \"Link Web\"))","v":"Link Web"},{"$f":"$G$2","v":0},{"$f":"IF(ISBLANK(G139),\"\",E139-(E139*$G139))","v":1849.01}]
[null,null,null,null,null,{"$f":"IF(B140 =ISTEXT(qualquer), \"\", HYPERLINK(\"https://pt.firesecurityproducts.com/pt/search?q=\"&B140, \"Link Web\"))","v":""}]
[null,"Expansão para CDC4"]
[null,"CDC-2DWIF",{"$f":"_xlfn.XLOOKUP($B142,Tabela!A:A,Tabela!C:C,\"não encontrado\")","v":"Mature"},"DGP Wiegand de 2 portas, 2 relés e 4 zonas para CDC 4",{"$f":"_xlfn.XLOOKUP($B142,Tabela!$A:$A,Tabela!$D:$D,\"não encontrado\")","v":299.23},{"$f":"IF(B142 =ISTEXT(qualquer), \"\", HYPERLINK(\"https://pt.firesecurityproducts.com/pt/search?q=\"&B142, \"Link Web\"))","v":"Link Web"},{"$f":"$G$2","v":0},{"$f":"IF(ISBLANK(G142),\"\",E142-(E142*$G142))","v":299.23}]
[null,null,null,null,null,{"$f":"IF(B143 =ISTEXT(qualquer), \"\", HYPERLINK(\"https://pt.firesecurityproducts.com/pt/search?q=\"&B143, \"Link Web\"))","v":""}]
["BUS",null,"Interfaces e Proteção de BUS",null,null,{"$f":"IF(B144 =ISTEXT(qualquer), \"\", HYPERLINK(\"https://pt.firesecurityproducts.com/pt/search?q=\"&B144, \"Link Web\"))","v":""}]
[null,null,null,null,null,{"$f":"IF(B145 =ISTEXT(qualquer), \"\", HYPERLINK(\"https://pt.firesecurityproducts.com/pt/search?q=\"&B145, \"Link Web\"))","v":""}]
[null,"ATS1330",{"$f":"_xlfn.XLOOKUP($B146,Tabela!A:A,Tabela!C:C,\"não encontrado\")","v":"Mature"},"Placa Distribuição de BUS+ Alimentação - 1 Entrada 5 Saídas",{"$f":"_xlfn.XLOOKUP($B146,Tabela!$A:$A,Tabela!$D:$D,\"não encontrado\")","v":47.6},{"$f":"IF(B146 =ISTEXT(qualquer), \"\", HYPERLINK(\"https://pt.firesecurityproducts.com/pt/search?q=\"&B146, \"Link Web\"))","v":"Link Web"},{"$f":"$G$2","v":0},{"$f":"IF(ISBLANK(G146),\"\",E146-(E146*$G146))","v":47.6}]
[null,"ATS1340",{"$f":"_xlfn.XLOOKUP($B147,Tabela!A:A,Tabela!C:C,\"não encontrado\")","v":"Mature"},"Caixa de ligações para portas",{"$f":"_xlfn.XLOOKUP($B147,Tabela!$A:$A,Tabela!$D:$D,\"não encontrado\")","v":144.80000000000001},{"$f":"IF(B147 =ISTEXT(qualquer), \"\", HYPERLINK(\"https://pt.firesecurityproducts.com/pt/search?q=\"&B147, \"Link Web\"))","v":"Link Web"},0,144.80000000000001]
[null,"ATS1740",{"$f":"_xlfn.XLOOKUP($B148,Tabela!A:A,Tabela!C:C,\"não encontrado\")","v":"Mature"},"Isolador/repetidor de bus. Este módulo permite efetuar o isolamento de bus contra curto-circuitos assim como aumentar a o comprimento do bus até 6Km. Máximo 3 módulos por sistema. Fornecido sem caixa.",{"$f":"_xlfn.XLOOKUP($B148,Tabela!$A:$A,Tabela!$D:$D,\"não encontrado\")","v":175.47},{"$f":"IF(B148 =ISTEXT(qualquer), \"\", HYPERLINK(\"https://pt.firesecurityproducts.com/pt/search?q=\"&B148, \"Link Web\"))","v":"Link Web"},0,175.47]
[null,"ATS1743",{"$f":"_xlfn.XLOOKUP($B149,Tabela!A:A,Tabela!C:C,\"não encontrado\")","v":"Mature"},"Módulo conversor de bus < - > fibra cóptica. Permite converter o bus para fibra cóptica e vice versa. Distância máxima da fibra 1.5Km ( Para distâncias superiores consulte o capítulo “ Fibra Ótica )",{"$f":"_xlfn.XLOOKUP($B149,Tabela!$A:$A,Tabela!$D:$D,\"não encontrado\")","v":526.42999999999995},{"$f":"IF(B149 =ISTEXT(qualquer), \"\", HYPERLINK(\"https://pt.firesecurityproducts.com/pt/search?q=\"&B149, \"Link Web\"))","v":"Link Web"},0,526.42999999999995]
[null,"ATS1744",{"$f":"_xlfn.XLOOKUP($B150,Tabela!A:A,Tabela!C:C,\"não encontrado\")","v":"Mature"},"Isolador/repetidor de bus Quadruplo",{"$f":"_xlfn.XLOOKUP($B150,Tabela!$A:$A,Tabela!$D:$D,\"não encontrado\")","v":199.37},{"$f":"IF(B150 =ISTEXT(qualquer), \"\", HYPERLINK(\"https://pt.firesecurityproducts.com/pt/search?q=\"&B150, \"Link Web\"))","v":"Link Web"},0,199.37]
[null,"ATS1745",{"$f":"_xlfn.XLOOKUP($B151,Tabela!A:A,Tabela!C:C,\"não encontrado\")","v":"Mature"},"Interface de BUS RS485 para IP-LAN                                                                                              \nAté 32 interfaces  (1 na central + 31 remotos) Comunicação segura AES 128 bit",{"$f":"_xlfn.XLOOKUP($B151,Tabela!$A:$A,Tabela!$D:$D,\"não encontrado\")","v":235.04},{"$f":"IF(B151 =ISTEXT(qualquer), \"\", HYPERLINK(\"https://pt.firesecurityproducts.com/pt/search?q=\"&B151, \"Link Web\"))","v":"Link Web"},0,235.04]
[null,"ATS1840",{"$f":"_xlfn.XLOOKUP($B152,Tabela!A:A,Tabela!C:C,\"não encontrado\")","v":"Mature"},"Placa de fusíveis de 8 vias com fusíveis separados. \nA falha do fusível é indicada por uma saída dedicada que pode ser ligada diretamente a qualquer zona no painel de controlo ATS.",{"$f":"_xlfn.XLOOKUP($B152,Tabela!$A:$A,Tabela!$D:$D,\"não encontrado\")","v":93.36},{"$f":"IF(B152 =ISTEXT(qualquer), \"\", HYPERLINK(\"https://pt.firesecurityproducts.com/pt/search?q=\"&B152, \"Link Web\"))","v":"Link Web"},0,93.36]
[null,null,null,null,null,{"$f":"IF(B153 =ISTEXT(qualquer), \"\", HYPERLINK(\"https://pt.firesecurityproducts.com/pt/search?q=\"&B153, \"Link Web\"))","v":""}]
["Software",null," Software de Programação  ATS/ATSx500",null,null,{"$f":"IF(B154 =ISTEXT(qualquer), \"\", HYPERLINK(\"https://pt.firesecurityproducts.com/pt/search?q=\"&B154, \"Link Web\"))","v":""}]
[null,"ATS8500-2",{"$f":"_xlfn.XLOOKUP($B155,Tabela!A:A,Tabela!C:C,\"não encontrado\")","v":"Mature"},"Software de Programação",{"$f":"_xlfn.XLOOKUP($B155,Tabela!$A:$A,Tabela!$D:$D,\"não encontrado\")","v":396.75},{"$f":"IF(B155 =ISTEXT(qualquer), \"\", HYPERLINK(\"https://pt.firesecurityproducts.com/pt/search?q=\"&B155, \"Link Web\"))","v":"Link Web"},{"$f":"$G$2","v":0},{"$f":"IF(ISBLANK(G155),\"\",E155-(E155*$G155))","v":396.75}]
[null,"ATS8520-2",{"$f":"_xlfn.XLOOKUP($B156,Tabela!A:A,Tabela!C:C,\"não encontrado\")","v":"Mature"},"Software Gestão Utilizadores",{"$f":"_xlfn.XLOOKUP($B156,Tabela!$A:$A,Tabela!$D:$D,\"não encontrado\")","v":373.66},{"$f":"IF(B156 =ISTEXT(qualquer), \"\", HYPERLINK(\"https://pt.firesecurityproducts.com/pt/search?q=\"&B156, \"Link Web\"))","v":"Link Web"},0,373.66]
[null,"ATS8550-2",{"$f":"_xlfn.XLOOKUP($B157,Tabela!A:A,Tabela!C:C,\"não encontrado\")","v":"Mature"},"Advisor Configurator -  Serviço Remoto Multi Cliente\nLicença Install - 5 Painéis ATS/ATSa",{"$f":"_xlfn.XLOOKUP($B157,Tabela!$A:$A,Tabela!$D:$D,\"não encontrado\")","v":40.79},{"$f":"IF(B157 =ISTEXT(qualquer), \"\", HYPERLINK(\"https://pt.firesecurityproducts.com/pt/search?q=\"&B157, \"Link Web\"))","v":"Link Web"},0,40.79]
[null,"ATS8551",{"$f":"_xlfn.XLOOKUP($B158,Tabela!A:A,Tabela!C:C,\"não encontrado\")","v":"Mature"},"Advisor Configurator -  Serviço Remoto Multi Cliente\nLicença Intro - 250 Painéis ATS/ATSa",{"$f":"_xlfn.XLOOKUP($B158,Tabela!$A:$A,Tabela!$D:$D,\"não encontrado\")","v":1428.02},{"$f":"IF(B158 =ISTEXT(qualquer), \"\", HYPERLINK(\"https://pt.firesecurityproducts.com/pt/search?q=\"&B158, \"Link Web\"))","v":"Link Web"},0,1428.02]
[null,"ATS8552",{"$f":"_xlfn.XLOOKUP($B159,Tabela!A:A,Tabela!C:C,\"não encontrado\")","v":"Mature"},"Advisor Configurator -  Serviço Remoto Multi Cliente\nLicença Midsize - 1500 Painéis ATS/ATSa",{"$f":"_xlfn.XLOOKUP($B159,Tabela!$A:$A,Tabela!$D:$D,\"não encontrado\")","v":7140.01},{"$f":"IF(B159 =ISTEXT(qualquer), \"\", HYPERLINK(\"https://pt.firesecurityproducts.com/pt/search?q=\"&B159, \"Link Web\"))","v":"Link Web"},0,7140.01]
[null,"ATS8553",{"$f":"_xlfn.XLOOKUP($B160,Tabela!A:A,Tabela!C:C,\"não encontrado\")","v":"Mature"},"Advisor Configurator -  Serviço Remoto Multi Cliente\nLicença Fullsize - 10000 Painéis ATS/ATSa",{"$f":"_xlfn.XLOOKUP($B160,Tabela!$A:$A,Tabela!$D:$D,\"não encontrado\")","v":42839.96},{"$f":"IF(B160 =ISTEXT(qualquer), \"\", HYPERLINK(\"https://pt.firesecurityproducts.com/pt/search?q=\"&B160, \"Link Web\"))","v":"Link Web"},0,42839.96]
[null,null,null,null,null,{"$f":"IF(B161 =ISTEXT(qualquer), \"\", HYPERLINK(\"https://pt.firesecurityproducts.com/pt/search?q=\"&B161, \"Link Web\"))","v":""}]
["Credênciais",null,"Cartões e Etiquetas de Identificação",null,null,{"$f":"IF(B162 =ISTEXT(qualquer), \"\", HYPERLINK(\"https://pt.firesecurityproducts.com/pt/search?q=\"&B162, \"Link Web\"))","v":""}]
[null,null,null,null,null,{"$f":"IF(B163 =ISTEXT(qualquer), \"\", HYPERLINK(\"https://pt.firesecurityproducts.com/pt/search?q=\"&B163, \"Link Web\"))","v":""}]
[null,"Cartões de configuração",null,null,"PVP",null,"Desconto","Preço Liquido"]
[null,"ATS1481",{"$f":"_xlfn.XLOOKUP($B165,Tabela!A:A,Tabela!C:C,\"não encontrado\")","v":"Mature"},"Cartão Endereçamento de Leitores ATS  Smart",{"$f":"_xlfn.XLOOKUP($B165,Tabela!$A:$A,Tabela!$D:$D,\"não encontrado\")","v":32.93},{"$f":"IF(B165 =ISTEXT(qualquer), \"\", HYPERLINK(\"https://pt.firesecurityproducts.com/pt/search?q=\"&B165, \"Link Web\"))","v":"Link Web"},{"$f":"$G$2","v":0},{"$f":"IF(ISBLANK(G165),\"\",E165-(E165*$G165))","v":32.93}]
[null,"ATS1482",{"$f":"_xlfn.XLOOKUP($B166,Tabela!A:A,Tabela!C:C,\"não encontrado\")","v":"Mature"},"Cartão Endereçamento de Leitores Mifare ATS116x e ATS8x",{"$f":"_xlfn.XLOOKUP($B166,Tabela!$A:$A,Tabela!$D:$D,\"não encontrado\")","v":33.25},{"$f":"IF(B166 =ISTEXT(qualquer), \"\", HYPERLINK(\"https://pt.firesecurityproducts.com/pt/search?q=\"&B166, \"Link Web\"))","v":"Link Web"},{"$f":"$G$2","v":0},{"$f":"IF(ISBLANK(G166),\"\",E166-(E166*$G166))","v":33.25}]
[null,"ATS1483",{"$f":"_xlfn.XLOOKUP($B167,Tabela!A:A,Tabela!C:C,\"não encontrado\")","v":"Mature"},"Cartão Modo Operação. Permite colocar ATS1180/ATS1181 em modo ATS1160N/ATS1161N",{"$f":"_xlfn.XLOOKUP($B167,Tabela!$A:$A,Tabela!$D:$D,\"não encontrado\")","v":33.25},{"$f":"IF(B167 =ISTEXT(qualquer), \"\", HYPERLINK(\"https://pt.firesecurityproducts.com/pt/search?q=\"&B167, \"Link Web\"))","v":"Link Web"},{"$f":"$G$2","v":0},{"$f":"IF(ISBLANK(G167),\"\",E167-(E167*$G167))","v":33.25}]
[null,null,null,null,null,{"$f":"IF(B168 =ISTEXT(qualquer), \"\", HYPERLINK(\"https://pt.firesecurityproducts.com/pt/search?q=\"&B168, \"Link Web\"))","v":""}]
[null,"Identificações ATS Smart"]
[null,"ATS1471-5",{"$f":"_xlfn.XLOOKUP($B170,Tabela!A:A,Tabela!C:C,\"não encontrado\")","v":"Mature"},"Identificação tipo porta-chaves (Pack 5)",{"$f":"_xlfn.XLOOKUP($B170,Tabela!$A:$A,Tabela!$D:$D,\"não encontrado\")","v":109.81},{"$f":"IF(B170 =ISTEXT(qualquer), \"\", HYPERLINK(\"https://pt.firesecurityproducts.com/pt/search?q=\"&B170, \"Link Web\"))","v":"Link Web"},{"$f":"$G$2","v":0},{"$f":"IF(ISBLANK(G170),\"\",E170-(E170*$G170))","v":109.81}]
[null,"ATS1473-5",{"$f":"_xlfn.XLOOKUP($B171,Tabela!A:A,Tabela!C:C,\"não encontrado\")","v":"Mature"},"Identificação tipo porta-chaves (Pack 5)",{"$f":"_xlfn.XLOOKUP($B171,Tabela!$A:$A,Tabela!$D:$D,\"não encontrado\")","v":59.67},{"$f":"IF(B171 =ISTEXT(qualquer), \"\", HYPERLINK(\"https://pt.firesecurityproducts.com/pt/search?q=\"&B171, \"Link Web\"))","v":"Link Web"},0,59.67]
[null,"ATS1475",{"$f":"_xlfn.XLOOKUP($B172,Tabela!A:A,Tabela!C:C,\"não encontrado\")","v":"Mature"},"Cartão de proximidade \"ATS Smart card\"  (10 UNIDADES)",{"$f":"_xlfn.XLOOKUP($B172,Tabela!$A:$A,Tabela!$D:$D,\"não encontrado\")","v":91.79},{"$f":"IF(B172 =ISTEXT(qualquer), \"\", HYPERLINK(\"https://pt.firesecurityproducts.com/pt/search?q=\"&B172, \"Link Web\"))","v":"Link Web"},0,91.79]
[null,"ATS1476",{"$f":"_xlfn.XLOOKUP($B173,Tabela!A:A,Tabela!C:C,\"não encontrado\")","v":"Mature"},"Cartão de prox. \"ATS Smart card\" C/ Banda Mag. programável  (10 UNIDADES)",{"$f":"_xlfn.XLOOKUP($B173,Tabela!$A:$A,Tabela!$D:$D,\"não encontrado\")","v":103.75},{"$f":"IF(B173 =ISTEXT(qualquer), \"\", HYPERLINK(\"https://pt.firesecurityproducts.com/pt/search?q=\"&B173, \"Link Web\"))","v":"Link Web"},0,103.75]
[null,"ATS1477",{"$f":"_xlfn.XLOOKUP($B174,Tabela!A:A,Tabela!C:C,\"não encontrado\")","v":"Mature"},"Etiqueta de proximidade ultra fina em fibra (Pack 10) ",{"$f":"_xlfn.XLOOKUP($B174,Tabela!$A:$A,Tabela!$D:$D,\"não encontrado\")","v":105.9},{"$f":"IF(B174 =ISTEXT(qualquer), \"\", HYPERLINK(\"https://pt.firesecurityproducts.com/pt/search?q=\"&B174, \"Link Web\"))","v":"Link Web"},0,105.9]
[null,"ATS1870",{"$f":"_xlfn.XLOOKUP($B175,Tabela!A:A,Tabela!C:C,\"não encontrado\")","v":"Mature"},"Leitor USB de Aprendizagem de Cartões Hitag2 e Mifare CSN",{"$f":"_xlfn.XLOOKUP($B175,Tabela!$A:$A,Tabela!$D:$D,\"não encontrado\")","v":435.95},{"$f":"IF(B175 =ISTEXT(qualquer), \"\", HYPERLINK(\"https://pt.firesecurityproducts.com/pt/search?q=\"&B175, \"Link Web\"))","v":"Link Web"},0,435.95]
[null,null,null,null,null,{"$f":"IF(B176 =ISTEXT(qualquer), \"\", HYPERLINK(\"https://pt.firesecurityproducts.com/pt/search?q=\"&B176, \"Link Web\"))","v":""}]
[null,"Identificações de Transição"]
[null,"ATS1495",{"$f":"_xlfn.XLOOKUP($B178,Tabela!A:A,Tabela!C:C,\"não encontrado\")","v":"Mature"},"Pack de 10 cartões formato  ISO em cor branca. Mifare Desfire EV2, para utilizar com ATS118x e ATS1136. Possui também CSN Hitag2 para utilizar com ATS119x, ATS111x e ATS1135.  Permitindo a utilização do mesmo cartão em sistemas antigos e em nos novos sistemas. ",{"$f":"_xlfn.XLOOKUP($B178,Tabela!$A:$A,Tabela!$D:$D,\"não encontrado\")","v":149.49},{"$f":"IF(B178 =ISTEXT(qualquer), \"\", HYPERLINK(\"https://pt.firesecurityproducts.com/pt/search?q=\"&B178, \"Link Web\"))","v":"Link Web"},{"$f":"$G$2","v":0},{"$f":"IF(ISBLANK(G178),\"\",E178-(E178*$G178))","v":149.49}]
[null,"ATS1497",{"$f":"_xlfn.XLOOKUP($B179,Tabela!A:A,Tabela!C:C,\"não encontrado\")","v":"Mature"},"Pack de 10 porta chaves em cor preta. Mifare Desfire EV2, para utilizar com ATS118x e ATS1136. Possui também CSN Hitag2 para utilizar com ATS119x, ATS111x e ATS1135. Permitindo a utilização do mesmo cartão em sistemas antigos e em nos novos sistemas. ",{"$f":"_xlfn.XLOOKUP($B179,Tabela!$A:$A,Tabela!$D:$D,\"não encontrado\")","v":185.54},{"$f":"IF(B179 =ISTEXT(qualquer), \"\", HYPERLINK(\"https://pt.firesecurityproducts.com/pt/search?q=\"&B179, \"Link Web\"))","v":"Link Web"},{"$f":"$G$2","v":0},{"$f":"IF(ISBLANK(G179),\"\",E179-(E179*$G179))","v":185.54}]
[null,null,null,null,null,{"$f":"IF(B180 =ISTEXT(qualquer), \"\", HYPERLINK(\"https://pt.firesecurityproducts.com/pt/search?q=\"&B180, \"Link Web\"))","v":""}]
[null,"Identificações Mifare",null,null,"PVP",null,"Desconto","Preço Liquido"]
[null,"ATS1451",{"$f":"_xlfn.XLOOKUP($B182,Tabela!A:A,Tabela!C:C,\"não encontrado\")","v":"Mature"},"Identificação Mifare Desfire EV2 - Porta-chaves (Pack 5). Encriptação AES",{"$f":"_xlfn.XLOOKUP($B182,Tabela!$A:$A,Tabela!$D:$D,\"não encontrado\")","v":90.59},{"$f":"IF(B182 =ISTEXT(qualquer), \"\", HYPERLINK(\"https://pt.firesecurityproducts.com/pt/search?q=\"&B182, \"Link Web\"))","v":"Link Web"},{"$f":"$G$2","v":0},{"$f":"IF(ISBLANK(G182),\"\",E182-(E182*$G182))","v":90.59}]
[null,"ATS1452",{"$f":"_xlfn.XLOOKUP($B183,Tabela!A:A,Tabela!C:C,\"não encontrado\")","v":"Mature"},"Cartão Mifare Desfire EV2 (Pack 5). Encriptação AES                                   ",{"$f":"_xlfn.XLOOKUP($B183,Tabela!$A:$A,Tabela!$D:$D,\"não encontrado\")","v":82.16},{"$f":"IF(B183 =ISTEXT(qualquer), \"\", HYPERLINK(\"https://pt.firesecurityproducts.com/pt/search?q=\"&B183, \"Link Web\"))","v":"Link Web"},0,82.16]
[null,"ATS1453",{"$f":"_xlfn.XLOOKUP($B184,Tabela!A:A,Tabela!C:C,\"não encontrado\")","v":"Mature"},"Identificação  Mifare Desfire EV2 - Porta Chaves (Pack 5). Encriptação AES                                   ",{"$f":"_xlfn.XLOOKUP($B184,Tabela!$A:$A,Tabela!$D:$D,\"não encontrado\")","v":56.58},{"$f":"IF(B184 =ISTEXT(qualquer), \"\", HYPERLINK(\"https://pt.firesecurityproducts.com/pt/search?q=\"&B184, \"Link Web\"))","v":"Link Web"},0,56.58]
[null,"ATS1455",{"$f":"_xlfn.XLOOKUP($B185,Tabela!A:A,Tabela!C:C,\"não encontrado\")","v":"Mature"},"Cartão  Mifare Desfire EV2   (Pack 10). Encriptação AES. Cartão formato ISO                             ",{"$f":"_xlfn.XLOOKUP($B185,Tabela!$A:$A,Tabela!$D:$D,\"não encontrado\")","v":87},{"$f":"IF(B185 =ISTEXT(qualquer), \"\", HYPERLINK(\"https://pt.firesecurityproducts.com/pt/search?q=\"&B185, \"Link Web\"))","v":"Link Web"},0,87]
[null,"ATS1457",{"$f":"_xlfn.XLOOKUP($B186,Tabela!A:A,Tabela!C:C,\"não encontrado\")","v":"Mature"},"Porta chaves Mifare Desfire EV2 (10 PACK). Utilizar com leitores seguros ATS118x ",{"$f":"_xlfn.XLOOKUP($B186,Tabela!$A:$A,Tabela!$D:$D,\"não encontrado\")","v":101.15},{"$f":"IF(B186 =ISTEXT(qualquer), \"\", HYPERLINK(\"https://pt.firesecurityproducts.com/pt/search?q=\"&B186, \"Link Web\"))","v":"Link Web"},0,101.15]
[null,"ATS1459",{"$f":"_xlfn.XLOOKUP($B187,Tabela!A:A,Tabela!C:C,\"não encontrado\")","v":"Mature"},"Identificação  Mifare Desfire EV2 - Pulseira Preta (Pack 5). Encriptação AES",{"$f":"_xlfn.XLOOKUP($B187,Tabela!$A:$A,Tabela!$D:$D,\"não encontrado\")","v":104.14},{"$f":"IF(B187 =ISTEXT(qualquer), \"\", HYPERLINK(\"https://pt.firesecurityproducts.com/pt/search?q=\"&B187, \"Link Web\"))","v":"Link Web"},0,104.14]
[null,"ATS1460",{"$f":"_xlfn.XLOOKUP($B188,Tabela!A:A,Tabela!C:C,\"não encontrado\")","v":"Mature"},"Etiquetas autocolante \"tamper proof\" (Pack 10). Identificação Mifare Desfire EV2. Pode ser utilizado em modo seguro com ATS118x e ATS1136",{"$f":"_xlfn.XLOOKUP($B188,Tabela!$A:$A,Tabela!$D:$D,\"não encontrado\")","v":53.61},{"$f":"IF(B188 =ISTEXT(qualquer), \"\", HYPERLINK(\"https://pt.firesecurityproducts.com/pt/search?q=\"&B188, \"Link Web\"))","v":"Link Web"},0,53.61]
[null,null,null,null,null,{"$f":"IF(B189 =ISTEXT(qualquer), \"\", HYPERLINK(\"https://pt.firesecurityproducts.com/pt/search?q=\"&B189, \"Link Web\"))","v":""}]
[null,"Identificações Sem Programação"]
[null,"ACT455",{"$f":"_xlfn.XLOOKUP($B191,Tabela!A:A,Tabela!C:C,\"não encontrado\")","v":"Mature"},"Pack de 25 cartões EV2 virgens em PVC",{"$f":"_xlfn.XLOOKUP($B191,Tabela!$A:$A,Tabela!$D:$D,\"não encontrado\")","v":143.21},{"$f":"IF(B191 =ISTEXT(qualquer), \"\", HYPERLINK(\"https://pt.firesecurityproducts.com/pt/search?q=\"&B191, \"Link Web\"))","v":"Link Web"},{"$f":"$G$2","v":0},{"$f":"IF(ISBLANK(G191),\"\",E191-(E191*$G191))","v":143.21}]
[null,"ACT457",{"$f":"_xlfn.XLOOKUP($B192,Tabela!A:A,Tabela!C:C,\"não encontrado\")","v":"Mature"},"Pack de 25 Porta chaves EV2 virgens",{"$f":"_xlfn.XLOOKUP($B192,Tabela!$A:$A,Tabela!$D:$D,\"não encontrado\")","v":175.9},{"$f":"IF(B192 =ISTEXT(qualquer), \"\", HYPERLINK(\"https://pt.firesecurityproducts.com/pt/search?q=\"&B192, \"Link Web\"))","v":"Link Web"},{"$f":"$G$2","v":0},{"$f":"IF(ISBLANK(G192),\"\",E192-(E192*$G192))","v":175.9}]
[null,null,null,null,null,{"$f":"IF(B193 =ISTEXT(qualquer), \"\", HYPERLINK(\"https://pt.firesecurityproducts.com/pt/search?q=\"&B193, \"Link Web\"))","v":""}]
["Acessórios",null,"Instalação e Manutenção",null,null,{"$f":"IF(B194 =ISTEXT(qualquer), \"\", HYPERLINK(\"https://pt.firesecurityproducts.com/pt/search?q=\"&B194, \"Link Web\"))","v":""}]
[null,null,null,null,null,{"$f":"IF(B195 =ISTEXT(qualquer), \"\", HYPERLINK(\"https://pt.firesecurityproducts.com/pt/search?q=\"&B195, \"Link Web\"))","v":""}]
[null,"Bases Montagem"]
[null,"ATS1135BPL",{"$f":"_xlfn.XLOOKUP($B197,Tabela!A:A,Tabela!C:C,\"não encontrado\")","v":"Mature"},"Pack 10 Bases Montagem e Acabamento para ATS1135",{"$f":"_xlfn.XLOOKUP($B197,Tabela!$A:$A,Tabela!$D:$D,\"não encontrado\")","v":295.18},{"$f":"IF(B197 =ISTEXT(qualquer), \"\", HYPERLINK(\"https://pt.firesecurityproducts.com/pt/search?q=\"&B197, \"Link Web\"))","v":"Link Web"},{"$f":"$G$2","v":0},{"$f":"IF(ISBLANK(G197),\"\",E197-(E197*$G197))","v":295.18}]
[null,"ATS118X-CVR-SP",{"$f":"_xlfn.XLOOKUP($B198,Tabela!A:A,Tabela!C:C,\"não encontrado\")","v":"Mature"},"Base Montagem para ATS1160N, ATS1161N, ATS1180N e ATS1181N. 144 x 49 x 10 mm",{"$f":"_xlfn.XLOOKUP($B198,Tabela!$A:$A,Tabela!$D:$D,\"não encontrado\")","v":30.12},{"$f":"IF(B198 =ISTEXT(qualquer), \"\", HYPERLINK(\"https://pt.firesecurityproducts.com/pt/search?q=\"&B198, \"Link Web\"))","v":"Link Web"},{"$f":"$G$2","v":0},{"$f":"IF(ISBLANK(G198),\"\",E198-(E198*$G198))","v":30.12}]
[null,"ATS118X-CVR-SP",{"$f":"_xlfn.XLOOKUP($B199,Tabela!A:A,Tabela!C:C,\"não encontrado\")","v":"Mature"},"Base Montagem Longa para ATS1160N, ATS1161N, ATS1180N e ATS1181N. 170 x 80 x 10 mm",{"$f":"_xlfn.XLOOKUP($B199,Tabela!$A:$A,Tabela!$D:$D,\"não encontrado\")","v":30.12},{"$f":"IF(B199 =ISTEXT(qualquer), \"\", HYPERLINK(\"https://pt.firesecurityproducts.com/pt/search?q=\"&B199, \"Link Web\"))","v":"Link Web"},{"$f":"$G$2","v":0},{"$f":"IF(ISBLANK(G199),\"\",E199-(E199*$G199))","v":30.12}]
[null,"ATS118X-CVR-SQ",{"$f":"_xlfn.XLOOKUP($B200,Tabela!A:A,Tabela!C:C,\"não encontrado\")","v":"Mature"},"Base Montagem para ATS1182N, ATS1183N e ATS1184N. 86 x 86 x 10 mm",{"$f":"_xlfn.XLOOKUP($B200,Tabela!$A:$A,Tabela!$D:$D,\"não encontrado\")","v":36.24},{"$f":"IF(B200 =ISTEXT(qualquer), \"\", HYPERLINK(\"https://pt.firesecurityproducts.com/pt/search?q=\"&B200, \"Link Web\"))","v":"Link Web"},{"$f":"$G$2","v":0},{"$f":"IF(ISBLANK(G200),\"\",E200-(E200*$G200))","v":36.24}]
[null,"ATS1184-MNT-33",{"$f":"_xlfn.XLOOKUP($B201,Tabela!A:A,Tabela!C:C,\"não encontrado\")","v":"Mature"},"Base Montagem com inclinação 33º para ATS1184N ",{"$f":"_xlfn.XLOOKUP($B201,Tabela!$A:$A,Tabela!$D:$D,\"não encontrado\")","v":86.29},{"$f":"IF(B201 =ISTEXT(qualquer), \"\", HYPERLINK(\"https://pt.firesecurityproducts.com/pt/search?q=\"&B201, \"Link Web\"))","v":"Link Web"},{"$f":"$G$2","v":0},{"$f":"IF(ISBLANK(G201),\"\",E201-(E201*$G201))","v":86.29}]
[null,null,null,null,null,{"$f":"IF(B202 =ISTEXT(qualquer), \"\", HYPERLINK(\"https://pt.firesecurityproducts.com/pt/search?q=\"&B202, \"Link Web\"))","v":""}]
[null,"Autocolante Frente Leitor"]
[null,"ATS1160S",{"$f":"_xlfn.XLOOKUP($B204,Tabela!A:A,Tabela!C:C,\"não encontrado\")","v":"Mature"},"Autocolante frontal para leitor ATS1160(N)",{"$f":"_xlfn.XLOOKUP($B204,Tabela!$A:$A,Tabela!$D:$D,\"não encontrado\")","v":21.16},{"$f":"IF(B204 =ISTEXT(qualquer), \"\", HYPERLINK(\"https://pt.firesecurityproducts.com/pt/search?q=\"&B204, \"Link Web\"))","v":"Link Web"},{"$f":"$G$2","v":0},{"$f":"IF(ISBLANK(G204),\"\",E204-(E204*$G204))","v":21.16}]
[null,"ATS1161S",{"$f":"_xlfn.XLOOKUP($B205,Tabela!A:A,Tabela!C:C,\"não encontrado\")","v":"Mature"},"Autocolante frontal para leitor ATS1161(N)",{"$f":"_xlfn.XLOOKUP($B205,Tabela!$A:$A,Tabela!$D:$D,\"não encontrado\")","v":21.16},{"$f":"IF(B205 =ISTEXT(qualquer), \"\", HYPERLINK(\"https://pt.firesecurityproducts.com/pt/search?q=\"&B205, \"Link Web\"))","v":"Link Web"},{"$f":"$G$2","v":0},{"$f":"IF(ISBLANK(G205),\"\",E205-(E205*$G205))","v":21.16}]
[]
[null,"Suportes PCB"]
[null,"ATS-Spacers-High",{"$f":"_xlfn.XLOOKUP($B208,Tabela!A:A,Tabela!C:C,\"não encontrado\")","v":"Mature"},"Pack de 25 suportes para orifícios caixas ATS",{"$f":"_xlfn.XLOOKUP($B208,Tabela!$A:$A,Tabela!$D:$D,\"não encontrado\")","v":9.66},{"$f":"IF(B208 =ISTEXT(qualquer), \"\", HYPERLINK(\"https://pt.firesecurityproducts.com/pt/search?q=\"&B208, \"Link Web\"))","v":"Link Web"},{"$f":"$G$2","v":0},{"$f":"IF(ISBLANK(G208),\"\",E208-(E208*$G208))","v":9.66}]
[null,"ATS-Metal-Studs",{"$f":"_xlfn.XLOOKUP($B209,Tabela!A:A,Tabela!C:C,\"não encontrado\")","v":"Mature"},"Pack de 100 suportes com parafuso para orifícios caixas ATS",{"$f":"_xlfn.XLOOKUP($B209,Tabela!$A:$A,Tabela!$D:$D,\"não encontrado\")","v":75.97},{"$f":"IF(B209 =ISTEXT(qualquer), \"\", HYPERLINK(\"https://pt.firesecurityproducts.com/pt/search?q=\"&B209, \"Link Web\"))","v":"Link Web"},{"$f":"$G$2","v":0},{"$f":"IF(ISBLANK(G209),\"\",E209-(E209*$G209))","v":75.97}]
[null,null,null,null,null,{"$f":"IF(B210 =ISTEXT(qualquer), \"\", HYPERLINK(\"https://pt.firesecurityproducts.com/pt/search?q=\"&B210, \"Link Web\"))","v":""}]
[null,"Caixas"]
[null,"ATS1640",{"$f":"_xlfn.XLOOKUP($B212,Tabela!A:A,Tabela!C:C,\"não encontrado\")","v":"Mature"},"Caixa para Centrais 315 x 445 x 85 mm (L x A x P)",{"$f":"_xlfn.XLOOKUP($B212,Tabela!$A:$A,Tabela!$D:$D,\"não encontrado\")","v":148.41999999999999},{"$f":"IF(B212 =ISTEXT(qualquer), \"\", HYPERLINK(\"https://pt.firesecurityproducts.com/pt/search?q=\"&B212, \"Link Web\"))","v":"Link Web"},{"$f":"$G$2","v":0},{"$f":"IF(ISBLANK(G212),\"\",E212-(E212*$G212))","v":148.41999999999999}]
[null,"ATS1641",{"$f":"_xlfn.XLOOKUP($B213,Tabela!A:A,Tabela!C:C,\"não encontrado\")","v":"Mature"},"Caixa para Centrais 315 x 388 x 85 mm (L x A x P) ",{"$f":"_xlfn.XLOOKUP($B213,Tabela!$A:$A,Tabela!$D:$D,\"não encontrado\")","v":123.3},{"$f":"IF(B213 =ISTEXT(qualquer), \"\", HYPERLINK(\"https://pt.firesecurityproducts.com/pt/search?q=\"&B213, \"Link Web\"))","v":"Link Web"},{"$f":"$G$2","v":0},{"$f":"IF(ISBLANK(G213),\"\",E213-(E213*$G213))","v":123.3}]
[null,"ATS1642",{"$f":"_xlfn.XLOOKUP($B214,Tabela!A:A,Tabela!C:C,\"não encontrado\")","v":"Mature"},"Caixa grande para Centrais 475 x 460 x 160 mm (L x A x P)",{"$f":"_xlfn.XLOOKUP($B214,Tabela!$A:$A,Tabela!$D:$D,\"não encontrado\")","v":313.39999999999998},{"$f":"IF(B214 =ISTEXT(qualquer), \"\", HYPERLINK(\"https://pt.firesecurityproducts.com/pt/search?q=\"&B214, \"Link Web\"))","v":"Link Web"},{"$f":"$G$2","v":0},{"$f":"IF(ISBLANK(G214),\"\",E214-(E214*$G214))","v":313.39999999999998}]
[null,"ATS1643",{"$f":"_xlfn.XLOOKUP($B215,Tabela!A:A,Tabela!C:C,\"não encontrado\")","v":"Mature"},"Caixa metálica para os expansores de saídas ",{"$f":"_xlfn.XLOOKUP($B215,Tabela!$A:$A,Tabela!$D:$D,\"não encontrado\")","v":101.84},{"$f":"IF(B215 =ISTEXT(qualquer), \"\", HYPERLINK(\"https://pt.firesecurityproducts.com/pt/search?q=\"&B215, \"Link Web\"))","v":"Link Web"},{"$f":"$G$2","v":0},{"$f":"IF(ISBLANK(G215),\"\",E215-(E215*$G215))","v":101.84}]
[null,"ATS1647",{"$f":"_xlfn.XLOOKUP($B216,Tabela!A:A,Tabela!C:C,\"não encontrado\")","v":"Mature"},"Caixa Plástica Média para cartas",{"$f":"_xlfn.XLOOKUP($B216,Tabela!$A:$A,Tabela!$D:$D,\"não encontrado\")","v":34.549999999999997},{"$f":"IF(B216 =ISTEXT(qualquer), \"\", HYPERLINK(\"https://pt.firesecurityproducts.com/pt/search?q=\"&B216, \"Link Web\"))","v":"Link Web"},{"$f":"$G$2","v":0},{"$f":"IF(ISBLANK(G216),\"\",E216-(E216*$G216))","v":34.549999999999997}]

{"sheet":"Via Rádio ATS","index":10,"n_rows":143,"n_cols":8,"rows_kept":143,"cut":false,"hidden":false,"merged":[[131,2,140,4],[71,2,78,4],[89,2,95,4],[1,6,2,6],[0,2,2,3],[5,2,11,4]]}
[null,null,"Via Rádio ATS"]
[null,null,null,null,null,null,0]
[]
[null,null,"Status",null,"PVP",null,"Desconto","Preço \nLiquido"]
["Expansor RF",null,"Interface Dispositivos RF"]
[null,null,"Este expansor permite adicionar a capacidades sem fios à gama de painéis Advisor Advanced.\nSuporta a maioria dos dispositivos antigos de 433 MHz de 63 bits, bem como a nova geração de dispositivos LoNa de 433 MHz, cuja comunicação sem fios é totalmente encriptada, evitando interferências não autorizadas. \nPodem ser programados até 32 dispositivos sem fios e até 16 comandos.\n• Até 15 ou 30 expansores por central (dependente do modelo) \n• Incorpora 2 zonas físicas \n• Incorpora 1 saída por relé\n                                                                                               "]
[]
[]
[]
[]
[]
[]
[null,null,null,null,"PVP",null,"Desconto","Preço Liquido"]
[null,"ATS1236",{"$f":"_xlfn.XLOOKUP($B14,Tabela!A:A,Tabela!C:C,\"não encontrado\")","v":"Mature"},"DGP 32 zonas 433Mhz LoNa e 433Mhz 63-bit\nIncorpora 2 zonas cabladas. Incorpora 1 saída por relé",{"$f":"_xlfn.XLOOKUP($B14,Tabela!$A:$A,Tabela!$D:$D,\"não encontrado\")","v":183.18},{"$f":"IF(B14 =ISTEXT(qualquer), \"\", HYPERLINK(\"https://pt.firesecurityproducts.com/pt/search?q=\"&B14, \"Link Web\"))","v":"Link Web"},{"$f":"$G$2","v":0},{"$f":"IF(ISBLANK(G14),\"\",E14-(E14*$G14))","v":183.18}]
[]
["RF 433MHz LoNa",null,"Dispositivos"]
[]
[null,"Contactos Magnéticos"]
[null,"RF-DC101-K4",{"$f":"_xlfn.XLOOKUP($B19,Tabela!A:A,Tabela!C:C,\"não encontrado\")","v":"Mature"},"Contato Magnético Branco - LoNa, 1 Entrada física\nGAP: 7-13mm 101 x 31 x 28 EN50131 - Grau 2",{"$f":"_xlfn.XLOOKUP($B19,Tabela!$A:$A,Tabela!$D:$D,\"não encontrado\")","v":64.41},{"$f":"IF(B19 =ISTEXT(qualquer), \"\", HYPERLINK(\"https://pt.firesecurityproducts.com/pt/search?q=\"&B19, \"Link Web\"))","v":"Link Web"},{"$f":"$G$2","v":0},{"$f":"IF(ISBLANK(G19),\"\",E19-(E19*$G19))","v":64.41}]
[null,"RF-DC101B-K4",{"$f":"_xlfn.XLOOKUP($B20,Tabela!A:A,Tabela!C:C,\"não encontrado\")","v":"Mature"},"Contato Magnético Castanho - LoNa, 1 Entrada física\nGAP: 7-13mm  101 x 31 x 28 EN50131 - Grau 2",{"$f":"_xlfn.XLOOKUP($B20,Tabela!$A:$A,Tabela!$D:$D,\"não encontrado\")","v":64.41},{"$f":"IF(B20 =ISTEXT(qualquer), \"\", HYPERLINK(\"https://pt.firesecurityproducts.com/pt/search?q=\"&B20, \"Link Web\"))","v":"Link Web"},{"$f":"$G$2","v":0},64.41]
[]
[null,"Detetores Volumétricos PIR"]
[null,"RF-EV1012-K4",{"$f":"_xlfn.XLOOKUP($B23,Tabela!A:A,Tabela!C:C,\"não encontrado\")","v":"Mature"},"Detetor PIR - LoNa Processamento de sinal 5D; 9 cortinas de 12m EN50131 - Grau 2",{"$f":"_xlfn.XLOOKUP($B23,Tabela!$A:$A,Tabela!$D:$D,\"não encontrado\")","v":91.95},{"$f":"IF(B23 =ISTEXT(qualquer), \"\", HYPERLINK(\"https://pt.firesecurityproducts.com/pt/search?q=\"&B23, \"Link Web\"))","v":"Link Web"},{"$f":"$G$2","v":0},{"$f":"IF(ISBLANK(G23),\"\",E23-(E23*$G23))","v":91.95}]
[null,"RF-EV1016-K4",{"$f":"_xlfn.XLOOKUP($B24,Tabela!A:A,Tabela!C:C,\"não encontrado\")","v":"Mature"},"Detetor PIR  - LoNa Processamento de sinal 5D;  9 cortinas de 16m EN50131 - Grau 2",{"$f":"_xlfn.XLOOKUP($B24,Tabela!$A:$A,Tabela!$D:$D,\"não encontrado\")","v":114.02},{"$f":"IF(B24 =ISTEXT(qualquer), \"\", HYPERLINK(\"https://pt.firesecurityproducts.com/pt/search?q=\"&B24, \"Link Web\"))","v":"Link Web"},{"$f":"$G$2","v":0},114.02]
[null,"RF-EV1012PI-K4",{"$f":"_xlfn.XLOOKUP($B25,Tabela!A:A,Tabela!C:C,\"não encontrado\")","v":"Mature"},"Detetor PIR, Imune a Pequenos Animais (PI) - LoNa Processamento de sinal 5D;  9 cortinas de 12m EN50131 - Grau 2",{"$f":"_xlfn.XLOOKUP($B25,Tabela!$A:$A,Tabela!$D:$D,\"não encontrado\")","v":91.95},{"$f":"IF(B25 =ISTEXT(qualquer), \"\", HYPERLINK(\"https://pt.firesecurityproducts.com/pt/search?q=\"&B25, \"Link Web\"))","v":"Link Web"},{"$f":"$G$2","v":0},91.95]
[]
[null,"Detetores Dupla Tecnologia"]
[null,"RF-DD1012-K4",{"$f":"_xlfn.XLOOKUP($B28,Tabela!A:A,Tabela!C:C,\"não encontrado\")","v":"Mature"},"Detetor Dupla Tecnologia - LoNa Cobertura 86º -12m EN50131 - Grau 2",{"$f":"_xlfn.XLOOKUP($B28,Tabela!$A:$A,Tabela!$D:$D,\"não encontrado\")","v":134.13},{"$f":"IF(B28 =ISTEXT(qualquer), \"\", HYPERLINK(\"https://pt.firesecurityproducts.com/pt/search?q=\"&B28, \"Link Web\"))","v":"Link Web"},{"$f":"$G$2","v":0},{"$f":"IF(ISBLANK(G28),\"\",E28-(E28*$G28))","v":134.13}]
[null,"RF-DD1012PI-K4",{"$f":"_xlfn.XLOOKUP($B29,Tabela!A:A,Tabela!C:C,\"não encontrado\")","v":"Mature"},"Detetor Dupla Tecnologia Imune a Pequenos Animais (PI) - LoNa Processamento de sinal 5D; 9 cortinas de 12m EN50131 - Grau 2",{"$f":"_xlfn.XLOOKUP($B29,Tabela!$A:$A,Tabela!$D:$D,\"não encontrado\")","v":134.13},{"$f":"IF(B29 =ISTEXT(qualquer), \"\", HYPERLINK(\"https://pt.firesecurityproducts.com/pt/search?q=\"&B29, \"Link Web\"))","v":"Link Web"},{"$f":"$G$2","v":0},{"$f":"IF(ISBLANK(G29),\"\",E29-(E29*$G29))","v":134.13}]
[]
[null,"Acessórios"]
[null,"RF-DC101BSR-K4",{"$f":"_xlfn.XLOOKUP($B32,Tabela!A:A,Tabela!C:C,\"não encontrado\")","v":"Mature"},"Espaçadores castanhos para sensores RF-DC101B-K4 - Pack de 10",{"$f":"_xlfn.XLOOKUP($B32,Tabela!$A:$A,Tabela!$D:$D,\"não encontrado\")","v":22.03},{"$f":"IF(B32 =ISTEXT(qualquer), \"\", HYPERLINK(\"https://pt.firesecurityproducts.com/pt/search?q=\"&B32, \"Link Web\"))","v":"Link Web"},{"$f":"$G$2","v":0},{"$f":"IF(ISBLANK(G32),\"\",E32-(E32*$G32))","v":22.03}]
[null,"RF-DC101SR-K4",{"$f":"_xlfn.XLOOKUP($B33,Tabela!A:A,Tabela!C:C,\"não encontrado\")","v":"Mature"},"Espaçadores brancos para sensores RF-DC101-K4 - Pack de 10",{"$f":"_xlfn.XLOOKUP($B33,Tabela!$A:$A,Tabela!$D:$D,\"não encontrado\")","v":22.03},{"$f":"IF(B33 =ISTEXT(qualquer), \"\", HYPERLINK(\"https://pt.firesecurityproducts.com/pt/search?q=\"&B33, \"Link Web\"))","v":"Link Web"},{"$f":"$G$2","v":0},22.03]
[null,"RF-DC101BBM-K4",{"$f":"_xlfn.XLOOKUP($B34,Tabela!A:A,Tabela!C:C,\"não encontrado\")","v":"Mature"},"Magneto extra fluxo, Castanho para RF-DC101B-K4",{"$f":"_xlfn.XLOOKUP($B34,Tabela!$A:$A,Tabela!$D:$D,\"não encontrado\")","v":9.2100000000000009},{"$f":"IF(B34 =ISTEXT(qualquer), \"\", HYPERLINK(\"https://pt.firesecurityproducts.com/pt/search?q=\"&B34, \"Link Web\"))","v":"Link Web"},{"$f":"$G$2","v":0},9.2100000000000009]
[null,"RF-DC101BM-K4",{"$f":"_xlfn.XLOOKUP($B35,Tabela!A:A,Tabela!C:C,\"não encontrado\")","v":"Mature"},"Magneto extra fluxo, branco para RF-DC101-K4",{"$f":"_xlfn.XLOOKUP($B35,Tabela!$A:$A,Tabela!$D:$D,\"não encontrado\")","v":9.2100000000000009},{"$f":"IF(B35 =ISTEXT(qualquer), \"\", HYPERLINK(\"https://pt.firesecurityproducts.com/pt/search?q=\"&B35, \"Link Web\"))","v":"Link Web"},{"$f":"$G$2","v":0},9.2100000000000009]
[]
["RF 433MHz 63 Bits",null,"Dispositivos"]
[]
[null,"Contactos Magnéticos",null,null,"PVP",null,"Desconto","Preço Liquido"]
[null,"RF320I4B-N",{"$f":"_xlfn.XLOOKUP($B40,Tabela!A:A,Tabela!C:C,\"não encontrado\")","v":"Mature"},"Contato Magnético Castanho - RF433 MHz, 1 Entrada física\nGAP: 10 mm 32 x 32 x 102 mm",{"$f":"_xlfn.XLOOKUP($B40,Tabela!$A:$A,Tabela!$D:$D,\"não encontrado\")","v":91.29},{"$f":"IF(B40 =ISTEXT(qualquer), \"\", HYPERLINK(\"https://pt.firesecurityproducts.com/pt/search?q=\"&B40, \"Link Web\"))","v":"Link Web"},{"$f":"$G$2","v":0},{"$f":"IF(ISBLANK(G40),\"\",E40-(E40*$G40))","v":91.29}]
[null,"RF320I4-N",{"$f":"_xlfn.XLOOKUP($B41,Tabela!A:A,Tabela!C:C,\"não encontrado\")","v":"Mature"},"Contato Magnético Branco - RF433 MHz, 1 Entrada física\nGAP: 10 mm  32 x 32 x 102 mm",{"$f":"_xlfn.XLOOKUP($B41,Tabela!$A:$A,Tabela!$D:$D,\"não encontrado\")","v":91.29},{"$f":"IF(B41 =ISTEXT(qualquer), \"\", HYPERLINK(\"https://pt.firesecurityproducts.com/pt/search?q=\"&B41, \"Link Web\"))","v":"Link Web"},{"$f":"$G$2","v":0},91.29]
[]
[null,"Dispositivos Choque e Inércia com Contacto Magnético"]
[null,"RF620I4-N",{"$f":"_xlfn.XLOOKUP($B44,Tabela!A:A,Tabela!C:C,\"não encontrado\")","v":"Mature"},"Sensor choque e inércia com contato magnético, branco - 433 MHz",{"$f":"_xlfn.XLOOKUP($B44,Tabela!$A:$A,Tabela!$D:$D,\"não encontrado\")","v":135.22},{"$f":"IF(B44 =ISTEXT(qualquer), \"\", HYPERLINK(\"https://pt.firesecurityproducts.com/pt/search?q=\"&B44, \"Link Web\"))","v":"Link Web"},{"$f":"$G$2","v":0},{"$f":"IF(ISBLANK(G44),\"\",E44-(E44*$G44))","v":135.22}]
[null,"RF620I4B-N",{"$f":"_xlfn.XLOOKUP($B45,Tabela!A:A,Tabela!C:C,\"não encontrado\")","v":"Mature"},"Sensor choque e inércia com contato magnético, castanho - 433 MHz",{"$f":"_xlfn.XLOOKUP($B45,Tabela!$A:$A,Tabela!$D:$D,\"não encontrado\")","v":141.99},{"$f":"IF(B45 =ISTEXT(qualquer), \"\", HYPERLINK(\"https://pt.firesecurityproducts.com/pt/search?q=\"&B45, \"Link Web\"))","v":"Link Web"},0,141.99]
[]
[null,"Dispositivos Pânico"]
[null,"RF-4200-01-1",{"$f":"_xlfn.XLOOKUP($B48,Tabela!A:A,Tabela!C:C,\"não encontrado\")","v":"Mature"},"Dispositivo Pânico Branco - 433MHz                                                                                                                         Utilização como colar ou no pulso",{"$f":"_xlfn.XLOOKUP($B48,Tabela!$A:$A,Tabela!$D:$D,\"não encontrado\")","v":73.739999999999995},{"$f":"IF(B48 =ISTEXT(qualquer), \"\", HYPERLINK(\"https://pt.firesecurityproducts.com/pt/search?q=\"&B48, \"Link Web\"))","v":"Link Web"},0,{"$f":"IF(ISBLANK(G48),\"\",E48-(E48*$G48))","v":73.739999999999995}]
[null,"RF-4200-01-2",{"$f":"_xlfn.XLOOKUP($B49,Tabela!A:A,Tabela!C:C,\"não encontrado\")","v":"Mature"},"Dispositivo Pânico Preto - 433MHz                                                                                                                         Utilização como colar ou no pulso",{"$f":"_xlfn.XLOOKUP($B49,Tabela!$A:$A,Tabela!$D:$D,\"não encontrado\")","v":73.739999999999995},{"$f":"IF(B49 =ISTEXT(qualquer), \"\", HYPERLINK(\"https://pt.firesecurityproducts.com/pt/search?q=\"&B49, \"Link Web\"))","v":"Link Web"},0,73.739999999999995]
[]
[null,"Detetores Volumétricos PIR"]
[null,"RF4012I4",{"$f":"_xlfn.XLOOKUP($B52,Tabela!A:A,Tabela!C:C,\"não encontrado\")","v":"Mature"},"Detetor PIR - 433 MHz\nProcessamento de sinal 5D; 9 cortinas de 12m                                                                                                                                                  ",{"$f":"_xlfn.XLOOKUP($B52,Tabela!$A:$A,Tabela!$D:$D,\"não encontrado\")","v":81.96},{"$f":"IF(B52 =ISTEXT(qualquer), \"\", HYPERLINK(\"https://pt.firesecurityproducts.com/pt/search?q=\"&B52, \"Link Web\"))","v":"Link Web"},0,{"$f":"IF(ISBLANK(G52),\"\",E52-(E52*$G52))","v":81.96}]
[null,"RF4012I4PI",{"$f":"_xlfn.XLOOKUP($B53,Tabela!A:A,Tabela!C:C,\"não encontrado\")","v":"Mature"},"Detetor PIR Imune a pequenos animais (PI) - 433 MHz\n Processamento de sinal 5D; 9 cortinas de 12m                                                                                                                                                  ",{"$f":"_xlfn.XLOOKUP($B53,Tabela!$A:$A,Tabela!$D:$D,\"não encontrado\")","v":81.96},{"$f":"IF(B53 =ISTEXT(qualquer), \"\", HYPERLINK(\"https://pt.firesecurityproducts.com/pt/search?q=\"&B53, \"Link Web\"))","v":"Link Web"},0,81.96]
[null,"RF4016I4",{"$f":"_xlfn.XLOOKUP($B54,Tabela!A:A,Tabela!C:C,\"não encontrado\")","v":"Mature"},"Detetor PIR  - 433 MHz\nProcessamento de sinal 5D; 9 cortinas de 16m                                                                                                                                                  ",{"$f":"_xlfn.XLOOKUP($B54,Tabela!$A:$A,Tabela!$D:$D,\"não encontrado\")","v":102.63},{"$f":"IF(B54 =ISTEXT(qualquer), \"\", HYPERLINK(\"https://pt.firesecurityproducts.com/pt/search?q=\"&B54, \"Link Web\"))","v":"Link Web"},0,102.63]
[]
[null,"Detetores Dupla Tecnologia"]
[null,"RF4112I4",{"$f":"_xlfn.XLOOKUP($B57,Tabela!A:A,Tabela!C:C,\"não encontrado\")","v":"Mature"},"Detetor Dupla Tecnologia - 433 MHz 9 Cortinas de 12m                                                                                                                                           ",{"$f":"_xlfn.XLOOKUP($B57,Tabela!$A:$A,Tabela!$D:$D,\"não encontrado\")","v":154.36000000000001},{"$f":"IF(B57 =ISTEXT(qualquer), \"\", HYPERLINK(\"https://pt.firesecurityproducts.com/pt/search?q=\"&B57, \"Link Web\"))","v":"Link Web"},{"$f":"$G$2","v":0},{"$f":"IF(ISBLANK(G57),\"\",E57-(E57*$G57))","v":154.36000000000001}]
[null,"RF4112I4PI",{"$f":"_xlfn.XLOOKUP($B58,Tabela!A:A,Tabela!C:C,\"não encontrado\")","v":"Mature"},"Detetor Dupla Tecnologia Imune a pequenos animais (PI)  - 433 MHz\nImune a pequenos animais (PI),  9 cortinas -12m                                                                                                                                           ",{"$f":"_xlfn.XLOOKUP($B58,Tabela!$A:$A,Tabela!$D:$D,\"não encontrado\")","v":154.36000000000001},{"$f":"IF(B58 =ISTEXT(qualquer), \"\", HYPERLINK(\"https://pt.firesecurityproducts.com/pt/search?q=\"&B58, \"Link Web\"))","v":"Link Web"},{"$f":"$G$2","v":0},154.36000000000001]
[]
[null,"Detetores Volumétricos PIR - Aplicação Exterior"]
[null,"RF430I4",{"$f":"_xlfn.XLOOKUP($B61,Tabela!A:A,Tabela!C:C,\"não encontrado\")","v":"Mature"},"Detetor para exterior - 433 MHz\nCampo de visão 70º , 15 m   - Altura de instalação 3 -6m. Classificação IP: IP65",{"$f":"_xlfn.XLOOKUP($B61,Tabela!$A:$A,Tabela!$D:$D,\"não encontrado\")","v":234.54},{"$f":"IF(B61 =ISTEXT(qualquer), \"\", HYPERLINK(\"https://pt.firesecurityproducts.com/pt/search?q=\"&B61, \"Link Web\"))","v":"Link Web"},{"$f":"$G$2","v":0},{"$f":"IF(ISBLANK(G61),\"\",E61-(E61*$G61))","v":234.54}]
[null,"RF440I4",{"$f":"_xlfn.XLOOKUP($B62,Tabela!A:A,Tabela!C:C,\"não encontrado\")","v":"Mature"},"Detetor para exterior - 433 MHz\nCampo de visão 70º , 15 / 20 / 30 m   - Altura de instalação 3 -6m, Classificação IP: IP55",{"$f":"_xlfn.XLOOKUP($B62,Tabela!$A:$A,Tabela!$D:$D,\"não encontrado\")","v":267.7},{"$f":"IF(B62 =ISTEXT(qualquer), \"\", HYPERLINK(\"https://pt.firesecurityproducts.com/pt/search?q=\"&B62, \"Link Web\"))","v":"Link Web"},{"$f":"$G$2","v":0},267.7]
[]
[null,"Detetores de Incêndio"]
[null,"RF581I4",{"$f":"_xlfn.XLOOKUP($B65,Tabela!A:A,Tabela!C:C,\"não encontrado\")","v":"Mature"},"Detetor ótico/térmico com sirene incorporada- 433Mhz.  Seleção de modo de deteção: só ótico / só térmico / ótico e térmico. 8 Tipo de toque de sirene. Botão de teste com contorno LED de estado. Certificação EN14604                    ",{"$f":"_xlfn.XLOOKUP($B65,Tabela!$A:$A,Tabela!$D:$D,\"não encontrado\")","v":207.06},{"$f":"IF(B65 =ISTEXT(qualquer), \"\", HYPERLINK(\"https://pt.firesecurityproducts.com/pt/search?q=\"&B65, \"Link Web\"))","v":"Link Web"},{"$f":"$G$2","v":0},{"$f":"IF(ISBLANK(G65),\"\",E65-(E65*$G65))","v":207.06}]
[]
[null,"Comandos",null,null,"PVP",null,"Desconto","Preço Liquido"]
[null,"RF352I4",{"$f":"_xlfn.XLOOKUP($B68,Tabela!A:A,Tabela!C:C,\"não encontrado\")","v":"Mature"},"Comando de 2 botões - 433 MHZ",{"$f":"_xlfn.XLOOKUP($B68,Tabela!$A:$A,Tabela!$D:$D,\"não encontrado\")","v":104.35},{"$f":"IF(B68 =ISTEXT(qualquer), \"\", HYPERLINK(\"https://pt.firesecurityproducts.com/pt/search?q=\"&B68, \"Link Web\"))","v":"Link Web"},{"$f":"$G$2","v":0},{"$f":"IF(ISBLANK(G68),\"\",E68-(E68*$G68))","v":104.35}]
[null,"RF354I4",{"$f":"_xlfn.XLOOKUP($B69,Tabela!A:A,Tabela!C:C,\"não encontrado\")","v":"Mature"},"Comando de 4 botões - 433MHz",{"$f":"_xlfn.XLOOKUP($B69,Tabela!$A:$A,Tabela!$D:$D,\"não encontrado\")","v":113.04},{"$f":"IF(B69 =ISTEXT(qualquer), \"\", HYPERLINK(\"https://pt.firesecurityproducts.com/pt/search?q=\"&B69, \"Link Web\"))","v":"Link Web"},{"$f":"$G$2","v":0},113.04]
[]
["RF 868 Gen2",null,"Vídeo Verificação"]
[null,null,"O expansor ATS238 Advanced permite a capacidade de entrada dos painéis Advisor Advanced até 32 zonas, utilizando sensores sem fios PIRCam e sensores sem fios 868 MHz Gen2: i.e. PIR, contacto de porta, etc. \nO ATS1238 é normalmente instalado no interior da caixa grande de poliéster e ligado ao interface de bus MI do painel Advisor Advanced. \n• Até 32 Zonas Via Rádio incluindo Câmaras PIR\n• Máximo de 8 Câmaras PIR\n• EN50131 Grau 2                                                                                               "]
[]
[]
[]
[]
[]
[]
[]
[]
[null,"ATS1238",{"$f":"_xlfn.XLOOKUP($B81,Tabela!A:A,Tabela!C:C,\"não encontrado\")","v":"Mature"},"Interface Wireless 868Gen2 - para detetores via radio  868Gen2 e PIRCAM\nLiga no BUS MI da Central",{"$f":"_xlfn.XLOOKUP($B81,Tabela!$A:$A,Tabela!$D:$D,\"não encontrado\")","v":211.28},{"$f":"IF(B81 =ISTEXT(qualquer), \"\", HYPERLINK(\"https://pt.firesecurityproducts.com/pt/search?q=\"&B81, \"Link Web\"))","v":"Link Web"},{"$f":"$G$2","v":0},{"$f":"IF(ISBLANK(G81),\"\",E81-(E81*$G81))","v":211.28}]
[]
[null,"Câmara PIR"]
[null,"TX-2344-03-1-N",{"$f":"_xlfn.XLOOKUP($B84,Tabela!A:A,Tabela!C:C,\"não encontrado\")","v":"Mature"},"PIRCAM - Detetor via radio com câmara para vídeo verificação - IR 12metros, tecnologia vetorial (VE), 9 cortinas 86º -  Grau 2 EN50131 - Camara VGA Day/Night com cobertura igual ao detetor, Iluminação mínima 0,2 Lux @ f1.2",{"$f":"_xlfn.XLOOKUP($B84,Tabela!$A:$A,Tabela!$D:$D,\"não encontrado\")","v":484.81},{"$f":"IF(B84 =ISTEXT(qualquer), \"\", HYPERLINK(\"https://pt.firesecurityproducts.com/pt/search?q=\"&B84, \"Link Web\"))","v":"Link Web"},{"$f":"$G$2","v":0},{"$f":"IF(ISBLANK(G84),\"\",E84-(E84*$G84))","v":484.81}]
[]
[null,"Extensor para ATS1238"]
[null,"ATS7072",{"$f":"_xlfn.XLOOKUP($B87,Tabela!A:A,Tabela!C:C,\"não encontrado\")","v":"Mature"},"Extensor com caixa para ATS1238\nPermite colocar o interface ATS1238, até 100 da central",{"$f":"_xlfn.XLOOKUP($B87,Tabela!$A:$A,Tabela!$D:$D,\"não encontrado\")","v":155.87},{"$f":"IF(B87 =ISTEXT(qualquer), \"\", HYPERLINK(\"https://pt.firesecurityproducts.com/pt/search?q=\"&B87, \"Link Web\"))","v":"Link Web"},{"$f":"$G$2","v":0},{"$f":"IF(ISBLANK(G87),\"\",E87-(E87*$G87))","v":155.87}]
[]
["RF 868 Gen2",null,"Interface Dispositivos RF"]
[null,null,"O expansor ATS235 Advanced permite a capacidade de entrada dos painéis Advisor Advanced até 32 zonas,\n• Até 32 dispositivos RF\n• Até 15 ou 30 expansores por central (dependente do modelo) \n• EN50131 Grau 2                                                                                               "]
[]
[]
[]
[]
[]
[]
[null,null,null,null,"PVP",null,"Desconto","Preço Liquido"]
[null,"ATS1235",{"$f":"_xlfn.XLOOKUP($B98,Tabela!A:A,Tabela!C:C,\"não encontrado\")","v":"Mature"},"DGP 32 zonas  via rádio. Ligação em bus.                                                                                             \nFrequência 868Mhz Gen2                                                                                                \nEN50131 Grau 2",{"$f":"_xlfn.XLOOKUP($B98,Tabela!$A:$A,Tabela!$D:$D,\"não encontrado\")","v":174.34},{"$f":"IF(B98 =ISTEXT(qualquer), \"\", HYPERLINK(\"https://pt.firesecurityproducts.com/pt/search?q=\"&B98, \"Link Web\"))","v":"Link Web"},{"$f":"$G$2","v":0},{"$f":"IF(ISBLANK(G98),\"\",E98-(E98*$G98))","v":174.34}]
[]
[null,"Contactos Magnéticos"]
[null,"TX-1011-03-1",{"$f":"_xlfn.XLOOKUP($B101,Tabela!A:A,Tabela!C:C,\"não encontrado\")","v":"Mature"},"Transmissor universal e contacto magnético via rádio supervisionado 868 MHz Gen2, branco. Incorpora um contacto magnético, com duas posições e tamper. Funciona com 1 pilha de lítio de 3 V tipo CR123A, duração 3-5 anos. ",{"$f":"_xlfn.XLOOKUP($B101,Tabela!$A:$A,Tabela!$D:$D,\"não encontrado\")","v":71.7},{"$f":"IF(B101 =ISTEXT(qualquer), \"\", HYPERLINK(\"https://pt.firesecurityproducts.com/pt/search?q=\"&B101, \"Link Web\"))","v":"Link Web"},{"$f":"$G$2","v":0},{"$f":"IF(ISBLANK(G101),\"\",E101-(E101*$G101))","v":71.7}]
[null,"TX-1011-03-3",{"$f":"_xlfn.XLOOKUP($B102,Tabela!A:A,Tabela!C:C,\"não encontrado\")","v":"Mature"},"Transmissor universal e contacto magnético via rádio supervisionado 868 MHz Gen2, Castanho. Incorpora um contacto magnético, com duas posições e tamper. Funciona com 1 pilha de lítio de 3 V tipo CR123A, duração 3-5 anos.",{"$f":"_xlfn.XLOOKUP($B102,Tabela!$A:$A,Tabela!$D:$D,\"não encontrado\")","v":71.7},{"$f":"IF(B102 =ISTEXT(qualquer), \"\", HYPERLINK(\"https://pt.firesecurityproducts.com/pt/search?q=\"&B102, \"Link Web\"))","v":"Link Web"},{"$f":"$G$2","v":0},71.7]
[]
[null,"Dispositivos Choque e Inércia com Contacto Magnético"]
[null,"TX-5011-03-1",{"$f":"_xlfn.XLOOKUP($B105,Tabela!A:A,Tabela!C:C,\"não encontrado\")","v":"Mature"},"Detetor de choque/inércia e contacto magnético via rádio supervisionado 868 MHz Gen2, branco. Deteta abertura e impacto. Incorpora um contacto magnético, com duas posições e tamper. Funciona com 1 pilha de lítio de 3 V tipo CR123A, duração 5 anos.",{"$f":"_xlfn.XLOOKUP($B105,Tabela!$A:$A,Tabela!$D:$D,\"não encontrado\")","v":115.84},{"$f":"IF(B105 =ISTEXT(qualquer), \"\", HYPERLINK(\"https://pt.firesecurityproducts.com/pt/search?q=\"&B105, \"Link Web\"))","v":"Link Web"},{"$f":"$G$2","v":0},{"$f":"IF(ISBLANK(G105),\"\",E105-(E105*$G105))","v":115.84}]
[null,"TX-5011-03-3",{"$f":"_xlfn.XLOOKUP($B106,Tabela!A:A,Tabela!C:C,\"não encontrado\")","v":"Mature"},"Detetor de choque/inércia e contacto magnético via rádio supervisionado 868 MHz Gen2, Castanho. Deteta abertura e impacto. Incorpora um contacto magnético, com duas posições e tamper. Funciona com 1 pilha de lítio de 3 V tipo CR123A, duração 5 anos.",{"$f":"_xlfn.XLOOKUP($B106,Tabela!$A:$A,Tabela!$D:$D,\"não encontrado\")","v":121.63},{"$f":"IF(B106 =ISTEXT(qualquer), \"\", HYPERLINK(\"https://pt.firesecurityproducts.com/pt/search?q=\"&B106, \"Link Web\"))","v":"Link Web"},0,121.63]
[]
[null,"Detetores Volumétricos PIR"]
[null,"TX-2213-03-1",{"$f":"_xlfn.XLOOKUP($B109,Tabela!A:A,Tabela!C:C,\"não encontrado\")","v":"Mature"},"Wireless PIR 12m 868AM Gen2",{"$f":"_xlfn.XLOOKUP($B109,Tabela!$A:$A,Tabela!$D:$D,\"não encontrado\")","v":94.67},{"$f":"IF(B109 =ISTEXT(qualquer), \"\", HYPERLINK(\"https://pt.firesecurityproducts.com/pt/search?q=\"&B109, \"Link Web\"))","v":"Link Web"},{"$f":"$G$2","v":0},{"$f":"IF(ISBLANK(G109),\"\",E109-(E109*$G109))","v":94.67}]
[null,"TX-2214-03-1",{"$f":"_xlfn.XLOOKUP($B110,Tabela!A:A,Tabela!C:C,\"não encontrado\")","v":"Mature"},"Wireless PIR 16m 868AM Gen2",{"$f":"_xlfn.XLOOKUP($B110,Tabela!$A:$A,Tabela!$D:$D,\"não encontrado\")","v":117.4},{"$f":"IF(B110 =ISTEXT(qualquer), \"\", HYPERLINK(\"https://pt.firesecurityproducts.com/pt/search?q=\"&B110, \"Link Web\"))","v":"Link Web"},0,117.4]
[null,"TX-2311-03-1",{"$f":"_xlfn.XLOOKUP($B111,Tabela!A:A,Tabela!C:C,\"não encontrado\")","v":"Mature"},"Wireless PIR 12m PI 868AM Gen2",{"$f":"_xlfn.XLOOKUP($B111,Tabela!$A:$A,Tabela!$D:$D,\"não encontrado\")","v":94.67},{"$f":"IF(B111 =ISTEXT(qualquer), \"\", HYPERLINK(\"https://pt.firesecurityproducts.com/pt/search?q=\"&B111, \"Link Web\"))","v":"Link Web"},0,94.67]
[]
[null,"Detetores Dupla Tecnologia"]
[null,"TX-2413-03-1",{"$f":"_xlfn.XLOOKUP($B114,Tabela!A:A,Tabela!C:C,\"não encontrado\")","v":"Mature"},"Wireless Dual Technology 12m 868AM Gen2",{"$f":"_xlfn.XLOOKUP($B114,Tabela!$A:$A,Tabela!$D:$D,\"não encontrado\")","v":131.26},{"$f":"IF(B114 =ISTEXT(qualquer), \"\", HYPERLINK(\"https://pt.firesecurityproducts.com/pt/search?q=\"&B114, \"Link Web\"))","v":"Link Web"},{"$f":"$G$2","v":0},{"$f":"IF(ISBLANK(G114),\"\",E114-(E114*$G114))","v":131.26}]
[null,"TX-2511-03-1",{"$f":"_xlfn.XLOOKUP($B115,Tabela!A:A,Tabela!C:C,\"não encontrado\")","v":"Mature"},"Wireless Dual Technology 12m PI 868AM Gen2",{"$f":"_xlfn.XLOOKUP($B115,Tabela!$A:$A,Tabela!$D:$D,\"não encontrado\")","v":131.26},{"$f":"IF(B115 =ISTEXT(qualquer), \"\", HYPERLINK(\"https://pt.firesecurityproducts.com/pt/search?q=\"&B115, \"Link Web\"))","v":"Link Web"},{"$f":"$G$2","v":0},{"$f":"IF(ISBLANK(G115),\"\",E115-(E115*$G115))","v":131.26}]
[]
[null,"Detetores Volumétricos PIR - Aplicação Exterior"]
[null,"TX-2810-03-4",{"$f":"_xlfn.XLOOKUP($B118,Tabela!A:A,Tabela!C:C,\"não encontrado\")","v":"Mature"},"Wireless outdoor PIR 868AM Gen2\nFunciona com os recetores ATS1235 e repetidor TX-9001-03",{"$f":"_xlfn.XLOOKUP($B118,Tabela!$A:$A,Tabela!$D:$D,\"não encontrado\")","v":279.87},{"$f":"IF(B118 =ISTEXT(qualquer), \"\", HYPERLINK(\"https://pt.firesecurityproducts.com/pt/search?q=\"&B118, \"Link Web\"))","v":"Link Web"},{"$f":"$G$2","v":0},{"$f":"IF(ISBLANK(G118),\"\",E118-(E118*$G118))","v":279.87}]
[null,"TX-2821-03-4",{"$f":"_xlfn.XLOOKUP($B119,Tabela!A:A,Tabela!C:C,\"não encontrado\")","v":"Mature"},"Detetor PIR  868 Gen2 para exterior.  Campo de visão 70º , 15 m   - Altura de instalação 3 -6m. Classificação IP: IP65",{"$f":"_xlfn.XLOOKUP($B119,Tabela!$A:$A,Tabela!$D:$D,\"não encontrado\")","v":293.08999999999997},{"$f":"IF(B119 =ISTEXT(qualquer), \"\", HYPERLINK(\"https://pt.firesecurityproducts.com/pt/search?q=\"&B119, \"Link Web\"))","v":"Link Web"},{"$f":"$G$2","v":0},293.08999999999997]
[]
[null,"Dispositivos Pânico"]
[null,"TX-3011-03-1",{"$f":"_xlfn.XLOOKUP($B122,Tabela!A:A,Tabela!C:C,\"não encontrado\")","v":"Mature"},"Botão de pânico ou emergência, pendente, via rádio supervisionado 868 MHz Gen2. Resistente á agua (3mt) e impacto. Configuração independente por botão. Funciona com 1 pilha de lítio de 3 V tipo. ",{"$f":"_xlfn.XLOOKUP($B122,Tabela!$A:$A,Tabela!$D:$D,\"não encontrado\")","v":71.7},{"$f":"IF(B122 =ISTEXT(qualquer), \"\", HYPERLINK(\"https://pt.firesecurityproducts.com/pt/search?q=\"&B122, \"Link Web\"))","v":"Link Web"},{"$f":"$G$2","v":0},{"$f":"IF(ISBLANK(G122),\"\",E122-(E122*$G122))","v":71.7}]
[null,"TX-3011-03-2",{"$f":"_xlfn.XLOOKUP($B123,Tabela!A:A,Tabela!C:C,\"não encontrado\")","v":"Mature"},"Comando 2 botões de pânico, 868 MHz Gen2 - Preto",{"$f":"_xlfn.XLOOKUP($B123,Tabela!$A:$A,Tabela!$D:$D,\"não encontrado\")","v":71.7},{"$f":"IF(B123 =ISTEXT(qualquer), \"\", HYPERLINK(\"https://pt.firesecurityproducts.com/pt/search?q=\"&B123, \"Link Web\"))","v":"Link Web"},{"$f":"$G$2","v":0},71.7]
[]
[null,"Comandos",null,null,"PVP",null,"Desconto","Preço Liquido"]
[null,"TX-4131-03-2",{"$f":"_xlfn.XLOOKUP($B126,Tabela!A:A,Tabela!C:C,\"não encontrado\")","v":"Mature"},"Comando via rádio de 4 botões, 868 MHz Gen2.Permite ligar e desligar a central e ativar funções programáveis. Funciona com 1 pilha alcalina de 12 V tipo A23, duração 3 anos. ",{"$f":"_xlfn.XLOOKUP($B126,Tabela!$A:$A,Tabela!$D:$D,\"não encontrado\")","v":70.959999999999994},{"$f":"IF(B126 =ISTEXT(qualquer), \"\", HYPERLINK(\"https://pt.firesecurityproducts.com/pt/search?q=\"&B126, \"Link Web\"))","v":"Link Web"},{"$f":"$G$2","v":0},{"$f":"IF(ISBLANK(G126),\"\",E126-(E126*$G126))","v":70.959999999999994}]
[]
[null,"Detetores de Incêndio"]
[null,"TX-6010-03-1",{"$f":"_xlfn.XLOOKUP($B129,Tabela!A:A,Tabela!C:C,\"não encontrado\")","v":"Mature"},"Detetor de Fumo/temperatura 868AM Gen2",{"$f":"_xlfn.XLOOKUP($B129,Tabela!$A:$A,Tabela!$D:$D,\"não encontrado\")","v":241.57},{"$f":"IF(B129 =ISTEXT(qualquer), \"\", HYPERLINK(\"https://pt.firesecurityproducts.com/pt/search?q=\"&B129, \"Link Web\"))","v":"Link Web"},{"$f":"$G$2","v":0},{"$f":"IF(ISBLANK(G129),\"\",E129-(E129*$G129))","v":241.57}]
[]
["RF 868 Gen2",null,"Interface Dispositivos RF"]
[null,null,"O repetidor sem fios recebe e retransmite sinais 433 MHz de sensores registados.\n •  Seleção de funcionamento 433 MHz 63 bit ou 433 MHz LoNa\n •  Sem antenas externas\n • Visualização de RSSI, Nível de ruído de fundo, Nível de bateria do sensor\n • Bateria de backup recarregável de iões de Lítio, incluída\n • Reporte de falha AC, bateria baixa, tamper, supervisão RF, empastelamento RF\n •  4 repetidores em cascata (modo inteligente)\n • 16 repetidores por sistema\nEN50131 Grau 2, INCERT Grau 2"]
[]
[]
[]
[]
[]
[]
[]
[]
[]
[]
[null,"RF-9011-07-1",{"$f":"_xlfn.XLOOKUP($B143,Tabela!A:A,Tabela!C:C,\"não encontrado\")","v":"Mature"},"Repetidor 433Mhz LoNa / 433Mhz 63-bit                                                                              \n EN50131 Grau 2, INCERT Grau 2",{"$f":"_xlfn.XLOOKUP($B143,Tabela!$A:$A,Tabela!$D:$D,\"não encontrado\")","v":178.52},{"$f":"IF(B143 =ISTEXT(qualquer), \"\", HYPERLINK(\"https://pt.firesecurityproducts.com/pt/search?q=\"&B143, \"Link Web\"))","v":"Link Web"},{"$f":"$G$2","v":0},{"$f":"IF(ISBLANK(G143),\"\",E143-(E143*$G143))","v":178.52}]

{"sheet":"Sinalização","index":11,"n_rows":117,"n_cols":8,"rows_kept":117,"cut":false,"hidden":false,"merged":[[1,6,2,6],[5,2,13,4],[35,2,45,4],[20,2,29,4],[102,2,107,4],[91,2,97,4],[59,2,67,4],[72,2,80,4],[0,2,2,3]]}
[null,null,"Sinalização"]
[null,null,null,null,null,null,0]
[]
[null,null,"Status",null,"PVP",null,"Desconto","Preço \nLiquido"]
["Série AS50x",null,"Sirene Exterior com 1 Flash"]
[null,null,"Sirene autoalimentada p/exterior 114 dBA, freq. 0,5 - 3,0Khz\n • Temporização ajustável em 3, 5, 10, 20 minutos.\n • 1 Flash incorporado, com lente de cor\n • Bateria não incluída\n • 2 Speakers tipo Piezo\n • Caixa em policarbonato anti - corrosão, branco de 3mm.\n • Caixa Metálica p/Interior. (OPCIONAL)\n • 12VDC Baixo consumo 70 mA\n • Circuito temporizador/modulador impregnado de resina."]
[]
[]
[]
[]
[]
[]
[]
[]
[null,null,null,null,"PVP",null,"Desconto","Preço Liquido"]
[null,"AS507",{"$f":"_xlfn.XLOOKUP($B16,Tabela!A:A,Tabela!C:C,\"não encontrado\")","v":"Mature"},"Sirene autoalimentada p/exterior 114 dBA - 1 Flash Azul",{"$f":"_xlfn.XLOOKUP($B16,Tabela!$A:$A,Tabela!$D:$D,\"não encontrado\")","v":95.33},{"$f":"IF(B16 =ISTEXT(qualquer), \"\", HYPERLINK(\"https://pt.firesecurityproducts.com/pt/search?q=\"&B16, \"Link Web\"))","v":"Link Web"},{"$f":"$G$2","v":0},{"$f":"IF(ISBLANK(G16),\"\",E16-(E16*$G16))","v":95.33}]
[null,"AS505",{"$f":"_xlfn.XLOOKUP($B17,Tabela!A:A,Tabela!C:C,\"não encontrado\")","v":"Mature"},"Sirene autoalimentada p/exterior 114 dBA - 1 Flash Âmbar",{"$f":"_xlfn.XLOOKUP($B17,Tabela!$A:$A,Tabela!$D:$D,\"não encontrado\")","v":100.97},{"$f":"IF(B17 =ISTEXT(qualquer), \"\", HYPERLINK(\"https://pt.firesecurityproducts.com/pt/search?q=\"&B17, \"Link Web\"))","v":"Link Web"},{"$f":"$G$2","v":0},{"$f":"IF(ISBLANK(G17),\"\",E17-(E17*$G17))","v":100.97}]
[null,"AS506",{"$f":"_xlfn.XLOOKUP($B18,Tabela!A:A,Tabela!C:C,\"não encontrado\")","v":"Mature"},"Sirene autoalimentada p/exterior 114 dBA - 1 Flash Vermelho",{"$f":"_xlfn.XLOOKUP($B18,Tabela!$A:$A,Tabela!$D:$D,\"não encontrado\")","v":100.97},{"$f":"IF(B18 =ISTEXT(qualquer), \"\", HYPERLINK(\"https://pt.firesecurityproducts.com/pt/search?q=\"&B18, \"Link Web\"))","v":"Link Web"},{"$f":"$G$2","v":0},100.97]
[]
["Série AS52x",null,"Sirene Exterior com 2 Flashs"]
[null,null,"Sirene auto - alimentada p/exterior 114 dBA, freq. 0,5 - 3,0Khz\n • Temporização ajustável em 3, 5, 10, 20 minutos.\n • 2 Flash incorporados, com lentes coloridas\n • Bateria não incluída\n • 2 Besouros tipo Piezo\n • Caixa em policarbonato anti - corrosão, branco de 3mm.\n • Caixa Metálica p/Interior. (OPCIONAL)\n • Montagem Vertical / Horizontal\n • 12VDC Baixo consumo 70 mA\n • Circuito temporizador/modulador impregnado de resina."]
[]
[]
[]
[]
[]
[]
[]
[]
[]
[]
[null,"AS525",{"$f":"_xlfn.XLOOKUP($B32,Tabela!A:A,Tabela!C:C,\"não encontrado\")","v":"Sell-out"},"Sirene autoalimentada p/exterior 114 dBA - 2 Flash Azuis",{"$f":"_xlfn.XLOOKUP($B32,Tabela!$A:$A,Tabela!$D:$D,\"não encontrado\")","v":107.05},{"$f":"IF(B32 =ISTEXT(qualquer), \"\", HYPERLINK(\"https://pt.firesecurityproducts.com/pt/search?q=\"&B32, \"Link Web\"))","v":"Link Web"},{"$f":"$G$2","v":0},{"$f":"IF(ISBLANK(G32),\"\",E32-(E32*$G32))","v":107.05}]
[null,"AS527",{"$f":"_xlfn.XLOOKUP($B33,Tabela!A:A,Tabela!C:C,\"não encontrado\")","v":"Sell-out"},"Sirene autoalimentada p/exterior 114 dBA - 2 Flash Âmbar",{"$f":"_xlfn.XLOOKUP($B33,Tabela!$A:$A,Tabela!$D:$D,\"não encontrado\")","v":111.39},{"$f":"IF(B33 =ISTEXT(qualquer), \"\", HYPERLINK(\"https://pt.firesecurityproducts.com/pt/search?q=\"&B33, \"Link Web\"))","v":"Link Web"},{"$f":"$G$2","v":0},111.39]
[]
["Série AS6xx",null,"Sirene Exterior - EN50131 Grau 3"]
[null,null,"Sirene Exterior Autoalimentada EN50131 Grau 3 Class III\n • 120 dBA@ 1m\n • Circuito temporizador/modulador impregnado de resina\n • Temporização ajustável em 3, 5, 10, 20 minutos.\n • Flash incorporados, com lentes coloridas\n • Bateria não incluída\n • Speaker tipo Piezo\n • Caixa em policarbonato anti corrosão, branco de 3,5mm.\n • Caixa Metálica Interior com grelha anti afonia\n • 12VDC Baixo consumo \n • Circuito temporizador/modulador impregnado de resina\n • Formato A4 - 300 x 210 x 87 mm"]
[]
[]
[]
[]
[]
[]
[]
[]
[]
[]
[]
[null,"AS610",{"$f":"_xlfn.XLOOKUP($B48,Tabela!A:A,Tabela!C:C,\"não encontrado\")","v":"Mature"},"Sirene Autoalimentada em ABS, 120 dBA, EN50131 G3 - Lente ÂMBAR",{"$f":"_xlfn.XLOOKUP($B48,Tabela!$A:$A,Tabela!$D:$D,\"não encontrado\")","v":136.47999999999999},{"$f":"IF(B48 =ISTEXT(qualquer), \"\", HYPERLINK(\"https://pt.firesecurityproducts.com/pt/search?q=\"&B48, \"Link Web\"))","v":"Link Web"},{"$f":"$G$2","v":0},{"$f":"IF(ISBLANK(G48),\"\",E48-(E48*$G48))","v":136.47999999999999}]
[null,"AS619",{"$f":"_xlfn.XLOOKUP($B49,Tabela!A:A,Tabela!C:C,\"não encontrado\")","v":"Mature"},"Sirene autoalimentada em ABS, 120 dBA, EN50131 G3 - Lente Azul",{"$f":"_xlfn.XLOOKUP($B49,Tabela!$A:$A,Tabela!$D:$D,\"não encontrado\")","v":157.35},{"$f":"IF(B49 =ISTEXT(qualquer), \"\", HYPERLINK(\"https://pt.firesecurityproducts.com/pt/search?q=\"&B49, \"Link Web\"))","v":"Link Web"},{"$f":"$G$2","v":0},157.35]
[null,"AS630",{"$f":"_xlfn.XLOOKUP($B50,Tabela!A:A,Tabela!C:C,\"não encontrado\")","v":"Mature"},"Sirene autoalimentada Metálica, 120 dBA, EN50131 G3 - Lente Âmbar",{"$f":"_xlfn.XLOOKUP($B50,Tabela!$A:$A,Tabela!$D:$D,\"não encontrado\")","v":171.2},{"$f":"IF(B50 =ISTEXT(qualquer), \"\", HYPERLINK(\"https://pt.firesecurityproducts.com/pt/search?q=\"&B50, \"Link Web\"))","v":"Link Web"},{"$f":"$G$2","v":0},171.2]
[]
[null,"Acessórios"]
[null,"AB611",{"$f":"_xlfn.XLOOKUP($B53,Tabela!A:A,Tabela!C:C,\"não encontrado\")","v":"Mature"},"Lente ÂMBAR p/ Série AS610",{"$f":"_xlfn.XLOOKUP($B53,Tabela!$A:$A,Tabela!$D:$D,\"não encontrado\")","v":18.43},{"$f":"IF(B53 =ISTEXT(qualquer), \"\", HYPERLINK(\"https://pt.firesecurityproducts.com/pt/search?q=\"&B53, \"Link Web\"))","v":"Link Web"},{"$f":"$G$2","v":0},{"$f":"IF(ISBLANK(G53),\"\",E53-(E53*$G53))","v":18.43}]
[null,"AB612",{"$f":"_xlfn.XLOOKUP($B54,Tabela!A:A,Tabela!C:C,\"não encontrado\")","v":"Mature"},"Lente AZUL p/ Série AS610",{"$f":"_xlfn.XLOOKUP($B54,Tabela!$A:$A,Tabela!$D:$D,\"não encontrado\")","v":14.65},{"$f":"IF(B54 =ISTEXT(qualquer), \"\", HYPERLINK(\"https://pt.firesecurityproducts.com/pt/search?q=\"&B54, \"Link Web\"))","v":"Link Web"},{"$f":"$G$2","v":0},14.65]
[null,"AB630",{"$f":"_xlfn.XLOOKUP($B55,Tabela!A:A,Tabela!C:C,\"não encontrado\")","v":"Mature"},"Lente TRANSPARENTE p/ Série AS630",{"$f":"_xlfn.XLOOKUP($B55,Tabela!$A:$A,Tabela!$D:$D,\"não encontrado\")","v":17},{"$f":"IF(B55 =ISTEXT(qualquer), \"\", HYPERLINK(\"https://pt.firesecurityproducts.com/pt/search?q=\"&B55, \"Link Web\"))","v":"Link Web"},{"$f":"$G$2","v":0},17]
[null,"AS600S19",{"$f":"_xlfn.XLOOKUP($B56,Tabela!A:A,Tabela!C:C,\"não encontrado\")","v":"Mature"},"Tampa Vermelha e lente laranja p/ Série AS610",{"$f":"_xlfn.XLOOKUP($B56,Tabela!$A:$A,Tabela!$D:$D,\"não encontrado\")","v":63.64},{"$f":"IF(B56 =ISTEXT(qualquer), \"\", HYPERLINK(\"https://pt.firesecurityproducts.com/pt/search?q=\"&B56, \"Link Web\"))","v":"Link Web"},{"$f":"$G$2","v":0},63.64]
[]
[]
["Série AS7xxG#",null,"Sirene Exterior - EN50131 Grau 3"]
[null,null,"Sirene Exterior Autoalimentada Grau 3\n• Proteção circuito bateria via fusível automático \n• Proteção avançada de tamper\n• Auto teste de integridade de bateria e do circuito de carga \n• Modo Técnico (inibição de som, para efeitos de instalação e manutenção)\n• 105 dB @ 1m\n• Fabricada em ABS Branco\n• Certificação EN50131 Grau 3 \n• Noma NFA2P Grau 3\n"]
[]
[]
[]
[]
[]
[]
[]
[]
[]
[null,"AS700G3",{"$f":"_xlfn.XLOOKUP($B70,Tabela!A:A,Tabela!C:C,\"não encontrado\")","v":"Mature"},"Sirene Autoalimentada em ABS, 105 dB , EN50131 G3 - Lente ÂMBAR\nDimensões: 203 x 260 x 81mm",{"$f":"_xlfn.XLOOKUP($B70,Tabela!$A:$A,Tabela!$D:$D,\"não encontrado\")","v":159.83000000000001},{"$f":"IF(B70 =ISTEXT(qualquer), \"\", HYPERLINK(\"https://pt.firesecurityproducts.com/pt/search?q=\"&B70, \"Link Web\"))","v":"Link Web"},{"$f":"$G$2","v":0},{"$f":"IF(ISBLANK(G70),\"\",E70-(E70*$G70))","v":159.83000000000001}]
[]
["Série AS27x",null,"Sirene Interior "]
[null,null,"Sirene Interior EN50131 Grau 2 \n • 110 dBA@ 1m                                                                                                                 \n • 1 toque - 2000-2600Hz                                        \n • Proteção Tamper abertura e remoção.\n • 12 VDC - 120mA                                                                                              \n • Versão autoalimentada (opção)\n • Proteção Tamper abertura e remoção.\n • Versão com flash incorporado (opção)\n • Caixa 155 x 114 x 44mm em ABS Branco                                                                                                                                                                                                                                                       "]
[]
[]
[]
[]
[]
[]
[]
[]
[]
[null,"Sirene "]
[null,"AS270",{"$f":"_xlfn.XLOOKUP($B84,Tabela!A:A,Tabela!C:C,\"não encontrado\")","v":"Mature"},"Sirene interior – EN50131 Classe II Grau 2",{"$f":"_xlfn.XLOOKUP($B84,Tabela!$A:$A,Tabela!$D:$D,\"não encontrado\")","v":30.17},{"$f":"IF(B84 =ISTEXT(qualquer), \"\", HYPERLINK(\"https://pt.firesecurityproducts.com/pt/search?q=\"&B84, \"Link Web\"))","v":"Link Web"},{"$f":"$G$2","v":0},{"$f":"IF(ISBLANK(G84),\"\",E84-(E84*$G84))","v":30.17}]
[null,"AS271",{"$f":"_xlfn.XLOOKUP($B85,Tabela!A:A,Tabela!C:C,\"não encontrado\")","v":"Mature"},"Sirene interior com Flash – EN50131 Classe II Grau 2",{"$f":"_xlfn.XLOOKUP($B85,Tabela!$A:$A,Tabela!$D:$D,\"não encontrado\")","v":49.54},{"$f":"IF(B85 =ISTEXT(qualquer), \"\", HYPERLINK(\"https://pt.firesecurityproducts.com/pt/search?q=\"&B85, \"Link Web\"))","v":"Link Web"},{"$f":"$G$2","v":0},49.54]
[]
[null,"Sirene Autoalimentada"]
[null,"AS272",{"$f":"_xlfn.XLOOKUP($B88,Tabela!A:A,Tabela!C:C,\"não encontrado\")","v":"Mature"},"Sirene interior autoalimentada – EN50131 Classe II Grau 2",{"$f":"_xlfn.XLOOKUP($B88,Tabela!$A:$A,Tabela!$D:$D,\"não encontrado\")","v":45.02},{"$f":"IF(B88 =ISTEXT(qualquer), \"\", HYPERLINK(\"https://pt.firesecurityproducts.com/pt/search?q=\"&B88, \"Link Web\"))","v":"Link Web"},{"$f":"$G$2","v":0},{"$f":"IF(ISBLANK(G88),\"\",E88-(E88*$G88))","v":45.02}]
[null,"AS273",{"$f":"_xlfn.XLOOKUP($B89,Tabela!A:A,Tabela!C:C,\"não encontrado\")","v":"Mature"},"Sirene interior autoalimentada com Flash  – EN50131 Classe II Grau 2",{"$f":"_xlfn.XLOOKUP($B89,Tabela!$A:$A,Tabela!$D:$D,\"não encontrado\")","v":56.22},{"$f":"IF(B89 =ISTEXT(qualquer), \"\", HYPERLINK(\"https://pt.firesecurityproducts.com/pt/search?q=\"&B89, \"Link Web\"))","v":"Link Web"},{"$f":"$G$2","v":0},{"$f":"IF(ISBLANK(G89),\"\",E89-(E89*$G89))","v":56.22}]
[]
["Série AS28x",null,"Sirene Interior "]
[null,null,"Sirene Interior EN50131 Grau 3 com certificação NFA2P\n• 105 dBA@ 1m\n• 1 toque - 2000-2600Hz\n• Proteção Tamper abertura e remoção.\n• 9-15 VDC - 100mA\n• Caixa 187 x 167 x 44mm \n• Caixa  aço pintado "]
[]
[]
[]
[]
[]
[]
[]
[null,"AS280G3",{"$f":"_xlfn.XLOOKUP($B100,Tabela!A:A,Tabela!C:C,\"não encontrado\")","v":"Mature"},"Sirene interior - caixa aço branca \nEN50131 Classe II Grau 3",{"$f":"_xlfn.XLOOKUP($B100,Tabela!$A:$A,Tabela!$D:$D,\"não encontrado\")","v":134.08000000000001},{"$f":"IF(B100 =ISTEXT(qualquer), \"\", HYPERLINK(\"https://pt.firesecurityproducts.com/pt/search?q=\"&B100, \"Link Web\"))","v":"Link Web"},{"$f":"$G$2","v":0},{"$f":"IF(ISBLANK(G100),\"\",E100-(E100*$G100))","v":134.08000000000001}]
[]
["Série AS21x",null,"Sirene Interior "]
[null,null,"Sirene Interior EN50131 Grau 3 \n • 110 dBA@ 1m                                                                                                                 \n • 1 toque - 2000-2600Hz                                        \n • Proteção Tamper abertura e remoção.\n • 12 VDC - 120mA\n • Caixa 155 x 114 x 44mm em ABS Branco "]
[]
[]
[]
[]
[]
[]
[null,"AS210N",{"$f":"_xlfn.XLOOKUP($B110,Tabela!A:A,Tabela!C:C,\"não encontrado\")","v":"Mature"},"Sirene interior - caixa ABS branca \nEN50131 Classe II Grau 3",{"$f":"_xlfn.XLOOKUP($B110,Tabela!$A:$A,Tabela!$D:$D,\"não encontrado\")","v":20.67},{"$f":"IF(B110 =ISTEXT(qualquer), \"\", HYPERLINK(\"https://pt.firesecurityproducts.com/pt/search?q=\"&B110, \"Link Web\"))","v":"Link Web"},{"$f":"$G$2","v":0},{"$f":"IF(ISBLANK(G110),\"\",E110-(E110*$G110))","v":20.67}]
[]
["Série AB30x",null,"Sinalização Luminosa"]
[null,null,null,null,"PVP",null,"Desconto","Preço Liquido"]
[null,"AB300",{"$f":"_xlfn.XLOOKUP($B114,Tabela!A:A,Tabela!C:C,\"não encontrado\")","v":"Mature"},"Lâmpada flash Xénon, Transparente\n10-15 VDC - 115 mA / 1 Watt - IP 65 freq. flash +/-60/min.",{"$f":"_xlfn.XLOOKUP($B114,Tabela!$A:$A,Tabela!$D:$D,\"não encontrado\")","v":37.47},{"$f":"IF(B114 =ISTEXT(qualquer), \"\", HYPERLINK(\"https://pt.firesecurityproducts.com/pt/search?q=\"&B114, \"Link Web\"))","v":"Link Web"},{"$f":"$G$2","v":0},{"$f":"IF(ISBLANK(G114),\"\",E114-(E114*$G114))","v":37.47}]
[null,"AB301",{"$f":"_xlfn.XLOOKUP($B115,Tabela!A:A,Tabela!C:C,\"não encontrado\")","v":"Mature"},"Lâmpada flash Xénon, Âmbar\n10-15 VDC - 115 mA / 1 Watt - IP 65 freq. flash +/-60/min.",{"$f":"_xlfn.XLOOKUP($B115,Tabela!$A:$A,Tabela!$D:$D,\"não encontrado\")","v":37.47},{"$f":"IF(B115 =ISTEXT(qualquer), \"\", HYPERLINK(\"https://pt.firesecurityproducts.com/pt/search?q=\"&B115, \"Link Web\"))","v":"Link Web"},{"$f":"$G$2","v":0},37.47]
[null,"AB302",{"$f":"_xlfn.XLOOKUP($B116,Tabela!A:A,Tabela!C:C,\"não encontrado\")","v":"Mature"},"Lâmpada flash Xénon, Azul\n10-15 VDC - 115 mA / 1 Watt - IP 65 freq. flash +/-60/min.",{"$f":"_xlfn.XLOOKUP($B116,Tabela!$A:$A,Tabela!$D:$D,\"não encontrado\")","v":37.47},{"$f":"IF(B116 =ISTEXT(qualquer), \"\", HYPERLINK(\"https://pt.firesecurityproducts.com/pt/search?q=\"&B116, \"Link Web\"))","v":"Link Web"},{"$f":"$G$2","v":0},37.47]
[null,"AB303",{"$f":"_xlfn.XLOOKUP($B117,Tabela!A:A,Tabela!C:C,\"não encontrado\")","v":"Mature"},"Lâmpada flash Xénon, Vermelho\n10-15 VDC - 115 mA / 1 Watt - IP 65 freq. flash +/-60/min.",{"$f":"_xlfn.XLOOKUP($B117,Tabela!$A:$A,Tabela!$D:$D,\"não encontrado\")","v":37.47},{"$f":"IF(B117 =ISTEXT(qualquer), \"\", HYPERLINK(\"https://pt.firesecurityproducts.com/pt/search?q=\"&B117, \"Link Web\"))","v":"Link Web"},{"$f":"$G$2","v":0},37.47]

{"sheet":"Integração","index":12,"n_rows":329,"n_cols":8,"rows_kept":329,"cut":false,"hidden":false,"merged":[[88,2,91,4],[0,2,2,3],[1,6,2,6],[5,2,13,4],[46,2,54,4],[65,2,68,4]]}
[null,null,"Integração"]
[]
[]
[null,null,"Status",null,"PVP",null,"Desconto","Preço \nLiquido"]
["ATS86xx",null,"Software Gráfico de Gestão Integrada"]
[null,null,"Software Gráfico de gestão integrada de equipamentos KGS\n\n• Destinado a utilizadores finais\n• Vários Idiomas - Selecionável por cada operador                                        \n• Um só GUI para todos os dispositivos\n• Controlo e Gestão de Múltiplas Instalações\n• Sem Limite de Clientes\n• Gestão de pessoas, direitos de acesso e credências\n• Mapas e Gráficos Dinâmicos"]
[]
[]
[]
[]
[]
[]
[]
[]
[null,null,null,null,"PVP",null,"Desconto","Preço Liquido"]
[null,"ATS8600",{"$f":"_xlfn.XLOOKUP($B16,Tabela!A:A,Tabela!C:C,\"não encontrado\")","v":"Mature"},"Advisor Management Starter\n2 drivers de cada (2 xATS,/ ATSa; 2 x Vídeo; 2 SADI)                                                                                                                                                                                                                                       ",{"$f":"_xlfn.XLOOKUP($B16,Tabela!$A:$A,Tabela!$D:$D,\"não encontrado\")","v":1690.49},{"$f":"IF(B16 =ISTEXT(qualquer), \"\", HYPERLINK(\"https://pt.firesecurityproducts.com/pt/search?q=\"&B16, \"Link Web\"))","v":"Link Web"},{"$f":"$G$2","v":0},{"$f":"IF(ISBLANK(G16),\"\",E16-(E16*$G16))","v":1690.49}]
[null,"ATS8610",{"$f":"_xlfn.XLOOKUP($B17,Tabela!A:A,Tabela!C:C,\"não encontrado\")","v":"Mature"},"Advisor Management Business. Inclui Patrol tour e gestão de visitas\n25 drivers por local (25 xATS / ATSa, 25 x Vídeo, 25 x SADI)                                                                                                                                                                                                                                       ",{"$f":"_xlfn.XLOOKUP($B17,Tabela!$A:$A,Tabela!$D:$D,\"não encontrado\")","v":7203},{"$f":"IF(B17 =ISTEXT(qualquer), \"\", HYPERLINK(\"https://pt.firesecurityproducts.com/pt/search?q=\"&B17, \"Link Web\"))","v":"Link Web"},{"$f":"$G$2","v":0},{"$f":"IF(ISBLANK(G17),\"\",E17-(E17*$G17))","v":7203}]
[]
[null,"Upgrade"]
[null,"ATS8605",{"$f":"_xlfn.XLOOKUP($B20,Tabela!A:A,Tabela!C:C,\"não encontrado\")","v":"Mature"},"Upgrade para ATS8600, permite adicionar mais que 2 drivers de cada",{"$f":"_xlfn.XLOOKUP($B20,Tabela!$A:$A,Tabela!$D:$D,\"não encontrado\")","v":556.15},{"$f":"IF(B20 =ISTEXT(qualquer), \"\", HYPERLINK(\"https://pt.firesecurityproducts.com/pt/search?q=\"&B20, \"Link Web\"))","v":"Link Web"},{"$f":"$G$2","v":0},{"$f":"IF(ISBLANK(G20),\"\",E20-(E20*$G20))","v":556.15}]
[null,"ATS8611",{"$f":"_xlfn.XLOOKUP($B21,Tabela!A:A,Tabela!C:C,\"não encontrado\")","v":"Mature"},"Upgrade de ATS8600 para ATS8610                                                                           \n(De versão Starter para Business)                                                                                                                                                                                                                                                     ",{"$f":"_xlfn.XLOOKUP($B21,Tabela!$A:$A,Tabela!$D:$D,\"não encontrado\")","v":5370.49},{"$f":"IF(B21 =ISTEXT(qualquer), \"\", HYPERLINK(\"https://pt.firesecurityproducts.com/pt/search?q=\"&B21, \"Link Web\"))","v":"Link Web"},{"$f":"$G$2","v":0},5370.49]
[null,"ATS8640",{"$f":"_xlfn.XLOOKUP($B22,Tabela!A:A,Tabela!C:C,\"não encontrado\")","v":"Mature"},"Upgrade para ATS8610, permite adicionar mais que 25 drivers de cada",{"$f":"_xlfn.XLOOKUP($B22,Tabela!$A:$A,Tabela!$D:$D,\"não encontrado\")","v":556.15},{"$f":"IF(B22 =ISTEXT(qualquer), \"\", HYPERLINK(\"https://pt.firesecurityproducts.com/pt/search?q=\"&B22, \"Link Web\"))","v":"Link Web"},{"$f":"$G$2","v":0},556.15]
[]
[null,"Drivers Adicionais"]
[null,"ATS8641",{"$f":"_xlfn.XLOOKUP($B25,Tabela!A:A,Tabela!C:C,\"não encontrado\")","v":"Mature"},"Driver adicional - ATS Advanced ",{"$f":"_xlfn.XLOOKUP($B25,Tabela!$A:$A,Tabela!$D:$D,\"não encontrado\")","v":685.05},{"$f":"IF(B25 =ISTEXT(qualquer), \"\", HYPERLINK(\"https://pt.firesecurityproducts.com/pt/search?q=\"&B25, \"Link Web\"))","v":"Link Web"},{"$f":"$G$2","v":0},{"$f":"IF(ISBLANK(G25),\"\",E25-(E25*$G25))","v":685.05}]
[null,"ATS8651",{"$f":"_xlfn.XLOOKUP($B26,Tabela!A:A,Tabela!C:C,\"não encontrado\")","v":"Mature"},"Driver adicional - ATS Advanced ",{"$f":"_xlfn.XLOOKUP($B26,Tabela!$A:$A,Tabela!$D:$D,\"não encontrado\")","v":685.05},{"$f":"IF(B26 =ISTEXT(qualquer), \"\", HYPERLINK(\"https://pt.firesecurityproducts.com/pt/search?q=\"&B26, \"Link Web\"))","v":"Link Web"},0,{"$f":"IF(ISBLANK(G26),\"\",E26-(E26*$G26))","v":685.05}]
[null,"ATS8643",{"$f":"_xlfn.XLOOKUP($B27,Tabela!A:A,Tabela!C:C,\"não encontrado\")","v":"Mature"},"Driver adicional - Vídeo, TruVision",{"$f":"_xlfn.XLOOKUP($B27,Tabela!$A:$A,Tabela!$D:$D,\"não encontrado\")","v":713.59},{"$f":"IF(B27 =ISTEXT(qualquer), \"\", HYPERLINK(\"https://pt.firesecurityproducts.com/pt/search?q=\"&B27, \"Link Web\"))","v":"Link Web"},0,713.59]
[null,"ATS8644",{"$f":"_xlfn.XLOOKUP($B28,Tabela!A:A,Tabela!C:C,\"não encontrado\")","v":"Mature"},"Driver adicional - FP1200/2000",{"$f":"_xlfn.XLOOKUP($B28,Tabela!$A:$A,Tabela!$D:$D,\"não encontrado\")","v":713.59},{"$f":"IF(B28 =ISTEXT(qualquer), \"\", HYPERLINK(\"https://pt.firesecurityproducts.com/pt/search?q=\"&B28, \"Link Web\"))","v":"Link Web"},0,713.59]
[null,"ATS8645",{"$f":"_xlfn.XLOOKUP($B29,Tabela!A:A,Tabela!C:C,\"não encontrado\")","v":"Mature"},"Driver adicional - 2X-AFx",{"$f":"_xlfn.XLOOKUP($B29,Tabela!$A:$A,Tabela!$D:$D,\"não encontrado\")","v":713.59},{"$f":"IF(B29 =ISTEXT(qualquer), \"\", HYPERLINK(\"https://pt.firesecurityproducts.com/pt/search?q=\"&B29, \"Link Web\"))","v":"Link Web"},0,713.59]
[null,"ATS8646",{"$f":"_xlfn.XLOOKUP($B30,Tabela!A:A,Tabela!C:C,\"não encontrado\")","v":"NPI"},"Driver adicional - ZP3",{"$f":"_xlfn.XLOOKUP($B30,Tabela!$A:$A,Tabela!$D:$D,\"não encontrado\")","v":706.53},{"$f":"IF(B30 =ISTEXT(qualquer), \"\", HYPERLINK(\"https://pt.firesecurityproducts.com/pt/search?q=\"&B30, \"Link Web\"))","v":"Link Web"},0,706.53]
[null,"ATS8647",{"$f":"_xlfn.XLOOKUP($B31,Tabela!A:A,Tabela!C:C,\"não encontrado\")","v":"Mature"},"Driver adicional - FlexZone (deteção perimétrica)",{"$f":"_xlfn.XLOOKUP($B31,Tabela!$A:$A,Tabela!$D:$D,\"não encontrado\")","v":811.11},{"$f":"IF(B31 =ISTEXT(qualquer), \"\", HYPERLINK(\"https://pt.firesecurityproducts.com/pt/search?q=\"&B31, \"Link Web\"))","v":"Link Web"},0,811.11]
[null,"ATS8648",{"$f":"_xlfn.XLOOKUP($B32,Tabela!A:A,Tabela!C:C,\"não encontrado\")","v":"Mature"},"Driver adicional - Verex (um por cada: central, controlador, expansor)",{"$f":"_xlfn.XLOOKUP($B32,Tabela!$A:$A,Tabela!$D:$D,\"não encontrado\")","v":117.31},{"$f":"IF(B32 =ISTEXT(qualquer), \"\", HYPERLINK(\"https://pt.firesecurityproducts.com/pt/search?q=\"&B32, \"Link Web\"))","v":"Link Web"},0,117.31]
[null,"ATS8649",{"$f":"_xlfn.XLOOKUP($B33,Tabela!A:A,Tabela!C:C,\"não encontrado\")","v":"NPI"},"Driver adicional - Modulaser",{"$f":"_xlfn.XLOOKUP($B33,Tabela!$A:$A,Tabela!$D:$D,\"não encontrado\")","v":646.88},{"$f":"IF(B33 =ISTEXT(qualquer), \"\", HYPERLINK(\"https://pt.firesecurityproducts.com/pt/search?q=\"&B33, \"Link Web\"))","v":"Link Web"},0,646.88]
[null,"ATS8655",{"$f":"_xlfn.XLOOKUP($B34,Tabela!A:A,Tabela!C:C,\"não encontrado\")","v":"Mature"},"Driver adicional - ACCIO",{"$f":"_xlfn.XLOOKUP($B34,Tabela!$A:$A,Tabela!$D:$D,\"não encontrado\")","v":923.96},{"$f":"IF(B34 =ISTEXT(qualquer), \"\", HYPERLINK(\"https://pt.firesecurityproducts.com/pt/search?q=\"&B34, \"Link Web\"))","v":"Link Web"},0,923.96]
[null,"ATS8656",{"$f":"_xlfn.XLOOKUP($B35,Tabela!A:A,Tabela!C:C,\"não encontrado\")","v":"Mature"},"Driver adicional - Everon",{"$f":"_xlfn.XLOOKUP($B35,Tabela!$A:$A,Tabela!$D:$D,\"não encontrado\")","v":924.26},{"$f":"IF(B35 =ISTEXT(qualquer), \"\", HYPERLINK(\"https://pt.firesecurityproducts.com/pt/search?q=\"&B35, \"Link Web\"))","v":"Link Web"},0,924.26]
[null,"ATS8657",{"$f":"_xlfn.XLOOKUP($B36,Tabela!A:A,Tabela!C:C,\"não encontrado\")","v":"NPI"},"Driver adicional - Axon2600-MM",{"$f":"_xlfn.XLOOKUP($B36,Tabela!$A:$A,Tabela!$D:$D,\"não encontrado\")","v":657.61},{"$f":"IF(B36 =ISTEXT(qualquer), \"\", HYPERLINK(\"https://pt.firesecurityproducts.com/pt/search?q=\"&B36, \"Link Web\"))","v":"Link Web"},0,{"$f":"IF(ISBLANK(G36),\"\",E36-(E36*$G36))","v":657.61}]
[]
[null,"Update de Software"]
[null,"ATS8690",{"$f":"_xlfn.XLOOKUP($B39,Tabela!A:A,Tabela!C:C,\"não encontrado\")","v":"Mature"},"Software de gestão integrada Advisor Management\nUpdate Anual para Starter Edition                                                                                                                                                                                                                                                          ",{"$f":"_xlfn.XLOOKUP($B39,Tabela!$A:$A,Tabela!$D:$D,\"não encontrado\")","v":1152.8599999999999},{"$f":"IF(B39 =ISTEXT(qualquer), \"\", HYPERLINK(\"https://pt.firesecurityproducts.com/pt/search?q=\"&B39, \"Link Web\"))","v":"Link Web"},{"$f":"$G$2","v":0},{"$f":"IF(ISBLANK(G39),\"\",E39-(E39*$G39))","v":1152.8599999999999}]
[null,"ATS8691",{"$f":"_xlfn.XLOOKUP($B40,Tabela!A:A,Tabela!C:C,\"não encontrado\")","v":"Mature"},"Software de gestão integrada Advisor Management\nUpdate Anual para Business Edition                                                                                                                                                                                                                                                         ",{"$f":"_xlfn.XLOOKUP($B40,Tabela!$A:$A,Tabela!$D:$D,\"não encontrado\")","v":4913.6400000000003},{"$f":"IF(B40 =ISTEXT(qualquer), \"\", HYPERLINK(\"https://pt.firesecurityproducts.com/pt/search?q=\"&B40, \"Link Web\"))","v":"Link Web"},{"$f":"$G$2","v":0},4913.6400000000003]
[null,"ATS8661",{"$f":"_xlfn.XLOOKUP($B41,Tabela!A:A,Tabela!C:C,\"não encontrado\")","v":"Mature"},"Driver Active Directory (Basic)",{"$f":"_xlfn.XLOOKUP($B41,Tabela!$A:$A,Tabela!$D:$D,\"não encontrado\")","v":94.63},{"$f":"IF(B41 =ISTEXT(qualquer), \"\", HYPERLINK(\"https://pt.firesecurityproducts.com/pt/search?q=\"&B41, \"Link Web\"))","v":"Link Web"},{"$f":"$G$2","v":0},94.63]
[]
[null,"Conversão para C4"]
[null,"ATS8681-STD",{"$f":"_xlfn.XLOOKUP($B44,Tabela!A:A,Tabela!C:C,\"não encontrado\")","v":"Mature"},"Conversão ATS8610/8640 para C4 Standard",{"$f":"_xlfn.XLOOKUP($B44,Tabela!$A:$A,Tabela!$D:$D,\"não encontrado\")","v":5978.61},{"$f":"IF(B44 =ISTEXT(qualquer), \"\", HYPERLINK(\"https://pt.firesecurityproducts.com/pt/search?q=\"&B44, \"Link Web\"))","v":"Link Web"},{"$f":"$G$2","v":0},{"$f":"IF(ISBLANK(G44),\"\",E44-(E44*$G44))","v":5978.61}]
[]
["C4",null,"Software Gráfico de Gestão Integrada"]
[null,null,"Software Gráfico de gestão integrada de equipamentos multimarca\n\n• Destinado a utilizadores finais\n• Vários Idiomas - Selecionável por cada operador                                        \n• Um só GUI para todos os dispositivos\n• Controlo e Gestão de Múltiplas Instalações\n• Sem Limete de Clientes\n• Gestão de pessoas, direitos de acesso e credências\n• Mapas e Gráficos Dinâmicos"]
[]
[]
[]
[]
[]
[]
[]
[]
[null,null,null,null,"PVP",null,"Desconto","Preço Liquido"]
[null,"C4 Standard",{"$f":"_xlfn.XLOOKUP($B57,Tabela!A:A,Tabela!C:C,\"não encontrado\")","v":"NPI"},"C4 Standard Edition (equivalente ao ATS8600, mas multimarcas)",{"$f":"_xlfn.XLOOKUP($B57,Tabela!$A:$A,Tabela!$D:$D,\"não encontrado\")","v":5508.75},{"$f":"IF(B57 =ISTEXT(qualquer), \"\", HYPERLINK(\"https://pt.firesecurityproducts.com/pt/search?q=\"&B57, \"Link Web\"))","v":"Link Web"},{"$f":"$G$2","v":0},{"$f":"IF(ISBLANK(G57),\"\",E57-(E57*$G57))","v":5508.75}]
[null,"C4 Advanced",{"$f":"_xlfn.XLOOKUP($B58,Tabela!A:A,Tabela!C:C,\"não encontrado\")","v":"NPI"},"C4 Advanced Edition (equivalente ao ATS8610, mas multimarcas)",{"$f":"_xlfn.XLOOKUP($B58,Tabela!$A:$A,Tabela!$D:$D,\"não encontrado\")","v":20933.28},{"$f":"IF(B58 =ISTEXT(qualquer), \"\", HYPERLINK(\"https://pt.firesecurityproducts.com/pt/search?q=\"&B58, \"Link Web\"))","v":"Link Web"},{"$f":"$G$2","v":0},20933.28]
[]
[null,"Upgrade"]
[null,"C4STDADV",{"$f":"_xlfn.XLOOKUP($B61,Tabela!A:A,Tabela!C:C,\"não encontrado\")","v":"NPI"},"Upgrade C4 Standard Edition para Advanced Edition",{"$f":"_xlfn.XLOOKUP($B61,Tabela!$A:$A,Tabela!$D:$D,\"não encontrado\")","v":15670.67},{"$f":"IF(B61 =ISTEXT(qualquer), \"\", HYPERLINK(\"https://pt.firesecurityproducts.com/pt/search?q=\"&B61, \"Link Web\"))","v":"Link Web"},{"$f":"$G$2","v":0},{"$f":"IF(ISBLANK(G61),\"\",E61-(E61*$G61))","v":15670.67}]
[null,"ATS8611",{"$f":"_xlfn.XLOOKUP($B62,Tabela!A:A,Tabela!C:C,\"não encontrado\")","v":"Mature"},"Upgrade de ATS8600 para ATS8610                                                                           \n(De versão Starter para Business)                                                                                                                                                                                                                                                     ",{"$f":"_xlfn.XLOOKUP($B62,Tabela!$A:$A,Tabela!$D:$D,\"não encontrado\")","v":5370.49},{"$f":"IF(B62 =ISTEXT(qualquer), \"\", HYPERLINK(\"https://pt.firesecurityproducts.com/pt/search?q=\"&B62, \"Link Web\"))","v":"Link Web"},{"$f":"$G$2","v":0},5370.49]
[null,"ATS8640",{"$f":"_xlfn.XLOOKUP($B63,Tabela!A:A,Tabela!C:C,\"não encontrado\")","v":"Mature"},"Upgrade para ATS8610, permite adicionar mais que 25 drivers de cada",{"$f":"_xlfn.XLOOKUP($B63,Tabela!$A:$A,Tabela!$D:$D,\"não encontrado\")","v":556.15},{"$f":"IF(B63 =ISTEXT(qualquer), \"\", HYPERLINK(\"https://pt.firesecurityproducts.com/pt/search?q=\"&B63, \"Link Web\"))","v":"Link Web"},{"$f":"$G$2","v":0},556.15]
[]
["Drivers C4",null,"Drivers KGS para Software C4"]
[null,null,"Os driver são divididos em categorias, e a quantidade de drivers depende do modelo de sistema.\nPor favor, contate os nosso serviços para ajuda na quantificação."]
[]
[]
[]
[]
[null,"Categoria Fogo"]
[null,"C4DRV-2010-2",{"$f":"_xlfn.XLOOKUP($B72,Tabela!A:A,Tabela!C:C,\"não encontrado\")","v":"NPI"},"C4 Driver - UTC-2010-2",{"$f":"_xlfn.XLOOKUP($B72,Tabela!$A:$A,Tabela!$D:$D,\"não encontrado\")","v":673.47},{"$f":"IF(B72 =ISTEXT(qualquer), \"\", HYPERLINK(\"https://pt.firesecurityproducts.com/pt/search?q=\"&B72, \"Link Web\"))","v":"Link Web"},{"$f":"$G$2","v":0},{"$f":"IF(ISBLANK(G72),\"\",E72-(E72*$G72))","v":673.47}]
[null,"C4DRV-FP2000",{"$f":"_xlfn.XLOOKUP($B73,Tabela!A:A,Tabela!C:C,\"não encontrado\")","v":"NPI"},"C4 Driver - FP1200/2000",{"$f":"_xlfn.XLOOKUP($B73,Tabela!$A:$A,Tabela!$D:$D,\"não encontrado\")","v":1346.91},{"$f":"IF(B73 =ISTEXT(qualquer), \"\", HYPERLINK(\"https://pt.firesecurityproducts.com/pt/search?q=\"&B73, \"Link Web\"))","v":"Link Web"},{"$f":"$G$2","v":0},1346.91]
[null,"ATS8640",{"$f":"_xlfn.XLOOKUP($B74,Tabela!A:A,Tabela!C:C,\"não encontrado\")","v":"Mature"},"Upgrade para ATS8610, permite adicionar mais que 25 drivers de cada",{"$f":"_xlfn.XLOOKUP($B74,Tabela!$A:$A,Tabela!$D:$D,\"não encontrado\")","v":556.15},{"$f":"IF(B74 =ISTEXT(qualquer), \"\", HYPERLINK(\"https://pt.firesecurityproducts.com/pt/search?q=\"&B74, \"Link Web\"))","v":"Link Web"},{"$f":"$G$2","v":0},556.15]
[]
[null,"Categoria Intrusão"]
[null,"C4DRV-ATS ADV UTC",{"$f":"_xlfn.XLOOKUP($B77,Tabela!A:A,Tabela!C:C,\"não encontrado\")","v":"NPI"},"C4 Driver - Categoria -- UTC-Adv Advanced",{"$f":"_xlfn.XLOOKUP($B77,Tabela!$A:$A,Tabela!$D:$D,\"não encontrado\")","v":673.47},{"$f":"IF(B77 =ISTEXT(qualquer), \"\", HYPERLINK(\"https://pt.firesecurityproducts.com/pt/search?q=\"&B77, \"Link Web\"))","v":"Link Web"},{"$f":"$G$2","v":0},{"$f":"IF(ISBLANK(G77),\"\",E77-(E77*$G77))","v":673.47}]
[null,"C4DRV-MASTER GAMA",{"$f":"_xlfn.XLOOKUP($B78,Tabela!A:A,Tabela!C:C,\"não encontrado\")","v":"NPI"},"C4 Driver - Categoria - Gamanet Adv MASTER",{"$f":"_xlfn.XLOOKUP($B78,Tabela!$A:$A,Tabela!$D:$D,\"não encontrado\")","v":1346.91},{"$f":"IF(B78 =ISTEXT(qualquer), \"\", HYPERLINK(\"https://pt.firesecurityproducts.com/pt/search?q=\"&B78, \"Link Web\"))","v":"Link Web"},{"$f":"$G$2","v":0},1346.91]
[null,"C4DRV-MASTER UTC",{"$f":"_xlfn.XLOOKUP($B79,Tabela!A:A,Tabela!C:C,\"não encontrado\")","v":"NPI"},"C4 Driver - Categoria - UTC-Adv MASTER",{"$f":"_xlfn.XLOOKUP($B79,Tabela!$A:$A,Tabela!$D:$D,\"não encontrado\")","v":890.3},{"$f":"IF(B79 =ISTEXT(qualquer), \"\", HYPERLINK(\"https://pt.firesecurityproducts.com/pt/search?q=\"&B79, \"Link Web\"))","v":"Link Web"},{"$f":"$G$2","v":0},890.3]
[null,"C4DRV-GUARDALLPX",{"$f":"_xlfn.XLOOKUP($B80,Tabela!A:A,Tabela!C:C,\"não encontrado\")","v":"NPI"},"C4 Driver - Categoria - Guardall PX",{"$f":"_xlfn.XLOOKUP($B80,Tabela!$A:$A,Tabela!$D:$D,\"não encontrado\")","v":743.84},{"$f":"IF(B80 =ISTEXT(qualquer), \"\", HYPERLINK(\"https://pt.firesecurityproducts.com/pt/search?q=\"&B80, \"Link Web\"))","v":"Link Web"},{"$f":"$G$2","v":0},743.84]
[null,"C4DRV-VEREX",{"$f":"_xlfn.XLOOKUP($B81,Tabela!A:A,Tabela!C:C,\"não encontrado\")","v":"NPI"},"C4 Driver - Categoria - Verex",{"$f":"_xlfn.XLOOKUP($B81,Tabela!$A:$A,Tabela!$D:$D,\"não encontrado\")","v":81.760000000000005},{"$f":"IF(B81 =ISTEXT(qualquer), \"\", HYPERLINK(\"https://pt.firesecurityproducts.com/pt/search?q=\"&B81, \"Link Web\"))","v":"Link Web"},{"$f":"$G$2","v":0},81.760000000000005]
[]
[null,"Categoria CCTV"]
[null,"C4DRV-DVMRe",{"$f":"_xlfn.XLOOKUP($B84,Tabela!A:A,Tabela!C:C,\"não encontrado\")","v":"NPI"},"C4 Driver - Categoria - DVMRe",{"$f":"_xlfn.XLOOKUP($B84,Tabela!$A:$A,Tabela!$D:$D,\"não encontrado\")","v":856.33},{"$f":"IF(B84 =ISTEXT(qualquer), \"\", HYPERLINK(\"https://pt.firesecurityproducts.com/pt/search?q=\"&B84, \"Link Web\"))","v":"Link Web"},{"$f":"$G$2","v":0},{"$f":"IF(ISBLANK(G84),\"\",E84-(E84*$G84))","v":856.33}]
[null,"C4DRV-TRUVISION",{"$f":"_xlfn.XLOOKUP($B85,Tabela!A:A,Tabela!C:C,\"não encontrado\")","v":"NPI"},"C4 Driver - Categoria -TruVision",{"$f":"_xlfn.XLOOKUP($B85,Tabela!$A:$A,Tabela!$D:$D,\"não encontrado\")","v":673.47},{"$f":"IF(B85 =ISTEXT(qualquer), \"\", HYPERLINK(\"https://pt.firesecurityproducts.com/pt/search?q=\"&B85, \"Link Web\"))","v":"Link Web"},{"$f":"$G$2","v":0},673.47]
[]
[]
["Drivers C4",null,"Drivers Multimarcas para Software C4"]
[null,null,"Os driver são divididos em categorias, e a quantidade de drivers depende do modelo de sistema.\nPor favor, contate os nosso serviços para ajuda na quantificação."]
[]
[]
[]
[]
[null,"Categoria Fogo",null,null,"PVP",null,"Desconto","Preço Liquido"]
[null,"C4DRV-FIRE-LARGE",{"$f":"_xlfn.XLOOKUP($B95,Tabela!A:A,Tabela!C:C,\"não encontrado\")","v":"NPI"},"C4 Driver - Categoria - Grande Sistema de Incêndio",{"$f":"_xlfn.XLOOKUP($B95,Tabela!$A:$A,Tabela!$D:$D,\"não encontrado\")","v":1459.15},null,{"$f":"$G$2","v":0},{"$f":"IF(ISBLANK(G95),\"\",E95-(E95*$G95))","v":1459.15}]
[null,"C4DRV-SCHRACK",{"$f":"_xlfn.XLOOKUP($B96,Tabela!A:A,Tabela!C:C,\"não encontrado\")","v":"NPI"},"C4 Driver - Categoria -  Painéis de Incêndio Schrack ",{"$f":"_xlfn.XLOOKUP($B96,Tabela!$A:$A,Tabela!$D:$D,\"não encontrado\")","v":3.71},null,{"$f":"$G$2","v":0},3.71]
[]
[null,"Categoria Intrusão"]
[null,"C4DRV-INTR-LARGE",{"$f":"_xlfn.XLOOKUP($B99,Tabela!A:A,Tabela!C:C,\"não encontrado\")","v":"NPI"},"C4 Driver - Categoria - Grande Sistema de Intrusão",{"$f":"_xlfn.XLOOKUP($B99,Tabela!$A:$A,Tabela!$D:$D,\"não encontrado\")","v":1525.49},null,{"$f":"$G$2","v":0},{"$f":"IF(ISBLANK(G99),\"\",E99-(E99*$G99))","v":1525.49}]
[null,"C4DRV-INTR-SMALL",{"$f":"_xlfn.XLOOKUP($B100,Tabela!A:A,Tabela!C:C,\"não encontrado\")","v":"NPI"},"C4 Driver - Categoria - Pequeno Sistema de Intrusão",{"$f":"_xlfn.XLOOKUP($B100,Tabela!$A:$A,Tabela!$D:$D,\"não encontrado\")","v":473.74},null,{"$f":"$G$2","v":0},473.74]
[null,"C4DRV-PERIMETER",{"$f":"_xlfn.XLOOKUP($B101,Tabela!A:A,Tabela!C:C,\"não encontrado\")","v":"NPI"},"C4 Driver - Categoria - Perímetro",{"$f":"_xlfn.XLOOKUP($B101,Tabela!$A:$A,Tabela!$D:$D,\"não encontrado\")","v":1102.1199999999999},null,{"$f":"$G$2","v":0},1102.1199999999999]
[]
[null,"Categoria CCTV"]
[null,"C4DRV-VIDEO MATRIX",{"$f":"_xlfn.XLOOKUP($B104,Tabela!A:A,Tabela!C:C,\"não encontrado\")","v":"NPI"},"C4 Driver - Categoria - Sistemas de Matriz de Vídeo",{"$f":"_xlfn.XLOOKUP($B104,Tabela!$A:$A,Tabela!$D:$D,\"não encontrado\")","v":815.02},null,{"$f":"$G$2","v":0},{"$f":"IF(ISBLANK(G104),\"\",E104-(E104*$G104))","v":815.02}]
[null,"C4DRV-VIDEO RECORDER",{"$f":"_xlfn.XLOOKUP($B105,Tabela!A:A,Tabela!C:C,\"não encontrado\")","v":"NPI"},"C4 Driver - Categoria Gravadores Vídeo",{"$f":"_xlfn.XLOOKUP($B105,Tabela!$A:$A,Tabela!$D:$D,\"não encontrado\")","v":788.24},null,{"$f":"$G$2","v":0},788.24]
[null,"C4DRV-CCTV-IP",{"$f":"_xlfn.XLOOKUP($B106,Tabela!A:A,Tabela!C:C,\"não encontrado\")","v":"NPI"},"C4 Driver - Categoria - Sistema Gestão Vídeo",{"$f":"_xlfn.XLOOKUP($B106,Tabela!$A:$A,Tabela!$D:$D,\"não encontrado\")","v":119.45},null,{"$f":"$G$2","v":0},119.45]
[]
[null,"Categoria Controlo de Acessos"]
[null,"C4DRV-ACC-LARGE",{"$f":"_xlfn.XLOOKUP($B109,Tabela!A:A,Tabela!C:C,\"não encontrado\")","v":"NPI"},"C4 Driver - Categoria - Grande Sistema de Controlo de Acesso",{"$f":"_xlfn.XLOOKUP($B109,Tabela!$A:$A,Tabela!$D:$D,\"não encontrado\")","v":1525.49},null,{"$f":"$G$2","v":0},{"$f":"IF(ISBLANK(G109),\"\",E109-(E109*$G109))","v":1525.49}]
[null,"C4DRV-ACC-SMALL",{"$f":"_xlfn.XLOOKUP($B110,Tabela!A:A,Tabela!C:C,\"não encontrado\")","v":"NPI"},"C4 Driver - Categoria - Pequeno Sistema de Controlo de Acessos",{"$f":"_xlfn.XLOOKUP($B110,Tabela!$A:$A,Tabela!$D:$D,\"não encontrado\")","v":73.510000000000005},null,{"$f":"$G$2","v":0},73.510000000000005]
[]
[null,"Categoria Diversos"]
[null,"C4DRV-OTHER",{"$f":"_xlfn.XLOOKUP($B113,Tabela!A:A,Tabela!C:C,\"não encontrado\")","v":"NPI"},"C4 Driver - Categoria - Outros",{"$f":"_xlfn.XLOOKUP($B113,Tabela!$A:$A,Tabela!$D:$D,\"não encontrado\")","v":1508.75},null,{"$f":"$G$2","v":0},{"$f":"IF(ISBLANK(G113),\"\",E113-(E113*$G113))","v":1508.75}]
[null,"C4DRV-PUBL ANN SYST",{"$f":"_xlfn.XLOOKUP($B114,Tabela!A:A,Tabela!C:C,\"não encontrado\")","v":"NPI"},"C4 Driver - Categoria - Public Announcement System",{"$f":"_xlfn.XLOOKUP($B114,Tabela!$A:$A,Tabela!$D:$D,\"não encontrado\")","v":1508.75},null,{"$f":"$G$2","v":0},1508.75]
[null,"C4DRV-AUTOMATION",{"$f":"_xlfn.XLOOKUP($B115,Tabela!A:A,Tabela!C:C,\"não encontrado\")","v":"NPI"},"C4 Driver - Categoria - Building Automation",{"$f":"_xlfn.XLOOKUP($B115,Tabela!$A:$A,Tabela!$D:$D,\"não encontrado\")","v":1459.15},null,{"$f":"$G$2","v":0},1459.15]
[null,"C4DRV-MODBUS",{"$f":"_xlfn.XLOOKUP($B116,Tabela!A:A,Tabela!C:C,\"não encontrado\")","v":"NPI"},"C4 Driver - Categoria - Protocolo MODBUS",{"$f":"_xlfn.XLOOKUP($B116,Tabela!$A:$A,Tabela!$D:$D,\"não encontrado\")","v":157.56},null,{"$f":"$G$2","v":0},157.56]
[]
["Drivers C4",null,"Drivers Software C4"]
["Um Driver por cada",null,null,null,"PVP Categoria "]
["Painel Controlo","SW-CUAPERIO",null,"Aperio","C4DRV-ACC-LARGE"]
["Painel Controlo","SW-CUAPS",null,"APS (Tech Fass s.r.o. )","C4DRV-ACC-LARGE"]
["Painel Controlo","SW-CUCC9000",null,"C-CURE 9000 (Software House)","C4DRV-ACC-LARGE"]
["Painel Controlo","SW-CUCOLOSSE",null,"Colosseo (ColosseoEAS, a.s. )","C4DRV-ACC-LARGE"]
["Painel Controlo","SW-CUKWATCH",null,"KeyWatcher (Morse Canada Sysems Inc.)","C4DRV-ACC-LARGE"]
["Painel Controlo","SW-CUSALTO",null,"Salto (Salto Systems S.L. )","C4DRV-ACC-LARGE"]
["Painel Controlo","SW-CUSAMAC",null,"Samsung ACS (Idteck )","C4DRV-ACC-LARGE"]
["Painel Controlo","SW-CUSCHLFT",null,"Schindler Lift (Schindler výťahy a eskalátory a.s. )","C4DRV-ACC-LARGE"]
["Painel Controlo","SW-CUTECOMDC",null,"Tecom Network Access Controller (UTC Fire and Security Australia )","C4DRV-ACC-LARGE"]
["Painel Controlo","SW-CUTRAKA",null,"Traka (Traka plc )","C4DRV-ACC-LARGE"]
["Painel Controlo","SW-CU2NHELI",null,"2N Helios (2N Telekomunikace a.s. )","C4DRV-ACC-SMALL"]
["Controlador","SW-CUAKT",null,"Aktion (EFG CZ spol. s.r.o. )","C4DRV-ACC-SMALL"]
["Painel Controlo","SW-CUANDCO",null,"Andover Continuum (Schneider Electric )","C4DRV-ACC-SMALL"]
["Controlador","SW-CUANT",null,"ANeT Guard (ANeT-Advanced Network Technology, s.r.o. )","C4DRV-ACC-SMALL"]
["Painel Controlo","SW-CUCANS",null,"Cansec Hurricane (Cansec systems ltd. )","C4DRV-ACC-SMALL"]
["Controlador","SW-CUCODEKS",null,"Codeks (Jantar d.o.o. )","C4DRV-ACC-SMALL"]
["Controlador","SW-CUCOMINFO",null,"Cominfo Access (COMINFO, a.s. )","C4DRV-ACC-SMALL"]
["Controlador","SW-CUCOG",null,"Cotag (Siemens Switzerland Ltd. - Building Technologies Division )","C4DRV-ACC-SMALL"]
["Controlador","SW-CUDAACS",null,"Dahua ACS (Zhejiang Dahua Vision Technology Co., Ltd. )","C4DRV-ACC-SMALL"]
["Painel Controlo","SW-CUDUHA",null,"DUHAsys (DUHA system, spol. s r.o. )","C4DRV-ACC-SMALL"]
["Controlador","SW-CUENTPA",null,"EntraPass (Tyco Security Products )","C4DRV-ACC-SMALL"]
["Controlador","SW-CUGCD",null,"GoldCard (GOLDCARD, spol. s r. o. )","C4DRV-ACC-SMALL"]
["Controlador","SW-CUHID",null,"HID (HID Global )","C4DRV-ACC-SMALL"]
["Controlador","SW-CUHUB",null,"HUB Pro (Ademco CZ s.r.o. )","C4DRV-ACC-SMALL"]
["Controlador","SW-CUK4",null,"IDSIMA4-PRO (Institut mikroelektronických aplikací s.r.o. )","C4DRV-ACC-SMALL"]
["Controlador","SW-CUINTLM",null,"Intelli-M (Infinias, Inc )","C4DRV-ACC-SMALL"]
["Painel Controlo","SW-CUKEYSC",null,"Keyscan System VII (Keyscan Inc.)","C4DRV-ACC-SMALL"]
["Controlador","SW-CUMEDRO",null,"Medro (VIDAL EQUIPAMIENTO S.A.)","C4DRV-ACC-SMALL"]
["Controlador","SW-CUPAXTON",null,"Paxton (Paxton House )","C4DRV-ACC-SMALL"]
["Controlador","SW-CUPROXX",null,"PRO22XX (Honeywell International Inc. )","C4DRV-ACC-SMALL"]
["Controlador","SW-CUPRO32XX",null,"PRO32XX (Honeywell International Inc. )","C4DRV-ACC-SMALL"]
["Controlador","SW-CUPWSER",null,"PW Series","C4DRV-ACC-SMALL"]
["Controlador","SW-CUSUPREM",null,"Suprema (Suprema Inc. )","C4DRV-ACC-SMALL"]
["Controlador","SW-CUSUPG",null,"Suprema (Gamanet) (Suprema Inc. )","C4DRV-ACC-SMALL"]
["Controlador","SW-CUSUPBIO2",null,"Suprema BioStar 2 (Suprema Inc. )","C4DRV-ACC-SMALL"]
["Controlador","SW-CUSYMET",null,"Symmetry (AMAG Technology, Inc. )","C4DRV-ACC-SMALL"]
["Controlador","SW-CUTRUPOR",null,"TruPortal (UTC Climate, Controls & Security )","C4DRV-ACC-SMALL"]
["Controlador","SW-CUVRX",null,"Verex/SNAPP (UTC Climate, Controls & Security )","C4DRV-ACC-SMALL"]
["Controlador","SW-CUWIS",null,"WIS (WEGA LH, s.r.o. )","C4DRV-ACC-SMALL"]
["Controlador","SW-CUXPREW",null,"XPR EWS","C4DRV-ACC-SMALL"]
["Controlador","SW-CUZKT",null,"ZKT (ZKTeco CO., LTD. )","C4DRV-ACC-SMALL"]
["Componente","SW-CUMBUS",null,"M-BUS","C4DRV-AUTOMATION"]
["Câmara","SW-CUACCAPI",null,"ACC WebAPI (Avigilon Corporation, Canada )","C4DRV-CCTV-IP"]
["Câmara","SW-CUACC5",null,"Avigilon Control Center (Avigilon Corporation, Canada )","C4DRV-CCTV-IP"]
["Câmara","SW-CUAVL",null,"Avigilon Control Center 4 (Avigilon Corporation, Canada )","C4DRV-CCTV-IP"]
["Câmara","SW-CUAXIS",null,"Axis (Axis Communications AB )","C4DRV-CCTV-IP"]
["Câmara","SW-CUBVMS3",null,"BVMS 3 (Bosch Sicherheitssysteme GmbH )","C4DRV-CCTV-IP"]
["Câmara","SW-CUCWATCH",null,"cWatch (CANEX connections, spol. s r.o. )","C4DRV-CCTV-IP"]
["Câmara","SW-CUSEMSY",null,"Dallmeier SeMSy (Dallmeier electronic GmbH & Co.KG )","C4DRV-CCTV-IP"]
["Câmara","SW-CUDFORT",null,"Digifort (SYSTRADE COMÉRCIO E SERVIÇOS )","C4DRV-CCTV-IP"]
["Câmara","SW-CUINDIGV",null,"IndigoVision (Indigovision Ltd. )","C4DRV-CCTV-IP"]
["Câmara","SW-CUINTELLI",null,"Intellio (Intellio Technologies Zrt.)","C4DRV-CCTV-IP"]
["Câmara","SW-CULUXRIOT",null,"Luxriot VMS (A&H Software House Inc. )","C4DRV-CCTV-IP"]
["Câmara","SW-CULUXLPR",null,"Luxriot/LPR (A&H Software House Inc. )","C4DRV-CCTV-IP"]
["Câmara","SW-CUMIL",null,"Milestone (Milestone)","C4DRV-CCTV-IP"]
["Câmara","SW-CUMPLUS",null,"Milestone Plus (Milestone)","C4DRV-CCTV-IP"]
["Câmara","SW-CUMIP",null,"Milestone/MIP (Milestone)","C4DRV-CCTV-IP"]
["Câmara","SW-CUMOL",null,"Molekula (HDS, a.s. )","C4DRV-CCTV-IP"]
["Câmara","SW-CUOMNIC",null,"Omnicast (Genetec Inc. )","C4DRV-CCTV-IP"]
["Câmara","SW-CUNETIW",null,"Samsung-NET-I-WARE (SAMSUNG TECHWIN CO, LTD )","C4DRV-CCTV-IP"]
["Câmara","SW-CUSEETEC",null,"SeeTec (SeeTec AG )","C4DRV-CCTV-IP"]
["Câmara","SW-CUCAYU",null,"SeeTec Cayuga (SeeTec AG )","C4DRV-CCTV-IP"]
["Câmara","SW-CUIPELA",null,"Sony Ipela (TSS Group a.s. )","C4DRV-CCTV-IP"]
["Câmara","SW-CUWNR86XX",null,"Wonderex-WNR-8632/8616/8608 (ATIS GROUP s.r.o. )","C4DRV-CCTV-IP"]
["Painel Controlo","SW-CUAPOLLO",null,"APOLLO Solution F1/F2","C4DRV-FIRE-LARGE"]
["Painel Controlo","SW-CULST",null,"BC216 (LABOR STRAUSS Sicherungsanlagenbau Gesellschaft GmbH )","C4DRV-FIRE-LARGE"]
["Painel Controlo","SW-CUBC600",null,"BC600 (LABOR STRAUSS Sicherungsanlagenbau Gesellschaft GmbH )","C4DRV-FIRE-LARGE"]
["Painel Controlo","SW-CUBOSCHFPA",null,"Bosch FPA5000 (Bosch Sicherheitssysteme GmbH )","C4DRV-FIRE-LARGE"]
["Painel Controlo","SW-CUDIG111",null,"DIGISYS 111 (DIGISYS, s.r.o. )","C4DRV-FIRE-LARGE"]
["Painel Controlo","SW-CUFC500IP",null,"DSC/FC500IP (Tyco Security Products )","C4DRV-FIRE-LARGE"]
["Painel Controlo","SW-CUESSM",null,"Esser Mikromodul RS232/TTY (Honeywell Life Safety Austria GmbH )","C4DRV-FIRE-LARGE"]
["Painel Controlo","SW-CUESSS",null,"EsserSEI (Honeywell Life Safety Austria GmbH )","C4DRV-FIRE-LARGE"]
["Painel Controlo","SW-CUEXP",null,"Expert (Tyco Fire & Integrated Solutions s.r.o. )","C4DRV-FIRE-LARGE"]
["Painel Controlo","SW-CUFC330A",null,"FC330A (Siemens Switzerland Ltd. - Building Technologies Division )","C4DRV-FIRE-LARGE"]
["Painel Controlo","SW-CULHD",null,"FibroLaser III (Siemens Switzerland Ltd. - Building Technologies Division)","C4DRV-FIRE-LARGE"]
["Painel Controlo","SW-CUFLOOP",null,"Fireloop (Inim electronic s.r.l. )","C4DRV-FIRE-LARGE"]
["Painel Controlo","SW-CUHOCHGN",null,"Hochiki (Hochiki America Corporation )","C4DRV-FIRE-LARGE"]
["Painel Controlo","SW-CUHOCHI",null,"Hochiki-HFP-AP1/AP2 (Hochiki America Corporation )","C4DRV-FIRE-LARGE"]
["Painel Controlo","SW-CULIT109",null,"Lites MHU 109 (LITES Liberec s.r.o. )","C4DRV-FIRE-LARGE"]
["Painel Controlo","SW-CULIT",null,"Lites MHU 110/111 (LITES Liberec s.r.o. )","C4DRV-FIRE-LARGE"]
["Painel Controlo","SW-CULIT116",null,"Lites MHU 116/117 (LITES Liberec s.r.o. )","C4DRV-FIRE-LARGE"]
["Painel Controlo","SW-CULP500",null,"Loop500 (Tyco Fire & Integrated Solutions s.r.o. )","C4DRV-FIRE-LARGE"]
["Painel Controlo","SW-CUNOTIFI",null,"Notifier (Notifier Italia Srl )","C4DRV-FIRE-LARGE"]
["Painel Controlo","SW-CUID3000",null,"Notifier/ID3000 (Notifier Italia Srl )","C4DRV-FIRE-LARGE"]
["Painel Controlo","SW-CUNOTIF",null,"Notifier/SIB600 (Notifier Italia Srl )","C4DRV-FIRE-LARGE"]
["Painel Controlo","SW-CUNOTIFGN",null,"Notifier/SIB600 (Gamanet) (Notifier Italia Srl )","C4DRV-FIRE-LARGE"]
["Painel Controlo","SW-CUPRFBF",null,"Protec 6500/6600 (Protec House )","C4DRV-FIRE-LARGE"]
["Painel Controlo","SW-CUPROTEC",null,"Protec X400 (Protec House )","C4DRV-FIRE-LARGE"]
["Painel Controlo","SW-CUCERPRO",null,"Siemens Fire BacNet (Siemens s.r.o. )","C4DRV-FIRE-LARGE"]
["Painel Controlo","SW-CUNK8237",null,"Siemens NK8237","C4DRV-FIRE-LARGE"]
["Painel Controlo","SW-CUSINT",null,"Sinteso - OPC Server MK8000 (Siemens Switzerland Ltd. - Building Technologies Division )","C4DRV-FIRE-LARGE"]
["Painel Controlo","SW-CUSYNCRO",null,"Syncro AS (Kentec Electronics Ltd. )","C4DRV-FIRE-LARGE"]
["Painel Controlo","SW-CUSYNRSC",null,"Syncro AS RSC (Kentec Electronics Ltd. )","C4DRV-FIRE-LARGE"]
["Painel Controlo","SW-CUASSET",null,"Asset/FXP (Trade FIDES, a.s. )","C4DRV-INTR-LARGE"]
["Painel Controlo","SW-CUBOSCHM2",null,"Bosch IIP Mode 2 (Bosch Security Systems, Inc.)","C4DRV-INTR-LARGE"]
["Painel Controlo","SW-CUCNT",null,"Concept (Inner Range Pty Ltd )","C4DRV-INTR-LARGE"]
["Painel Controlo","SW-CUDMP",null,"DMP (Digital Monitoring Products, Inc. )","C4DRV-INTR-LARGE"]
["Painel Controlo","SW-CUDM",null,"Dominus Millennium (ABBAS, a.s. )","C4DRV-INTR-LARGE"]
["Painel Controlo","SW-CUGXRS",null,"Galaxy RSC (Ademco CZ s.r.o. )","C4DRV-INTR-LARGE"]
["Painel Controlo","SW-CUGXYSIA",null,"Galaxy SIA (Ademco CZ s.r.o. )","C4DRV-INTR-LARGE"]
["Painel Controlo","SW-CUGG3",null,"Galaxy UNI1INT (Ademco CZ s.r.o. )","C4DRV-INTR-LARGE"]
["Painel Controlo","SW-CUGXYS",null,"GalaxyGxySmart (Ademco CZ s.r.o. )","C4DRV-INTR-LARGE"]
["Painel Controlo","SW-CUMBSEC",null,"MB Secure (Ademco CZ s.r.o. )","C4DRV-INTR-LARGE"]
["Painel Controlo","SW-CUPROSYPL",null,"Prosys Plus (Risco Ltd. )","C4DRV-INTR-LARGE"]
["Painel Controlo","SW-CUSAT",null,"Satel (Satel sp. z o.o. )","C4DRV-INTR-LARGE"]
["Painel Controlo","SW-CUSINTON",null,"Sintony (Siemens Building Technologies )","C4DRV-INTR-LARGE"]
["Painel Controlo","SW-CUTXC168",null,"Texecom-ELITE-168/88/48 (Texecom )","C4DRV-INTR-LARGE"]
["Painel Controlo","SW-CUTXC640",null,"Texecom-ELITE-640 (Texecom )","C4DRV-INTR-LARGE"]
["Painel Controlo","SW-CUTL280NEO",null,"DSC Power Neo/TL280 (Tyco Security Products )","C4DRV-INTR-SMALL"]
["Painel Controlo","SW-CUIT100",null,"DSC/IT-100 (Tyco Security Products )","C4DRV-INTR-SMALL"]
["Painel Controlo","SW-CUPC4401",null,"DSC/PC4401 (Tyco Security Products )","C4DRV-INTR-SMALL"]
["Painel Controlo","SW-CULARES",null,"Ksenia lares (Ksenia Security s.r.l )","C4DRV-INTR-SMALL"]
["Painel Controlo","SW-CUNX",null,"NX (UTC Climate, Controls & Security )","C4DRV-INTR-SMALL"]
["Painel Controlo","SW-CUEVOIP150",null,"Paradox EVO/IP150 (Paradox Security Systems Ltd )","C4DRV-INTR-SMALL"]
["Painel Controlo","SW-CUPARADOX",null,"Paradox/IP150 (Paradox Security Systems Ltd )","C4DRV-INTR-SMALL"]
["Painel Controlo","SW-CUPCM",null,"PCM (ABBAS, a.s. )","C4DRV-INTR-SMALL"]
["Painel Controlo","SW-CUVIS128",null,"Vista 128BPT/250BPT (Honeywell International Inc. )","C4DRV-INTR-SMALL"]
["Componente","SW-CUAPIS7000",null,"Apis 7000 (APIS spol. s r.o. )","C4DRV-OTHER"]
["Componente","SW-CUARH",null,"ARH (ARH Inc. )","C4DRV-OTHER"]
["Painel Controlo","SW-CUA9188",null,"Axis A9188 (Axis Communications AB )","C4DRV-OTHER"]
["Componente","SW-CUAXISIO",null,"Axis P8221 (Axis Communications AB )","C4DRV-OTHER"]
["Painel Controlo","SW-CUBUSTEC",null,"BUSTEC_IZ_TCP (Bustec s.r.o. )","C4DRV-OTHER"]
["Componente","SW-CUCMIND",null,"CenterMind (RiT Technologies Ltd. )","C4DRV-OTHER"]
["Controlador","SW-CUCOMWIN",null,"ComWIN (COMMEND International GMBH )","C4DRV-OTHER"]
["Componente","SW-CUDEADMAN",null,"Dead man's switch (ABBAS, a.s. )","C4DRV-OTHER"]
["Componente","SW-CUFORBIS",null,"Forbis Security (FORBIS s.r.o. )","C4DRV-OTHER"]
["Componente","SW-CUGAR",null,"Ganitor (Papouch s.r.o. )","C4DRV-OTHER"]
["Componente","SW-CUGEMCD",null,"GEMCDU2605 (ZTS Elektronika SKS s.r.o. )","C4DRV-OTHER"]
["Painel Controlo","SW-CUHELIOS",null,"Helios IP (2N Telekomunikace a.s. )","C4DRV-OTHER"]
["Controlador","SW-CUKOACI",null,"KONE Access Interface","C4DRV-OTHER"]
["Controlador","SW-CUMAYLIS",null,"Maylis (Castel )","C4DRV-OTHER"]
["Componente","SW-CUMEIMO",null,"Measure-in-Motion (BETAMONT s.r.o. )","C4DRV-OTHER"]
["Componente","SW-CULANRING",null,"Metel LAN-RING switch (METEL s.r.o. )","C4DRV-OTHER"]
["Componente","SW-CUMOXAEDS",null,"Moxa EDS","C4DRV-OTHER"]
["Componente","SW-CUIOLOGIK",null,"Moxa ioLogik","C4DRV-OTHER"]
["Componente","SW-CUCXRAY",null,"Nuctech MB1215LC (Nuctech Company Limited)","C4DRV-OTHER"]
["Painel Controlo","SW-CUNUMBEROK",null,"NumberOK (Ryan Solutions E. U.)","C4DRV-OTHER"]
["Painel Controlo","SW-CUORW",null,"Orwell (TSS Group a.s. )","C4DRV-OTHER"]
["Componente","SW-CUPARK",null,"Parker (Villa Pro, s.r.o. )","C4DRV-OTHER"]
["Componente","SW-CUCASH",null,"POS Printer (Gamanet a.s. )","C4DRV-OTHER"]
["detector","SW-CUSCHSEN",null,"Schrack Integral (SCHRACK SECONET AG )","C4DRV-OTHER"]
["detector","SW-CUSCHRIP",null,"Schrack/ISP-IP (SCHRACK SECONET AG )","C4DRV-OTHER"]
["Painel Controlo","SW-CUSGD",null,"SurGard (Tyco Security Products )","C4DRV-OTHER"]
["Componente","SW-CUTEVIS",null,"Tevis (Technicom TECHNOLOGY, s.r.o )","C4DRV-OTHER"]
["Componente","SW-CUCARWS",null,"TruckWeight","C4DRV-OTHER"]
["Componente","SW-CUUDPMD",null,"UDP/Motion Detection","C4DRV-OTHER"]
["Componente","SW-CUTRAFLI",null,"Virtual Semaphore (Gamanet a.s. )","C4DRV-OTHER"]
["Componente","SW-CUVIRT",null,"VirtualPort (Gamanet a.s. )","C4DRV-OTHER"]
["Controlador","SW-CUXELLIP",null,"Xellip (Castel )","C4DRV-OTHER"]
["Painel Controlo","SW-CUDGSN",null,"DGS-N (DIGISYS, s.r.o. )","C4DRV-PERIMETER"]
["Painel Controlo","SW-CUFLEXZO",null,"FlexZone (Senstar Corporation )","C4DRV-PERIMETER"]
["Painel Controlo","SW-CUPER",null,"Peridect (Sieza s.r.o. )","C4DRV-PERIMETER"]
["Painel Controlo","SW-CUPERI2",null,"Peridect (Sieza) (Sieza s.r.o. )","C4DRV-PERIMETER"]
["Painel Controlo","SW-CUPERPL",null,"Peridect+ (Sieza s.r.o. )","C4DRV-PERIMETER"]
["Painel Controlo","SW-CUSICK",null,"Sick LMS1xx (SICK spol. s r.o. )","C4DRV-PERIMETER"]
["Painel Controlo","SW-CUPLENA",null,"Bosch Plena (Robert Bosch odbytová s.r.o. )","C4DRV-PUBL ANN SYST"]
["Painel Controlo","SW-CUDGS3000",null,"DIGISYS 3000","C4DRV-PUBL ANN SYST"]
["Componente","SW-CUVARIO",null,"Variodyn (Honeywell Life Safety Austria GmbH )","C4DRV-PUBL ANN SYST"]
["Componente","SW-CUMAT",null,"Digiplex 4 (UTC Climate, Controls & Security )","C4DRV-VIDEO MATRIX"]
["Componente","SW-CUWJSX",null,"Panasonic Matrix WJ-SX 650 (Panasonic Corporation )","C4DRV-VIDEO MATRIX"]
["Componente","SW-CUPEL9760",null,"Pelco 97XX/Pelco-P (Pelco by Schneider Electric )","C4DRV-VIDEO MATRIX"]
["VMS","SW-CUATEAS",null,"ATEAS Security (ATEAS CZ s.r.o. )","C4DRV-VIDEO RECORDER"]
["DVR/NVR","SW-CUAVE",null,"Avermedia (Avermedia Technologies Inc. )","C4DRV-VIDEO RECORDER"]
["DVR/NVR","SW-CUAXISCS",null,"AXIS Camera Station (Axis Communications AB )","C4DRV-VIDEO RECORDER"]
["DVR/NVR","SW-CUDAHUA",null,"Dahua (Zhejiang Dahua Vision Technology Co., Ltd. )","C4DRV-VIDEO RECORDER"]
["DVR/NVR","SW-CUDAL",null,"Dallmeier (Dallmeier electronic GmbH & Co.KG )","C4DRV-VIDEO RECORDER"]
["DVR/NVR","SW-CUDEDM",null,"DedicatedMicros/NetVuHD (Dedicated Micros - HQ)","C4DRV-VIDEO RECORDER"]
["DVR/NVR","SW-CUDGS",null,"DGS","C4DRV-VIDEO RECORDER"]
["DVR/NVR","SW-CUDIGI",null,"DigiEye (SYAC TB )","C4DRV-VIDEO RECORDER"]
["DVR/NVR","SW-CUDFORT7",null,"Digifort 7 (SYSTRADE COMÉRCIO E SERVIÇOS )","C4DRV-VIDEO RECORDER"]
["DVR/NVR","SW-CUDH200",null,"Digimerge DH200 (Digimerge Technologies Inc. )","C4DRV-VIDEO RECORDER"]
["DVR/NVR","SW-CUDINOX",null,"Dinox (ABBAS, a.s. )","C4DRV-VIDEO RECORDER"]
["DVR/NVR","SW-CUDISS",null,"DiSS (HDS, a.s. )","C4DRV-VIDEO RECORDER"]
["DVR/NVR","SW-CUDIVAR",null,"Divar (Bosch Sicherheitssysteme GmbH )","C4DRV-VIDEO RECORDER"]
["DVR/NVR","SW-CUDVMR",null,"DVMRe (UTC Climate, Controls & Security )","C4DRV-VIDEO RECORDER"]
["DVR/NVR","SW-CUECLIPSE",null,"Eclipse (Eclipse Surveillance )","C4DRV-VIDEO RECORDER"]
["DVR/NVR","SW-CUENDURA2",null,"Endura (Pelco by Schneider Electric )","C4DRV-VIDEO RECORDER"]
["DVR/NVR","SW-CUPELCO",null,"EnduraXpress (Pelco by Schneider Electric )","C4DRV-VIDEO RECORDER"]
["DVR/NVR","SW-CUEOCOR",null,"Eocortex","C4DRV-VIDEO RECORDER"]
["DVR/NVR","SW-CUGCORE",null,"G-Core","C4DRV-VIDEO RECORDER"]
["Câmara","SW-CUGENSC",null,"Genetec Security Center","C4DRV-VIDEO RECORDER"]
["DVR/NVR","SW-CU-GEOV",null,"GeoVision (GeoVision Inc. )","C4DRV-VIDEO RECORDER"]
["DVR/NVR","SW-CUGEVIS",null,"GeViScope (GEUTEBRÜCK GmbH )","C4DRV-VIDEO RECORDER"]
["DVR/NVR","SW-CUGSCOPE",null,"G-Scope (GEUTEBRÜCK GmbH )","C4DRV-VIDEO RECORDER"]
["DVR/NVR","SW-CUGVD",null,"GVD (Genius Vision Digital Inc. )","C4DRV-VIDEO RECORDER"]
["DVR/NVR","SW-CUSAMSCCTV",null,"Hanwha Techwin (SAMSUNG TECHWIN CO, LTD )","C4DRV-VIDEO RECORDER"]
["DVR/NVR","SW-CUHIK",null,"HIK Vision (Hikvision Digital Technology Co., Ltd. )","C4DRV-VIDEO RECORDER"]
["DVR/NVR","SW-CUHVDS73",null,"HikVision-DS-7316/7308 (Hikvision Digital Technology Co., Ltd. )","C4DRV-VIDEO RECORDER"]
["DVR/NVR","SW-CUHVDS86",null,"HikVision-DS-8632/8616/8608 (Hikvision Digital Technology Co., Ltd. )","C4DRV-VIDEO RECORDER"]
["DVR/NVR","SW-CUIDIS",null,"IDIS (IDIS Co., Ltd )","C4DRV-VIDEO RECORDER"]
["DVR/NVR","SW-CUIDISGN",null,"Idis (Gamanet) (IDIS Co., Ltd )","C4DRV-VIDEO RECORDER"]
["DVR/NVR","SW-CUITLX",null,"Intellex (Tyco Fire & Integrated Solutions s.r.o. )","C4DRV-VIDEO RECORDER"]
["DVR/NVR","SW-CUMAXPRO",null,"MAXPRO VMS (Honeywell Security Group )","C4DRV-VIDEO RECORDER"]
["DVR/NVR","SW-CUMIRASYS",null,"Mirasys (Mirasys )","C4DRV-VIDEO RECORDER"]
["DVR/NVR","SW-CUNUUO",null,"NUUO (NUUO Inc. )","C4DRV-VIDEO RECORDER"]
["DVR/NVR","SW-CUPSAPI",null,"Panasonic PS-API (Panasonic Corporation )","C4DRV-VIDEO RECORDER"]
["DVR/NVR","SW-CUSRD1650",null,"Samsung-SRD-1650/850 (SAMSUNG TECHWIN CO, LTD )","C4DRV-VIDEO RECORDER"]
["DVR/NVR","SW-CUSRD1670",null,"Samsung-SRD-1670/870 (SAMSUNG TECHWIN CO, LTD )","C4DRV-VIDEO RECORDER"]
["DVR/NVR","SW-CUSRD1673",null,"Samsung-SRD-1673/1653/873 (SAMSUNG TECHWIN CO, LTD )","C4DRV-VIDEO RECORDER"]
["DVR/NVR","SW-CUSRN1670",null,"Samsung-SRN-1670/470 (SAMSUNG TECHWIN CO, LTD )","C4DRV-VIDEO RECORDER"]
["DVR/NVR","SW-CUSAN",null,"Sanyo (SANYO Electric Co., Ltd. )","C4DRV-VIDEO RECORDER"]
["DVR/NVR","SW-CUSURV",null,"Surveon (Surveon Technology Inc. )","C4DRV-VIDEO RECORDER"]
["DVR/NVR","SW-CUVDGSE",null,"VDG Sense (VDG Security B.V. )","C4DRV-VIDEO RECORDER"]
["DVR/NVR","SW-CUVDGDEL",null,"VDG Sense (Deltech) (VDG Security B.V. )","C4DRV-VIDEO RECORDER"]
["DVR/NVR","SW-CUVERIFIR",null,"VeriFire","C4DRV-VIDEO RECORDER"]
["VMS","SW-CUXPERT",null,"VideoXpert (Pelco by Schneider Electric )","C4DRV-VIDEO RECORDER"]
["DVR/NVR","SW-CUXPER3",null,"VideoXpert3 (Pelco by Schneider Electric )","C4DRV-VIDEO RECORDER"]
["DVR/NVR","SW-CUVISTOOLS",null,"Visual Tools (Visual Tools, S. A. )","C4DRV-VIDEO RECORDER"]
["DVR/NVR","SW-CUWONCCTV",null,"Wonderex CCTV (ATIS GROUP s.r.o. )","C4DRV-VIDEO RECORDER"]
["DVR/NVR","SW-CUWDR73XX",null,"Wonderex-WDR-73XX/72XX (ATIS GROUP s.r.o. )","C4DRV-VIDEO RECORDER"]

{"sheet":"Comunicações","index":13,"n_rows":15,"n_cols":8,"rows_kept":15,"cut":false,"hidden":false,"merged":[[0,2,2,3],[1,6,2,6],[5,2,10,4]]}
[null,null,"Comunicações"]
[null,null,null,null,null,null,0]
[]
[null,null,"Status",null,"PVP",null,"Desconto","Preço \nLiquido"]
["Série Ohxxx",null,"Recetora de Alarmes IP"]
[null,null,"Software de receção de alarmes OH-NetRec -  Via IP\n • Receção de alarmes de equipamentos IP da UTC  e TDA74xx                             \n • Baseado em JAVA                                        \n • Supervisão de presença \"Heartbeat\" e de substituição de equipamento.\n • Ligação RS232 com software de gestão de alarmes, protocolo OH-2000 & Sur-Gard                                                                                             \n • Ligação IP com software, protocolo OH-2000 "]
[]
[]
[]
[]
[]
[]
[null,"OH-NETREC-100",{"$f":"_xlfn.XLOOKUP($B13,Tabela!A:A,Tabela!C:C,\"não encontrado\")","v":"Mature"},"Software 100 clientes",{"$f":"_xlfn.XLOOKUP($B13,Tabela!$A:$A,Tabela!$D:$D,\"não encontrado\")","v":1798.04},{"$f":"IF(B13 =ISTEXT(qualquer), \"\", HYPERLINK(\"https://pt.firesecurityproducts.com/pt/search?q=\"&B13, \"Link Web\"))","v":"Link Web"},{"$f":"$G$2","v":0},{"$f":"IF(ISBLANK(G13),\"\",E13-(E13*$G13))","v":1798.04}]
[null,"OH-NETREC-1000",{"$f":"_xlfn.XLOOKUP($B14,Tabela!A:A,Tabela!C:C,\"não encontrado\")","v":"Mature"},"Software 1.000 clientes",{"$f":"_xlfn.XLOOKUP($B14,Tabela!$A:$A,Tabela!$D:$D,\"não encontrado\")","v":3592.1},{"$f":"IF(B14 =ISTEXT(qualquer), \"\", HYPERLINK(\"https://pt.firesecurityproducts.com/pt/search?q=\"&B14, \"Link Web\"))","v":"Link Web"},{"$f":"$G$2","v":0},{"$f":"IF(ISBLANK(G14),\"\",E14-(E14*$G14))","v":3592.1}]
[null,"OH-NETREC-Software",{"$f":"_xlfn.XLOOKUP($B15,Tabela!A:A,Tabela!C:C,\"não encontrado\")","v":"Mature"},"Software 10.000 clientes",{"$f":"_xlfn.XLOOKUP($B15,Tabela!$A:$A,Tabela!$D:$D,\"não encontrado\")","v":8324.7800000000007},{"$f":"IF(B15 =ISTEXT(qualquer), \"\", HYPERLINK(\"https://pt.firesecurityproducts.com/pt/search?q=\"&B15, \"Link Web\"))","v":"Link Web"},{"$f":"$G$2","v":0},{"$f":"IF(ISBLANK(G15),\"\",E15-(E15*$G15))","v":8324.7800000000007}]

{"sheet":"Controlo Acessos","index":14,"n_rows":391,"n_cols":8,"rows_kept":391,"cut":false,"hidden":false,"merged":[[0,2,2,3],[1,6,2,6],[25,2,35,4],[66,2,75,4],[5,2,17,4],[132,2,138,4],[101,2,110,4],[115,2,127,4],[83,2,93,4],[48,2,58,4],[190,2,200,4],[206,2,216,4],[176,2,184,4],[153,2,162,4],[311,2,321,4],[274,2,287,4],[247,2,259,4],[222,2,232,4],[237,2,242,4]]}
[null,null,"Controlo de Acessos"]
[null,null,null,null,null,null,0]
[]
[null,null,"Status",null,"PVP",null,"Desconto","Preço \nLiquido"]
["AXON",null,"Controlador de Portas"]
[null,null,"Controlador de Acessos - Autónomo com capacidade de 2 a 6 portas.       \n                                                                                                         \n•  Até 12 leitores, até 6 leitores por porta\n•  OSDP V2 Secure Channel\n•  Suporta leitores: Seguros e OSDP\n•  Incorpora entradas, relés de abertura de porta\n•  Incorpora ligação IP\n•  100.000 utilizadores (com cartão e/ou PIN)\n•  16 entradas supervisadas\n•  Até 54 portas com 12 x CDC4 (-EN)\n•  Permite ligação a software ATS8500  e ATS8600\n•  PSU incorporada: 13.8 , 2,5 Amp - Bateria de backup (não incluída) até 26 Ah(externa) , 18Ah no interior da caixa\n•  Caixa metálica (315 x 445 x 88 mm)"]
[]
[]
[]
[]
[]
[]
[]
[]
[]
[]
[]
[]
[]
[null,"Controlador",null,null,"PVP",null,"Desconto","Preço Liquido"]
[null,"AXON2600-MM",{"$f":"_xlfn.XLOOKUP($B21,Tabela!A:A,Tabela!C:C,\"não encontrado\")","v":"Mature"},"Controlador de acessos de 2 a 6 portas, escalável até 54 portas utilizando o CDC4",{"$f":"_xlfn.XLOOKUP($B21,Tabela!$A:$A,Tabela!$D:$D,\"não encontrado\")","v":890.01},{"$f":"IF(B21 =ISTEXT(qualquer), \"\", HYPERLINK(\"https://pt.firesecurityproducts.com/pt/search?q=\"&B21, \"Link Web\"))","v":"Link Web"},{"$f":"$G$2","v":0},{"$f":"IF(ISBLANK(G21),\"\",E21-(E21*$G21))","v":890.01}]
[null,"ATS624",{"$f":"_xlfn.XLOOKUP($B22,Tabela!A:A,Tabela!C:C,\"não encontrado\")","v":"Mature"},"Expansor \"plug in\" 4 Saídas por relé",{"$f":"_xlfn.XLOOKUP($B22,Tabela!$A:$A,Tabela!$D:$D,\"não encontrado\")","v":114.94},{"$f":"IF(B22 =ISTEXT(qualquer), \"\", HYPERLINK(\"https://pt.firesecurityproducts.com/pt/search?q=\"&B22, \"Link Web\"))","v":"Link Web"},{"$f":"$G$2","v":0},{"$f":"IF(ISBLANK(G22),\"\",E22-(E22*$G22))","v":114.94}]
[]
[]
["Série ACL5xx",null,"Teclados Autónomos"]
[null,null,"Estes teclados autónomos robustos foram concebidos para funcionar tanto em ambientes interiores como exteriores. Os teclados estão disponíveis com teclas de metal/plástico retro iluminadas e em várias opções de caixas de plástico ou metal.       \n• Teclado stand alone\n• Aplicação interior e exterior\n• IP65 - Resistente ás intempéries e ao pó\n• Até  99 códigos de utilizador\n• Retro iluminados\n• Códigos de 1 a 8 dígitos \n• Besouro incorporado   \n• Alimentação 12/24 VAC/DC"]
[]
[]
[]
[]
[]
[]
[]
[]
[]
[]
[]
[null,"Caixa Plástica",null,null,"PVP",null,"Desconto","Preço Liquido"]
[null,"ACL580",{"$f":"_xlfn.XLOOKUP($B39,Tabela!A:A,Tabela!C:C,\"não encontrado\")","v":"Mature"},"Teclado Standalone - Master - Montagem superfície -Caixa Plástica, IP65",{"$f":"_xlfn.XLOOKUP($B39,Tabela!$A:$A,Tabela!$D:$D,\"não encontrado\")","v":197.58},{"$f":"IF(B39 =ISTEXT(qualquer), \"\", HYPERLINK(\"https://pt.firesecurityproducts.com/pt/search?q=\"&B39, \"Link Web\"))","v":"Link Web"},{"$f":"$G$2","v":0},{"$f":"IF(ISBLANK(G39),\"\",E39-(E39*$G39))","v":197.58}]
[]
[null,"Caixa Metálica"]
[null,"ACL580WI",{"$f":"_xlfn.XLOOKUP($B42,Tabela!A:A,Tabela!C:C,\"não encontrado\")","v":"Mature"},"Teclado Standalone - Master - Montagem superfície - Caixa Alumínio, IP65",{"$f":"_xlfn.XLOOKUP($B42,Tabela!$A:$A,Tabela!$D:$D,\"não encontrado\")","v":311.02},{"$f":"IF(B42 =ISTEXT(qualquer), \"\", HYPERLINK(\"https://pt.firesecurityproducts.com/pt/search?q=\"&B42, \"Link Web\"))","v":"Link Web"},{"$f":"$G$2","v":0},{"$f":"IF(ISBLANK(G42),\"\",E42-(E42*$G42))","v":311.02}]
[null,"ACL580FI",{"$f":"_xlfn.XLOOKUP($B43,Tabela!A:A,Tabela!C:C,\"não encontrado\")","v":"Mature"},"Teclado Standalone - Master - Montagem embutir - Caixa aço, IP65",{"$f":"_xlfn.XLOOKUP($B43,Tabela!$A:$A,Tabela!$D:$D,\"não encontrado\")","v":279.27999999999997},{"$f":"IF(B43 =ISTEXT(qualquer), \"\", HYPERLINK(\"https://pt.firesecurityproducts.com/pt/search?q=\"&B43, \"Link Web\"))","v":"Link Web"},{"$f":"$G$2","v":0},{"$f":"IF(ISBLANK(G43),\"\",E43-(E43*$G43))","v":279.27999999999997}]
[]
[null,"Anti vandálico"]
[null,"ACL585",{"$f":"_xlfn.XLOOKUP($B46,Tabela!A:A,Tabela!C:C,\"não encontrado\")","v":"Mature"},"Teclado Standalone Antivandalismo - Montagem superfície",{"$f":"_xlfn.XLOOKUP($B46,Tabela!$A:$A,Tabela!$D:$D,\"não encontrado\")","v":243.69},{"$f":"IF(B46 =ISTEXT(qualquer), \"\", HYPERLINK(\"https://pt.firesecurityproducts.com/pt/search?q=\"&B46, \"Link Web\"))","v":"Link Web"},{"$f":"$G$2","v":0},{"$f":"IF(ISBLANK(G46),\"\",E46-(E46*$G46))","v":243.69}]
[]
["Série ACL8xx",null,"Teclados Autónomos"]
[null,null,"Estes teclado autónomo retro iluminado, incorpora besouro e LED tricolor para indicação de estado (acesso concedido/negado, inativo).        \n                                                                                                         \n• Instalação interior/exterior - IP65\n• Teclado PIN retro iluminado (1 a 8 dígitos)                                         \n• 99 utilizadores.\n• Saída abertura por relé (C/NF/NA)\n• Entrada RTE                                                                                      \n• Besouro incorporado                                                                                               \n• Retro iluminado                                                                                                         \n• Alimentação 9 -14 VDC"]
[]
[]
[]
[]
[]
[]
[]
[]
[]
[]
[]
[null,"Montagem Superfície"]
[null,"ACL875SU-S",{"$f":"_xlfn.XLOOKUP($B62,Tabela!A:A,Tabela!C:C,\"não encontrado\")","v":"Mature"},"Teclado PIN standalone, 99 Utilizadores - Prateado     ",{"$f":"_xlfn.XLOOKUP($B62,Tabela!$A:$A,Tabela!$D:$D,\"não encontrado\")","v":198.93},{"$f":"IF(B62 =ISTEXT(qualquer), \"\", HYPERLINK(\"https://pt.firesecurityproducts.com/pt/search?q=\"&B62, \"Link Web\"))","v":"Link Web"},{"$f":"$G$2","v":0},{"$f":"IF(ISBLANK(G62),\"\",E62-(E62*$G62))","v":198.93}]
[null,"ACL875SU-B",{"$f":"_xlfn.XLOOKUP($B63,Tabela!A:A,Tabela!C:C,\"não encontrado\")","v":"Mature"},"Teclado PIN standalone, 99 Utilizadores - Preto   ",{"$f":"_xlfn.XLOOKUP($B63,Tabela!$A:$A,Tabela!$D:$D,\"não encontrado\")","v":170.34},{"$f":"IF(B63 =ISTEXT(qualquer), \"\", HYPERLINK(\"https://pt.firesecurityproducts.com/pt/search?q=\"&B63, \"Link Web\"))","v":"Link Web"},{"$f":"$G$2","v":0},170.34]
[]
[]
["Série ACL8xx",null,"Leitor Proximidade 125KHz com ou sem Teclado"]
[null,null,"Leitor multiprotocolo para aplicações de controlo de acesso, retro iluminado protocolo de saída selecionável. Oferece protocolos Wiegand programáveis para uma fácil integração com sistemas de acesso standard. A saída do tamper pode acionar o sistema de alarme, se for feita uma tentativa de abrir ou remover a unidade da parede.\n                                                                                                         \n• Instalação interior/exterior - IP65\n• Leitor cartões 125KHz (Cartões EM4102,​ GE ProxLite/CASI Prox,​ HID ProxEM)                                                                                                                             \n• Protocolo Wiegand \n• Besouro \n• Retro iluminado                                              \n• Alimentação 9 -14 VDC"]
[]
[]
[]
[]
[]
[]
[]
[]
[]
[]
[null,"Leitor Sem Teclado",null,null,"PVP",null,"Desconto","Preço Liquido"]
[null,"ACL800SUW-RDPX-S",{"$f":"_xlfn.XLOOKUP($B79,Tabela!A:A,Tabela!C:C,\"não encontrado\")","v":"Mature"},"Leitor de Proximidade 125 KHz - Saída Wiegand - Prata                                                                              ",{"$f":"_xlfn.XLOOKUP($B79,Tabela!$A:$A,Tabela!$D:$D,\"não encontrado\")","v":163.13999999999999},{"$f":"IF(B79 =ISTEXT(qualquer), \"\", HYPERLINK(\"https://pt.firesecurityproducts.com/pt/search?q=\"&B79, \"Link Web\"))","v":"Link Web"},{"$f":"$G$2","v":0},{"$f":"IF(ISBLANK(G79),\"\",E79-(E79*$G79))","v":163.13999999999999}]
[null,"ACL800SUW-RDPX-B",{"$f":"_xlfn.XLOOKUP($B80,Tabela!A:A,Tabela!C:C,\"não encontrado\")","v":"Mature"},"Leitor de Proximidade 125 KHz - Saída Wiegand - Preto                                                                              ",{"$f":"_xlfn.XLOOKUP($B80,Tabela!$A:$A,Tabela!$D:$D,\"não encontrado\")","v":138.02000000000001},{"$f":"IF(B80 =ISTEXT(qualquer), \"\", HYPERLINK(\"https://pt.firesecurityproducts.com/pt/search?q=\"&B80, \"Link Web\"))","v":"Link Web"},{"$f":"$G$2","v":0},138.02000000000001]
[]
[]
["Série ACL8xx",null,"Leitor Mifare "]
[null,null,"Leitor Mifare de controlo de acesso, retro iluminado protocolo de saída selecionável. Oferece protocolos Wiegand programáveis para uma fácil integração com sistemas de acesso standard. A saída do tamper pode acionar o sistema de alarme, se for feita uma tentativa de abrir ou remover a unidade da parede.\n                                                                                                         \n• Instalação interior/exterior - IP65\n• Leitor Mifare 13.56MHz ISO14443A :  MIFARE Classic (CSN),​ MIFARE DESFire (CSN),​ MIFARE DESFire EV1 (CSN),​ Mifare DESFire EV2 (CSN),​ MIFARE Plus (CSN),​ MIFARE Ultralight (CSN)  \n• Protocolo Wiegand \n• Besouro incorporado                                                                                                    \n• Retro iluminado\n• Alimentação 9 -14 VDC"]
[]
[]
[]
[]
[]
[]
[]
[]
[]
[]
[]
[null,"Leitor Sem Teclado"]
[null,"ACL800SUW-RDMF-S",{"$f":"_xlfn.XLOOKUP($B97,Tabela!A:A,Tabela!C:C,\"não encontrado\")","v":"Mature"},"Leitor Mifare (ISO14443A) 13.56 MHz - Prata                                                                           ",{"$f":"_xlfn.XLOOKUP($B97,Tabela!$A:$A,Tabela!$D:$D,\"não encontrado\")","v":186.97},{"$f":"IF(B97 =ISTEXT(qualquer), \"\", HYPERLINK(\"https://pt.firesecurityproducts.com/pt/search?q=\"&B97, \"Link Web\"))","v":"Link Web"},{"$f":"$G$2","v":0},{"$f":"IF(ISBLANK(G97),\"\",E97-(E97*$G97))","v":186.97}]
[null,"ACL800SUW-RDMF-B",{"$f":"_xlfn.XLOOKUP($B98,Tabela!A:A,Tabela!C:C,\"não encontrado\")","v":"Mature"},"Leitor Mifare (ISO14443A) 13.56 MHz - Preto                                                                         ",{"$f":"_xlfn.XLOOKUP($B98,Tabela!$A:$A,Tabela!$D:$D,\"não encontrado\")","v":156.83000000000001},{"$f":"IF(B98 =ISTEXT(qualquer), \"\", HYPERLINK(\"https://pt.firesecurityproducts.com/pt/search?q=\"&B98, \"Link Web\"))","v":"Link Web"},{"$f":"$G$2","v":0},156.83000000000001]
[]
[]
["Série ACL8xx",null,"Leitor Biométrico Capacitivo"]
[null,null,"Leitor biométrico capacitivo, inclui besouro e LED tricolor para indicação de estado (acesso concedido/negado, inativo).       \n                                                                                                         \n• Instalação interior/exterior - IP65\n•Leitura Biométrica Capacitiva   \n• Até 9500 impressões digitais                                                                                                        \n• Protocolo Wiegand de 24 a 80 bits    \n• Programação via software ACL800 BioManager (sem custos)   \n• Besouro incorporado                                  \n• Retro iluminado           \n• Alimentação 9 -14 VDC"]
[]
[]
[]
[]
[]
[]
[]
[]
[]
[]
[null,"ACL800SUW-BC-S",{"$f":"_xlfn.XLOOKUP($B113,Tabela!A:A,Tabela!C:C,\"não encontrado\")","v":"Mature"},"Leitor Biométrico Capacitivo - 9500 impressões digitais - Wiegand - Prata                                                                       ",{"$f":"_xlfn.XLOOKUP($B113,Tabela!$A:$A,Tabela!$D:$D,\"não encontrado\")","v":772.97},{"$f":"IF(B113 =ISTEXT(qualquer), \"\", HYPERLINK(\"https://pt.firesecurityproducts.com/pt/search?q=\"&B113, \"Link Web\"))","v":"Link Web"},{"$f":"$G$2","v":0},{"$f":"IF(ISBLANK(G113),\"\",E113-(E113*$G113))","v":772.97}]
[]
["Série ACL8xx",null,"Leitor Biométrico Capacitivo com Leitor Mifare"]
[null,null,"Estes leitores biométricos capacitivos, incluem besouro e LED tricolor para indicação de estado (acesso concedido/negado, inativo).       \n                                                                                                         \n• Instalação interior/exterior - IP65\n• Leitura capacitiva             \n• Leitor Mifare 13.56MHz ISO14443A : Mifare Classic (CSN),​ MIFARE DESFire (CSN),​ MIFARE DESFire EV1 (CSN),​ Mifare DESFire EV2 (CSN),​ MIFARE Plus (CSN),​ MIFARE Ultralight (CSN)           \n• 100 Templates\n• Protocolo Wiegand de 24 a 80 bits     \n• Programação via software ACL800 BioManager (sem custos)  \n• Besouro incorporado \n• Retro iluminado   \n• Alimentação 9 -14 VDC"]
[]
[]
[]
[]
[]
[]
[]
[]
[]
[]
[]
[]
[null,null,null,null,"PVP",null,"Desconto","Preço Liquido"]
[null,"ACL800SUW-BCMF-S",{"$f":"_xlfn.XLOOKUP($B130,Tabela!A:A,Tabela!C:C,\"não encontrado\")","v":"Mature"},"Leitor Biométrico Capacitivo - 9500 impressões digitais - Wiegand - Prata                                                                       ",{"$f":"_xlfn.XLOOKUP($B130,Tabela!$A:$A,Tabela!$D:$D,\"não encontrado\")","v":918.61},{"$f":"IF(B130 =ISTEXT(qualquer), \"\", HYPERLINK(\"https://pt.firesecurityproducts.com/pt/search?q=\"&B130, \"Link Web\"))","v":"Link Web"},{"$f":"$G$2","v":0},{"$f":"IF(ISBLANK(G130),\"\",E130-(E130*$G130))","v":918.61}]
[]
["Série ACL8xx",null,"Botões Capacitivos de Abertura de Porta "]
[null,null,"A série ACL800-PB é botão de saída por toque para montagem em superfície.\n                                                                                                         \n• Botão Capacitivo de Superfície ou embutir  \n• Besouro e Iluminação indicação de estado: Verde ; Vermelho; Laranja \n• Relé Programável: Latched, 3s, 5s, 10s  \n• Alimentação: 5 a 24 VDC / 15 a 24 VAC  \n• Instalação interior/exterior - IP65\n"]
[]
[]
[]
[]
[]
[]
[]
[null,"Montagem Superfície"]
[null,"ACL800-PB-S",{"$f":"_xlfn.XLOOKUP($B142,Tabela!A:A,Tabela!C:C,\"não encontrado\")","v":"Mature"},"Botão Capacitivo de Superfície - Prata                                                                                                  ",{"$f":"_xlfn.XLOOKUP($B142,Tabela!$A:$A,Tabela!$D:$D,\"não encontrado\")","v":110.94},{"$f":"IF(B142 =ISTEXT(qualquer), \"\", HYPERLINK(\"https://pt.firesecurityproducts.com/pt/search?q=\"&B142, \"Link Web\"))","v":"Link Web"},{"$f":"$G$2","v":0},{"$f":"IF(ISBLANK(G142),\"\",E142-(E142*$G142))","v":110.94}]
[null,"ACL800-PB-B",{"$f":"_xlfn.XLOOKUP($B143,Tabela!A:A,Tabela!C:C,\"não encontrado\")","v":"Mature"},"Botão Capacitivo de Superfície - Preto                                                                                                  ",{"$f":"_xlfn.XLOOKUP($B143,Tabela!$A:$A,Tabela!$D:$D,\"não encontrado\")","v":99.77},{"$f":"IF(B143 =ISTEXT(qualquer), \"\", HYPERLINK(\"https://pt.firesecurityproducts.com/pt/search?q=\"&B143, \"Link Web\"))","v":"Link Web"},{"$f":"$G$2","v":0},99.77]
[]
[]
[]
["Série ACL8xx",null,"Acessórios"]
[]
[]
[null,"Interface Comunicação"]
[null,"ACL800FL-CONV-W",{"$f":"_xlfn.XLOOKUP($B151,Tabela!A:A,Tabela!C:C,\"não encontrado\")","v":"Mature"},"Conversor ACL800 - RS485 para TCP/IP, montagem calha DIN",{"$f":"_xlfn.XLOOKUP($B151,Tabela!$A:$A,Tabela!$D:$D,\"não encontrado\")","v":153.72999999999999},{"$f":"IF(B151 =ISTEXT(qualquer), \"\", HYPERLINK(\"https://pt.firesecurityproducts.com/pt/search?q=\"&B151, \"Link Web\"))","v":"Link Web"},{"$f":"$G$2","v":0},{"$f":"IF(ISBLANK(G151),\"\",E151-(E151*$G151))","v":153.72999999999999}]
[]
["Série ACAxx",null,"Botão Proximidade Abertura de Porta"]
[null,null,"A série de \"botões\" de abertura de porta sem contato, baseados na tecnologia de infravermelhos são adequados para todos os ambientes onde se pretende evitar o contacto físico para abrir portas pelo interior, tais como cozinhas, instalações sanitárias, salas limpas, etc.: como o botão não precisa de ser tocado, é também adequado em portas de tráfego intenso com um desgaste mecânico mínimo. \n                                                                                                         \n• Sensor IR\n• Distância de deteção ajustável de 3 a 15 cm  \n• Ajuste de temporização de ativação de relé\n• Indicação LED vermelho e Verde para standby e ativo\n• Alimentação 12 -24 VDC"]
[]
[]
[]
[]
[]
[]
[]
[]
[]
[]
[null,"ABS",null,null,"PVP",null,"Desconto","Preço Liquido"]
[null,"ACA-Touch",{"$f":"_xlfn.XLOOKUP($B166,Tabela!A:A,Tabela!C:C,\"não encontrado\")","v":"Mature"},"Botão Slim IR para abertura de porta sem contato - ABS - 86 x 55 x 20mm Distância de deteção ajustável de 3 a 15 cm  Ajuste de temporização de ativação de relé Indicação LED vermelho e Verde para standby e ativo Alimentação 12 -24 VDC",{"$f":"_xlfn.XLOOKUP($B166,Tabela!$A:$A,Tabela!$D:$D,\"não encontrado\")","v":72.319999999999993},{"$f":"IF(B166 =ISTEXT(qualquer), \"\", HYPERLINK(\"https://pt.firesecurityproducts.com/pt/search?q=\"&B166, \"Link Web\"))","v":"Link Web"},{"$f":"$G$2","v":0},{"$f":"IF(ISBLANK(G166),\"\",E166-(E166*$G166))","v":72.319999999999993}]
[null,"ACA-Touch-slim",{"$f":"_xlfn.XLOOKUP($B167,Tabela!A:A,Tabela!C:C,\"não encontrado\")","v":"Mature"},"Botão Slim IR para abertura de porta sem contato - ABS - 86 x 55 x 20mm Distância de deteção ajustável de 3 a 15 cm  Ajuste de temporização de ativação de relé Indicação LED vermelho e Verde para standby e ativo Alimentação 12 -24 VDC",{"$f":"_xlfn.XLOOKUP($B167,Tabela!$A:$A,Tabela!$D:$D,\"não encontrado\")","v":72.319999999999993},{"$f":"IF(B167 =ISTEXT(qualquer), \"\", HYPERLINK(\"https://pt.firesecurityproducts.com/pt/search?q=\"&B167, \"Link Web\"))","v":"Link Web"},{"$f":"$G$2","v":0},72.319999999999993]
[]
[null,"Aço Inox"]
[null,"ACA-STEEL",{"$f":"_xlfn.XLOOKUP($B170,Tabela!A:A,Tabela!C:C,\"não encontrado\")","v":"Mature"},"Botão IR para abertura de porta sem contato - Aço Inox - 86 x 86 x 30mm Distância de deteção ajustável de 3 a 15 cm  Ajuste de temporização de ativação de relé Indicação LED vermelho e Verde para standby e ativo Alimentação 12 -24 VDC",{"$f":"_xlfn.XLOOKUP($B170,Tabela!$A:$A,Tabela!$D:$D,\"não encontrado\")","v":69.8},{"$f":"IF(B170 =ISTEXT(qualquer), \"\", HYPERLINK(\"https://pt.firesecurityproducts.com/pt/search?q=\"&B170, \"Link Web\"))","v":"Link Web"},{"$f":"$G$2","v":0},{"$f":"IF(ISBLANK(G170),\"\",E170-(E170*$G170))","v":69.8}]
[null,"ACA-Steel-slim",{"$f":"_xlfn.XLOOKUP($B171,Tabela!A:A,Tabela!C:C,\"não encontrado\")","v":"Mature"},"Botão Slim IR abertura de porta sem contato - Aço Inox - 115 x 40 x 30mm Distância de deteção ajustável de 3 a 15 cm   Ajuste de temporização de ativação de relé Indicação LED vermelho e Verde para standby e ativo Alimentação 12 -24 VDC",{"$f":"_xlfn.XLOOKUP($B171,Tabela!$A:$A,Tabela!$D:$D,\"não encontrado\")","v":69.8},{"$f":"IF(B171 =ISTEXT(qualquer), \"\", HYPERLINK(\"https://pt.firesecurityproducts.com/pt/search?q=\"&B171, \"Link Web\"))","v":"Link Web"},{"$f":"$G$2","v":0},69.8]
[]
["Série ACAxx",null,"Botão Mecânico Abertura de Porta"]
[null,"ACA001",{"$f":"_xlfn.XLOOKUP($B174,Tabela!A:A,Tabela!C:C,\"não encontrado\")","v":"Mature"},"Botão de saída “Request to Exit” - Normalmente Aberto\nConforme design Europeu, branco e símbolo de chave",{"$f":"_xlfn.XLOOKUP($B174,Tabela!$A:$A,Tabela!$D:$D,\"não encontrado\")","v":33.89},{"$f":"IF(B174 =ISTEXT(qualquer), \"\", HYPERLINK(\"https://pt.firesecurityproducts.com/pt/search?q=\"&B174, \"Link Web\"))","v":"Link Web"},{"$f":"$G$2","v":0},{"$f":"IF(ISBLANK(G174),\"\",E174-(E174*$G174))","v":33.89}]
[]
["Série SMA-VP-xx",null,"Leitores Reconhecimento Facial - Idemia VisionPass™"]
[null,null,"Conjunto ótico de última geração que combina câmaras 2D, 3D e infravermelhos com um algoritmo de processamento de imagem estereoscópico. \n\n• Alto desempenho:  perto de 1 segundo para encontrar correspondência entre 40.000 utilizadores\n• Resistência a tentativas de falsificação: imagem, máscara 3D\n• Eficiência em todas as condições de luz: da completa escuridão a iluminação solar\n• Compatível com plataforma de gestão IDEMIA’s MorphoManager\n• Plug-and-play com a maioria dos sistemas de controlo de acessos\n• Touchscreen capacitivo a cores de 7” WVGA"]
[]
[]
[]
[]
[]
[]
[]
[]
[]
[null,"SMA-VP-DB-40K",{"$f":"_xlfn.XLOOKUP($B187,Tabela!A:A,Tabela!C:C,\"não encontrado\")","v":"NPI"},"Atualização de base dados Idemia VisionPass de 20K para 40K. Aplica-se a Leitor Reconhecimento Facial MD/MDPI - Para licença é necessário o S/N ou  ID Licença do terminal, em conjunto com a fatura.",{"$f":"_xlfn.XLOOKUP($B187,Tabela!$A:$A,Tabela!$D:$D,\"não encontrado\")","v":1013.44},{"$f":"IF(B187 =ISTEXT(qualquer), \"\", HYPERLINK(\"https://pt.firesecurityproducts.com/pt/search?q=\"&B187, \"Link Web\"))","v":"Link Web"},{"$f":"$G$2","v":0},{"$f":"IF(ISBLANK(G187),\"\",E187-(E187*$G187))","v":1013.44}]
[null,"SMA-VP-MDPI",{"$f":"_xlfn.XLOOKUP($B188,Tabela!A:A,Tabela!C:C,\"não encontrado\")","v":"Mature"},"Leitor Reconhecimento Facial Idemia VisionPass MD -  Bio/Cartão/PIN/BioPIN (20K utilizadores e 40K com licença) com leitor Mifare/DESFire/Prox/HID iCLASS/iCLASS SEOS.Necessário software MorphoManager e integração OAAP Necessita PSU de 12 VDC @ 3 A (sem PoE)",{"$f":"_xlfn.XLOOKUP($B188,Tabela!$A:$A,Tabela!$D:$D,\"não encontrado\")","v":7156.09},{"$f":"IF(B188 =ISTEXT(qualquer), \"\", HYPERLINK(\"https://pt.firesecurityproducts.com/pt/search?q=\"&B188, \"Link Web\"))","v":"Link Web"},{"$f":"$G$2","v":0},7156.09]
[]
["Série SMA-L-xx",null,"Leitores Biométricos MORPHO - Sigma"]
[null,null,"Concebidos com especial atenção aos detalhes e desempenho, os terminais MorphoAccess® SIGMA Lite foram especificamente concebidos para equipar superfícies de montagem estreitas, como por exemplo, molduras de portas de vidro/alumínio, torniquetes ou portas de rack de servidores. Estes leitores biométricos capacitivos, incluem besouro e LED tricolor para indicação de estado (acesso concedido/negado, inativo).      \n                                                                                                                                                                        \n• Interface: Ethernet​ \n• OSDP V2​ \n• OSDP V2 Secure Channel\n• RS-485​ \n• USB\n• Wiegand"]
[]
[]
[]
[]
[]
[]
[]
[]
[]
[]
[null,null,null,null,"PVP",null,"Desconto","Preço Liquido"]
[null,"SMA-L-BIO",{"$f":"_xlfn.XLOOKUP($B203,Tabela!A:A,Tabela!C:C,\"não encontrado\")","v":"Mature"},"MA SIGMA Lite Plus - Bio, ecrã tátil QVGA de 2,8 polegadas, apenas MoNo-fator Bio, IP65, 500 utilizadores, CE",{"$f":"_xlfn.XLOOKUP($B203,Tabela!$A:$A,Tabela!$D:$D,\"não encontrado\")","v":1121.2},{"$f":"IF(B203 =ISTEXT(qualquer), \"\", HYPERLINK(\"https://pt.firesecurityproducts.com/pt/search?q=\"&B203, \"Link Web\"))","v":"Link Web"},{"$f":"$G$2","v":0},{"$f":"IF(ISBLANK(G203),\"\",E203-(E203*$G203))","v":1121.2}]
[null,"SMA-L-MULTI",{"$f":"_xlfn.XLOOKUP($B204,Tabela!A:A,Tabela!C:C,\"não encontrado\")","v":"Mature"},"MA SIGMA Lite - Multi, cartão biológico multifactor, MIFARE/MIFARE Plus/DESFIRE, 500 utilizadores, IP65, CE",{"$f":"_xlfn.XLOOKUP($B204,Tabela!$A:$A,Tabela!$D:$D,\"não encontrado\")","v":1256.42},{"$f":"IF(B204 =ISTEXT(qualquer), \"\", HYPERLINK(\"https://pt.firesecurityproducts.com/pt/search?q=\"&B204, \"Link Web\"))","v":"Link Web"},{"$f":"$G$2","v":0},1256.42]
[]
["Série SMA-LP-xx",null,"Leitores Biométricos com Display Touch - Lite Plus"]
[null,null,"Concebidos com especial atenção aos detalhes e desempenho, os terminais MorphoAccess® SIGMA Lite Plus com display tátil foram especificamente concebidos para equipar superfícies de montagem estreitas, como por exemplo, molduras de portas de vidro/alumínio, torniquetes ou portas de rack de servidores. Estes leitores biométricos capacitivos, incluem besouro e LED tricolor para indicação de estado (acesso concedido/negado, inativo).       \n                                                                                                         \n• Interface: Ethernet​ \n• OSDP V2​ \n• OSDP V2 Secure Channel\n• RS-485​ \n• USB\n• Wiegand"]
[]
[]
[]
[]
[]
[]
[]
[]
[]
[]
[]
[null,"SMA-LP-MULTI",{"$f":"_xlfn.XLOOKUP($B219,Tabela!A:A,Tabela!C:C,\"não encontrado\")","v":"Mature"},"MA SIGMA Lite Plus - Multi, 2.8 inch QVGA touchscreen, Multi-factor Bio/Cartão, MIFARE/MIFARE Plus/DESFIRE, IP65, 500 utilizadores, CE",{"$f":"_xlfn.XLOOKUP($B219,Tabela!$A:$A,Tabela!$D:$D,\"não encontrado\")","v":1597.15},{"$f":"IF(B219 =ISTEXT(qualquer), \"\", HYPERLINK(\"https://pt.firesecurityproducts.com/pt/search?q=\"&B219, \"Link Web\"))","v":"Link Web"},{"$f":"$G$2","v":0},{"$f":"IF(ISBLANK(G219),\"\",E219-(E219*$G219))","v":1597.15}]
[]
[]
["Série Multi",null,"Leitores Biométricos com Display Touch - Multi"]
[null,null,"Concebidos com especial atenção aos detalhes e desempenho, os terminais MorphoAccess® SMA com display tátil de grandes dimensões, possuem uma grande capacidade de memória:                                                          \n\n• 3000 utilizadores                                                                                                              \n• 1 M de eventos em memória                                                                                                          \n• Interface: Ethernet​ \n• OSDP V2​ \n• OSDP V2 Secure Channel\n• RS-485​ \n• USB\n• Wiegand"]
[]
[]
[]
[]
[]
[]
[]
[]
[]
[]
[null,null,null,null,"PVP",null,"Desconto","Preço Liquido"]
[null,"SMA-ICLASS-WR",{"$f":"_xlfn.XLOOKUP($B235,Tabela!A:A,Tabela!C:C,\"não encontrado\")","v":"Mature"},"SIGMA Series - Outdoor/WR/IP65, Multi-factor Bio/Card/PIN/BioPIN (3k users incl.), HID iClass, 1M logs storage capacity, PoE incl.",{"$f":"_xlfn.XLOOKUP($B235,Tabela!$A:$A,Tabela!$D:$D,\"não encontrado\")","v":2249.46},{"$f":"IF(B235 =ISTEXT(qualquer), \"\", HYPERLINK(\"https://pt.firesecurityproducts.com/pt/search?q=\"&B235, \"Link Web\"))","v":"Link Web"},{"$f":"$G$2","v":0},{"$f":"IF(ISBLANK(G235),\"\",E235-(E235*$G235))","v":2249.46}]
[]
["Software",null,"Configuração e Gestão Biométricos"]
[null,null,"O MorphoManager é a última geração de software de controlo de acessos e controlo de assiduidade. O software funciona com o leitor biométrico para capturar impressões digitais, fotografias e detalhes do utilizador. A informação das impressões digitais é enviada para os leitores biométricos especificados onde o controlo de acesso.\nMorphoManager também trabalha com os Leitores de Face Morpho 3D captar os traços faciais do utilizador. \nRecomenda-se a versão SMA-MM-PRO para a administração de um número limitado de terminais (impressão digital e facial) num único PC."]
[]
[]
[]
[]
[]
[]
[null,"SMA-MM-LIGHT",{"$f":"_xlfn.XLOOKUP($B245,Tabela!A:A,Tabela!C:C,\"não encontrado\")","v":"Mature"},"MORPHOMANAGER SW LIGHT, 1MM, 1 SM-MSO-1300, 1 MSO DONGLE VERIF",{"$f":"_xlfn.XLOOKUP($B245,Tabela!$A:$A,Tabela!$D:$D,\"não encontrado\")","v":1158.3699999999999},{"$f":"IF(B245 =ISTEXT(qualquer), \"\", HYPERLINK(\"https://pt.firesecurityproducts.com/pt/search?q=\"&B245, \"Link Web\"))","v":"Link Web"},{"$f":"$G$2","v":0},{"$f":"IF(ISBLANK(G245),\"\",E245-(E245*$G245))","v":1158.3699999999999}]
[]
["Série ACI42x",null,"Leitores OSDP"]
[null,null,"A gama de leitores ACI42x é composta por diferentes leitores com e sem teclado para leitura de cartões Mifare Desfire EV1/EV2/EV3 e Mifare CSN. Adicionalmente, incorporam comunicação Bluetooth. diferentes perfies baixo perfil ou padrão de cartões de suporte com segurança Mifare Desfire EV1/EV2/EV3 segura. Além disso, o leitor fornece suporte de Bluetooth (BLE). \n\nAlgumas características: \n• Interface OSDP V2.17\n• Instalação interior/exterior \n• Bluetooth Baixa Energia incorporado (BLE)\n• Entrada RTE e 1 Saída\n• Suportado pelo CDC4 ​ OSDP V2 Secure Channel,​ Wiegand\n• Classificação Segurança EAL6+\n• IP67\n• IK09"]
[]
[]
[]
[]
[]
[]
[]
[]
[]
[]
[]
[]
[]
[null,"Leitor sem Teclado"]
[null,"ACI420",{"$f":"_xlfn.XLOOKUP($B263,Tabela!A:A,Tabela!C:C,\"não encontrado\")","v":"Mature"},"Leitor Mifare, Slim, Mifare EV1/2/3, CSN com BLE",{"$f":"_xlfn.XLOOKUP($B263,Tabela!$A:$A,Tabela!$D:$D,\"não encontrado\")","v":483.99},{"$f":"IF(B263 =ISTEXT(qualquer), \"\", HYPERLINK(\"https://pt.firesecurityproducts.com/pt/search?q=\"&B263, \"Link Web\"))","v":"Link Web"},{"$f":"$G$2","v":0},{"$f":"IF(ISBLANK(G263),\"\",E263-(E263*$G263))","v":483.99}]
[null,"ACI421",{"$f":"_xlfn.XLOOKUP($B264,Tabela!A:A,Tabela!C:C,\"não encontrado\")","v":"Mature"},"Leitor Mifare EV1 com teclado e BLE",{"$f":"_xlfn.XLOOKUP($B264,Tabela!$A:$A,Tabela!$D:$D,\"não encontrado\")","v":509.68},{"$f":"IF(B264 =ISTEXT(qualquer), \"\", HYPERLINK(\"https://pt.firesecurityproducts.com/pt/search?q=\"&B264, \"Link Web\"))","v":"Link Web"},{"$f":"$G$2","v":0},509.68]
[]
[null,"Leitor com Teclado"]
[null,"ACI420-PIN",{"$f":"_xlfn.XLOOKUP($B267,Tabela!A:A,Tabela!C:C,\"não encontrado\")","v":"Mature"},"Leitor Mifare com teclado, Slim, Mifare EV1/2/3, CSN com BLE",{"$f":"_xlfn.XLOOKUP($B267,Tabela!$A:$A,Tabela!$D:$D,\"não encontrado\")","v":579.78},{"$f":"IF(B267 =ISTEXT(qualquer), \"\", HYPERLINK(\"https://pt.firesecurityproducts.com/pt/search?q=\"&B267, \"Link Web\"))","v":"Link Web"},{"$f":"$G$2","v":0},{"$f":"IF(ISBLANK(G267),\"\",E267-(E267*$G267))","v":579.78}]
[null,"ACI421-PIN",{"$f":"_xlfn.XLOOKUP($B268,Tabela!A:A,Tabela!C:C,\"não encontrado\")","v":"Mature"},"Leitor Mifare EV1 com teclado e BLE",{"$f":"_xlfn.XLOOKUP($B268,Tabela!$A:$A,Tabela!$D:$D,\"não encontrado\")","v":638.17999999999995},{"$f":"IF(B268 =ISTEXT(qualquer), \"\", HYPERLINK(\"https://pt.firesecurityproducts.com/pt/search?q=\"&B268, \"Link Web\"))","v":"Link Web"},{"$f":"$G$2","v":0},638.17999999999995]
[]
[null,"Programação de Endereço"]
[null,"ACI42x-A1-A4",{"$f":"_xlfn.XLOOKUP($B271,Tabela!A:A,Tabela!C:C,\"não encontrado\")","v":"Mature"},"Cartões de configuração de endereço (1 a 4)",{"$f":"_xlfn.XLOOKUP($B271,Tabela!$A:$A,Tabela!$D:$D,\"não encontrado\")","v":102.8},{"$f":"IF(B271 =ISTEXT(qualquer), \"\", HYPERLINK(\"https://pt.firesecurityproducts.com/pt/search?q=\"&B271, \"Link Web\"))","v":"Link Web"},{"$f":"$G$2","v":0},{"$f":"IF(ISBLANK(G271),\"\",E271-(E271*$G271))","v":102.8}]
[null,"ACI42x-A5-A8",{"$f":"_xlfn.XLOOKUP($B272,Tabela!A:A,Tabela!C:C,\"não encontrado\")","v":"Mature"},"Cartões de configuração de endereço (5 a 8)",{"$f":"_xlfn.XLOOKUP($B272,Tabela!$A:$A,Tabela!$D:$D,\"não encontrado\")","v":102.8},{"$f":"IF(B272 =ISTEXT(qualquer), \"\", HYPERLINK(\"https://pt.firesecurityproducts.com/pt/search?q=\"&B272, \"Link Web\"))","v":"Link Web"},{"$f":"$G$2","v":0},102.8]
[]
["HID Signo",null,"Leitores Proximidade"]
[null,null,"HID Signo é uma boa escolha para aqueles que procuram fazer a transição para outra tecnologia. Os leitores HID Signo são concebidos para serem ligados e geridos remotamente através do HID Reader Manager® por Bluetooth. \n\nAlgumas características: \n\n• Multifrequência: 125KHz, 13.56 MHz, 2.4 GHz \n•  125 KHz: AWID Prox,​ EM4102,​ HID Prox,​ Indala Prox,​ Standard profile\n•  13.56 MHz Corporate 1000,​ iCLASS ELITE,​ iCLASS SE,​ iCLASS SR,​ MIFARE Classic (CSN),​ Mifare Classic (SIO),​ MIFARE DESFire EV1 (CSN),​ Mifare DESFire EV1 (SIO),​ Mifare DESFire EV2 (CSN),​ Mifare DESFire EV2 (SIO),​ SEOS,​ SEOS (Mobile IDs via NFC/BLE),​ SEOS profile,​ Smart profile,​ Standard profile\n• 2.4 GHz Bluetooth,​ Mobile ready,​ SEOS profile,​ Smart profile,​ Standard profile\n• Interface OSDP V1,​ OSDP V2,​ OSDP V2 Secure Channel,​ Wiegand\n• Classificação Segurança EAL6+\n• IP65"]
[]
[]
[]
[]
[]
[]
[]
[]
[]
[]
[]
[]
[]
[null,null,null,null,"PVP",null,"Desconto","Preço Liquido"]
[null,"20NKS-00-000000",{"$f":"_xlfn.XLOOKUP($B290,Tabela!A:A,Tabela!C:C,\"não encontrado\")","v":"Mature"},"Signo20, Mullion, 13.56mHz &125kHz, OSDP/Wiegand, Pigtail, Mobile Ready, BLE",{"$f":"_xlfn.XLOOKUP($B290,Tabela!$A:$A,Tabela!$D:$D,\"não encontrado\")","v":371.33},{"$f":"IF(B290 =ISTEXT(qualquer), \"\", HYPERLINK(\"https://pt.firesecurityproducts.com/pt/search?q=\"&B290, \"Link Web\"))","v":"Link Web"},{"$f":"$G$2","v":0},{"$f":"IF(ISBLANK(G290),\"\",E290-(E290*$G290))","v":371.33}]
[null,"20TKS-00-000000",{"$f":"_xlfn.XLOOKUP($B291,Tabela!A:A,Tabela!C:C,\"não encontrado\")","v":"Mature"},"Signo20, Mullion, 13.56mHz &125kHz, OSDP/Wiegand, Terminal, Mobile Ready, BLE",{"$f":"_xlfn.XLOOKUP($B291,Tabela!$A:$A,Tabela!$D:$D,\"não encontrado\")","v":371.33},{"$f":"IF(B291 =ISTEXT(qualquer), \"\", HYPERLINK(\"https://pt.firesecurityproducts.com/pt/search?q=\"&B291, \"Link Web\"))","v":"Link Web"},0,{"$f":"IF(ISBLANK(G291),\"\",E291-(E291*$G291))","v":371.33}]
[null,"20KNKS-00-000000",{"$f":"_xlfn.XLOOKUP($B292,Tabela!A:A,Tabela!C:C,\"não encontrado\")","v":"Mature"},"Signo20K, Mullion c/Teclado, 13.56mHz &125kHz, OSDP/Wiegand, Pigtail, Mobile Ready, BLE",{"$f":"_xlfn.XLOOKUP($B292,Tabela!$A:$A,Tabela!$D:$D,\"não encontrado\")","v":749.34},{"$f":"IF(B292 =ISTEXT(qualquer), \"\", HYPERLINK(\"https://pt.firesecurityproducts.com/pt/search?q=\"&B292, \"Link Web\"))","v":"Link Web"},0,749.34]
[null,"20TKS-02-0045FA",{"$f":"_xlfn.XLOOKUP($B293,Tabela!A:A,Tabela!C:C,\"não encontrado\")","v":"NPI"},"READER 13,56MHZ -125KHZ - BLE - KEYPAD - MULLION FORMAT - EV3 - WIEGAND - OSDP - TERMINALS CONNECTOR",{"$f":"_xlfn.XLOOKUP($B293,Tabela!$A:$A,Tabela!$D:$D,\"não encontrado\")","v":357.92},{"$f":"IF(B293 =ISTEXT(qualquer), \"\", HYPERLINK(\"https://pt.firesecurityproducts.com/pt/search?q=\"&B293, \"Link Web\"))","v":"Link Web"},0,{"$f":"IF(ISBLANK(G293),\"\",E293-(E293*$G293))","v":357.92}]
[null,"40NKS-00-000000",{"$f":"_xlfn.XLOOKUP($B294,Tabela!A:A,Tabela!C:C,\"não encontrado\")","v":"Mature"},"Signo40, Wall mount, 13.56mHz &125kHz, OSDP/Wiegand, Pigtail, Mobile Ready, BLE",{"$f":"_xlfn.XLOOKUP($B294,Tabela!$A:$A,Tabela!$D:$D,\"não encontrado\")","v":454.95},{"$f":"IF(B294 =ISTEXT(qualquer), \"\", HYPERLINK(\"https://pt.firesecurityproducts.com/pt/search?q=\"&B294, \"Link Web\"))","v":"Link Web"},0,454.95]
[null,"40TKS-00-000000",{"$f":"_xlfn.XLOOKUP($B295,Tabela!A:A,Tabela!C:C,\"não encontrado\")","v":"Mature"},"Signo40, Wall mount, 13.56mHz &125kHz, OSDP/Wiegand, Terminal, Mobile Ready, BLE",{"$f":"_xlfn.XLOOKUP($B295,Tabela!$A:$A,Tabela!$D:$D,\"não encontrado\")","v":454.95},{"$f":"IF(B295 =ISTEXT(qualquer), \"\", HYPERLINK(\"https://pt.firesecurityproducts.com/pt/search?q=\"&B295, \"Link Web\"))","v":"Link Web"},0,454.95]
[null,"40KNKS-00-000000",{"$f":"_xlfn.XLOOKUP($B296,Tabela!A:A,Tabela!C:C,\"não encontrado\")","v":"Mature"},"Signo40K, Wall mount w/Keypad, 13.56mHz &125kHz, OSDP/Wiegand, Pigtail, Mobile Ready, BLE",{"$f":"_xlfn.XLOOKUP($B296,Tabela!$A:$A,Tabela!$D:$D,\"não encontrado\")","v":749.34},{"$f":"IF(B296 =ISTEXT(qualquer), \"\", HYPERLINK(\"https://pt.firesecurityproducts.com/pt/search?q=\"&B296, \"Link Web\"))","v":"Link Web"},0,749.34]
[null,"40KTKS-00-000000",{"$f":"_xlfn.XLOOKUP($B297,Tabela!A:A,Tabela!C:C,\"não encontrado\")","v":"Mature"},"Signo40K, Wall mount w/Keypad, 13.56mHz &125kHz, OSDP/Wiegand, Terminal, Mobile Ready, BLE",{"$f":"_xlfn.XLOOKUP($B297,Tabela!$A:$A,Tabela!$D:$D,\"não encontrado\")","v":734.65},{"$f":"IF(B297 =ISTEXT(qualquer), \"\", HYPERLINK(\"https://pt.firesecurityproducts.com/pt/search?q=\"&B297, \"Link Web\"))","v":"Link Web"},0,734.65]
[null,"20NKS-01-000000",{"$f":"_xlfn.XLOOKUP($B298,Tabela!A:A,Tabela!C:C,\"não encontrado\")","v":"Mature"},"Signo20, Mullion, Seos Profile , OSDP/Wiegand, Pigtail, Mobile Ready, BLE",{"$f":"_xlfn.XLOOKUP($B298,Tabela!$A:$A,Tabela!$D:$D,\"não encontrado\")","v":281.32},{"$f":"IF(B298 =ISTEXT(qualquer), \"\", HYPERLINK(\"https://pt.firesecurityproducts.com/pt/search?q=\"&B298, \"Link Web\"))","v":"Link Web"},0,281.32]
[null,"20TKS-01-000000",{"$f":"_xlfn.XLOOKUP($B299,Tabela!A:A,Tabela!C:C,\"não encontrado\")","v":"Mature"},"Signo20, Mullion, Seos Profile , OSDP/Wiegand, Terminal, Mobile Ready, BLE",{"$f":"_xlfn.XLOOKUP($B299,Tabela!$A:$A,Tabela!$D:$D,\"não encontrado\")","v":281.32},{"$f":"IF(B299 =ISTEXT(qualquer), \"\", HYPERLINK(\"https://pt.firesecurityproducts.com/pt/search?q=\"&B299, \"Link Web\"))","v":"Link Web"},0,281.32]
[null,"20NKS-02-000000",{"$f":"_xlfn.XLOOKUP($B300,Tabela!A:A,Tabela!C:C,\"não encontrado\")","v":"Mature"},"Signo20, Mullion, 13.56mHz Profile , OSDP/Wiegand, Pigtail, Mobile Ready, BLE",{"$f":"_xlfn.XLOOKUP($B300,Tabela!$A:$A,Tabela!$D:$D,\"não encontrado\")","v":326.32},{"$f":"IF(B300 =ISTEXT(qualquer), \"\", HYPERLINK(\"https://pt.firesecurityproducts.com/pt/search?q=\"&B300, \"Link Web\"))","v":"Link Web"},0,326.32]
[null,"40NKS-02-000000",{"$f":"_xlfn.XLOOKUP($B301,Tabela!A:A,Tabela!C:C,\"não encontrado\")","v":"Mature"},"Signo40, Wall mount, 13.56mHz Profile , OSDP/Wiegand, Pigtail, Mobile Ready, BLE",{"$f":"_xlfn.XLOOKUP($B301,Tabela!$A:$A,Tabela!$D:$D,\"não encontrado\")","v":401.42},{"$f":"IF(B301 =ISTEXT(qualquer), \"\", HYPERLINK(\"https://pt.firesecurityproducts.com/pt/search?q=\"&B301, \"Link Web\"))","v":"Link Web"},0,401.42]
[null,"40NKS-02-0045FA",{"$f":"_xlfn.XLOOKUP($B302,Tabela!A:A,Tabela!C:C,\"não encontrado\")","v":"NPI"},"READER 13,56MHZ - 125KHZ - BLE -KEYPAD - STD FORMAT - EV3 - WIEGAND - OSDP - PIGTAIL WIRING",{"$f":"_xlfn.XLOOKUP($B302,Tabela!$A:$A,Tabela!$D:$D,\"não encontrado\")","v":436.39},{"$f":"IF(B302 =ISTEXT(qualquer), \"\", HYPERLINK(\"https://pt.firesecurityproducts.com/pt/search?q=\"&B302, \"Link Web\"))","v":"Link Web"},0,{"$f":"IF(ISBLANK(G302),\"\",E302-(E302*$G302))","v":436.39}]
[]
[null,"Espaçadores",null,null,"PVP",null,"Desconto","Preço Liquido"]
[null,"20-K-05",{"$f":"_xlfn.XLOOKUP($B305,Tabela!A:A,Tabela!C:C,\"não encontrado\")","v":"Mature"},"Espaçador de 12.7mm para Leitor Signo 20/20K, Preto",{"$f":"_xlfn.XLOOKUP($B305,Tabela!$A:$A,Tabela!$D:$D,\"não encontrado\")","v":40.549999999999997},{"$f":"IF(B305 =ISTEXT(qualquer), \"\", HYPERLINK(\"https://pt.firesecurityproducts.com/pt/search?q=\"&B305, \"Link Web\"))","v":"Link Web"},{"$f":"$G$2","v":0},{"$f":"IF(ISBLANK(G305),\"\",E305-(E305*$G305))","v":40.549999999999997}]
[null,"20-K-10",{"$f":"_xlfn.XLOOKUP($B306,Tabela!A:A,Tabela!C:C,\"não encontrado\")","v":"Mature"},"Espaçador de 25.4mm para Leitor Signo 20/20K, Preto",{"$f":"_xlfn.XLOOKUP($B306,Tabela!$A:$A,Tabela!$D:$D,\"não encontrado\")","v":40.549999999999997},{"$f":"IF(B306 =ISTEXT(qualquer), \"\", HYPERLINK(\"https://pt.firesecurityproducts.com/pt/search?q=\"&B306, \"Link Web\"))","v":"Link Web"},0,40.549999999999997]
[null,"20-S-10",{"$f":"_xlfn.XLOOKUP($B307,Tabela!A:A,Tabela!C:C,\"não encontrado\")","v":"Mature"},"Espaçador de 25.4mm para Leitor Signo 20/20K, Cinza",{"$f":"_xlfn.XLOOKUP($B307,Tabela!$A:$A,Tabela!$D:$D,\"não encontrado\")","v":40.549999999999997},{"$f":"IF(B307 =ISTEXT(qualquer), \"\", HYPERLINK(\"https://pt.firesecurityproducts.com/pt/search?q=\"&B307, \"Link Web\"))","v":"Link Web"},0,40.549999999999997]
[null,"40-K-10",{"$f":"_xlfn.XLOOKUP($B308,Tabela!A:A,Tabela!C:C,\"não encontrado\")","v":"Mature"},"Espaçador de 25.4mm para Leitor Signo 40/40K, Preto",{"$f":"_xlfn.XLOOKUP($B308,Tabela!$A:$A,Tabela!$D:$D,\"não encontrado\")","v":40.549999999999997},{"$f":"IF(B308 =ISTEXT(qualquer), \"\", HYPERLINK(\"https://pt.firesecurityproducts.com/pt/search?q=\"&B308, \"Link Web\"))","v":"Link Web"},0,40.549999999999997]
[]
[]
["HID iClass",null,"Leitores Proximidade SE"]
[null,null,"Os leitores de longo alcance iCLASS SE ® U90 da HID Global oferecem uma solução para estacionamento e controlo de portões. Apresentando tecnologia de encriptação avançada, a solução oferece o controlo de acesso mais seguro de ultra-alta frequência (UHF) do mercado. Com um alcance de leitura até cinco metros, o iCLASS SE U90 pode ler vários tipos de credenciais e suportar uma população mista de credenciais. A capacidade de combinar o acesso ao edifício com o controlo de estacionamento e portão num único cartão ou fob oferece tanto comodidade como segurança.\n• Conveniente - Solução discreta de autenticação mãos-livres para estacionamentos e controlo de portões.\n• Dinâmico - Configurável localmente através de um interface de utilizador complet para facilidade de manutenção\n• Compatível - Suporta credenciais compatíveis com UHF ISO 18000-6C contendo tecnologia de encriptação Secure Identity Object® (SIO®)\n• Poderosamente Seguro - Encriptação dos dados do cartão através do controlador, permitindo comunicações seguras de ponta a ponta"]
[]
[]
[]
[]
[]
[]
[]
[]
[]
[]
[null,null,null,null,"PVP",null,"Desconto","Preço Liquido"]
[null,"RDRSEU908K00000",{"$f":"_xlfn.XLOOKUP($B324,Tabela!A:A,Tabela!C:C,\"não encontrado\")","v":"Mature"},"HID iCLASS SE U90, SE E, NO PROX, UHF, 865-868 MHZ, STD, WIEGAND, TERM, BLK, STD 1 SECURITY",{"$f":"_xlfn.XLOOKUP($B324,Tabela!$A:$A,Tabela!$D:$D,\"não encontrado\")","v":1949.58},{"$f":"IF(B324 =ISTEXT(qualquer), \"\", HYPERLINK(\"https://pt.firesecurityproducts.com/pt/search?q=\"&B324, \"Link Web\"))","v":"Link Web"},{"$f":"$G$2","v":0},{"$f":"IF(ISBLANK(G324),\"\",E324-(E324*$G324))","v":1949.58}]
[]
["Série ACI4xx",null,"Leitores Mifare"]
[]
[null,"ACI406N",{"$f":"_xlfn.XLOOKUP($B328,Tabela!A:A,Tabela!C:C,\"não encontrado\")","v":"Mature"},"Leitor MIFARE com teclado (4 e 7 bytes) com interface wiegand",{"$f":"_xlfn.XLOOKUP($B328,Tabela!$A:$A,Tabela!$D:$D,\"não encontrado\")","v":229.69},{"$f":"IF(B328 =ISTEXT(qualquer), \"\", HYPERLINK(\"https://pt.firesecurityproducts.com/pt/search?q=\"&B328, \"Link Web\"))","v":"Link Web"},{"$f":"$G$2","v":0},{"$f":"IF(ISBLANK(G328),\"\",E328-(E328*$G328))","v":229.69}]
[null,"ACI407N",{"$f":"_xlfn.XLOOKUP($B329,Tabela!A:A,Tabela!C:C,\"não encontrado\")","v":"Mature"},"Leitor MIFARE com teclado (4 e 7 bytes) com interface wiegand",{"$f":"_xlfn.XLOOKUP($B329,Tabela!$A:$A,Tabela!$D:$D,\"não encontrado\")","v":430.78},{"$f":"IF(B329 =ISTEXT(qualquer), \"\", HYPERLINK(\"https://pt.firesecurityproducts.com/pt/search?q=\"&B329, \"Link Web\"))","v":"Link Web"},{"$f":"$G$2","v":0},430.78]
[]
["Credenciais",null,"Cartões e Etiquetas de Identificação"]
[null,null,null,null,"PVP",null,"Desconto","Preço Liquido"]
[null,"ACT407E",{"$f":"_xlfn.XLOOKUP($B333,Tabela!A:A,Tabela!C:C,\"não encontrado\")","v":"Mature"},"Cartão Mifare  (25 unidades)",{"$f":"_xlfn.XLOOKUP($B333,Tabela!$A:$A,Tabela!$D:$D,\"não encontrado\")","v":93.32},{"$f":"IF(B333 =ISTEXT(qualquer), \"\", HYPERLINK(\"https://pt.firesecurityproducts.com/pt/search?q=\"&B333, \"Link Web\"))","v":"Link Web"},{"$f":"$G$2","v":0},{"$f":"IF(ISBLANK(G333),\"\",E333-(E333*$G333))","v":93.32}]
[null,"ACT725-37",{"$f":"_xlfn.XLOOKUP($B334,Tabela!A:A,Tabela!C:C,\"não encontrado\")","v":"Mature"},"Proxcard II, sitecode 37",{"$f":"_xlfn.XLOOKUP($B334,Tabela!$A:$A,Tabela!$D:$D,\"não encontrado\")","v":5.34},{"$f":"IF(B334 =ISTEXT(qualquer), \"\", HYPERLINK(\"https://pt.firesecurityproducts.com/pt/search?q=\"&B334, \"Link Web\"))","v":"Link Web"},0,5.34]
[null,"ACT736-37",{"$f":"_xlfn.XLOOKUP($B335,Tabela!A:A,Tabela!C:C,\"não encontrado\")","v":"Mature"},"Duoprox II, sitecode 37",{"$f":"_xlfn.XLOOKUP($B335,Tabela!$A:$A,Tabela!$D:$D,\"não encontrado\")","v":12.04},{"$f":"IF(B335 =ISTEXT(qualquer), \"\", HYPERLINK(\"https://pt.firesecurityproducts.com/pt/search?q=\"&B335, \"Link Web\"))","v":"Link Web"},0,12.04]
[null,"ACT745-37",{"$f":"_xlfn.XLOOKUP($B336,Tabela!A:A,Tabela!C:C,\"não encontrado\")","v":"Mature"},"Proxkey III, sitecode 37",{"$f":"_xlfn.XLOOKUP($B336,Tabela!$A:$A,Tabela!$D:$D,\"não encontrado\")","v":13.4},{"$f":"IF(B336 =ISTEXT(qualquer), \"\", HYPERLINK(\"https://pt.firesecurityproducts.com/pt/search?q=\"&B336, \"Link Web\"))","v":"Link Web"},0,13.4]
[null,"ACT786-37",{"$f":"_xlfn.XLOOKUP($B337,Tabela!A:A,Tabela!C:C,\"não encontrado\")","v":"Mature"},"Isoprox II, sitecode 37",{"$f":"_xlfn.XLOOKUP($B337,Tabela!$A:$A,Tabela!$D:$D,\"não encontrado\")","v":12.2},{"$f":"IF(B337 =ISTEXT(qualquer), \"\", HYPERLINK(\"https://pt.firesecurityproducts.com/pt/search?q=\"&B337, \"Link Web\"))","v":"Link Web"},0,12.2]
[null,"ACT750",{"$f":"_xlfn.XLOOKUP($B338,Tabela!A:A,Tabela!C:C,\"não encontrado\")","v":"Mature"},"Argola para ACT745",{"$f":"_xlfn.XLOOKUP($B338,Tabela!$A:$A,Tabela!$D:$D,\"não encontrado\")","v":0.77},{"$f":"IF(B338 =ISTEXT(qualquer), \"\", HYPERLINK(\"https://pt.firesecurityproducts.com/pt/search?q=\"&B338, \"Link Web\"))","v":"Link Web"},0,0.77]
[null,"ACT455",{"$f":"_xlfn.XLOOKUP($B339,Tabela!A:A,Tabela!C:C,\"não encontrado\")","v":"Mature"},"Cartão PVC, vazio EV2 (Pack 25)",{"$f":"_xlfn.XLOOKUP($B339,Tabela!$A:$A,Tabela!$D:$D,\"não encontrado\")","v":143.21},{"$f":"IF(B339 =ISTEXT(qualquer), \"\", HYPERLINK(\"https://pt.firesecurityproducts.com/pt/search?q=\"&B339, \"Link Web\"))","v":"Link Web"},0,143.21]
[null,"ACT457",{"$f":"_xlfn.XLOOKUP($B340,Tabela!A:A,Tabela!C:C,\"não encontrado\")","v":"Mature"},"Porta chaves, vazio EV2 (Pack 25)",{"$f":"_xlfn.XLOOKUP($B340,Tabela!$A:$A,Tabela!$D:$D,\"não encontrado\")","v":175.9},{"$f":"IF(B340 =ISTEXT(qualquer), \"\", HYPERLINK(\"https://pt.firesecurityproducts.com/pt/search?q=\"&B340, \"Link Web\"))","v":"Link Web"},0,175.9]
[]
["Série 1xx Ecoline",null,"Fechos Eletromagnéticos"]
[null,"Fechos Eletromagnéticos",null,null,"PVP",null,"Desconto","Preço Liquido"]
[null,"FE110US",{"$f":"_xlfn.XLOOKUP($B344,Tabela!A:A,Tabela!C:C,\"não encontrado\")","v":"Mature"},"Magneto força 150KGS não monitorizado -12/24VDC - Alumínio\nDimensões: 166x38x22 mm",{"$f":"_xlfn.XLOOKUP($B344,Tabela!$A:$A,Tabela!$D:$D,\"não encontrado\")","v":128.02000000000001},{"$f":"IF(B344 =ISTEXT(qualquer), \"\", HYPERLINK(\"https://pt.firesecurityproducts.com/pt/search?q=\"&B344, \"Link Web\"))","v":"Link Web"},{"$f":"$G$2","v":0},{"$f":"IF(ISBLANK(G344),\"\",E344-(E344*$G344))","v":128.02000000000001}]
[null,"FE130MD",{"$f":"_xlfn.XLOOKUP($B345,Tabela!A:A,Tabela!C:C,\"não encontrado\")","v":"Mature"},"Magneto duplo( 2 x 300Kg)  monitorizado - Montagem Std - 12/24VDC - Alumínio\nDimensões: 500x47x26 mm",{"$f":"_xlfn.XLOOKUP($B345,Tabela!$A:$A,Tabela!$D:$D,\"não encontrado\")","v":341.37},{"$f":"IF(B345 =ISTEXT(qualquer), \"\", HYPERLINK(\"https://pt.firesecurityproducts.com/pt/search?q=\"&B345, \"Link Web\"))","v":"Link Web"},{"$f":"$G$2","v":0},341.37]
[null,"FE130MM",{"$f":"_xlfn.XLOOKUP($B346,Tabela!A:A,Tabela!C:C,\"não encontrado\")","v":"Mature"},"Magneto força 300Kg monitorizado- Montagem embutir - 12/24 VDC -Alumínio\nDimensões: 228x38x27 mm",{"$f":"_xlfn.XLOOKUP($B346,Tabela!$A:$A,Tabela!$D:$D,\"não encontrado\")","v":137.16},{"$f":"IF(B346 =ISTEXT(qualquer), \"\", HYPERLINK(\"https://pt.firesecurityproducts.com/pt/search?q=\"&B346, \"Link Web\"))","v":"Link Web"},{"$f":"$G$2","v":0},137.16]
[null,"FE130MS",{"$f":"_xlfn.XLOOKUP($B347,Tabela!A:A,Tabela!C:C,\"não encontrado\")","v":"Mature"},"Magneto força 300KGS monitorizado - Montagem Std - 12/24 VDC - Alumínio\nDimensões: 250x47x26 mm",{"$f":"_xlfn.XLOOKUP($B347,Tabela!$A:$A,Tabela!$D:$D,\"não encontrado\")","v":161.57},{"$f":"IF(B347 =ISTEXT(qualquer), \"\", HYPERLINK(\"https://pt.firesecurityproducts.com/pt/search?q=\"&B347, \"Link Web\"))","v":"Link Web"},{"$f":"$G$2","v":0},161.57]
[null,"FE160MS",{"$f":"_xlfn.XLOOKUP($B348,Tabela!A:A,Tabela!C:C,\"não encontrado\")","v":"Mature"},"Magneto força 600KGS monitorizado - Montagem Std -12/24VDC\nDimensões: 266x73x40 mm",{"$f":"_xlfn.XLOOKUP($B348,Tabela!$A:$A,Tabela!$D:$D,\"não encontrado\")","v":207.28},{"$f":"IF(B348 =ISTEXT(qualquer), \"\", HYPERLINK(\"https://pt.firesecurityproducts.com/pt/search?q=\"&B348, \"Link Web\"))","v":"Link Web"},{"$f":"$G$2","v":0},207.28]
[]
[null,"Suportes"]
[null,"FE110ZL",{"$f":"_xlfn.XLOOKUP($B351,Tabela!A:A,Tabela!C:C,\"não encontrado\")","v":"Mature"},"Suporte Z & L 150KGS - para magnetos da série 110",{"$f":"_xlfn.XLOOKUP($B351,Tabela!$A:$A,Tabela!$D:$D,\"não encontrado\")","v":45.74},{"$f":"IF(B351 =ISTEXT(qualquer), \"\", HYPERLINK(\"https://pt.firesecurityproducts.com/pt/search?q=\"&B351, \"Link Web\"))","v":"Link Web"},{"$f":"$G$2","v":0},{"$f":"IF(ISBLANK(G351),\"\",E351-(E351*$G351))","v":45.74}]
[null,"FE130GB",{"$f":"_xlfn.XLOOKUP($B352,Tabela!A:A,Tabela!C:C,\"não encontrado\")","v":"Mature"},"Suporte Vidro 300KG série FE130",{"$f":"_xlfn.XLOOKUP($B352,Tabela!$A:$A,Tabela!$D:$D,\"não encontrado\")","v":36.56},{"$f":"IF(B352 =ISTEXT(qualquer), \"\", HYPERLINK(\"https://pt.firesecurityproducts.com/pt/search?q=\"&B352, \"Link Web\"))","v":"Link Web"},0,36.56]
[null,"FE130L",{"$f":"_xlfn.XLOOKUP($B353,Tabela!A:A,Tabela!C:C,\"não encontrado\")","v":"Mature"},"Suporte L  300KGS",{"$f":"_xlfn.XLOOKUP($B353,Tabela!$A:$A,Tabela!$D:$D,\"não encontrado\")","v":45.74},{"$f":"IF(B353 =ISTEXT(qualquer), \"\", HYPERLINK(\"https://pt.firesecurityproducts.com/pt/search?q=\"&B353, \"Link Web\"))","v":"Link Web"},0,45.74]
[null,"FE130ZL",{"$f":"_xlfn.XLOOKUP($B354,Tabela!A:A,Tabela!C:C,\"não encontrado\")","v":"Mature"},"Suporte Z & L  300KGS",{"$f":"_xlfn.XLOOKUP($B354,Tabela!$A:$A,Tabela!$D:$D,\"não encontrado\")","v":64.040000000000006},{"$f":"IF(B354 =ISTEXT(qualquer), \"\", HYPERLINK(\"https://pt.firesecurityproducts.com/pt/search?q=\"&B354, \"Link Web\"))","v":"Link Web"},0,64.040000000000006]
[null,"FE160L",{"$f":"_xlfn.XLOOKUP($B355,Tabela!A:A,Tabela!C:C,\"não encontrado\")","v":"Mature"},"Suporte L  600KGS",{"$f":"_xlfn.XLOOKUP($B355,Tabela!$A:$A,Tabela!$D:$D,\"não encontrado\")","v":51.82},{"$f":"IF(B355 =ISTEXT(qualquer), \"\", HYPERLINK(\"https://pt.firesecurityproducts.com/pt/search?q=\"&B355, \"Link Web\"))","v":"Link Web"},0,51.82]
[null,"FE160ZL",{"$f":"_xlfn.XLOOKUP($B356,Tabela!A:A,Tabela!C:C,\"não encontrado\")","v":"Mature"}," Suporte Z & L  600KGS",{"$f":"_xlfn.XLOOKUP($B356,Tabela!$A:$A,Tabela!$D:$D,\"não encontrado\")","v":82.29},{"$f":"IF(B356 =ISTEXT(qualquer), \"\", HYPERLINK(\"https://pt.firesecurityproducts.com/pt/search?q=\"&B356, \"Link Web\"))","v":"Link Web"},0,82.29]
[]
["Série 3xx",null,"Fechos Eletromagnéticos"]
[null,"Fechos Eletromagnéticos",null,null,"PVP",null,"Desconto","Preço Liquido"]
[null,"FE310",{"$f":"_xlfn.XLOOKUP($B360,Tabela!A:A,Tabela!C:C,\"não encontrado\")","v":"Mature"},"Mini magneto 1800N - Não monitorizado Montagem Standard\n12 ou 24VDC Alumínio Anodizado Dimensões: 166x39x21 mm",{"$f":"_xlfn.XLOOKUP($B360,Tabela!$A:$A,Tabela!$D:$D,\"não encontrado\")","v":182.87},{"$f":"IF(B360 =ISTEXT(qualquer), \"\", HYPERLINK(\"https://pt.firesecurityproducts.com/pt/search?q=\"&B360, \"Link Web\"))","v":"Link Web"},{"$f":"$G$2","v":0},{"$f":"IF(ISBLANK(G360),\"\",E360-(E360*$G360))","v":182.87}]
[null,"FE321",{"$f":"_xlfn.XLOOKUP($B361,Tabela!A:A,Tabela!C:C,\"não encontrado\")","v":"Mature"},"Magneto médio 3000N - Não monitorizado Montagem Standard\n12 ou 24 VDC Alumínio Anodizado Dimensões: 268x48x25 mm",{"$f":"_xlfn.XLOOKUP($B361,Tabela!$A:$A,Tabela!$D:$D,\"não encontrado\")","v":219.48},{"$f":"IF(B361 =ISTEXT(qualquer), \"\", HYPERLINK(\"https://pt.firesecurityproducts.com/pt/search?q=\"&B361, \"Link Web\"))","v":"Link Web"},{"$f":"$G$2","v":0},219.48]
[null,"FE372",{"$f":"_xlfn.XLOOKUP($B362,Tabela!A:A,Tabela!C:C,\"não encontrado\")","v":"Mature"},"Magneto médio 6000N - Monitorizado Sinalização de estado por LED - Saída por Relay (2x) Montagem Standard  12 ou 24 VDC Alumínio Anodizado Dimensões: 268x73x40 mm",{"$f":"_xlfn.XLOOKUP($B362,Tabela!$A:$A,Tabela!$D:$D,\"não encontrado\")","v":393.21},{"$f":"IF(B362 =ISTEXT(qualquer), \"\", HYPERLINK(\"https://pt.firesecurityproducts.com/pt/search?q=\"&B362, \"Link Web\"))","v":"Link Web"},{"$f":"$G$2","v":0},393.21]
[]
[null,"Suportes"]
[]
[null,"FE32L",{"$f":"_xlfn.XLOOKUP($B366,Tabela!A:A,Tabela!C:C,\"não encontrado\")","v":"Mature"},"Suporte em L (Para FE321 e 323)",{"$f":"_xlfn.XLOOKUP($B366,Tabela!$A:$A,Tabela!$D:$D,\"não encontrado\")","v":51.82},{"$f":"IF(B366 =ISTEXT(qualquer), \"\", HYPERLINK(\"https://pt.firesecurityproducts.com/pt/search?q=\"&B366, \"Link Web\"))","v":"Link Web"},{"$f":"$G$2","v":0},{"$f":"IF(ISBLANK(G366),\"\",E366-(E366*$G366))","v":51.82}]
[null,"FE37L",{"$f":"_xlfn.XLOOKUP($B367,Tabela!A:A,Tabela!C:C,\"não encontrado\")","v":"Mature"},"Suporte em L (Para FE370,371,372,375,376,772 e 777 )",{"$f":"_xlfn.XLOOKUP($B367,Tabela!$A:$A,Tabela!$D:$D,\"não encontrado\")","v":54.88},{"$f":"IF(B367 =ISTEXT(qualquer), \"\", HYPERLINK(\"https://pt.firesecurityproducts.com/pt/search?q=\"&B367, \"Link Web\"))","v":"Link Web"},0,54.88]
[null,"FE31Z",{"$f":"_xlfn.XLOOKUP($B368,Tabela!A:A,Tabela!C:C,\"não encontrado\")","v":"Mature"},"Suporte em Z (Para FE310 e 312)",{"$f":"_xlfn.XLOOKUP($B368,Tabela!$A:$A,Tabela!$D:$D,\"não encontrado\")","v":70.16},{"$f":"IF(B368 =ISTEXT(qualquer), \"\", HYPERLINK(\"https://pt.firesecurityproducts.com/pt/search?q=\"&B368, \"Link Web\"))","v":"Link Web"},0,70.16]
[null,"FE32Z",{"$f":"_xlfn.XLOOKUP($B369,Tabela!A:A,Tabela!C:C,\"não encontrado\")","v":"Mature"},"Suporte em Z (Para FE321 e 323)",{"$f":"_xlfn.XLOOKUP($B369,Tabela!$A:$A,Tabela!$D:$D,\"não encontrado\")","v":94.49},{"$f":"IF(B369 =ISTEXT(qualquer), \"\", HYPERLINK(\"https://pt.firesecurityproducts.com/pt/search?q=\"&B369, \"Link Web\"))","v":"Link Web"},0,94.49]
[null,"FE37Z",{"$f":"_xlfn.XLOOKUP($B370,Tabela!A:A,Tabela!C:C,\"não encontrado\")","v":"Mature"},"Suporte em Z (Para FE370,371,372,375,376,772 e 777 )",{"$f":"_xlfn.XLOOKUP($B370,Tabela!$A:$A,Tabela!$D:$D,\"não encontrado\")","v":106.68},{"$f":"IF(B370 =ISTEXT(qualquer), \"\", HYPERLINK(\"https://pt.firesecurityproducts.com/pt/search?q=\"&B370, \"Link Web\"))","v":"Link Web"},0,106.68]
[null,"FE32A",{"$f":"_xlfn.XLOOKUP($B371,Tabela!A:A,Tabela!C:C,\"não encontrado\")","v":"Mature"},"Prato para vidro (Para FE321 e 323)",{"$f":"_xlfn.XLOOKUP($B371,Tabela!$A:$A,Tabela!$D:$D,\"não encontrado\")","v":94.49},{"$f":"IF(B371 =ISTEXT(qualquer), \"\", HYPERLINK(\"https://pt.firesecurityproducts.com/pt/search?q=\"&B371, \"Link Web\"))","v":"Link Web"},0,94.49]
[null,"FE37A",{"$f":"_xlfn.XLOOKUP($B372,Tabela!A:A,Tabela!C:C,\"não encontrado\")","v":"Mature"},"Prato para Vidro (Para FE370,371,372,375,376,772 e 777 )",{"$f":"_xlfn.XLOOKUP($B372,Tabela!$A:$A,Tabela!$D:$D,\"não encontrado\")","v":112.79},{"$f":"IF(B372 =ISTEXT(qualquer), \"\", HYPERLINK(\"https://pt.firesecurityproducts.com/pt/search?q=\"&B372, \"Link Web\"))","v":"Link Web"},0,112.79]
["Série 32x",null,"Fechos Eletromagnéticos Mega-LED"]
[null,null,null,null,null,null,"Desconto","Preço Liquido"]
[null,"FE323-N",{"$f":"_xlfn.XLOOKUP($B375,Tabela!A:A,Tabela!C:C,\"não encontrado\")","v":"Mature"},"Magneto 2430 N, Mega-LED e Relé",{"$f":"_xlfn.XLOOKUP($B375,Tabela!$A:$A,Tabela!$D:$D,\"não encontrado\")","v":250.08},{"$f":"IF(B375 =ISTEXT(qualquer), \"\", HYPERLINK(\"https://pt.firesecurityproducts.com/pt/search?q=\"&B375, \"Link Web\"))","v":"Link Web"},{"$f":"$G$2","v":0},{"$f":"IF(ISBLANK(G375),\"\",E375-(E375*$G375))","v":250.08}]
[null,"FE371-N",{"$f":"_xlfn.XLOOKUP($B376,Tabela!A:A,Tabela!C:C,\"não encontrado\")","v":"Mature"},"Magneto 5400 N, Mega-LED e Relé",{"$f":"_xlfn.XLOOKUP($B376,Tabela!$A:$A,Tabela!$D:$D,\"não encontrado\")","v":288.35000000000002},{"$f":"IF(B376 =ISTEXT(qualquer), \"\", HYPERLINK(\"https://pt.firesecurityproducts.com/pt/search?q=\"&B376, \"Link Web\"))","v":"Link Web"},{"$f":"$G$2","v":0},288.35000000000002]
[]
[null,"Suportes"]
[null,"FE323N-LB",{"$f":"_xlfn.XLOOKUP($B379,Tabela!A:A,Tabela!C:C,\"não encontrado\")","v":"Mature"},"Suporte em L para FE323N",{"$f":"_xlfn.XLOOKUP($B379,Tabela!$A:$A,Tabela!$D:$D,\"não encontrado\")","v":52.84},{"$f":"IF(B379 =ISTEXT(qualquer), \"\", HYPERLINK(\"https://pt.firesecurityproducts.com/pt/search?q=\"&B379, \"Link Web\"))","v":"Link Web"},{"$f":"$G$2","v":0},{"$f":"IF(ISBLANK(G379),\"\",E379-(E379*$G379))","v":52.84}]
[null,"FE323N-ZB",{"$f":"_xlfn.XLOOKUP($B380,Tabela!A:A,Tabela!C:C,\"não encontrado\")","v":"Mature"},"Suporte em Z para FE323N",{"$f":"_xlfn.XLOOKUP($B380,Tabela!$A:$A,Tabela!$D:$D,\"não encontrado\")","v":96.36},{"$f":"IF(B380 =ISTEXT(qualquer), \"\", HYPERLINK(\"https://pt.firesecurityproducts.com/pt/search?q=\"&B380, \"Link Web\"))","v":"Link Web"},{"$f":"$G$2","v":0},96.36]
[]
["Impressão ",null,"Impressoras de Cartões"]
[null,null,null,null,"PVP",null,"Desconto","Preço Liquido"]
[null,"FRGO-50000",{"$f":"_xlfn.XLOOKUP($B384,Tabela!A:A,Tabela!C:C,\"não encontrado\")","v":"Mature"},"Impressora Modelo Base - DTC1250e                                                                       \nLigação USB, Modulo Laminação 1 só lado                                                                                                                                                                                                               ",{"$f":"_xlfn.XLOOKUP($B384,Tabela!$A:$A,Tabela!$D:$D,\"não encontrado\")","v":3487.74},{"$f":"IF(B384 =ISTEXT(qualquer), \"\", HYPERLINK(\"https://pt.firesecurityproducts.com/pt/search?q=\"&B384, \"Link Web\"))","v":"Link Web"},{"$f":"$G$2","v":0},{"$f":"IF(ISBLANK(G384),\"\",E384-(E384*$G384))","v":3487.74}]
[null,"FRGO-50020",{"$f":"_xlfn.XLOOKUP($B385,Tabela!A:A,Tabela!C:C,\"não encontrado\")","v":"Mature"},"Impressora Modelo Base DTC1250e + Módulo Ligação Ethernet                                                                                                                                                                         ",{"$f":"_xlfn.XLOOKUP($B385,Tabela!$A:$A,Tabela!$D:$D,\"não encontrado\")","v":4324.04},{"$f":"IF(B385 =ISTEXT(qualquer), \"\", HYPERLINK(\"https://pt.firesecurityproducts.com/pt/search?q=\"&B385, \"Link Web\"))","v":"Link Web"},0,4324.04]
[null,"FRGO-55000",{"$f":"_xlfn.XLOOKUP($B386,Tabela!A:A,Tabela!C:C,\"não encontrado\")","v":"Mature"},"Impressora Modelo Base - DTC4500e                                                                                \nLigação USB e Ethernet Base Modelo, Módulo de alimentação de cartões                                                                                                                                                      ",{"$f":"_xlfn.XLOOKUP($B386,Tabela!$A:$A,Tabela!$D:$D,\"não encontrado\")","v":5637.74},{"$f":"IF(B386 =ISTEXT(qualquer), \"\", HYPERLINK(\"https://pt.firesecurityproducts.com/pt/search?q=\"&B386, \"Link Web\"))","v":"Link Web"},0,5637.74]
[null,"FRGO-45200",{"$f":"_xlfn.XLOOKUP($B387,Tabela!A:A,Tabela!C:C,\"não encontrado\")","v":"Mature"},"DTC4500e - Ribbon - YMCKO: Full-color ribbon with resin black and clear overlay panel - 500 images",{"$f":"_xlfn.XLOOKUP($B387,Tabela!$A:$A,Tabela!$D:$D,\"não encontrado\")","v":326.08999999999997},{"$f":"IF(B387 =ISTEXT(qualquer), \"\", HYPERLINK(\"https://pt.firesecurityproducts.com/pt/search?q=\"&B387, \"Link Web\"))","v":"Link Web"},0,326.08999999999997]
[null,"FRGO-47435",{"$f":"_xlfn.XLOOKUP($B388,Tabela!A:A,Tabela!C:C,\"não encontrado\")","v":"Mature"},"DTC4500e - Dual-Side Printing Module                                                                                                                                                                                                                                                                        ",{"$f":"_xlfn.XLOOKUP($B388,Tabela!$A:$A,Tabela!$D:$D,\"não encontrado\")","v":1793.85},{"$f":"IF(B388 =ISTEXT(qualquer), \"\", HYPERLINK(\"https://pt.firesecurityproducts.com/pt/search?q=\"&B388, \"Link Web\"))","v":"Link Web"},0,1793.85]
[null,"FRGO-45000",{"$f":"_xlfn.XLOOKUP($B389,Tabela!A:A,Tabela!C:C,\"não encontrado\")","v":"Mature"},"DTC1250e - EZ - YMCKO Cartridge w/Cleaning Roller: Full-color ribbon with resin black and clear overlay panel (NA) – 250 images",{"$f":"_xlfn.XLOOKUP($B389,Tabela!$A:$A,Tabela!$D:$D,\"não encontrado\")","v":170.77},{"$f":"IF(B389 =ISTEXT(qualquer), \"\", HYPERLINK(\"https://pt.firesecurityproducts.com/pt/search?q=\"&B389, \"Link Web\"))","v":"Link Web"},0,170.77]
[null,"FRGO-44261",{"$f":"_xlfn.XLOOKUP($B390,Tabela!A:A,Tabela!C:C,\"não encontrado\")","v":"Mature"},"DTC1250e ECO refill cartridge (cartridge only)",{"$f":"_xlfn.XLOOKUP($B390,Tabela!$A:$A,Tabela!$D:$D,\"não encontrado\")","v":57.61},{"$f":"IF(B390 =ISTEXT(qualquer), \"\", HYPERLINK(\"https://pt.firesecurityproducts.com/pt/search?q=\"&B390, \"Link Web\"))","v":"Link Web"},0,57.61]
[null,"FRGO-45015",{"$f":"_xlfn.XLOOKUP($B391,Tabela!A:A,Tabela!C:C,\"não encontrado\")","v":"Mature"},"DTC1250e - ECO - YMCKO Refill Ribbon w/ Cleaning Roller (NA) - 250 images",{"$f":"_xlfn.XLOOKUP($B391,Tabela!$A:$A,Tabela!$D:$D,\"não encontrado\")","v":158.19999999999999},{"$f":"IF(B391 =ISTEXT(qualquer), \"\", HYPERLINK(\"https://pt.firesecurityproducts.com/pt/search?q=\"&B391, \"Link Web\"))","v":"Link Web"},0,158.19999999999999]

{"sheet":"CCTV Câmaras HD-TVI","index":15,"n_rows":46,"n_cols":8,"rows_kept":46,"cut":false,"hidden":false,"merged":[[0,2,2,3],[1,6,2,6],[5,2,14,4],[24,2,38,4]]}
[null,null,"CCTV HD-TVI"]
[null,null,null,null,null,null,0]
[]
[null,null,"Status",null,"PVP",null,"Desconto","Preço \nLiquido"]
["Série TVB6",null,"Câmaras \"Bullet\""]
[null,null,"A linha TruVision inclui uma família completa de câmaras de infravermelhos HD-TVI (IR) para instalações autónomas ou integradas. Concebida para uma ótima qualidade de imagem sobre o cabo coaxial existente, estão disponíveis opções com uma resolução até 8Mpx\n                                                                                                                              \n• Função Dia/Noite com Smart IR\n• IR até 80m (exceto TVB-6107)                                                                                                                     \n• True Wide Dynamic Range\n• Alimentação 12VDC / 24 VAC \n• Funcionalidade OSD Coax\n• IP67"]
[]
[]
[]
[]
[]
[]
[]
[]
[]
[]
[null,"Lente Varifocal Motorizada"]
[null,"TVB-6105",{"$f":"_xlfn.XLOOKUP($B18,Tabela!A:A,Tabela!C:C,\"não encontrado\")","v":"Mature"},"Câmara Bullet TruVision HD-TVI, 5MPX - Lente motorizada  2.7~13.5mm - Smart IR 80m; IP67",{"$f":"_xlfn.XLOOKUP($B18,Tabela!$A:$A,Tabela!$D:$D,\"não encontrado\")","v":227.77},{"$f":"IF(B18 =ISTEXT(qualquer), \"\", HYPERLINK(\"https://pt.firesecurityproducts.com/pt/search?q=\"&B18, \"Link Web\"))","v":"Link Web"},{"$f":"$G$2","v":0},{"$f":"IF(ISBLANK(G18),\"\",E18-(E18*$G18))","v":227.77}]
[null,"TVB-6106",{"$f":"_xlfn.XLOOKUP($B19,Tabela!A:A,Tabela!C:C,\"não encontrado\")","v":"Mature"},"Câmara Bullet TruVision HD-TVI, 5MPX - Lente motorizada  2.7~13.5mm - Smart IR 80m; IP67",{"$f":"_xlfn.XLOOKUP($B19,Tabela!$A:$A,Tabela!$D:$D,\"não encontrado\")","v":290.29000000000002},{"$f":"IF(B19 =ISTEXT(qualquer), \"\", HYPERLINK(\"https://pt.firesecurityproducts.com/pt/search?q=\"&B19, \"Link Web\"))","v":"Link Web"},{"$f":"$G$2","v":0},290.29000000000002]
[null,null,null,null,null,{"$f":"IF(B20 =ISTEXT(qualquer), \"\", HYPERLINK(\"https://pt.firesecurityproducts.com/pt/search?q=\"&B20, \"Link Web\"))","v":""}]
[null,"Lente Fixa"]
[null,"TVB-6104",{"$f":"_xlfn.XLOOKUP($B22,Tabela!A:A,Tabela!C:C,\"não encontrado\")","v":"Mature"},"Câmara Bullet TruVision HD-TVI, 5MPX - Lente fixa 3.6mm - Iluminação Smart IR 40 m; IP67",{"$f":"_xlfn.XLOOKUP($B22,Tabela!$A:$A,Tabela!$D:$D,\"não encontrado\")","v":109.41},{"$f":"IF(B22 =ISTEXT(qualquer), \"\", HYPERLINK(\"https://pt.firesecurityproducts.com/pt/search?q=\"&B22, \"Link Web\"))","v":"Link Web"},{"$f":"$G$2","v":0},{"$f":"IF(ISBLANK(G22),\"\",E22-(E22*$G22))","v":109.41}]
[null,null,null,null,null,{"$f":"IF(B23 =ISTEXT(qualquer), \"\", HYPERLINK(\"https://pt.firesecurityproducts.com/pt/search?q=\"&B23, \"Link Web\"))","v":""}]
["Série TVD6",null,"Câmaras \"Dome\"",null,null,{"$f":"IF(B24 =ISTEXT(qualquer), \"\", HYPERLINK(\"https://pt.firesecurityproducts.com/pt/search?q=\"&B24, \"Link Web\"))","v":""}]
[null,null,"A linha TruVision inclui uma família completa de câmaras de infravermelhos HD-TVI (IR) para instalações autónomas ou integradas. Concebida para uma ótima qualidade de imagem sobre o cabo coaxial existente, estão disponíveis opções com uma resolução até 8Mpx\n                                                                                                                              \n• Função Dia/Noite com Smart IR\n• IR até 80m                                                                                                                      \n• True Wide Dynamic Range\n• Alimentação 12VDC / 24 VAC \n• Funcionalidade OSD Coax\n• IP67\n• Gravadores compatíveis\n   TVR12 (max. 12 fps / TVR15HD / TVR44HD / TVR45HD / TVR46HD \n• Encoders compatíveis\n   TVE-110/410/810/1610\n   TVE-120/420/820/1620",null,null,{"$f":"IF(B25 =ISTEXT(qualquer), \"\", HYPERLINK(\"https://pt.firesecurityproducts.com/pt/search?q=\"&B25, \"Link Web\"))","v":""}]
[null,null,null,null,null,{"$f":"IF(B26 =ISTEXT(qualquer), \"\", HYPERLINK(\"https://pt.firesecurityproducts.com/pt/search?q=\"&B26, \"Link Web\"))","v":""}]
[null,null,null,null,null,{"$f":"IF(B27 =ISTEXT(qualquer), \"\", HYPERLINK(\"https://pt.firesecurityproducts.com/pt/search?q=\"&B27, \"Link Web\"))","v":""}]
[null,null,null,null,null,{"$f":"IF(B28 =ISTEXT(qualquer), \"\", HYPERLINK(\"https://pt.firesecurityproducts.com/pt/search?q=\"&B28, \"Link Web\"))","v":""}]
[null,null,null,null,null,{"$f":"IF(B29 =ISTEXT(qualquer), \"\", HYPERLINK(\"https://pt.firesecurityproducts.com/pt/search?q=\"&B29, \"Link Web\"))","v":""}]
[null,null,null,null,null,{"$f":"IF(B30 =ISTEXT(qualquer), \"\", HYPERLINK(\"https://pt.firesecurityproducts.com/pt/search?q=\"&B30, \"Link Web\"))","v":""}]
[]
[]
[]
[]
[null,null,null,null,null,{"$f":"IF(B35 =ISTEXT(qualquer), \"\", HYPERLINK(\"https://pt.firesecurityproducts.com/pt/search?q=\"&B35, \"Link Web\"))","v":""}]
[null,null,null,null,null,{"$f":"IF(B36 =ISTEXT(qualquer), \"\", HYPERLINK(\"https://pt.firesecurityproducts.com/pt/search?q=\"&B36, \"Link Web\"))","v":""}]
[null,null,null,null,null,{"$f":"IF(B37 =ISTEXT(qualquer), \"\", HYPERLINK(\"https://pt.firesecurityproducts.com/pt/search?q=\"&B37, \"Link Web\"))","v":""}]
[null,null,null,null,null,{"$f":"IF(B38 =ISTEXT(qualquer), \"\", HYPERLINK(\"https://pt.firesecurityproducts.com/pt/search?q=\"&B38, \"Link Web\"))","v":""}]
[null,null,null,null,null,{"$f":"IF(B39 =ISTEXT(qualquer), \"\", HYPERLINK(\"https://pt.firesecurityproducts.com/pt/search?q=\"&B39, \"Link Web\"))","v":""}]
[null,null,null,null,null,{"$f":"IF(B40 =ISTEXT(qualquer), \"\", HYPERLINK(\"https://pt.firesecurityproducts.com/pt/search?q=\"&B40, \"Link Web\"))","v":""}]
[null,null,null,null,null,{"$f":"IF(B41 =ISTEXT(qualquer), \"\", HYPERLINK(\"https://pt.firesecurityproducts.com/pt/search?q=\"&B41, \"Link Web\"))","v":""}]
[null,"Lente Varifocal Motorizada"]
[null,"TVD-6104",{"$f":"_xlfn.XLOOKUP($B43,Tabela!A:A,Tabela!C:C,\"não encontrado\")","v":"Mature"},"Câmara Dome TruVision HD-TVI, 5MPX - Lente motorizada  2.7~13.5mm - Smart IR 60m; IP67",{"$f":"_xlfn.XLOOKUP($B43,Tabela!$A:$A,Tabela!$D:$D,\"não encontrado\")","v":256.79000000000002},{"$f":"IF(B43 =ISTEXT(qualquer), \"\", HYPERLINK(\"https://pt.firesecurityproducts.com/pt/search?q=\"&B43, \"Link Web\"))","v":"Link Web"},{"$f":"$G$2","v":0},{"$f":"IF(ISBLANK(G43),\"\",E43-(E43*$G43))","v":256.79000000000002}]
[null,"TVD-6105",{"$f":"_xlfn.XLOOKUP($B44,Tabela!A:A,Tabela!C:C,\"não encontrado\")","v":"Mature"},"Câmara Dome TruVision HD-TVI, 8MPX - Lente motorizada  2.7~13.5mm - Smart IR 60m; IP67",{"$f":"_xlfn.XLOOKUP($B44,Tabela!$A:$A,Tabela!$D:$D,\"não encontrado\")","v":298.45999999999998},{"$f":"IF(B44 =ISTEXT(qualquer), \"\", HYPERLINK(\"https://pt.firesecurityproducts.com/pt/search?q=\"&B44, \"Link Web\"))","v":"Link Web"},{"$f":"$G$2","v":0},298.45999999999998]
[null,null,null,null,null,{"$f":"IF(B45 =ISTEXT(qualquer), \"\", HYPERLINK(\"https://pt.firesecurityproducts.com/pt/search?q=\"&B45, \"Link Web\"))","v":""}]
[null,null,null,null,null,{"$f":"IF(B46 =ISTEXT(qualquer), \"\", HYPERLINK(\"https://pt.firesecurityproducts.com/pt/search?q=\"&B46, \"Link Web\"))","v":""}]

{"sheet":"CCTV Câmaras IP","index":16,"n_rows":156,"n_cols":8,"rows_kept":156,"cut":false,"hidden":false,"merged":[[52,2,63,4],[0,2,2,3],[1,6,2,6],[5,2,18,4],[123,2,133,4]]}
[null,null,"Câmaras IP"]
[null,null,null,null,null,null,0]
[]
[null,null,"Status",null,"PVP",null,"Desconto","Preço \nLiquido"]
["Série M",null,"Câmaras IP \"Full Color\""]
[null,null,"As câmaras IP TruVision Full Color oferecem várias vantagens em relação às câmaras IP tradicionais. As câmaras captam vídeo a cores de dia e de noite, permitindo uma identificação mais clara e precisa de pessoas e objetos no campo de visão. \nA luz branca suplementar incluída garante que, mesmo na escuridão total, as câmaras podem captar imagens nítidas e utilizáveis.\n                                                                                                                                                                                           \n• Resolução de 4MP a 8MP\n• Compressão H.265+\n• Suporte cartão SDHC 256GB\n• Iluminação Branca até 60 m\n• ONVIF Profile G, S e T\n• Vídeo Inteligência Incorporada\n• Classificação Pessoa/Veículo\n• Versões com áudio                                                                                                                                                                                                                                                                                      "]
[]
[]
[]
[]
[]
[]
[]
[]
[]
[]
[]
[]
[]
[]
[null,"Tipo Bullet"]
[]
[null,"4MP",null,null,"PVP",null,"Desconto","Preço Liquido"]
[null,"TVFC-M01-0401-BUL-G",{"$f":"_xlfn.XLOOKUP($B24,Tabela!A:A,Tabela!C:C,\"não encontrado\")","v":"Mature"},"Câmara bullet TruVision série \"Full Colour\" IP resolução de 4 Megapixéis com lente fixa de 2,8 mm e alcance de luz branca de 40 metros com microfone integrado. Cor cinzenta.",{"$f":"_xlfn.XLOOKUP($B24,Tabela!$A:$A,Tabela!$D:$D,\"não encontrado\")","v":264.39999999999998},{"$f":"IF(B24 =ISTEXT(qualquer), \"\", HYPERLINK(\"https://pt.firesecurityproducts.com/pt/search?q=\"&B24, \"Link Web\"))","v":"Link Web"},{"$f":"$G$2","v":0},{"$f":"IF(ISBLANK(G24),\"\",E24-(E24*$G24))","v":264.39999999999998}]
[null,"TVFC-M01-0402-BUL-G",{"$f":"_xlfn.XLOOKUP($B25,Tabela!A:A,Tabela!C:C,\"não encontrado\")","v":"Mature"},"Câmara bullet TruVision série \"Full Colour\" IP resolução de 4 Megapixéis com lente fixa de 2,8 mm e alcance de luz branca de 60 metros com microfone e altifalante integrados e flash estroboscópico. Cor cinzenta.",{"$f":"_xlfn.XLOOKUP($B25,Tabela!$A:$A,Tabela!$D:$D,\"não encontrado\")","v":358.15},{"$f":"IF(B25 =ISTEXT(qualquer), \"\", HYPERLINK(\"https://pt.firesecurityproducts.com/pt/search?q=\"&B25, \"Link Web\"))","v":"Link Web"},{"$f":"$G$2","v":0},{"$f":"IF(ISBLANK(G25),\"\",E25-(E25*$G25))","v":358.15}]
[null,"TVFC-M01-0403-BUL-G",{"$f":"_xlfn.XLOOKUP($B26,Tabela!A:A,Tabela!C:C,\"não encontrado\")","v":"Mature"},"Câmara bullet TruVision série \"Full Colour\" IP resolução de 4 Megapixéis com lente varifocal de 2,8 a 12 mm e alcance de luz branca de 60 metros com microfone e altifalante integrados e flash estroboscópico. Cor cinzenta.",{"$f":"_xlfn.XLOOKUP($B26,Tabela!$A:$A,Tabela!$D:$D,\"não encontrado\")","v":550.94000000000005},{"$f":"IF(B26 =ISTEXT(qualquer), \"\", HYPERLINK(\"https://pt.firesecurityproducts.com/pt/search?q=\"&B26, \"Link Web\"))","v":"Link Web"},{"$f":"$G$2","v":0},550.94000000000005]
[null,null,null,null,null,{"$f":"IF(B27 =ISTEXT(qualquer), \"\", HYPERLINK(\"https://pt.firesecurityproducts.com/pt/search?q=\"&B27, \"Link Web\"))","v":""}]
[null,"8MP/4K"]
[null,"TVFC-M01-0802-BUL-G",{"$f":"_xlfn.XLOOKUP($B29,Tabela!A:A,Tabela!C:C,\"não encontrado\")","v":"Mature"},"Câmara bullet TruVision série \"Full Colour\" com resolução IP 4K/8 Mpx com lente fixa de 2,8 mm e alcance de luz branca de 60 metros com microfone e altifalante integrados e flash estroboscópico. Cor Cinzenta",{"$f":"_xlfn.XLOOKUP($B29,Tabela!$A:$A,Tabela!$D:$D,\"não encontrado\")","v":553.16999999999996},{"$f":"IF(B29 =ISTEXT(qualquer), \"\", HYPERLINK(\"https://pt.firesecurityproducts.com/pt/search?q=\"&B29, \"Link Web\"))","v":"Link Web"},{"$f":"$G$2","v":0},{"$f":"IF(ISBLANK(G29),\"\",E29-(E29*$G29))","v":553.16999999999996}]
[null,null,null,null,null,{"$f":"IF(B30 =ISTEXT(qualquer), \"\", HYPERLINK(\"https://pt.firesecurityproducts.com/pt/search?q=\"&B30, \"Link Web\"))","v":""}]
[null,"Tipo Dome"]
[null,null,null,null,null,{"$f":"IF(B32 =ISTEXT(qualquer), \"\", HYPERLINK(\"https://pt.firesecurityproducts.com/pt/search?q=\"&B32, \"Link Web\"))","v":""}]
[null,"4MP"]
[null,"TVFC-M01-0401-DOM-G",{"$f":"_xlfn.XLOOKUP($B34,Tabela!A:A,Tabela!C:C,\"não encontrado\")","v":"Mature"},"Câmara Dome TruVision série \"Full Colour\" com resolução de 4 Mpx com lente fixa de 2,8 mm, com microfone integrado. Cor Cinzento",{"$f":"_xlfn.XLOOKUP($B34,Tabela!$A:$A,Tabela!$D:$D,\"não encontrado\")","v":303.77999999999997},{"$f":"IF(B34 =ISTEXT(qualquer), \"\", HYPERLINK(\"https://pt.firesecurityproducts.com/pt/search?q=\"&B34, \"Link Web\"))","v":"Link Web"},{"$f":"$G$2","v":0},{"$f":"IF(ISBLANK(G34),\"\",E34-(E34*$G34))","v":303.77999999999997}]
[null,"TVFC-M01-0402-DOM-G",{"$f":"_xlfn.XLOOKUP($B35,Tabela!A:A,Tabela!C:C,\"não encontrado\")","v":"Mature"},"Câmara Dome TruVision série \"Full Colour\" com resolução de 4 Megapixéis, lente fixa de 2,8 mm e alcance de luz branca de 30 metros com microfone integrado. Cor Cinzento",{"$f":"_xlfn.XLOOKUP($B35,Tabela!$A:$A,Tabela!$D:$D,\"não encontrado\")","v":303.77999999999997},{"$f":"IF(B35 =ISTEXT(qualquer), \"\", HYPERLINK(\"https://pt.firesecurityproducts.com/pt/search?q=\"&B35, \"Link Web\"))","v":"Link Web"},0,303.77999999999997]
[null,"TVFC-M01-0403-DOM-G",{"$f":"_xlfn.XLOOKUP($B36,Tabela!A:A,Tabela!C:C,\"não encontrado\")","v":"Mature"},"Câmara Dome TruVision série \"Full Colour\" com resolução de 4 Mpx com lente varifocal de 2,8 a 12 mm e alcance de luz branca de 40 metros com microfone e altifalante integrados e flash estroboscópico. Cor cinzenta.",{"$f":"_xlfn.XLOOKUP($B36,Tabela!$A:$A,Tabela!$D:$D,\"não encontrado\")","v":538.16999999999996},{"$f":"IF(B36 =ISTEXT(qualquer), \"\", HYPERLINK(\"https://pt.firesecurityproducts.com/pt/search?q=\"&B36, \"Link Web\"))","v":"Link Web"},0,538.16999999999996]
[null,null,null,null,null,{"$f":"IF(B37 =ISTEXT(qualquer), \"\", HYPERLINK(\"https://pt.firesecurityproducts.com/pt/search?q=\"&B37, \"Link Web\"))","v":""}]
[null,"Tipo Turret"]
[]
[null,"4MP"]
[null,"TVFC-M01-0401-TUR-G",{"$f":"_xlfn.XLOOKUP($B41,Tabela!A:A,Tabela!C:C,\"não encontrado\")","v":"Mature"},"Câmara IP Turret TruVision série \"Full Colour\" com resolução de 4 Megapixéis com lente fixa de 2,8 mm e alcance com microfone integrado. Cor Cinzento",{"$f":"_xlfn.XLOOKUP($B41,Tabela!$A:$A,Tabela!$D:$D,\"não encontrado\")","v":298.14999999999998},{"$f":"IF(B41 =ISTEXT(qualquer), \"\", HYPERLINK(\"https://pt.firesecurityproducts.com/pt/search?q=\"&B41, \"Link Web\"))","v":"Link Web"},0,{"$f":"IF(ISBLANK(G41),\"\",E41-(E41*$G41))","v":298.14999999999998}]
[null,"TVFC-M01-0402-TUR-G",{"$f":"_xlfn.XLOOKUP($B42,Tabela!A:A,Tabela!C:C,\"não encontrado\")","v":"Mature"},"Câmara IP Turret TruVision série \"Full Colour\" com resolução de 4 Megapixéis, lente fixa de 2,8 mm e alcance de luz branca de 30 metros com microfone integrado. Cor cinzenta.",{"$f":"_xlfn.XLOOKUP($B42,Tabela!$A:$A,Tabela!$D:$D,\"não encontrado\")","v":307.52},{"$f":"IF(B42 =ISTEXT(qualquer), \"\", HYPERLINK(\"https://pt.firesecurityproducts.com/pt/search?q=\"&B42, \"Link Web\"))","v":"Link Web"},0,307.52]
[null,null,null,null,null,{"$f":"IF(B43 =ISTEXT(qualquer), \"\", HYPERLINK(\"https://pt.firesecurityproducts.com/pt/search?q=\"&B43, \"Link Web\"))","v":""}]
[null,"8MP/4K"]
[null,"TVFC-M01-0802-TUR-G",{"$f":"_xlfn.XLOOKUP($B45,Tabela!A:A,Tabela!C:C,\"não encontrado\")","v":"Mature"},"Câmara IP Turret TruVision série \"Full Colour\" com resolução 4K/8 Mpx com lente fixa de 2,8 mm e alcance de luz branca de 30 m com microfone integrado. Cor cinzenta.",{"$f":"_xlfn.XLOOKUP($B45,Tabela!$A:$A,Tabela!$D:$D,\"não encontrado\")","v":466.91},{"$f":"IF(B45 =ISTEXT(qualquer), \"\", HYPERLINK(\"https://pt.firesecurityproducts.com/pt/search?q=\"&B45, \"Link Web\"))","v":"Link Web"},{"$f":"$G$2","v":0},{"$f":"IF(ISBLANK(G45),\"\",E45-(E45*$G45))","v":466.91}]
[null,null,null,null,null,{"$f":"IF(B46 =ISTEXT(qualquer), \"\", HYPERLINK(\"https://pt.firesecurityproducts.com/pt/search?q=\"&B46, \"Link Web\"))","v":""}]
[null,"Tipo Wedge"]
[null,null,null,null,null,{"$f":"IF(B48 =ISTEXT(qualquer), \"\", HYPERLINK(\"https://pt.firesecurityproducts.com/pt/search?q=\"&B48, \"Link Web\"))","v":""}]
[null,"4MP"]
[null,"TVFC-M01-0401-WED-G",{"$f":"_xlfn.XLOOKUP($B50,Tabela!A:A,Tabela!C:C,\"não encontrado\")","v":"Mature"},"Câmara IP Wedge TruVision série \"Full Colour\" com resolução de 4 Megapixéis com lente fixa de 2,8 mm e alcance com microfone integrado. Cor cinzenta.",359.83,{"$f":"IF(B50 =ISTEXT(qualquer), \"\", HYPERLINK(\"https://pt.firesecurityproducts.com/pt/search?q=\"&B50, \"Link Web\"))","v":"Link Web"},{"$f":"$G$2","v":0},{"$f":"IF(ISBLANK(G50),\"\",E50-(E50*$G50))","v":359.83}]
[null,null,null,null,null,{"$f":"IF(B51 =ISTEXT(qualquer), \"\", HYPERLINK(\"https://pt.firesecurityproducts.com/pt/search?q=\"&B51, \"Link Web\"))","v":""}]
["Série M",null,"Câmaras IP",null,null,{"$f":"IF(B52 =ISTEXT(qualquer), \"\", HYPERLINK(\"https://pt.firesecurityproducts.com/pt/search?q=\"&B52, \"Link Web\"))","v":""}]
[null,null,"As câmaras TruVision IP da série M utilizam a mais recente tecnologia de compressão de vídeo H.265+. Estas câmaras vão além da deteção de movimento padrão, incluindo a deteção de cruzamento de linha, deteção de intrusão e características de deteção facial. Com a sua característica inteligente pessoa/veículo, a câmara pode ignorar movimentos irrelevantes ou eventos VCA \n                                                                                                                                                                                                                    \n• Resolução de 2MP a 4K\n• Compressão H.265 e/ou H.264, triplo-stream  \n• Suporte cartão SDHC 256GB\n• Iluminação IR até 60 m                                                                                                                                                                                                                                                   \n• ONVIF Profile G, S e T\n• Lente fixa e motorizadas\n• Vídeo Inteligência Incorporada       \n• Modelos  IP67/IK10                                                                                                                                                                                                                                                                                                                                                                                                                                                                       ",null,null,{"$f":"IF(B53 =ISTEXT(qualquer), \"\", HYPERLINK(\"https://pt.firesecurityproducts.com/pt/search?q=\"&B53, \"Link Web\"))","v":""}]
[null,null,null,null,null,{"$f":"IF(B54 =ISTEXT(qualquer), \"\", HYPERLINK(\"https://pt.firesecurityproducts.com/pt/search?q=\"&B54, \"Link Web\"))","v":""}]
[null,null,null,null,null,{"$f":"IF(B55 =ISTEXT(qualquer), \"\", HYPERLINK(\"https://pt.firesecurityproducts.com/pt/search?q=\"&B55, \"Link Web\"))","v":""}]
[null,null,null,null,null,{"$f":"IF(B56 =ISTEXT(qualquer), \"\", HYPERLINK(\"https://pt.firesecurityproducts.com/pt/search?q=\"&B56, \"Link Web\"))","v":""}]
[null,null,null,null,null,{"$f":"IF(B57 =ISTEXT(qualquer), \"\", HYPERLINK(\"https://pt.firesecurityproducts.com/pt/search?q=\"&B57, \"Link Web\"))","v":""}]
[null,null,null,null,null,{"$f":"IF(B58 =ISTEXT(qualquer), \"\", HYPERLINK(\"https://pt.firesecurityproducts.com/pt/search?q=\"&B58, \"Link Web\"))","v":""}]
[null,null,null,null,null,{"$f":"IF(B59 =ISTEXT(qualquer), \"\", HYPERLINK(\"https://pt.firesecurityproducts.com/pt/search?q=\"&B59, \"Link Web\"))","v":""}]
[null,null,null,null,null,{"$f":"IF(B60 =ISTEXT(qualquer), \"\", HYPERLINK(\"https://pt.firesecurityproducts.com/pt/search?q=\"&B60, \"Link Web\"))","v":""}]
[null,null,null,null,null,{"$f":"IF(B61 =ISTEXT(qualquer), \"\", HYPERLINK(\"https://pt.firesecurityproducts.com/pt/search?q=\"&B61, \"Link Web\"))","v":""}]
[null,null,null,null,null,{"$f":"IF(B62 =ISTEXT(qualquer), \"\", HYPERLINK(\"https://pt.firesecurityproducts.com/pt/search?q=\"&B62, \"Link Web\"))","v":""}]
[null,null,null,null,null,{"$f":"IF(B63 =ISTEXT(qualquer), \"\", HYPERLINK(\"https://pt.firesecurityproducts.com/pt/search?q=\"&B63, \"Link Web\"))","v":""}]
[null,null,null,null,null,{"$f":"IF(B64 =ISTEXT(qualquer), \"\", HYPERLINK(\"https://pt.firesecurityproducts.com/pt/search?q=\"&B64, \"Link Web\"))","v":""}]
[null,null,null,null,null,{"$f":"IF(B65 =ISTEXT(qualquer), \"\", HYPERLINK(\"https://pt.firesecurityproducts.com/pt/search?q=\"&B65, \"Link Web\"))","v":""}]
[null,"Tipo Bullet"]
[null,null,null,null,null,{"$f":"IF(B67 =ISTEXT(qualquer), \"\", HYPERLINK(\"https://pt.firesecurityproducts.com/pt/search?q=\"&B67, \"Link Web\"))","v":""}]
[null,"Lente Fixa",null,null,"PVP",null,"Desconto","Preço Liquido"]
[null,"TVGP-M01-0201-BUL-G",{"$f":"_xlfn.XLOOKUP($B69,Tabela!A:A,Tabela!C:C,\"não encontrado\")","v":"Mature"},"Câmara TruVision Bullet Smart IP 2MP, H.265+, 40 m IR, lente 4 mm, cinzento",{"$f":"_xlfn.XLOOKUP($B69,Tabela!$A:$A,Tabela!$D:$D,\"não encontrado\")","v":163.31},{"$f":"IF(B69 =ISTEXT(qualquer), \"\", HYPERLINK(\"https://pt.firesecurityproducts.com/pt/search?q=\"&B69, \"Link Web\"))","v":"Link Web"},{"$f":"$G$2","v":0},{"$f":"IF(ISBLANK(G69),\"\",E69-(E69*$G69))","v":163.31}]
[null,"TVGP-M01-0401-BUL-G",{"$f":"_xlfn.XLOOKUP($B70,Tabela!A:A,Tabela!C:C,\"não encontrado\")","v":"Mature"},"Câmara TruVision Bullet Smart IP 4MP, H.265+, 40 m IR, lente 4 mm, cinzento",{"$f":"_xlfn.XLOOKUP($B70,Tabela!$A:$A,Tabela!$D:$D,\"não encontrado\")","v":179.88},{"$f":"IF(B70 =ISTEXT(qualquer), \"\", HYPERLINK(\"https://pt.firesecurityproducts.com/pt/search?q=\"&B70, \"Link Web\"))","v":"Link Web"},{"$f":"$G$2","v":0},179.88]
[null,"TVGP-M01-0401-BUL-B",{"$f":"_xlfn.XLOOKUP($B71,Tabela!A:A,Tabela!C:C,\"não encontrado\")","v":"NPI"},"Câmara TruVision Bullet Smart IP 4MP, H.265+, 40 m IR, lente 4 mm, Preta",{"$f":"_xlfn.XLOOKUP($B71,Tabela!$A:$A,Tabela!$D:$D,\"não encontrado\")","v":179.88},{"$f":"IF(B71 =ISTEXT(qualquer), \"\", HYPERLINK(\"https://pt.firesecurityproducts.com/pt/search?q=\"&B71, \"Link Web\"))","v":"Link Web"},{"$f":"$G$2","v":0},179.88]
[null,"TVGP-M01-0801-BUL-G",{"$f":"_xlfn.XLOOKUP($B72,Tabela!A:A,Tabela!C:C,\"não encontrado\")","v":"Mature"},"Câmara TruVision Bullet Smart IP 8MP/4K, H.265+, 40 m IR, lente 4 mm, cinzento",{"$f":"_xlfn.XLOOKUP($B72,Tabela!$A:$A,Tabela!$D:$D,\"não encontrado\")","v":240.34},{"$f":"IF(B72 =ISTEXT(qualquer), \"\", HYPERLINK(\"https://pt.firesecurityproducts.com/pt/search?q=\"&B72, \"Link Web\"))","v":"Link Web"},{"$f":"$G$2","v":0},240.34]
[null,null,null,null,null,{"$f":"IF(B73 =ISTEXT(qualquer), \"\", HYPERLINK(\"https://pt.firesecurityproducts.com/pt/search?q=\"&B73, \"Link Web\"))","v":""}]
[null,"Lente Varifocal Motorizada"]
[null,"TVGP-M01-0202-BUL-G",{"$f":"_xlfn.XLOOKUP($B75,Tabela!A:A,Tabela!C:C,\"não encontrado\")","v":"Mature"},"Câmara TruVision Bullet Smart IP 2MP, H.265+, 60 m IR, lente 2,8 a 12 mm, cinzento",{"$f":"_xlfn.XLOOKUP($B75,Tabela!$A:$A,Tabela!$D:$D,\"não encontrado\")","v":350.2},{"$f":"IF(B75 =ISTEXT(qualquer), \"\", HYPERLINK(\"https://pt.firesecurityproducts.com/pt/search?q=\"&B75, \"Link Web\"))","v":"Link Web"},{"$f":"$G$2","v":0},{"$f":"IF(ISBLANK(G75),\"\",E75-(E75*$G75))","v":350.2}]
[null,"TVGP-M01-0402-BUL-G",{"$f":"_xlfn.XLOOKUP($B76,Tabela!A:A,Tabela!C:C,\"não encontrado\")","v":"Mature"},"Câmara TruVision Bullet Smart IP 4MP, H.265+, 60 m IR, lente 2,8 a 12 mm, cinzento",{"$f":"_xlfn.XLOOKUP($B76,Tabela!$A:$A,Tabela!$D:$D,\"não encontrado\")","v":388.87},{"$f":"IF(B76 =ISTEXT(qualquer), \"\", HYPERLINK(\"https://pt.firesecurityproducts.com/pt/search?q=\"&B76, \"Link Web\"))","v":"Link Web"},{"$f":"$G$2","v":0},388.87]
[null,"TVGP-M01-0402-BUL-B",{"$f":"_xlfn.XLOOKUP($B77,Tabela!A:A,Tabela!C:C,\"não encontrado\")","v":"NPI"},"Câmara TruVision Bullet Smart IP 4MP, H.265+, 60 m IR, lente 2,8 a 12 mm, Preta",{"$f":"_xlfn.XLOOKUP($B77,Tabela!$A:$A,Tabela!$D:$D,\"não encontrado\")","v":400.9},{"$f":"IF(B77 =ISTEXT(qualquer), \"\", HYPERLINK(\"https://pt.firesecurityproducts.com/pt/search?q=\"&B77, \"Link Web\"))","v":"Link Web"},{"$f":"$G$2","v":0},400.9]
[null,"TVGP-M01-0802-BUL-G",{"$f":"_xlfn.XLOOKUP($B78,Tabela!A:A,Tabela!C:C,\"não encontrado\")","v":"Mature"},"Câmara TruVision Bullet Smart IP 8MP/4K, H.265+, 60 m IR, lente 2,8 a 12 mm, cinzento",{"$f":"_xlfn.XLOOKUP($B78,Tabela!$A:$A,Tabela!$D:$D,\"não encontrado\")","v":469.57},{"$f":"IF(B78 =ISTEXT(qualquer), \"\", HYPERLINK(\"https://pt.firesecurityproducts.com/pt/search?q=\"&B78, \"Link Web\"))","v":"Link Web"},{"$f":"$G$2","v":0},469.57]
[null,null,null,null,null,{"$f":"IF(B79 =ISTEXT(qualquer), \"\", HYPERLINK(\"https://pt.firesecurityproducts.com/pt/search?q=\"&B79, \"Link Web\"))","v":""}]
[null,"Tipo Dome"]
[]
[null,"Lente Fixa"]
[null,"TVGP-M01-0201-DOM-G",{"$f":"_xlfn.XLOOKUP($B83,Tabela!A:A,Tabela!C:C,\"não encontrado\")","v":"Mature"},"Câmara TruVision Dome Smart IP 2MP, H.265+, 30 m IR, lente 2.8 mm, cinzento",{"$f":"_xlfn.XLOOKUP($B83,Tabela!$A:$A,Tabela!$D:$D,\"não encontrado\")","v":176.45},{"$f":"IF(B83 =ISTEXT(qualquer), \"\", HYPERLINK(\"https://pt.firesecurityproducts.com/pt/search?q=\"&B83, \"Link Web\"))","v":"Link Web"},{"$f":"$G$2","v":0},{"$f":"IF(ISBLANK(G83),\"\",E83-(E83*$G83))","v":176.45}]
[null,"TVGP-M01-0201-DOM-W",{"$f":"_xlfn.XLOOKUP($B84,Tabela!A:A,Tabela!C:C,\"não encontrado\")","v":"Mature"},"Câmara TruVision Dome Smart IP 2MP, H.265+, 30 m IR, lente 2.8 mm, branco",{"$f":"_xlfn.XLOOKUP($B84,Tabela!$A:$A,Tabela!$D:$D,\"não encontrado\")","v":181.74},{"$f":"IF(B84 =ISTEXT(qualquer), \"\", HYPERLINK(\"https://pt.firesecurityproducts.com/pt/search?q=\"&B84, \"Link Web\"))","v":"Link Web"},0,181.74]
[null,"TVGP-M01-0401-DOM-G",{"$f":"_xlfn.XLOOKUP($B85,Tabela!A:A,Tabela!C:C,\"não encontrado\")","v":"Mature"},"Câmara TruVision Dome Smart IP 4MP, H.265+, 30 m IR, lente 2.8 mm, cinzento",{"$f":"_xlfn.XLOOKUP($B85,Tabela!$A:$A,Tabela!$D:$D,\"não encontrado\")","v":191.63},{"$f":"IF(B85 =ISTEXT(qualquer), \"\", HYPERLINK(\"https://pt.firesecurityproducts.com/pt/search?q=\"&B85, \"Link Web\"))","v":"Link Web"},0,191.63]
[null,"TVGP-M01-0401-DOM-W",{"$f":"_xlfn.XLOOKUP($B86,Tabela!A:A,Tabela!C:C,\"não encontrado\")","v":"Mature"},"Câmara TruVision Dome Smart IP 4MP, H.265+, 30 m IR, lente 2.8 mm, branco",{"$f":"_xlfn.XLOOKUP($B86,Tabela!$A:$A,Tabela!$D:$D,\"não encontrado\")","v":191.63},{"$f":"IF(B86 =ISTEXT(qualquer), \"\", HYPERLINK(\"https://pt.firesecurityproducts.com/pt/search?q=\"&B86, \"Link Web\"))","v":"Link Web"},0,191.63]
[null,"TVGP-M01-0801-DOM-G",{"$f":"_xlfn.XLOOKUP($B87,Tabela!A:A,Tabela!C:C,\"não encontrado\")","v":"Mature"},"Câmara TruVision Dome Smart IP 8MP/4K, H.265+, 30 m IR, lente 2.8 mm, cinzento",{"$f":"_xlfn.XLOOKUP($B87,Tabela!$A:$A,Tabela!$D:$D,\"não encontrado\")","v":248.39},{"$f":"IF(B87 =ISTEXT(qualquer), \"\", HYPERLINK(\"https://pt.firesecurityproducts.com/pt/search?q=\"&B87, \"Link Web\"))","v":"Link Web"},0,248.39]
[null,"TVGP-M01-0801-DOM-W",{"$f":"_xlfn.XLOOKUP($B88,Tabela!A:A,Tabela!C:C,\"não encontrado\")","v":"Mature"},"Câmara TruVision Dome Smart IP 8MP/4K, H.265+, 30 m IR, lente 2.8 mm, branco",{"$f":"_xlfn.XLOOKUP($B88,Tabela!$A:$A,Tabela!$D:$D,\"não encontrado\")","v":248.39},{"$f":"IF(B88 =ISTEXT(qualquer), \"\", HYPERLINK(\"https://pt.firesecurityproducts.com/pt/search?q=\"&B88, \"Link Web\"))","v":"Link Web"},0,248.39]
[null,null,null,null,null,{"$f":"IF(B89 =ISTEXT(qualquer), \"\", HYPERLINK(\"https://pt.firesecurityproducts.com/pt/search?q=\"&B89, \"Link Web\"))","v":""}]
[null,"Lente Varifocal Motorizada"]
[null,"TVGP-M01-0202-DOM-G",{"$f":"_xlfn.XLOOKUP($B91,Tabela!A:A,Tabela!C:C,\"não encontrado\")","v":"Mature"},"Câmara TruVision Dome Smart IP 2MP, H.265+, 40 m IR, lente 2.8 a 12 mm, cinzento",{"$f":"_xlfn.XLOOKUP($B91,Tabela!$A:$A,Tabela!$D:$D,\"não encontrado\")","v":354.26},{"$f":"IF(B91 =ISTEXT(qualquer), \"\", HYPERLINK(\"https://pt.firesecurityproducts.com/pt/search?q=\"&B91, \"Link Web\"))","v":"Link Web"},{"$f":"$G$2","v":0},{"$f":"IF(ISBLANK(G91),\"\",E91-(E91*$G91))","v":354.26}]
[null,"TVGP-M01-0202-DOM-W",{"$f":"_xlfn.XLOOKUP($B92,Tabela!A:A,Tabela!C:C,\"não encontrado\")","v":"Mature"},"Câmara TruVision Dome Smart IP 2MP, H.265+, 40 m IR, lente 2.8 a 12 mm, branco",{"$f":"_xlfn.XLOOKUP($B92,Tabela!$A:$A,Tabela!$D:$D,\"não encontrado\")","v":354.26},{"$f":"IF(B92 =ISTEXT(qualquer), \"\", HYPERLINK(\"https://pt.firesecurityproducts.com/pt/search?q=\"&B92, \"Link Web\"))","v":"Link Web"},0,354.26]
[null,"TVGP-M01-0402-DOM-G",{"$f":"_xlfn.XLOOKUP($B93,Tabela!A:A,Tabela!C:C,\"não encontrado\")","v":"Mature"},"Câmara TruVision Dome Smart IP 4MP, H.265+, 40 m IR, lente 2.8 a 12 mm, cinzento",{"$f":"_xlfn.XLOOKUP($B93,Tabela!$A:$A,Tabela!$D:$D,\"não encontrado\")","v":388.87},{"$f":"IF(B93 =ISTEXT(qualquer), \"\", HYPERLINK(\"https://pt.firesecurityproducts.com/pt/search?q=\"&B93, \"Link Web\"))","v":"Link Web"},0,388.87]
[null,"TVGP-M01-0402-DOM-W",{"$f":"_xlfn.XLOOKUP($B94,Tabela!A:A,Tabela!C:C,\"não encontrado\")","v":"Mature"},"Câmara TruVision Dome Smart IP 4MP, H.265+, 40 m IR, lente 2.8 a 12 mm, branco",{"$f":"_xlfn.XLOOKUP($B94,Tabela!$A:$A,Tabela!$D:$D,\"não encontrado\")","v":388.87},{"$f":"IF(B94 =ISTEXT(qualquer), \"\", HYPERLINK(\"https://pt.firesecurityproducts.com/pt/search?q=\"&B94, \"Link Web\"))","v":"Link Web"},0,388.87]
[null,"TVGP-M01-0802-DOM-G",{"$f":"_xlfn.XLOOKUP($B95,Tabela!A:A,Tabela!C:C,\"não encontrado\")","v":"Mature"},"Câmara TruVision Dome Smart IP 8MP, H.265+, 40 m IR, lente 2.8 a 12 mm, cinzento",{"$f":"_xlfn.XLOOKUP($B95,Tabela!$A:$A,Tabela!$D:$D,\"não encontrado\")","v":469.57},{"$f":"IF(B95 =ISTEXT(qualquer), \"\", HYPERLINK(\"https://pt.firesecurityproducts.com/pt/search?q=\"&B95, \"Link Web\"))","v":"Link Web"},0,469.57]
[null,"TVGP-M01-0802-DOM-W",{"$f":"_xlfn.XLOOKUP($B96,Tabela!A:A,Tabela!C:C,\"não encontrado\")","v":"Mature"},"Câmara TruVision Dome Smart IP 8MP, H.265+, 40 m IR, lente 2.8 a 12 mm, branco",{"$f":"_xlfn.XLOOKUP($B96,Tabela!$A:$A,Tabela!$D:$D,\"não encontrado\")","v":469.57},{"$f":"IF(B96 =ISTEXT(qualquer), \"\", HYPERLINK(\"https://pt.firesecurityproducts.com/pt/search?q=\"&B96, \"Link Web\"))","v":"Link Web"},0,469.57]
[null,null,null,null,null,{"$f":"IF(B97 =ISTEXT(qualquer), \"\", HYPERLINK(\"https://pt.firesecurityproducts.com/pt/search?q=\"&B97, \"Link Web\"))","v":""}]
[null,"Tipo Turret"]
[null,null,null,null,null,{"$f":"IF(B99 =ISTEXT(qualquer), \"\", HYPERLINK(\"https://pt.firesecurityproducts.com/pt/search?q=\"&B99, \"Link Web\"))","v":""}]
[null,"Lente Fixa",null,null,"PVP",null,"Desconto","Preço Liquido"]
[null,"TVGP-M01-0201-TUR-W",{"$f":"_xlfn.XLOOKUP($B101,Tabela!A:A,Tabela!C:C,\"não encontrado\")","v":"Mature"},"Câmara TruVision Turret Smart IP 2MP, H.265+, 30 m IR, lente 2.8 mm, branco",{"$f":"_xlfn.XLOOKUP($B101,Tabela!$A:$A,Tabela!$D:$D,\"não encontrado\")","v":164.92},{"$f":"IF(B101 =ISTEXT(qualquer), \"\", HYPERLINK(\"https://pt.firesecurityproducts.com/pt/search?q=\"&B101, \"Link Web\"))","v":"Link Web"},{"$f":"$G$2","v":0},{"$f":"IF(ISBLANK(G101),\"\",E101-(E101*$G101))","v":164.92}]
[null,"TVGP-M01-0201-TUR-G",{"$f":"_xlfn.XLOOKUP($B102,Tabela!A:A,Tabela!C:C,\"não encontrado\")","v":"Mature"},"Câmara TruVision Turret Smart IP 2MP, H.265+, 30 m IR, lente 2.8 mm, cinzento",{"$f":"_xlfn.XLOOKUP($B102,Tabela!$A:$A,Tabela!$D:$D,\"não encontrado\")","v":164.92},{"$f":"IF(B102 =ISTEXT(qualquer), \"\", HYPERLINK(\"https://pt.firesecurityproducts.com/pt/search?q=\"&B102, \"Link Web\"))","v":"Link Web"},0,164.92]
[null,"TVGP-M01-0201-TUR-B",{"$f":"_xlfn.XLOOKUP($B103,Tabela!A:A,Tabela!C:C,\"não encontrado\")","v":"Mature"},"Câmara TruVision Turret Smart IP 2MP, H.265+, 30 m IR, lente 2.8 mm, preto",{"$f":"_xlfn.XLOOKUP($B103,Tabela!$A:$A,Tabela!$D:$D,\"não encontrado\")","v":164.92},{"$f":"IF(B103 =ISTEXT(qualquer), \"\", HYPERLINK(\"https://pt.firesecurityproducts.com/pt/search?q=\"&B103, \"Link Web\"))","v":"Link Web"},0,164.92]
[null,"TVGP-M01-0401-TUR-G",{"$f":"_xlfn.XLOOKUP($B104,Tabela!A:A,Tabela!C:C,\"não encontrado\")","v":"Mature"},"Câmara TruVision Turret Smart IP 4MP, H.265+, 30 m IR, lente 2.8mm, cinzento",{"$f":"_xlfn.XLOOKUP($B104,Tabela!$A:$A,Tabela!$D:$D,\"não encontrado\")","v":179.16},{"$f":"IF(B104 =ISTEXT(qualquer), \"\", HYPERLINK(\"https://pt.firesecurityproducts.com/pt/search?q=\"&B104, \"Link Web\"))","v":"Link Web"},0,179.16]
[null,"TVGP-M01-0401-TUR-W",{"$f":"_xlfn.XLOOKUP($B105,Tabela!A:A,Tabela!C:C,\"não encontrado\")","v":"Mature"},"Câmara TruVision Turret Smart IP 4MP, H.265+, 30 m IR, lente 2.8mm, branco",{"$f":"_xlfn.XLOOKUP($B105,Tabela!$A:$A,Tabela!$D:$D,\"não encontrado\")","v":179.16},{"$f":"IF(B105 =ISTEXT(qualquer), \"\", HYPERLINK(\"https://pt.firesecurityproducts.com/pt/search?q=\"&B105, \"Link Web\"))","v":"Link Web"},0,179.16]
[null,"TVGP-M01-0401-TUR-B",{"$f":"_xlfn.XLOOKUP($B106,Tabela!A:A,Tabela!C:C,\"não encontrado\")","v":"Mature"},"Câmara TruVision Turret Smart IP 4MP, H.265+, 30 m IR, lente 2.8 mm, preto",{"$f":"_xlfn.XLOOKUP($B106,Tabela!$A:$A,Tabela!$D:$D,\"não encontrado\")","v":179.16},{"$f":"IF(B106 =ISTEXT(qualquer), \"\", HYPERLINK(\"https://pt.firesecurityproducts.com/pt/search?q=\"&B106, \"Link Web\"))","v":"Link Web"},0,179.16]
[null,"TVGP-M01-0801-TUR-G",{"$f":"_xlfn.XLOOKUP($B107,Tabela!A:A,Tabela!C:C,\"não encontrado\")","v":"Mature"},"Câmara TruVision Turret Smart IP 8MP/4K, H.265+, 30 m IR, lente 2.8 mm, cinzento",{"$f":"_xlfn.XLOOKUP($B107,Tabela!$A:$A,Tabela!$D:$D,\"não encontrado\")","v":248.39},{"$f":"IF(B107 =ISTEXT(qualquer), \"\", HYPERLINK(\"https://pt.firesecurityproducts.com/pt/search?q=\"&B107, \"Link Web\"))","v":"Link Web"},0,248.39]
[null,null,null,null,null,{"$f":"IF(B108 =ISTEXT(qualquer), \"\", HYPERLINK(\"https://pt.firesecurityproducts.com/pt/search?q=\"&B108, \"Link Web\"))","v":""}]
[null,"Lente Varifocal Motorizada"]
[null,"TVGP-M01-0202-TUR-G",{"$f":"_xlfn.XLOOKUP($B110,Tabela!A:A,Tabela!C:C,\"não encontrado\")","v":"Mature"},"Câmara TruVision Turret Smart IP 2MP, H.265+, 40 m IR, lente 2.8 a 12 mm, cinzento",{"$f":"_xlfn.XLOOKUP($B110,Tabela!$A:$A,Tabela!$D:$D,\"não encontrado\")","v":333.92},{"$f":"IF(B110 =ISTEXT(qualquer), \"\", HYPERLINK(\"https://pt.firesecurityproducts.com/pt/search?q=\"&B110, \"Link Web\"))","v":"Link Web"},{"$f":"$G$2","v":0},{"$f":"IF(ISBLANK(G110),\"\",E110-(E110*$G110))","v":333.92}]
[null,"TVGP-M01-0402-TUR-G",{"$f":"_xlfn.XLOOKUP($B111,Tabela!A:A,Tabela!C:C,\"não encontrado\")","v":"Mature"},"Câmara TruVision Turret Smart IP 4MP, H.265+, 40 m IR, lente 2.8 a 12 mm, cinzento",{"$f":"_xlfn.XLOOKUP($B111,Tabela!$A:$A,Tabela!$D:$D,\"não encontrado\")","v":360.38},{"$f":"IF(B111 =ISTEXT(qualquer), \"\", HYPERLINK(\"https://pt.firesecurityproducts.com/pt/search?q=\"&B111, \"Link Web\"))","v":"Link Web"},{"$f":"$G$2","v":0},360.38]
[null,"TVGP-M01-0402-TUR-W",{"$f":"_xlfn.XLOOKUP($B112,Tabela!A:A,Tabela!C:C,\"não encontrado\")","v":"Mature"},"Câmara TruVision Bullet Smart IP 4MP, H.265+, 40 m IR, lente 2.8 a 12 mm, branco",{"$f":"_xlfn.XLOOKUP($B112,Tabela!$A:$A,Tabela!$D:$D,\"não encontrado\")","v":360.38},{"$f":"IF(B112 =ISTEXT(qualquer), \"\", HYPERLINK(\"https://pt.firesecurityproducts.com/pt/search?q=\"&B112, \"Link Web\"))","v":"Link Web"},{"$f":"$G$2","v":0},360.38]
[null,"TVGP-M01-0802-TUR-G",{"$f":"_xlfn.XLOOKUP($B113,Tabela!A:A,Tabela!C:C,\"não encontrado\")","v":"Mature"},"Câmara TruVision Turret Smart IP 8MP/4K, H.265+, 40 m IR, lente 2.8 a 12 mm, cinzento",{"$f":"_xlfn.XLOOKUP($B113,Tabela!$A:$A,Tabela!$D:$D,\"não encontrado\")","v":460.85},{"$f":"IF(B113 =ISTEXT(qualquer), \"\", HYPERLINK(\"https://pt.firesecurityproducts.com/pt/search?q=\"&B113, \"Link Web\"))","v":"Link Web"},{"$f":"$G$2","v":0},460.85]
[null,null,null,null,null,{"$f":"IF(B114 =ISTEXT(qualquer), \"\", HYPERLINK(\"https://pt.firesecurityproducts.com/pt/search?q=\"&B114, \"Link Web\"))","v":""}]
[null,"Câmaras Wedge"]
[null,null,null,null,null,{"$f":"IF(B116 =ISTEXT(qualquer), \"\", HYPERLINK(\"https://pt.firesecurityproducts.com/pt/search?q=\"&B116, \"Link Web\"))","v":""}]
[null,"Lente Fixa"]
[null,"TVGP-M01-0401-WED-G",{"$f":"_xlfn.XLOOKUP($B118,Tabela!A:A,Tabela!C:C,\"não encontrado\")","v":"Mature"},"Câmara TruVision Wedge Smart IP 4MP, H.265+, 30 m IR, lente 2.8 mm, cinzento",{"$f":"_xlfn.XLOOKUP($B118,Tabela!$A:$A,Tabela!$D:$D,\"não encontrado\")","v":225.49},{"$f":"IF(B118 =ISTEXT(qualquer), \"\", HYPERLINK(\"https://pt.firesecurityproducts.com/pt/search?q=\"&B118, \"Link Web\"))","v":"Link Web"},{"$f":"$G$2","v":0},{"$f":"IF(ISBLANK(G118),\"\",E118-(E118*$G118))","v":225.49}]
[null,"TVGP-M01-0401-WED-W",{"$f":"_xlfn.XLOOKUP($B119,Tabela!A:A,Tabela!C:C,\"não encontrado\")","v":"Mature"},"Câmara TruVision Wedge Smart IP 4MP, H.265+, 30 m IR, lente 2.8 mm, branco",{"$f":"_xlfn.XLOOKUP($B119,Tabela!$A:$A,Tabela!$D:$D,\"não encontrado\")","v":225.49},{"$f":"IF(B119 =ISTEXT(qualquer), \"\", HYPERLINK(\"https://pt.firesecurityproducts.com/pt/search?q=\"&B119, \"Link Web\"))","v":"Link Web"},{"$f":"$G$2","v":0},225.49]
[null,"TVGP-M01-0401-WED-B",{"$f":"_xlfn.XLOOKUP($B120,Tabela!A:A,Tabela!C:C,\"não encontrado\")","v":"Mature"},"Câmara TruVision Wedge Smart IP 4MP, H.265+, 30 m IR, lente 2.8 mm, preto",{"$f":"_xlfn.XLOOKUP($B120,Tabela!$A:$A,Tabela!$D:$D,\"não encontrado\")","v":225.49},{"$f":"IF(B120 =ISTEXT(qualquer), \"\", HYPERLINK(\"https://pt.firesecurityproducts.com/pt/search?q=\"&B120, \"Link Web\"))","v":"Link Web"},{"$f":"$G$2","v":0},225.49]
[null,"TVGP-M01-0201-WED-G",{"$f":"_xlfn.XLOOKUP($B121,Tabela!A:A,Tabela!C:C,\"não encontrado\")","v":"Mature"},"Câmara TruVision Wedge Smart IP 2MP, H.265+, 30 m IR, lente 2.8 mm, cinzento",{"$f":"_xlfn.XLOOKUP($B121,Tabela!$A:$A,Tabela!$D:$D,\"não encontrado\")","v":198.25},{"$f":"IF(B121 =ISTEXT(qualquer), \"\", HYPERLINK(\"https://pt.firesecurityproducts.com/pt/search?q=\"&B121, \"Link Web\"))","v":"Link Web"},{"$f":"$G$2","v":0},198.25]
[null,null,null,null,null,{"$f":"IF(B122 =ISTEXT(qualquer), \"\", HYPERLINK(\"https://pt.firesecurityproducts.com/pt/search?q=\"&B122, \"Link Web\"))","v":""}]
["Série P",null,"Câmaras IP - Luiz Extremamente Baixa",null,null,{"$f":"IF(B123 =ISTEXT(qualquer), \"\", HYPERLINK(\"https://pt.firesecurityproducts.com/pt/search?q=\"&B123, \"Link Web\"))","v":""}]
[null,null,"As câmaras IP da série TruVision P possuem conjunto de funcionalidades que as tornam ideais para aplicações exigentes de segurança, vigilância e monitorização, tais como projetos comerciais, de retalho e de grande dimensão. Disponíveis em resoluções 4K de 4 e 8 MP, oferecem imagens de alta qualidade graças à sua sensibilidade à luz extremamente baixa, que proporciona uma visibilidade nítida mesmo no escuro. \n                                                                                                                                                                                                \n• Resolução de 4K de 2MP a 8MP \n• Compressão H.265(+) , H.264(+), quatro-streams\n• Suporte cartão SDHC 256GB\n• Iluminação IR até 60 m\n• ONVIF Profile G, S e T\n• Lente fixa e motorizadas\n• Vídeo Inteligência Incorporada       \n• Modelos  IP67/IK10                                                                                                                                                                                                                                                                                                                                                                                                                                                                       ",null,null,{"$f":"IF(B124 =ISTEXT(qualquer), \"\", HYPERLINK(\"https://pt.firesecurityproducts.com/pt/search?q=\"&B124, \"Link Web\"))","v":""}]
[null,null,null,null,null,{"$f":"IF(B125 =ISTEXT(qualquer), \"\", HYPERLINK(\"https://pt.firesecurityproducts.com/pt/search?q=\"&B125, \"Link Web\"))","v":""}]
[null,null,null,null,null,{"$f":"IF(B126 =ISTEXT(qualquer), \"\", HYPERLINK(\"https://pt.firesecurityproducts.com/pt/search?q=\"&B126, \"Link Web\"))","v":""}]
[null,null,null,null,null,{"$f":"IF(B127 =ISTEXT(qualquer), \"\", HYPERLINK(\"https://pt.firesecurityproducts.com/pt/search?q=\"&B127, \"Link Web\"))","v":""}]
[null,null,null,null,null,{"$f":"IF(B128 =ISTEXT(qualquer), \"\", HYPERLINK(\"https://pt.firesecurityproducts.com/pt/search?q=\"&B128, \"Link Web\"))","v":""}]
[null,null,null,null,null,{"$f":"IF(B129 =ISTEXT(qualquer), \"\", HYPERLINK(\"https://pt.firesecurityproducts.com/pt/search?q=\"&B129, \"Link Web\"))","v":""}]
[null,null,null,null,null,{"$f":"IF(B130 =ISTEXT(qualquer), \"\", HYPERLINK(\"https://pt.firesecurityproducts.com/pt/search?q=\"&B130, \"Link Web\"))","v":""}]
[null,null,null,null,null,{"$f":"IF(B131 =ISTEXT(qualquer), \"\", HYPERLINK(\"https://pt.firesecurityproducts.com/pt/search?q=\"&B131, \"Link Web\"))","v":""}]
[null,null,null,null,null,{"$f":"IF(B132 =ISTEXT(qualquer), \"\", HYPERLINK(\"https://pt.firesecurityproducts.com/pt/search?q=\"&B132, \"Link Web\"))","v":""}]
[null,null,null,null,null,{"$f":"IF(B133 =ISTEXT(qualquer), \"\", HYPERLINK(\"https://pt.firesecurityproducts.com/pt/search?q=\"&B133, \"Link Web\"))","v":""}]
[null,null,null,null,null,{"$f":"IF(B134 =ISTEXT(qualquer), \"\", HYPERLINK(\"https://pt.firesecurityproducts.com/pt/search?q=\"&B134, \"Link Web\"))","v":""}]
[null,null,null,null,null,{"$f":"IF(B135 =ISTEXT(qualquer), \"\", HYPERLINK(\"https://pt.firesecurityproducts.com/pt/search?q=\"&B135, \"Link Web\"))","v":""}]
[null,"Tipo Bullet"]
[null,null,null,null,null,{"$f":"IF(B137 =ISTEXT(qualquer), \"\", HYPERLINK(\"https://pt.firesecurityproducts.com/pt/search?q=\"&B137, \"Link Web\"))","v":""}]
[null,"Lente Varifocal - 4MP",null,null,"PVP",null,"Desconto","Preço Liquido"]
[null,"TVGP-P01-0401-BUL-G",{"$f":"_xlfn.XLOOKUP($B139,Tabela!A:A,Tabela!C:C,\"não encontrado\")","v":"Mature"},"Câmara TruVision Bullet Luz Extremamente Baixa IP 4MP, H.265+, 60 m IR, lente varifocal 2,8 - 12mm , cinzento",{"$f":"_xlfn.XLOOKUP($B139,Tabela!$A:$A,Tabela!$D:$D,\"não encontrado\")","v":831.27},{"$f":"IF(B139 =ISTEXT(qualquer), \"\", HYPERLINK(\"https://pt.firesecurityproducts.com/pt/search?q=\"&B139, \"Link Web\"))","v":"Link Web"},{"$f":"$G$2","v":0},{"$f":"IF(ISBLANK(G139),\"\",E139-(E139*$G139))","v":831.27}]
[null,"TVGP-P01-0402-BUL-G",{"$f":"_xlfn.XLOOKUP($B140,Tabela!A:A,Tabela!C:C,\"não encontrado\")","v":"Mature"},"Câmara TruVision Bullet Luz Extremamente Baixa IP 4MP, H.265+, 60 m IR, lente varifocal 8 - 32mm , cinzento",{"$f":"_xlfn.XLOOKUP($B140,Tabela!$A:$A,Tabela!$D:$D,\"não encontrado\")","v":914.49},{"$f":"IF(B140 =ISTEXT(qualquer), \"\", HYPERLINK(\"https://pt.firesecurityproducts.com/pt/search?q=\"&B140, \"Link Web\"))","v":"Link Web"},{"$f":"$G$2","v":0},914.49]
[null,null,null,null,null,{"$f":"IF(B141 =ISTEXT(qualquer), \"\", HYPERLINK(\"https://pt.firesecurityproducts.com/pt/search?q=\"&B141, \"Link Web\"))","v":""}]
[null,"Lente Varifocal - 8MP"]
[null,"TVGP-P01-0801-BUL-G",{"$f":"_xlfn.XLOOKUP($B143,Tabela!A:A,Tabela!C:C,\"não encontrado\")","v":"Mature"},"Câmara TruVision Bullet Luz Extremamente Baixa IP 8MP, H.265+, 60 m IR, lente varifocal 2,8 - 12mm , cinzento",{"$f":"_xlfn.XLOOKUP($B143,Tabela!$A:$A,Tabela!$D:$D,\"não encontrado\")","v":1091.6500000000001},{"$f":"IF(B143 =ISTEXT(qualquer), \"\", HYPERLINK(\"https://pt.firesecurityproducts.com/pt/search?q=\"&B143, \"Link Web\"))","v":"Link Web"},{"$f":"$G$2","v":0},{"$f":"IF(ISBLANK(G143),\"\",E143-(E143*$G143))","v":1091.6500000000001}]
[null,"TVGP-P01-0802-BUL-G",{"$f":"_xlfn.XLOOKUP($B144,Tabela!A:A,Tabela!C:C,\"não encontrado\")","v":"Mature"},"Câmara TruVision Bullet Luz Extremamente Baixa IP 8MP, H.265+, 60 m IR, lente varifocal 8 - 32mm , cinzento",{"$f":"_xlfn.XLOOKUP($B144,Tabela!$A:$A,Tabela!$D:$D,\"não encontrado\")","v":1174.8599999999999},{"$f":"IF(B144 =ISTEXT(qualquer), \"\", HYPERLINK(\"https://pt.firesecurityproducts.com/pt/search?q=\"&B144, \"Link Web\"))","v":"Link Web"},{"$f":"$G$2","v":0},1174.8599999999999]
[null,null,null,null,null,{"$f":"IF(B145 =ISTEXT(qualquer), \"\", HYPERLINK(\"https://pt.firesecurityproducts.com/pt/search?q=\"&B145, \"Link Web\"))","v":""}]
[null,"Tipo Dome"]
[null,null,null,null,null,{"$f":"IF(B147 =ISTEXT(qualquer), \"\", HYPERLINK(\"https://pt.firesecurityproducts.com/pt/search?q=\"&B147, \"Link Web\"))","v":""}]
[null,"Lente Varifocal - 4MP",null,null,"PVP",null,"Desconto","Preço Liquido"]
[null,"TVGP-P01-0401-DOM-G",{"$f":"_xlfn.XLOOKUP($B149,Tabela!A:A,Tabela!C:C,\"não encontrado\")","v":"Mature"},"Câmara TruVision Dome Luz Extremamente Baixa IP 4MP, H.265+, 60 m IR, lente varifocal 2,8 - 12mm , cinzento",{"$f":"_xlfn.XLOOKUP($B149,Tabela!$A:$A,Tabela!$D:$D,\"não encontrado\")","v":831.27},{"$f":"IF(B149 =ISTEXT(qualquer), \"\", HYPERLINK(\"https://pt.firesecurityproducts.com/pt/search?q=\"&B149, \"Link Web\"))","v":"Link Web"},{"$f":"$G$2","v":0},{"$f":"IF(ISBLANK(G149),\"\",E149-(E149*$G149))","v":831.27}]
[null,"TVGP-P01-0402-DOM-G",{"$f":"_xlfn.XLOOKUP($B150,Tabela!A:A,Tabela!C:C,\"não encontrado\")","v":"Mature"},"Câmara TruVision Dome Luz Extremamente Baixa IP 4MP, H.265+, 60 m IR, lente varifocal 8 - 32mm , cinzento",{"$f":"_xlfn.XLOOKUP($B150,Tabela!$A:$A,Tabela!$D:$D,\"não encontrado\")","v":914.49},{"$f":"IF(B150 =ISTEXT(qualquer), \"\", HYPERLINK(\"https://pt.firesecurityproducts.com/pt/search?q=\"&B150, \"Link Web\"))","v":"Link Web"},{"$f":"$G$2","v":0},914.49]
[null,"TVGP-P01-0403-DOM-G",{"$f":"_xlfn.XLOOKUP($B151,Tabela!A:A,Tabela!C:C,\"não encontrado\")","v":"Mature"},"Câmara TruVision Dome Luz Extremamente Baixa IP 4MP, H.265+, 60 m IR, lente varifocal 2.7  - 13.5mm , cinzento",{"$f":"_xlfn.XLOOKUP($B151,Tabela!$A:$A,Tabela!$D:$D,\"não encontrado\")","v":715.26},{"$f":"IF(B151 =ISTEXT(qualquer), \"\", HYPERLINK(\"https://pt.firesecurityproducts.com/pt/search?q=\"&B151, \"Link Web\"))","v":"Link Web"},{"$f":"$G$2","v":0},715.26]
[null,null,null,null,null,{"$f":"IF(B152 =ISTEXT(qualquer), \"\", HYPERLINK(\"https://pt.firesecurityproducts.com/pt/search?q=\"&B152, \"Link Web\"))","v":""}]
[null,"Lente Varifocal - 8MP"]
[null,"TVGP-P01-0801-DOM-G",{"$f":"_xlfn.XLOOKUP($B154,Tabela!A:A,Tabela!C:C,\"não encontrado\")","v":"Mature"},"Câmara TruVision Dome Luz Extremamente Baixa IP 8MP, H.265+, 60 m IR, lente varifocal 2,8 - 12mm , cinzento",{"$f":"_xlfn.XLOOKUP($B154,Tabela!$A:$A,Tabela!$D:$D,\"não encontrado\")","v":1091.6500000000001},{"$f":"IF(B154 =ISTEXT(qualquer), \"\", HYPERLINK(\"https://pt.firesecurityproducts.com/pt/search?q=\"&B154, \"Link Web\"))","v":"Link Web"},{"$f":"$G$2","v":0},{"$f":"IF(ISBLANK(G154),\"\",E154-(E154*$G154))","v":1091.6500000000001}]
[null,"TVGP-P01-0802-BUL-G",{"$f":"_xlfn.XLOOKUP($B155,Tabela!A:A,Tabela!C:C,\"não encontrado\")","v":"Mature"},"Câmara TruVision Dome Luz Extremamente Baixa IP 8MP, H.265+, 60 m IR, lente varifocal 8 - 32mm , cinzento",{"$f":"_xlfn.XLOOKUP($B155,Tabela!$A:$A,Tabela!$D:$D,\"não encontrado\")","v":1174.8599999999999},{"$f":"IF(B155 =ISTEXT(qualquer), \"\", HYPERLINK(\"https://pt.firesecurityproducts.com/pt/search?q=\"&B155, \"Link Web\"))","v":"Link Web"},{"$f":"$G$2","v":0},1174.8599999999999]
[null,"TVGP-P01-0803-DOM-G",{"$f":"_xlfn.XLOOKUP($B156,Tabela!A:A,Tabela!C:C,\"não encontrado\")","v":"Mature"},"Câmara TruVision Dome Luz Extremamente Baixa IP 8MP, H.265+, 60 m IR, lente varifocal 2.7  - 13.5mm , cinzento",{"$f":"_xlfn.XLOOKUP($B156,Tabela!$A:$A,Tabela!$D:$D,\"não encontrado\")","v":872.89},{"$f":"IF(B156 =ISTEXT(qualquer), \"\", HYPERLINK(\"https://pt.firesecurityproducts.com/pt/search?q=\"&B156, \"Link Web\"))","v":"Link Web"},{"$f":"$G$2","v":0},872.89]

{"sheet":"CCTV Domes PTZ","index":17,"n_rows":43,"n_cols":8,"rows_kept":43,"cut":false,"hidden":false,"merged":[[0,2,2,3],[1,6,2,6],[5,2,13,4],[21,2,29,4]]}
[null,null,"Domes PTZ"]
[null,null,null,null,null,null,0]
[]
[null,null,"Status",null,"PVP",null,"Desconto","Preço \nLiquido"]
["Série M",null,"Domes PTZ HD"]
[null,null,"A nova gama de câmaras IP PTZ completa a nossa linha TruVision oferecendo um controlo de câmara preciso e intuitivo na ponta dos dedos.\nPode facilmente fazer zoom, mover as câmaras para a posição desejada, executar “tours” pré-configuradas e monitorizar as suas áreas de vigilância 24/7 com o nosso software e app móvel.\nAs novas câmaras IP PTZ TruVision da série M são ideais para a vigilância grandes áreas, tanto no interior como no exterior. \nAs câmaras IP PTZ da série P com características melhoradas e desempenho ótico como a extrema sensibilidade a baixa luz são adequadas para aplicações exigentes.\n\nA série M é a sucessora das TVP-5101/5102/5103"]
[]
[]
[]
[]
[]
[]
[]
[]
[null,null,null,null,"PVP",null,"Desconto","Preço Liquido"]
[null,"TVGP-M01-0201-PTZ-G",{"$f":"_xlfn.XLOOKUP($B16,Tabela!A:A,Tabela!C:C,\"não encontrado\")","v":"Mature"},"Câmara IP PTZ compacta TruVision 2MP, H.265+, 50m IR, 10x zoom, PoE+/12VDC, PSU incl.",{"$f":"_xlfn.XLOOKUP($B16,Tabela!$A:$A,Tabela!$D:$D,\"não encontrado\")","v":535.59},{"$f":"IF(B16 =ISTEXT(qualquer), \"\", HYPERLINK(\"https://pt.firesecurityproducts.com/pt/search?q=\"&B16, \"Link Web\"))","v":"Link Web"},{"$f":"$G$2","v":0},{"$f":"IF(ISBLANK(G16),\"\",E16-(E16*$G16))","v":535.59}]
[null,"TVGP-M01-0401-PTZ-G",{"$f":"_xlfn.XLOOKUP($B17,Tabela!A:A,Tabela!C:C,\"não encontrado\")","v":"Mature"},"Câmara IP PTZ TruVision 4MP, H.265+, 150m IR, 25x zoom, PoE+/24VAC, montagem parede incl.",{"$f":"_xlfn.XLOOKUP($B17,Tabela!$A:$A,Tabela!$D:$D,\"não encontrado\")","v":1032.94},{"$f":"IF(B17 =ISTEXT(qualquer), \"\", HYPERLINK(\"https://pt.firesecurityproducts.com/pt/search?q=\"&B17, \"Link Web\"))","v":"Link Web"},{"$f":"$G$2","v":0},{"$f":"IF(ISBLANK(G17),\"\",E17-(E17*$G17))","v":1032.94}]
[null,"TVGP-M01-0402-PTZ-G",{"$f":"_xlfn.XLOOKUP($B18,Tabela!A:A,Tabela!C:C,\"não encontrado\")","v":"Mature"},"TruVision 4MP Compact IP PTZ câmara, H.265+, 100m IR, 25x zoom, PoE+/12VDC, wall mount & PSU incl.",{"$f":"_xlfn.XLOOKUP($B18,Tabela!$A:$A,Tabela!$D:$D,\"não encontrado\")","v":949.6},{"$f":"IF(B18 =ISTEXT(qualquer), \"\", HYPERLINK(\"https://pt.firesecurityproducts.com/pt/search?q=\"&B18, \"Link Web\"))","v":"Link Web"},{"$f":"$G$2","v":0},949.6]
[null,"TVGP-M01-0403-PTZ-G",{"$f":"_xlfn.XLOOKUP($B19,Tabela!A:A,Tabela!C:C,\"não encontrado\")","v":"Mature"},"Câmara IP PTZ TruVision 4MP, H.265+, 200m IR, 32x zoom, Hi-PoE/24VAC, montagem parede incl.",{"$f":"_xlfn.XLOOKUP($B19,Tabela!$A:$A,Tabela!$D:$D,\"não encontrado\")","v":1571.68},{"$f":"IF(B19 =ISTEXT(qualquer), \"\", HYPERLINK(\"https://pt.firesecurityproducts.com/pt/search?q=\"&B19, \"Link Web\"))","v":"Link Web"},{"$f":"$G$2","v":0},1571.68]
[null,null,null,null,null,{"$f":"IF(B20 =ISTEXT(qualquer), \"\", HYPERLINK(\"https://pt.firesecurityproducts.com/pt/search?q=\"&B20, \"Link Web\"))","v":""}]
["Série P",null,"Domes PTZ HD",null,null,{"$f":"IF(B21 =ISTEXT(qualquer), \"\", HYPERLINK(\"https://pt.firesecurityproducts.com/pt/search?q=\"&B21, \"Link Web\"))","v":""}]
[null,null,"A nova gama de câmaras IP PTZ completa a nossa linha TruVision oferecendo um controlo de câmara preciso e intuitivo na ponta dos dedos.\nPode facilmente fazer zoom, mover as câmaras para a posição desejada, executar “tours” pré-configuradas e monitorizar as suas áreas de vigilância 24/7 com o nosso software e app móvel.\nAs novas câmaras IP PTZ TruVision da série M são ideais para a vigilância grandes áreas, tanto no interior como no exterior. \nAs câmaras IP PTZ da série P com características melhoradas e desempenho ótico como a extrema sensibilidade a baixa luz são adequadas para aplicações exigentes.\nA série P é a sucessora das TVP-5104/5105",null,null,{"$f":"IF(B22 =ISTEXT(qualquer), \"\", HYPERLINK(\"https://pt.firesecurityproducts.com/pt/search?q=\"&B22, \"Link Web\"))","v":""}]
[null,null,null,null,null,{"$f":"IF(B23 =ISTEXT(qualquer), \"\", HYPERLINK(\"https://pt.firesecurityproducts.com/pt/search?q=\"&B23, \"Link Web\"))","v":""}]
[null,null,null,null,null,{"$f":"IF(B24 =ISTEXT(qualquer), \"\", HYPERLINK(\"https://pt.firesecurityproducts.com/pt/search?q=\"&B24, \"Link Web\"))","v":""}]
[null,null,null,null,null,{"$f":"IF(B25 =ISTEXT(qualquer), \"\", HYPERLINK(\"https://pt.firesecurityproducts.com/pt/search?q=\"&B25, \"Link Web\"))","v":""}]
[null,null,null,null,null,{"$f":"IF(B26 =ISTEXT(qualquer), \"\", HYPERLINK(\"https://pt.firesecurityproducts.com/pt/search?q=\"&B26, \"Link Web\"))","v":""}]
[null,null,null,null,null,{"$f":"IF(B27 =ISTEXT(qualquer), \"\", HYPERLINK(\"https://pt.firesecurityproducts.com/pt/search?q=\"&B27, \"Link Web\"))","v":""}]
[null,null,null,null,null,{"$f":"IF(B28 =ISTEXT(qualquer), \"\", HYPERLINK(\"https://pt.firesecurityproducts.com/pt/search?q=\"&B28, \"Link Web\"))","v":""}]
[null,null,null,null,null,{"$f":"IF(B29 =ISTEXT(qualquer), \"\", HYPERLINK(\"https://pt.firesecurityproducts.com/pt/search?q=\"&B29, \"Link Web\"))","v":""}]
[null,null,null,null,null,{"$f":"IF(B30 =ISTEXT(qualquer), \"\", HYPERLINK(\"https://pt.firesecurityproducts.com/pt/search?q=\"&B30, \"Link Web\"))","v":""}]
[null,null,null,null,null,{"$f":"IF(B31 =ISTEXT(qualquer), \"\", HYPERLINK(\"https://pt.firesecurityproducts.com/pt/search?q=\"&B31, \"Link Web\"))","v":""}]
[null,"TVGP-P02-0401-PTZ-G",{"$f":"_xlfn.XLOOKUP($B32,Tabela!A:A,Tabela!C:C,\"não encontrado\")","v":"NPI"},"TRUVISION 4MP IP PTZ CAMERA, H.265+, 300M IR, 25X ZOOM, SUPER LOW LIGHT, IP67, IK10, NEMA 4X, HI-POE/36VDC",{"$f":"_xlfn.XLOOKUP($B32,Tabela!$A:$A,Tabela!$D:$D,\"não encontrado\")","v":2063.29},{"$f":"IF(B32 =ISTEXT(qualquer), \"\", HYPERLINK(\"https://pt.firesecurityproducts.com/pt/search?q=\"&B32, \"Link Web\"))","v":"Link Web"},{"$f":"$G$2","v":0},{"$f":"IF(ISBLANK(G32),\"\",E32-(E32*$G32))","v":2063.29}]
[null,"TVGP-P02-0402-PTZ-G",{"$f":"_xlfn.XLOOKUP($B33,Tabela!A:A,Tabela!C:C,\"não encontrado\")","v":"NPI"},"TRUVISION 4MP IP PTZ CAMERA, H.265+, 400M IR, 42X ZOOM, SUPER LOW LIGHT, IP67, IK10, NEMA 4X, HI-POE/36VDC",{"$f":"_xlfn.XLOOKUP($B33,Tabela!$A:$A,Tabela!$D:$D,\"não encontrado\")","v":2771.47},{"$f":"IF(B33 =ISTEXT(qualquer), \"\", HYPERLINK(\"https://pt.firesecurityproducts.com/pt/search?q=\"&B33, \"Link Web\"))","v":"Link Web"},{"$f":"$G$2","v":0},{"$f":"IF(ISBLANK(G33),\"\",E33-(E33*$G33))","v":2771.47}]
[null,null,null,null,null,{"$f":"IF(B34 =ISTEXT(qualquer), \"\", HYPERLINK(\"https://pt.firesecurityproducts.com/pt/search?q=\"&B34, \"Link Web\"))","v":""}]
["Operação",null,"Consolas de Operação",null,null,{"$f":"IF(B35 =ISTEXT(qualquer), \"\", HYPERLINK(\"https://pt.firesecurityproducts.com/pt/search?q=\"&B35, \"Link Web\"))","v":""}]
[null,"TVK-610",{"$f":"_xlfn.XLOOKUP($B36,Tabela!A:A,Tabela!C:C,\"não encontrado\")","v":"Mature"},"Consola de Controlo , com Joystick de Domes , DVR's e NVR's Truvision, com ligação RS485 e IP",{"$f":"_xlfn.XLOOKUP($B36,Tabela!$A:$A,Tabela!$D:$D,\"não encontrado\")","v":897.79},{"$f":"IF(B36 =ISTEXT(qualquer), \"\", HYPERLINK(\"https://pt.firesecurityproducts.com/pt/search?q=\"&B36, \"Link Web\"))","v":"Link Web"},{"$f":"$G$2","v":0},{"$f":"IF(ISBLANK(G36),\"\",E36-(E36*$G36))","v":897.79}]
[null,"TVK-400-USB",{"$f":"_xlfn.XLOOKUP($B37,Tabela!A:A,Tabela!C:C,\"não encontrado\")","v":"Mature"},"Consola de Controlo , com Joystick de Domes , DVR's e NVR's Truvision, com ligação por USB",{"$f":"_xlfn.XLOOKUP($B37,Tabela!$A:$A,Tabela!$D:$D,\"não encontrado\")","v":2389.73},{"$f":"IF(B37 =ISTEXT(qualquer), \"\", HYPERLINK(\"https://pt.firesecurityproducts.com/pt/search?q=\"&B37, \"Link Web\"))","v":"Link Web"},{"$f":"$G$2","v":0},2389.73]
[null,null,null,null,null,{"$f":"IF(B38 =ISTEXT(qualquer), \"\", HYPERLINK(\"https://pt.firesecurityproducts.com/pt/search?q=\"&B38, \"Link Web\"))","v":""}]
["Alimentação",null,"24 VAC",null,null,{"$f":"IF(B39 =ISTEXT(qualquer), \"\", HYPERLINK(\"https://pt.firesecurityproducts.com/pt/search?q=\"&B39, \"Link Web\"))","v":""}]
[null,"ATD-6814-PSU",{"$f":"_xlfn.XLOOKUP($B40,Tabela!A:A,Tabela!C:C,\"não encontrado\")","v":"Mature"},"Caixa com Transformador Alimentação Câmaras - 24VAC, 4A",{"$f":"_xlfn.XLOOKUP($B40,Tabela!$A:$A,Tabela!$D:$D,\"não encontrado\")","v":179},{"$f":"IF(B40 =ISTEXT(qualquer), \"\", HYPERLINK(\"https://pt.firesecurityproducts.com/pt/search?q=\"&B40, \"Link Web\"))","v":"Link Web"},{"$f":"$G$2","v":0},{"$f":"IF(ISBLANK(G40),\"\",E40-(E40*$G40))","v":179}]
[null,null,null,null,null,{"$f":"IF(B41 =ISTEXT(qualquer), \"\", HYPERLINK(\"https://pt.firesecurityproducts.com/pt/search?q=\"&B41, \"Link Web\"))","v":""}]
["Software",null,"Gestão e Operação Vídeo",null,null,{"$f":"IF(B42 =ISTEXT(qualquer), \"\", HYPERLINK(\"https://pt.firesecurityproducts.com/pt/search?q=\"&B42, \"Link Web\"))","v":""}]
[null,null,null,"TruVision Navigator - Plataforma de Gestão Vídeo sem custos. .Pode efetuar o download a partir do nosso portal",null,{"$f":"IF(B43 =ISTEXT(qualquer), \"\", HYPERLINK(\"https://pt.firesecurityproducts.com/pt/search?q=\"&B43, \"Link Web\"))","v":""},{"$f":"$G$2","v":0}]

{"sheet":"CCTV Câmaras Especiais","index":18,"n_rows":83,"n_cols":8,"rows_kept":83,"cut":false,"hidden":false,"merged":[[76,2,80,7],[0,2,2,3],[1,6,2,6],[5,2,18,4],[24,2,37,4],[53,2,67,4]]}
[null,null,"Câmaras Especiais"]
[null,null,null,null,null,null,0]
[]
[null,null,"Status",null,"PVP",null,"Desconto","Preço \nLiquido"]
["Série S",null,"Câmaras Leitura de Matriculas (ANPR) "]
[null,null,"As câmaras ANPR da série S permitem monitorizar ou gerir o acesso de viaturas a um local. Estas câmaras podem monitorizar e capturar imagens das viaturas que entram nas suas instalações ou gerir o acesso ao estacionamento com base na matrícula. As saídas incorporadas por relé podem ser utilizadas para conceder ou negar o acesso a uma viatura com base na sua matrícula. O interface Wiegand permite-lhe integrar a câmara com muitos sistemas de controlo de acessos.\n\n• Resolução de 4MP \n• 2 variantes de lentes                                                                                         \n• Iluminação IR (até 100m)                                                                      \n• 2 saídas por relé\n• Interface Wiegand  \n• Base da dados interna até 10.000 registos\n• Suporte de browser, sem plugins\n• PoE+\n• IP67, IK10"]
[]
[]
[]
[]
[]
[]
[]
[]
[]
[]
[]
[]
[]
[null,null,null,null,"PVP",null,"Desconto","Preço Liquido"]
[null,"TVLP-S01-0401-BUL-G",{"$f":"_xlfn.XLOOKUP($B21,Tabela!A:A,Tabela!C:C,\"não encontrado\")","v":"Mature"},"Câmara Truvision ANPR, 4MP, Lente 2.8-12mm, IR 50m, Interface Wiegand, IP67, IK10, PoE+ (802.3-at)/12VDC",{"$f":"_xlfn.XLOOKUP($B21,Tabela!$A:$A,Tabela!$D:$D,\"não encontrado\")","v":1179.47},{"$f":"IF(B21 =ISTEXT(qualquer), \"\", HYPERLINK(\"https://pt.firesecurityproducts.com/pt/search?q=\"&B21, \"Link Web\"))","v":"Link Web"},{"$f":"$G$2","v":0},{"$f":"IF(ISBLANK(G21),\"\",E21-(E21*$G21))","v":1179.47}]
[null,"TVLP-S01-0402-BUL-G",{"$f":"_xlfn.XLOOKUP($B22,Tabela!A:A,Tabela!C:C,\"não encontrado\")","v":"Mature"},"Câmara Truvision ANPR, 4MP, Lente 8-32mm, IR 100m, Interface Wiegand, IP67, IK10, PoE+ (802.3-at)/12VDC",{"$f":"_xlfn.XLOOKUP($B22,Tabela!$A:$A,Tabela!$D:$D,\"não encontrado\")","v":1293.8499999999999},{"$f":"IF(B22 =ISTEXT(qualquer), \"\", HYPERLINK(\"https://pt.firesecurityproducts.com/pt/search?q=\"&B22, \"Link Web\"))","v":"Link Web"},{"$f":"$G$2","v":0},{"$f":"IF(ISBLANK(G22),\"\",E22-(E22*$G22))","v":1293.8499999999999}]
[null,null,null,null,null,{"$f":"IF(B23 =ISTEXT(qualquer), \"\", HYPERLINK(\"https://pt.firesecurityproducts.com/pt/search?q=\"&B23, \"Link Web\"))","v":""}]
["Série P",null,"Câmaras Térmicas",null,null,{"$f":"IF(B24 =ISTEXT(qualquer), \"\", HYPERLINK(\"https://pt.firesecurityproducts.com/pt/search?q=\"&B24, \"Link Web\"))","v":""}]
[null,null,"A linha de câmaras térmicas IP são a resposta para a exigente deteção de atividades em condições climatéricas ou luminosas difíceis. Além da deteção de movimento com capacidades de alarme, incluindo deteção de cruzamento de linha, deteção de intrusão e de entrada/saída da região. Com a sua característica inteligente de pessoa/veículo, a câmara pode ignorar movimentos irrelevantes ou eventos VCA.\n\n• Sensor térmico sem arrefecimento\n• Opção bi-espectral térmica e óptica\n• Lentes 2,8-10mm (bi-espectral= Termico+Óptico) e 15mm\n• Inteligência VCA deteção de humanos e veículos\n• Deteção de objetos a longa distância\n• Alcance IR até 40m (versões bi-espectrais)\n• Instalação exterior - IP66\n• Suporte PoE\n• Incorpora slot para cartões SD",null,null,{"$f":"IF(B25 =ISTEXT(qualquer), \"\", HYPERLINK(\"https://pt.firesecurityproducts.com/pt/search?q=\"&B25, \"Link Web\"))","v":""}]
[null,null,null,null,null,{"$f":"IF(B26 =ISTEXT(qualquer), \"\", HYPERLINK(\"https://pt.firesecurityproducts.com/pt/search?q=\"&B26, \"Link Web\"))","v":""}]
[null,null,null,null,null,{"$f":"IF(B27 =ISTEXT(qualquer), \"\", HYPERLINK(\"https://pt.firesecurityproducts.com/pt/search?q=\"&B27, \"Link Web\"))","v":""}]
[null,null,null,null,null,{"$f":"IF(B28 =ISTEXT(qualquer), \"\", HYPERLINK(\"https://pt.firesecurityproducts.com/pt/search?q=\"&B28, \"Link Web\"))","v":""}]
[null,null,null,null,null,{"$f":"IF(B29 =ISTEXT(qualquer), \"\", HYPERLINK(\"https://pt.firesecurityproducts.com/pt/search?q=\"&B29, \"Link Web\"))","v":""}]
[]
[]
[]
[]
[null,null,null,null,null,{"$f":"IF(B34 =ISTEXT(qualquer), \"\", HYPERLINK(\"https://pt.firesecurityproducts.com/pt/search?q=\"&B34, \"Link Web\"))","v":""}]
[null,null,null,null,null,{"$f":"IF(B35 =ISTEXT(qualquer), \"\", HYPERLINK(\"https://pt.firesecurityproducts.com/pt/search?q=\"&B35, \"Link Web\"))","v":""}]
[null,null,null,null,null,{"$f":"IF(B36 =ISTEXT(qualquer), \"\", HYPERLINK(\"https://pt.firesecurityproducts.com/pt/search?q=\"&B36, \"Link Web\"))","v":""}]
[null,null,null,null,null,{"$f":"IF(B37 =ISTEXT(qualquer), \"\", HYPERLINK(\"https://pt.firesecurityproducts.com/pt/search?q=\"&B37, \"Link Web\"))","v":""}]
[null,null,null,null,null,{"$f":"IF(B38 =ISTEXT(qualquer), \"\", HYPERLINK(\"https://pt.firesecurityproducts.com/pt/search?q=\"&B38, \"Link Web\"))","v":""}]
[null,null,null,null,null,{"$f":"IF(B39 =ISTEXT(qualquer), \"\", HYPERLINK(\"https://pt.firesecurityproducts.com/pt/search?q=\"&B39, \"Link Web\"))","v":""}]
[null,"Câmara Térmica Bullet"]
[null,"TVTH-S01-0004-BUL-G",{"$f":"_xlfn.XLOOKUP($B41,Tabela!A:A,Tabela!C:C,\"não encontrado\")","v":"Mature"},"Câmara Bullet TruVision IP Térmica, CIF, Lente 15mm, Resolução 384 x 288, H.265/ H.264, ONVIF, Slot Cartões SDHC, PoE+/12VDC/24VAC",{"$f":"_xlfn.XLOOKUP($B41,Tabela!$A:$A,Tabela!$D:$D,\"não encontrado\")","v":3816.1},{"$f":"IF(B41 =ISTEXT(qualquer), \"\", HYPERLINK(\"https://pt.firesecurityproducts.com/pt/search?q=\"&B41, \"Link Web\"))","v":"Link Web"},{"$f":"$G$2","v":0},{"$f":"IF(ISBLANK(G41),\"\",E41-(E41*$G41))","v":3816.1}]
[null,null,null,null,null,{"$f":"IF(B42 =ISTEXT(qualquer), \"\", HYPERLINK(\"https://pt.firesecurityproducts.com/pt/search?q=\"&B42, \"Link Web\"))","v":""}]
[null,"Câmara Ótica e Térmica Bullet"]
[null,"TVTH-S01-0001-BUL-G",{"$f":"_xlfn.XLOOKUP($B44,Tabela!A:A,Tabela!C:C,\"não encontrado\")","v":"Mature"},"Câmara Bi-Espectral Bullet TruVision IP, Lente 3.6mm, Resolução 256 x 192, Câmara ótica de 4MP,  H.265/ H.264, ONVIF, Slot Cartões SDHC, PoE12VDC (802,3af, class 3)",{"$f":"_xlfn.XLOOKUP($B44,Tabela!$A:$A,Tabela!$D:$D,\"não encontrado\")","v":962.23},{"$f":"IF(B44 =ISTEXT(qualquer), \"\", HYPERLINK(\"https://pt.firesecurityproducts.com/pt/search?q=\"&B44, \"Link Web\"))","v":"Link Web"},{"$f":"$G$2","v":0},{"$f":"IF(ISBLANK(G44),\"\",E44-(E44*$G44))","v":962.23}]
[null,"TVTH-S01-0002-BUL-G",{"$f":"_xlfn.XLOOKUP($B45,Tabela!A:A,Tabela!C:C,\"não encontrado\")","v":"Mature"},"Câmara Bi-Espectral Bullet TruVision IP, Lente 7mm, Resolução 256 x 192, Câmara ótica de 4MP,  H.265, ONVIF, Slot Cartões SDHC, PoE12VDC (802,3af, class 3)",{"$f":"_xlfn.XLOOKUP($B45,Tabela!$A:$A,Tabela!$D:$D,\"não encontrado\")","v":962.23},{"$f":"IF(B45 =ISTEXT(qualquer), \"\", HYPERLINK(\"https://pt.firesecurityproducts.com/pt/search?q=\"&B45, \"Link Web\"))","v":"Link Web"},{"$f":"$G$2","v":0},962.23]
[null,"TVTH-S01-0003-BUL-G",{"$f":"_xlfn.XLOOKUP($B46,Tabela!A:A,Tabela!C:C,\"não encontrado\")","v":"Mature"},"Câmara Bi-Espectral Bullet TruVision IP, Lente 10mm, Resolução 256 x 192, Câmara ótica de 4MP,  H.265, ONVIF, Slot Cartões SDHC, PoE12VDC (802,3af, class 3)",{"$f":"_xlfn.XLOOKUP($B46,Tabela!$A:$A,Tabela!$D:$D,\"não encontrado\")","v":979.73},{"$f":"IF(B46 =ISTEXT(qualquer), \"\", HYPERLINK(\"https://pt.firesecurityproducts.com/pt/search?q=\"&B46, \"Link Web\"))","v":"Link Web"},{"$f":"$G$2","v":0},979.73]
[null,null,null,null,null,{"$f":"IF(B47 =ISTEXT(qualquer), \"\", HYPERLINK(\"https://pt.firesecurityproducts.com/pt/search?q=\"&B47, \"Link Web\"))","v":""}]
[null,"Câmara Ótica e Térmica Bullet"]
[null,"TVTH-S01-0001-TUR-G",{"$f":"_xlfn.XLOOKUP($B49,Tabela!A:A,Tabela!C:C,\"não encontrado\")","v":"Mature"},"Câmara Bi-Espectral Turret TruVision IP, Lente 2mm, Resolução 256 x 192, Câmara ótica de 4MP,  H.265, ONVIF, Slot Cartões SDHC, PoE12VDC (802,3af, class 3)",{"$f":"_xlfn.XLOOKUP($B49,Tabela!$A:$A,Tabela!$D:$D,\"não encontrado\")","v":962.23},{"$f":"IF(B49 =ISTEXT(qualquer), \"\", HYPERLINK(\"https://pt.firesecurityproducts.com/pt/search?q=\"&B49, \"Link Web\"))","v":"Link Web"},{"$f":"$G$2","v":0},{"$f":"IF(ISBLANK(G49),\"\",E49-(E49*$G49))","v":962.23}]
[null,"TVTH-S01-0002-TUR-G",{"$f":"_xlfn.XLOOKUP($B50,Tabela!A:A,Tabela!C:C,\"não encontrado\")","v":"Mature"},"Câmara Bi-Espectral Turret TruVision IP, Lente 3mm, Resolução 256 x 192, Câmara ótica de 4MP,  H.265, ONVIF, Slot Cartões SDHC, PoE12VDC (802,3af, class 3)",{"$f":"_xlfn.XLOOKUP($B50,Tabela!$A:$A,Tabela!$D:$D,\"não encontrado\")","v":962.23},{"$f":"IF(B50 =ISTEXT(qualquer), \"\", HYPERLINK(\"https://pt.firesecurityproducts.com/pt/search?q=\"&B50, \"Link Web\"))","v":"Link Web"},{"$f":"$G$2","v":0},962.23]
[null,"TVTH-S01-0003-TUR-G",{"$f":"_xlfn.XLOOKUP($B51,Tabela!A:A,Tabela!C:C,\"não encontrado\")","v":"Mature"},"Câmara Bi-Espectral Turret TruVision IP, Lente 7mm, Resolução 256 x 192, Câmara ótica de 4MP,  H.265, ONVIF, Slot Cartões SDHC, PoE12VDC (802,3af, class 3)",{"$f":"_xlfn.XLOOKUP($B51,Tabela!$A:$A,Tabela!$D:$D,\"não encontrado\")","v":962.23},{"$f":"IF(B51 =ISTEXT(qualquer), \"\", HYPERLINK(\"https://pt.firesecurityproducts.com/pt/search?q=\"&B51, \"Link Web\"))","v":"Link Web"},{"$f":"$G$2","v":0},962.23]
[null,null,null,null,null,{"$f":"IF(B52 =ISTEXT(qualquer), \"\", HYPERLINK(\"https://pt.firesecurityproducts.com/pt/search?q=\"&B52, \"Link Web\"))","v":""}]
["Série TVPA",null,"Câmaras IP 360º",null,null,{"$f":"IF(B53 =ISTEXT(qualquer), \"\", HYPERLINK(\"https://pt.firesecurityproducts.com/pt/search?q=\"&B53, \"Link Web\"))","v":""}]
[null,null,"Câmaras 360º de 6 e 12MPx para aplicação exterior são muito eficazes para aplicações onde é necessário cobrir grandes áreas, como cruzamento de corredores, parques de estacionamento, balcões e armazéns. As câmaras podem também ser utilizadas na configuração de montagem em parede para captura panorâmica.     \n\nAnálise de Vídeo Incorporada\n• Mapa de calor e interseção \n• Deteção de exclusão de áudio\n• Deteção de intrusão,​ deteção cruzamento de linha,​ deteção de remoção de objeto\n• Contagem de pessoas\n• Deteção de entrada na região e/ou saída de região\n• Deteção de bagagem abandonada\n\nIR com alcance até 15m \nÁudio bidirecional (incorpora altifalante e microfone)\nIncorpora slot para cartões SD/SDHC",null,null,{"$f":"IF(B54 =ISTEXT(qualquer), \"\", HYPERLINK(\"https://pt.firesecurityproducts.com/pt/search?q=\"&B54, \"Link Web\"))","v":""}]
[null,null,null,null,null,{"$f":"IF(B55 =ISTEXT(qualquer), \"\", HYPERLINK(\"https://pt.firesecurityproducts.com/pt/search?q=\"&B55, \"Link Web\"))","v":""}]
[null,null,null,null,null,{"$f":"IF(B56 =ISTEXT(qualquer), \"\", HYPERLINK(\"https://pt.firesecurityproducts.com/pt/search?q=\"&B56, \"Link Web\"))","v":""}]
[null,null,null,null,null,{"$f":"IF(B57 =ISTEXT(qualquer), \"\", HYPERLINK(\"https://pt.firesecurityproducts.com/pt/search?q=\"&B57, \"Link Web\"))","v":""}]
[null,null,null,null,null,{"$f":"IF(B58 =ISTEXT(qualquer), \"\", HYPERLINK(\"https://pt.firesecurityproducts.com/pt/search?q=\"&B58, \"Link Web\"))","v":""}]
[null,null,null,null,null,{"$f":"IF(B59 =ISTEXT(qualquer), \"\", HYPERLINK(\"https://pt.firesecurityproducts.com/pt/search?q=\"&B59, \"Link Web\"))","v":""}]
[null,null,null,null,null,{"$f":"IF(B60 =ISTEXT(qualquer), \"\", HYPERLINK(\"https://pt.firesecurityproducts.com/pt/search?q=\"&B60, \"Link Web\"))","v":""}]
[null,null,null,null,null,{"$f":"IF(B61 =ISTEXT(qualquer), \"\", HYPERLINK(\"https://pt.firesecurityproducts.com/pt/search?q=\"&B61, \"Link Web\"))","v":""}]
[null,null,null,null,null,{"$f":"IF(B62 =ISTEXT(qualquer), \"\", HYPERLINK(\"https://pt.firesecurityproducts.com/pt/search?q=\"&B62, \"Link Web\"))","v":""}]
[null,null,null,null,null,{"$f":"IF(B63 =ISTEXT(qualquer), \"\", HYPERLINK(\"https://pt.firesecurityproducts.com/pt/search?q=\"&B63, \"Link Web\"))","v":""}]
[]
[]
[]
[null,null,null,null,null,{"$f":"IF(B67 =ISTEXT(qualquer), \"\", HYPERLINK(\"https://pt.firesecurityproducts.com/pt/search?q=\"&B67, \"Link Web\"))","v":""}]
[null,null,null,null,null,{"$f":"IF(B68 =ISTEXT(qualquer), \"\", HYPERLINK(\"https://pt.firesecurityproducts.com/pt/search?q=\"&B68, \"Link Web\"))","v":""}]
[null,null,null,null,null,{"$f":"IF(B69 =ISTEXT(qualquer), \"\", HYPERLINK(\"https://pt.firesecurityproducts.com/pt/search?q=\"&B69, \"Link Web\"))","v":""}]
[null,"Interior"]
[null,"TVPA-S02-1201-360-G",{"$f":"_xlfn.XLOOKUP($B71,Tabela!A:A,Tabela!C:C,\"não encontrado\")","v":"NPI"},"TruVision 360° IP Dome, 12MP, exterior, WDR, lente \"fisheye\"1.29mm, True D/N, 15m IR, 2 way áudio (2 built-in mic & speaker), Alarm (alarm input and alarm output), SD/SDHC slot,  IP67, IK10, PoE + (802.3-at) /12VDC",{"$f":"_xlfn.XLOOKUP($B71,Tabela!$A:$A,Tabela!$D:$D,\"não encontrado\")","v":1167.54},{"$f":"IF(B71 =ISTEXT(qualquer), \"\", HYPERLINK(\"https://pt.firesecurityproducts.com/pt/search?q=\"&B71, \"Link Web\"))","v":"Link Web"},{"$f":"$G$2","v":0},{"$f":"IF(ISBLANK(G71),\"\",E71-(E71*$G71))","v":1167.54}]
[null,null,null,null,null,{"$f":"IF(B72 =ISTEXT(qualquer), \"\", HYPERLINK(\"https://pt.firesecurityproducts.com/pt/search?q=\"&B72, \"Link Web\"))","v":""}]
[null,"Exterior"]
[null,"TVPA-S02-0601-360-G",{"$f":"_xlfn.XLOOKUP($B74,Tabela!A:A,Tabela!C:C,\"não encontrado\")","v":"NPI"},"TruVision 360° IP Dome, 6MP, exterior, WDR, lente \"fisheye\"1.29mm, True D/N, 15m IR, 2 way áudio (2 built-in mic & speaker), Alarm (alarm input and alarm output), SD/SDHC slot,  IP67, IK10, PoE + (802.3-at) /12VDC",{"$f":"_xlfn.XLOOKUP($B74,Tabela!$A:$A,Tabela!$D:$D,\"não encontrado\")","v":832.59},{"$f":"IF(B74 =ISTEXT(qualquer), \"\", HYPERLINK(\"https://pt.firesecurityproducts.com/pt/search?q=\"&B74, \"Link Web\"))","v":"Link Web"},{"$f":"$G$2","v":0},{"$f":"IF(ISBLANK(G74),\"\",E74-(E74*$G74))","v":832.59}]
[]
["Série TVUC",null,"Câmaras WIFI",null,null,{"$f":"IF(B76 =ISTEXT(qualquer), \"\", HYPERLINK(\"https://pt.firesecurityproducts.com/pt/search?q=\"&B76, \"Link Web\"))","v":""}]
[null,null,"Integrar com o painel de alarme xGenConnect e a aplicação móvel UltraSync+\nPode ser utilizada como câmara autónoma gerida com a aplicação TVRMobile ou Advisor Advanced Pro\nResolução máxima: 4MP (2688 x 1520)\nConectividade Wi-Fi e LAN\nIluminação IR até 30 m"]
[]
[]
[]
[]
[null,"TVUC-B01-0401-BUL-W",{"$f":"_xlfn.XLOOKUP($B82,Tabela!A:A,Tabela!C:C,\"não encontrado\")","v":"Mature"},"Câmara bullet UltraSync Wi-Fi, 4 MP, 30 m IR, Wi-Fi, 2,8 mm, IP66, áudio, 32 GB de memória SD, branca",{"$f":"_xlfn.XLOOKUP($B82,Tabela!$A:$A,Tabela!$D:$D,\"não encontrado\")","v":210.72},{"$f":"IF(B82 =ISTEXT(qualquer), \"\", HYPERLINK(\"https://pt.firesecurityproducts.com/pt/search?q=\"&B82, \"Link Web\"))","v":"Link Web"},{"$f":"$G$2","v":0},{"$f":"IF(ISBLANK(G82),\"\",E82-(E82*$G82))","v":210.72}]
[null,"TVUC-B01-0401-DOM-W",{"$f":"_xlfn.XLOOKUP($B83,Tabela!A:A,Tabela!C:C,\"não encontrado\")","v":"Mature"},"Câmara dome Wi-Fi UltraSync, 4 MP, 30 m IR, Wi-Fi, 2,8 mm, IP66, áudio, 32 GB de memória SD, branca",{"$f":"_xlfn.XLOOKUP($B83,Tabela!$A:$A,Tabela!$D:$D,\"não encontrado\")","v":210.72},{"$f":"IF(B83 =ISTEXT(qualquer), \"\", HYPERLINK(\"https://pt.firesecurityproducts.com/pt/search?q=\"&B83, \"Link Web\"))","v":"Link Web"},{"$f":"$G$2","v":0},210.72]

{"sheet":"CCTV Gravadores & Monitores","index":19,"n_rows":287,"n_cols":8,"rows_kept":287,"cut":false,"hidden":false,"merged":[[1,6,2,6],[5,3,24,4],[101,3,115,4],[221,3,237,4],[173,3,191,4],[136,3,155,4],[0,2,2,3],[65,3,79,7]]}
[null,null,"Gravadores e Monitores"]
[null,null,null,null,null,null,0]
[]
[null,null,"Status",null,"PVP",null,"Desconto","Preço \nLiquido"]
["Série TVN 12",null,"Gravadores Digitais com Ligação a Cloud"]
[null,null,null,"• Ligação a Cloud UltraSync\n• Configuração Plug & Play \"Linux embedded\"\n• Suporta codificação H.264, H.265 e H.265+, dependente da câmara\n• Modelos até 16 Plug & Play com/sem PoE  (PoE-af & PoE-at) 4K (8 MP)\n• Configuração automática de endereço IP através das portas Plug & Play PoE\n• Até 160 Mbps de largura de banda de gravação (depende modelo)\n• Até 6 TB de armazenamento incorporado\n• Gravação em Tempo Real (Até 4 MP), dual stream, configurável por câmara\n• Saídas HDMI/VGA para monitor\n• Deteção automática de câmaras TruVision IP\n• Suporte de câmaras de terceiros através de ONVIF Profile S ou RTSP \n• Integração com centrais de intrusão Aritech, via reporte SIA/XSIA\n• Deteção de movimento e VCA,  dependendo das câmaras\n• Deteção dedicada de pessoas/veículos (com câmaras suportadas)\n• Suporta Consola TVK-600 IP\n• Acesso browser, OSD e software visualização e configuração\n•  Porta USB para ligação de gravador de DVD\n•  Compatível com a App TVRMobile (iOS e Android) e TruVision Navigator\n•  Integração SDK\n"]
[]
[]
[]
[]
[]
[]
[]
[]
[]
[]
[]
[]
[]
[]
[]
[]
[]
[]
[]
[]
[null,"Sem PoE"]
[]
[null,"4 Canais IP ",null,null,"PVP",null,"Desconto","Preço Liquido"]
[null,"TVN-1204c-1T",{"$f":"_xlfn.XLOOKUP($B30,Tabela!A:A,Tabela!C:C,\"não encontrado\")","v":"Mature"},"TruVision NVR 12, H.264, H.265, H.265+, 4 canais IP, 1TB",{"$f":"_xlfn.XLOOKUP($B30,Tabela!$A:$A,Tabela!$D:$D,\"não encontrado\")","v":434.48},{"$f":"IF(B30 =ISTEXT(qualquer), \"\", HYPERLINK(\"https://pt.firesecurityproducts.com/pt/search?q=\"&B30, \"Link Web\"))","v":"Link Web"},{"$f":"$G$2","v":0},{"$f":"IF(ISBLANK(G30),\"\",E30-(E30*$G30))","v":434.48}]
[null,"TVN-1204c-2T",{"$f":"_xlfn.XLOOKUP($B31,Tabela!A:A,Tabela!C:C,\"não encontrado\")","v":"Mature"},"TruVision NVR 12, H.264, H.265, H.265+, 4 canais IP, 2TB",{"$f":"_xlfn.XLOOKUP($B31,Tabela!$A:$A,Tabela!$D:$D,\"não encontrado\")","v":497.64},{"$f":"IF(B31 =ISTEXT(qualquer), \"\", HYPERLINK(\"https://pt.firesecurityproducts.com/pt/search?q=\"&B31, \"Link Web\"))","v":"Link Web"},{"$f":"$G$2","v":0},{"$f":"IF(ISBLANK(G31),\"\",E31-(E31*$G31))","v":497.64}]
[null,"TVN-1204c-4T",{"$f":"_xlfn.XLOOKUP($B32,Tabela!A:A,Tabela!C:C,\"não encontrado\")","v":"NPI"},"TruVision NVR 12, H.264, H.265, H.265+, 4 canais IP, 4TB",{"$f":"_xlfn.XLOOKUP($B32,Tabela!$A:$A,Tabela!$D:$D,\"não encontrado\")","v":578.03},{"$f":"IF(B32 =ISTEXT(qualquer), \"\", HYPERLINK(\"https://pt.firesecurityproducts.com/pt/search?q=\"&B32, \"Link Web\"))","v":"Link Web"},0,578.03]
[null,null,null,null,null,{"$f":"IF(B33 =ISTEXT(qualquer), \"\", HYPERLINK(\"https://pt.firesecurityproducts.com/pt/search?q=\"&B33, \"Link Web\"))","v":""}]
[null,"8 Canais IP "]
[null,"TVN-1208-2T",{"$f":"_xlfn.XLOOKUP($B35,Tabela!A:A,Tabela!C:C,\"não encontrado\")","v":"Mature"},"TruVision NVR 12, H.264, H.265, H.265+, 8 canais IP, 2TB",{"$f":"_xlfn.XLOOKUP($B35,Tabela!$A:$A,Tabela!$D:$D,\"não encontrado\")","v":559.85},{"$f":"IF(B35 =ISTEXT(qualquer), \"\", HYPERLINK(\"https://pt.firesecurityproducts.com/pt/search?q=\"&B35, \"Link Web\"))","v":"Link Web"},{"$f":"$G$2","v":0},{"$f":"IF(ISBLANK(G35),\"\",E35-(E35*$G35))","v":559.85}]
[null,"TVN-1208-4T",{"$f":"_xlfn.XLOOKUP($B36,Tabela!A:A,Tabela!C:C,\"não encontrado\")","v":"Mature"},"TruVision NVR 12, H.264, H.265, H.265+, 8 canais IP, 4TB",{"$f":"_xlfn.XLOOKUP($B36,Tabela!$A:$A,Tabela!$D:$D,\"não encontrado\")","v":640.23},{"$f":"IF(B36 =ISTEXT(qualquer), \"\", HYPERLINK(\"https://pt.firesecurityproducts.com/pt/search?q=\"&B36, \"Link Web\"))","v":"Link Web"},{"$f":"$G$2","v":0},{"$f":"IF(ISBLANK(G36),\"\",E36-(E36*$G36))","v":640.23}]
[null,"TVN-1208-6T",{"$f":"_xlfn.XLOOKUP($B37,Tabela!A:A,Tabela!C:C,\"não encontrado\")","v":"NPI"},"TruVision NVR 12, H.264, H.265, H.265+, 8 canais IP, 6TB",{"$f":"_xlfn.XLOOKUP($B37,Tabela!$A:$A,Tabela!$D:$D,\"não encontrado\")","v":787.61},{"$f":"IF(B37 =ISTEXT(qualquer), \"\", HYPERLINK(\"https://pt.firesecurityproducts.com/pt/search?q=\"&B37, \"Link Web\"))","v":"Link Web"},0,787.61]
[null,"TVN-1208-8T",{"$f":"_xlfn.XLOOKUP($B38,Tabela!A:A,Tabela!C:C,\"não encontrado\")","v":"NPI"},"TruVision NVR 12, H.264, H.265, H.265+, 8 canais IP, 8TB",{"$f":"_xlfn.XLOOKUP($B38,Tabela!$A:$A,Tabela!$D:$D,\"não encontrado\")","v":994.32},{"$f":"IF(B38 =ISTEXT(qualquer), \"\", HYPERLINK(\"https://pt.firesecurityproducts.com/pt/search?q=\"&B38, \"Link Web\"))","v":"Link Web"},0,994.32]
[null,null,null,null,null,{"$f":"IF(B39 =ISTEXT(qualquer), \"\", HYPERLINK(\"https://pt.firesecurityproducts.com/pt/search?q=\"&B39, \"Link Web\"))","v":""}]
[null,"16 Canais IP "]
[null,"TVN-1216-2T",{"$f":"_xlfn.XLOOKUP($B41,Tabela!A:A,Tabela!C:C,\"não encontrado\")","v":"Mature"},"TruVision NVR 12, H.264, H.265, H.265+, 16 canais IP, 2TB",{"$f":"_xlfn.XLOOKUP($B41,Tabela!$A:$A,Tabela!$D:$D,\"não encontrado\")","v":583.77},{"$f":"IF(B41 =ISTEXT(qualquer), \"\", HYPERLINK(\"https://pt.firesecurityproducts.com/pt/search?q=\"&B41, \"Link Web\"))","v":"Link Web"},{"$f":"$G$2","v":0},{"$f":"IF(ISBLANK(G41),\"\",E41-(E41*$G41))","v":583.77}]
[null,"TVN-1216-4T",{"$f":"_xlfn.XLOOKUP($B42,Tabela!A:A,Tabela!C:C,\"não encontrado\")","v":"Mature"},"TruVision NVR 12, H.264, H.265, H.265+, 16 canais IP, 4TB",{"$f":"_xlfn.XLOOKUP($B42,Tabela!$A:$A,Tabela!$D:$D,\"não encontrado\")","v":664.16},{"$f":"IF(B42 =ISTEXT(qualquer), \"\", HYPERLINK(\"https://pt.firesecurityproducts.com/pt/search?q=\"&B42, \"Link Web\"))","v":"Link Web"},{"$f":"$G$2","v":0},664.16]
[null,"TVN-1216-6T",{"$f":"_xlfn.XLOOKUP($B43,Tabela!A:A,Tabela!C:C,\"não encontrado\")","v":"Mature"},"TruVision NVR 12, H.264, H.265, H.265+, 16 canais IP, 6TB",{"$f":"_xlfn.XLOOKUP($B43,Tabela!$A:$A,Tabela!$D:$D,\"não encontrado\")","v":811.54},{"$f":"IF(B43 =ISTEXT(qualquer), \"\", HYPERLINK(\"https://pt.firesecurityproducts.com/pt/search?q=\"&B43, \"Link Web\"))","v":"Link Web"},{"$f":"$G$2","v":0},811.54]
[null,"TVN-1216-8T",{"$f":"_xlfn.XLOOKUP($B44,Tabela!A:A,Tabela!C:C,\"não encontrado\")","v":"NPI"},"TruVision NVR 12, H.264, H.265, H.265+, 16 canais IP, 8TB",{"$f":"_xlfn.XLOOKUP($B44,Tabela!$A:$A,Tabela!$D:$D,\"não encontrado\")","v":1018.25},{"$f":"IF(B44 =ISTEXT(qualquer), \"\", HYPERLINK(\"https://pt.firesecurityproducts.com/pt/search?q=\"&B44, \"Link Web\"))","v":"Link Web"},{"$f":"$G$2","v":0},{"$f":"IF(ISBLANK(G44),\"\",E44-(E44*$G44))","v":1018.25}]
[null,null,null,null,null,{"$f":"IF(B45 =ISTEXT(qualquer), \"\", HYPERLINK(\"https://pt.firesecurityproducts.com/pt/search?q=\"&B45, \"Link Web\"))","v":""}]
[null,"Com PoE"]
[]
[null,"4 Canais IP "]
[null,"TVN-1204CS-1T",{"$f":"_xlfn.XLOOKUP($B49,Tabela!A:A,Tabela!C:C,\"não encontrado\")","v":"Mature"},"TruVision NVR 12, H.264, H.265, H.265+, 4 canais PoE, 1TB",{"$f":"_xlfn.XLOOKUP($B49,Tabela!$A:$A,Tabela!$D:$D,\"não encontrado\")","v":469.89},{"$f":"IF(B49 =ISTEXT(qualquer), \"\", HYPERLINK(\"https://pt.firesecurityproducts.com/pt/search?q=\"&B49, \"Link Web\"))","v":"Link Web"},{"$f":"$G$2","v":0},{"$f":"IF(ISBLANK(G49),\"\",E49-(E49*$G49))","v":469.89}]
[null,"TVN-1204CS-2T",{"$f":"_xlfn.XLOOKUP($B50,Tabela!A:A,Tabela!C:C,\"não encontrado\")","v":"Mature"},"TruVision NVR 12, H.264, H.265, H.265+, 4 canais PoE, 2TB",{"$f":"_xlfn.XLOOKUP($B50,Tabela!$A:$A,Tabela!$D:$D,\"não encontrado\")","v":534.96},{"$f":"IF(B50 =ISTEXT(qualquer), \"\", HYPERLINK(\"https://pt.firesecurityproducts.com/pt/search?q=\"&B50, \"Link Web\"))","v":"Link Web"},{"$f":"$G$2","v":0},534.96]
[null,"TVN-1204CS-4T",{"$f":"_xlfn.XLOOKUP($B51,Tabela!A:A,Tabela!C:C,\"não encontrado\")","v":"NPI"},"TruVision NVR 12, H.264, H.265, H.265+, 4 canais PoE, 4TB",{"$f":"_xlfn.XLOOKUP($B51,Tabela!$A:$A,Tabela!$D:$D,\"não encontrado\")","v":615.35},{"$f":"IF(B51 =ISTEXT(qualquer), \"\", HYPERLINK(\"https://pt.firesecurityproducts.com/pt/search?q=\"&B51, \"Link Web\"))","v":"Link Web"},{"$f":"$G$2","v":0},{"$f":"IF(ISBLANK(G51),\"\",E51-(E51*$G51))","v":615.35}]
[null,null,null,null,null,{"$f":"IF(B52 =ISTEXT(qualquer), \"\", HYPERLINK(\"https://pt.firesecurityproducts.com/pt/search?q=\"&B52, \"Link Web\"))","v":""}]
[null,"8 Canais IP "]
[null,"TVN-1208S-2T",{"$f":"_xlfn.XLOOKUP($B54,Tabela!A:A,Tabela!C:C,\"não encontrado\")","v":"NPI"},"TruVision NVR 12, H.264, H.265, H.265+, 8 canais PoE, 2TB",{"$f":"_xlfn.XLOOKUP($B54,Tabela!$A:$A,Tabela!$D:$D,\"não encontrado\")","v":634.49},{"$f":"IF(B54 =ISTEXT(qualquer), \"\", HYPERLINK(\"https://pt.firesecurityproducts.com/pt/search?q=\"&B54, \"Link Web\"))","v":"Link Web"},{"$f":"$G$2","v":0},{"$f":"IF(ISBLANK(G54),\"\",E54-(E54*$G54))","v":634.49}]
[null,"TVN-1208S-4T",{"$f":"_xlfn.XLOOKUP($B55,Tabela!A:A,Tabela!C:C,\"não encontrado\")","v":"Mature"},"TruVision NVR 12, H.264, H.265, H.265+, 8 canais PoE, 4TB",{"$f":"_xlfn.XLOOKUP($B55,Tabela!$A:$A,Tabela!$D:$D,\"não encontrado\")","v":714.88},{"$f":"IF(B55 =ISTEXT(qualquer), \"\", HYPERLINK(\"https://pt.firesecurityproducts.com/pt/search?q=\"&B55, \"Link Web\"))","v":"Link Web"},{"$f":"$G$2","v":0},714.88]
[null,"TVN-1208S-6T",{"$f":"_xlfn.XLOOKUP($B56,Tabela!A:A,Tabela!C:C,\"não encontrado\")","v":"NPI"},"TruVision NVR 12, H.264, H.265, H.265+, 8 canais PoE, 4TB",{"$f":"_xlfn.XLOOKUP($B56,Tabela!$A:$A,Tabela!$D:$D,\"não encontrado\")","v":862.26},{"$f":"IF(B56 =ISTEXT(qualquer), \"\", HYPERLINK(\"https://pt.firesecurityproducts.com/pt/search?q=\"&B56, \"Link Web\"))","v":"Link Web"},{"$f":"$G$2","v":0},{"$f":"IF(ISBLANK(G56),\"\",E56-(E56*$G56))","v":862.26}]
[null,"TVN-1208S-8T",{"$f":"_xlfn.XLOOKUP($B57,Tabela!A:A,Tabela!C:C,\"não encontrado\")","v":"NPI"},"TruVision NVR 12, H.264, H.265, H.265+, 8 canais PoE, 8TB",{"$f":"_xlfn.XLOOKUP($B57,Tabela!$A:$A,Tabela!$D:$D,\"não encontrado\")","v":1068.97},{"$f":"IF(B57 =ISTEXT(qualquer), \"\", HYPERLINK(\"https://pt.firesecurityproducts.com/pt/search?q=\"&B57, \"Link Web\"))","v":"Link Web"},{"$f":"$G$2","v":0},{"$f":"IF(ISBLANK(G57),\"\",E57-(E57*$G57))","v":1068.97}]
[null,null,null,null,null,{"$f":"IF(B58 =ISTEXT(qualquer), \"\", HYPERLINK(\"https://pt.firesecurityproducts.com/pt/search?q=\"&B58, \"Link Web\"))","v":""}]
[null,"16 Canais IP "]
[null,"TVN-1216S-2T",{"$f":"_xlfn.XLOOKUP($B60,Tabela!A:A,Tabela!C:C,\"não encontrado\")","v":"Mature"},"TruVision NVR 12, H.264, H.265, H.265+, 16 canais PoE, 2TB",{"$f":"_xlfn.XLOOKUP($B60,Tabela!$A:$A,Tabela!$D:$D,\"não encontrado\")","v":821.11},{"$f":"IF(B60 =ISTEXT(qualquer), \"\", HYPERLINK(\"https://pt.firesecurityproducts.com/pt/search?q=\"&B60, \"Link Web\"))","v":"Link Web"},{"$f":"$G$2","v":0},{"$f":"IF(ISBLANK(G60),\"\",E60-(E60*$G60))","v":821.11}]
[null,"TVN-1216S-4T",{"$f":"_xlfn.XLOOKUP($B61,Tabela!A:A,Tabela!C:C,\"não encontrado\")","v":"Mature"},"TruVision NVR 12, H.264, H.265, H.265+, 16 canais PoE, 4TB",{"$f":"_xlfn.XLOOKUP($B61,Tabela!$A:$A,Tabela!$D:$D,\"não encontrado\")","v":901.49},{"$f":"IF(B61 =ISTEXT(qualquer), \"\", HYPERLINK(\"https://pt.firesecurityproducts.com/pt/search?q=\"&B61, \"Link Web\"))","v":"Link Web"},{"$f":"$G$2","v":0},901.49]
[null,"TVN-1216S-6T",{"$f":"_xlfn.XLOOKUP($B62,Tabela!A:A,Tabela!C:C,\"não encontrado\")","v":"Mature"},"TruVision NVR 12, H.264, H.265, H.265+, 16 canais PoE, 6TB",{"$f":"_xlfn.XLOOKUP($B62,Tabela!$A:$A,Tabela!$D:$D,\"não encontrado\")","v":1048.8699999999999},{"$f":"IF(B62 =ISTEXT(qualquer), \"\", HYPERLINK(\"https://pt.firesecurityproducts.com/pt/search?q=\"&B62, \"Link Web\"))","v":"Link Web"},{"$f":"$G$2","v":0},1048.8699999999999]
[null,"TVN-1216S-8T",{"$f":"_xlfn.XLOOKUP($B63,Tabela!A:A,Tabela!C:C,\"não encontrado\")","v":"NPI"},"TruVision NVR 12, H.264, H.265, H.265+, 16 canais PoE, 8TB",{"$f":"_xlfn.XLOOKUP($B63,Tabela!$A:$A,Tabela!$D:$D,\"não encontrado\")","v":1255.58},{"$f":"IF(B63 =ISTEXT(qualquer), \"\", HYPERLINK(\"https://pt.firesecurityproducts.com/pt/search?q=\"&B63, \"Link Web\"))","v":"Link Web"},{"$f":"$G$2","v":0},{"$f":"IF(ISBLANK(G63),\"\",E63-(E63*$G63))","v":1255.58}]
[]
["Série TVN 18",null,"Gravadores Digitais com Ligação a Cloud"]
[null,null,null,"• Sistema operativo Linux incorporado com configuração plug-and-play\n• Compatível com tecnologias de câmaras analógicas, HD-TVI, HD-AHD, HD-CVI e IP\n• Suporte flexível de canais: até 4 câmaras analógicas + 4 câmaras IP, ou até 8 câmaras IP (com os canais analógicos desativados)\n• Compatível com câmaras HD-TVI e IP até 8 MP (4K)\n• Armazenamento interno com gravação Full HD em tempo real\n• Várias saídas de vídeo: HDMI, VGA e BNC\n• Suporte à nuvem UltraSync para acesso remoto sem reencaminhamento de portas\n• Análise avançada: deteção de pessoas/veículos em canais analógicos e IP (máx. 4 canais), reconhecimento facial (máx. 2 canais analógicos)\n• Suporte a câmaras IP de terceiros através do Perfil S da ONVIF\n• Integração de centrais de intrusão IP da Aritech através de relatórios SIA/XSIA\n• Suporte para o teclado IP TVK-610\n• Controlo via cabo coaxial para câmaras TruVision fixas/PTZ HD-TVI\n• Reutilização do cabeamento coaxial existente para câmaras HD-TVI, HD-AHD e HD-CVI\n• Acesso através de navegador, OSD, aplicação TVRMobile (iOS/Android) e software TruVision Navigator\n• Integração externa através de SDK"]
[]
[]
[]
[]
[]
[]
[]
[]
[]
[]
[]
[]
[]
[]
[null,"4 Canais IP "]
[null,"TVR-1804C-1T",{"$f":"_xlfn.XLOOKUP($B82,Tabela!A:A,Tabela!C:C,\"não encontrado\")","v":"PreRelease"},"TRUVISION DVR 18, HYBRID 4 CHANNEL, 1 TB",{"$f":"_xlfn.XLOOKUP($B82,Tabela!$A:$A,Tabela!$D:$D,\"não encontrado\")","v":545.49},{"$f":"IF(B82 =ISTEXT(qualquer), \"\", HYPERLINK(\"https://pt.firesecurityproducts.com/pt/search?q=\"&B82, \"Link Web\"))","v":"Link Web"},{"$f":"$G$2","v":0},{"$f":"IF(ISBLANK(G82),\"\",E82-(E82*$G82))","v":545.49}]
[null,"TVR-1804C-2T",{"$f":"_xlfn.XLOOKUP($B83,Tabela!A:A,Tabela!C:C,\"não encontrado\")","v":"PreRelease"},"TRUVISION DVR 18, HYBRID 4 CHANNEL, 2 TB",{"$f":"_xlfn.XLOOKUP($B83,Tabela!$A:$A,Tabela!$D:$D,\"não encontrado\")","v":608.65},{"$f":"IF(B83 =ISTEXT(qualquer), \"\", HYPERLINK(\"https://pt.firesecurityproducts.com/pt/search?q=\"&B83, \"Link Web\"))","v":"Link Web"},0,608.65]
[null,"TVR-1804C-4T",{"$f":"_xlfn.XLOOKUP($B84,Tabela!A:A,Tabela!C:C,\"não encontrado\")","v":"PreRelease"},"TRUVISION DVR 18, 4 CHANNEL, 4TB",{"$f":"_xlfn.XLOOKUP($B84,Tabela!$A:$A,Tabela!$D:$D,\"não encontrado\")","v":689.04},{"$f":"IF(B84 =ISTEXT(qualquer), \"\", HYPERLINK(\"https://pt.firesecurityproducts.com/pt/search?q=\"&B84, \"Link Web\"))","v":"Link Web"},0,689.04]
[null,"8 Canais IP "]
[null,"TVR-1808-10T",{"$f":"_xlfn.XLOOKUP($B86,Tabela!A:A,Tabela!C:C,\"não encontrado\")","v":"PreRelease"},"TRUVISION DVR 18, 8 CHANNEL, 10TB",{"$f":"_xlfn.XLOOKUP($B86,Tabela!$A:$A,Tabela!$D:$D,\"não encontrado\")","v":1452.73},{"$f":"IF(B86 =ISTEXT(qualquer), \"\", HYPERLINK(\"https://pt.firesecurityproducts.com/pt/search?q=\"&B86, \"Link Web\"))","v":"Link Web"},0,1452.73]
[null,"TVR-1808-2T",{"$f":"_xlfn.XLOOKUP($B87,Tabela!A:A,Tabela!C:C,\"não encontrado\")","v":"PreRelease"},"TRUVISION DVR 18, HYBRID 8 CHANNEL, 2 TB",{"$f":"_xlfn.XLOOKUP($B87,Tabela!$A:$A,Tabela!$D:$D,\"não encontrado\")","v":847.9},{"$f":"IF(B87 =ISTEXT(qualquer), \"\", HYPERLINK(\"https://pt.firesecurityproducts.com/pt/search?q=\"&B87, \"Link Web\"))","v":"Link Web"},0,847.9]
[null,"TVR-1808-4T",{"$f":"_xlfn.XLOOKUP($B88,Tabela!A:A,Tabela!C:C,\"não encontrado\")","v":"PreRelease"},"TRUVISION DVR 18, HYBRID 8 CHANNEL, 4 TB",{"$f":"_xlfn.XLOOKUP($B88,Tabela!$A:$A,Tabela!$D:$D,\"não encontrado\")","v":928.29},{"$f":"IF(B88 =ISTEXT(qualquer), \"\", HYPERLINK(\"https://pt.firesecurityproducts.com/pt/search?q=\"&B88, \"Link Web\"))","v":"Link Web"},0,928.29]
[null,"TVR-1808-6T",{"$f":"_xlfn.XLOOKUP($B89,Tabela!A:A,Tabela!C:C,\"não encontrado\")","v":"PreRelease"},"TRUVISION DVR 18, 8 CHANNEL, 6TB",{"$f":"_xlfn.XLOOKUP($B89,Tabela!$A:$A,Tabela!$D:$D,\"não encontrado\")","v":1075.67},{"$f":"IF(B89 =ISTEXT(qualquer), \"\", HYPERLINK(\"https://pt.firesecurityproducts.com/pt/search?q=\"&B89, \"Link Web\"))","v":"Link Web"},0,1075.67]
[null,"TVR-1808-8T",{"$f":"_xlfn.XLOOKUP($B90,Tabela!A:A,Tabela!C:C,\"não encontrado\")","v":"PreRelease"},"TRUVISION DVR 18, 8 CHANNEL, 8TB",{"$f":"_xlfn.XLOOKUP($B90,Tabela!$A:$A,Tabela!$D:$D,\"não encontrado\")","v":1282.3800000000001},{"$f":"IF(B90 =ISTEXT(qualquer), \"\", HYPERLINK(\"https://pt.firesecurityproducts.com/pt/search?q=\"&B90, \"Link Web\"))","v":"Link Web"},0,1282.3800000000001]
[null,"16 Canais IP "]
[null,"TVR-1816-10T",{"$f":"_xlfn.XLOOKUP($B92,Tabela!A:A,Tabela!C:C,\"não encontrado\")","v":"NPI"},"TRUVISION DVR 18, 16 CHANNEL, 10TB",{"$f":"_xlfn.XLOOKUP($B92,Tabela!$A:$A,Tabela!$D:$D,\"não encontrado\")","v":1912.09},{"$f":"IF(B92 =ISTEXT(qualquer), \"\", HYPERLINK(\"https://pt.firesecurityproducts.com/pt/search?q=\"&B92, \"Link Web\"))","v":"Link Web"},0,1912.09]
[null,"TVR-1816-12T",{"$f":"_xlfn.XLOOKUP($B93,Tabela!A:A,Tabela!C:C,\"não encontrado\")","v":"NPI"},"TRUVISION DVR 18, HYBRID 16 CHANNEL, 12 TB",{"$f":"_xlfn.XLOOKUP($B93,Tabela!$A:$A,Tabela!$D:$D,\"não encontrado\")","v":2036.5},{"$f":"IF(B93 =ISTEXT(qualquer), \"\", HYPERLINK(\"https://pt.firesecurityproducts.com/pt/search?q=\"&B93, \"Link Web\"))","v":"Link Web"},0,2036.5]
[null,"TVR-1816-16T",{"$f":"_xlfn.XLOOKUP($B94,Tabela!A:A,Tabela!C:C,\"não encontrado\")","v":"NPI"},"TRUVISION DVR 18, HYBRID 16 CHANNEL, 16 TB",{"$f":"_xlfn.XLOOKUP($B94,Tabela!$A:$A,Tabela!$D:$D,\"não encontrado\")","v":2495.86},{"$f":"IF(B94 =ISTEXT(qualquer), \"\", HYPERLINK(\"https://pt.firesecurityproducts.com/pt/search?q=\"&B94, \"Link Web\"))","v":"Link Web"},0,2495.86]
[null,"TVR-1816-20T",{"$f":"_xlfn.XLOOKUP($B95,Tabela!A:A,Tabela!C:C,\"não encontrado\")","v":"NPI"},"TRUVISION DVR 18, 16 CHANNEL, 20TB",{"$f":"_xlfn.XLOOKUP($B95,Tabela!$A:$A,Tabela!$D:$D,\"não encontrado\")","v":2790.61},{"$f":"IF(B95 =ISTEXT(qualquer), \"\", HYPERLINK(\"https://pt.firesecurityproducts.com/pt/search?q=\"&B95, \"Link Web\"))","v":"Link Web"},0,2790.61]
[null,"TVR-1816-2T",{"$f":"_xlfn.XLOOKUP($B96,Tabela!A:A,Tabela!C:C,\"não encontrado\")","v":"NPI"},"TRUVISION DVR 18, HYBRID 16 CHANNEL, 8 TB",{"$f":"_xlfn.XLOOKUP($B96,Tabela!$A:$A,Tabela!$D:$D,\"não encontrado\")","v":1307.26},{"$f":"IF(B96 =ISTEXT(qualquer), \"\", HYPERLINK(\"https://pt.firesecurityproducts.com/pt/search?q=\"&B96, \"Link Web\"))","v":"Link Web"},0,1307.26]
[null,"TVR-1816-4T",{"$f":"_xlfn.XLOOKUP($B97,Tabela!A:A,Tabela!C:C,\"não encontrado\")","v":"NPI"},"TRUVISION DVR 18, HYBRID 16 CHANNEL, 4 TB",{"$f":"_xlfn.XLOOKUP($B97,Tabela!$A:$A,Tabela!$D:$D,\"não encontrado\")","v":1387.65},{"$f":"IF(B97 =ISTEXT(qualquer), \"\", HYPERLINK(\"https://pt.firesecurityproducts.com/pt/search?q=\"&B97, \"Link Web\"))","v":"Link Web"},0,1387.65]
[null,"TVR-1816-6T",{"$f":"_xlfn.XLOOKUP($B98,Tabela!A:A,Tabela!C:C,\"não encontrado\")","v":"NPI"},"TRUVISION DVR 18, HYBRID 16 CHANNEL, 6 TB",{"$f":"_xlfn.XLOOKUP($B98,Tabela!$A:$A,Tabela!$D:$D,\"não encontrado\")","v":1535.03},{"$f":"IF(B98 =ISTEXT(qualquer), \"\", HYPERLINK(\"https://pt.firesecurityproducts.com/pt/search?q=\"&B98, \"Link Web\"))","v":"Link Web"},0,1535.03]
[null,"TVR-1816-8T",{"$f":"_xlfn.XLOOKUP($B99,Tabela!A:A,Tabela!C:C,\"não encontrado\")","v":"NPI"},"TRUVISION DVR 18, HYBRID 16 CHANNEL, 8 TB",{"$f":"_xlfn.XLOOKUP($B99,Tabela!$A:$A,Tabela!$D:$D,\"não encontrado\")","v":1741.74},{"$f":"IF(B99 =ISTEXT(qualquer), \"\", HYPERLINK(\"https://pt.firesecurityproducts.com/pt/search?q=\"&B99, \"Link Web\"))","v":"Link Web"},0,1741.74]
[null,null,null,null,null,{"$f":"IF(B100 =ISTEXT(qualquer), \"\", HYPERLINK(\"https://pt.firesecurityproducts.com/pt/search?q=\"&B100, \"Link Web\"))","v":""}]
["Série TVN 23",null,"Gravadores Digitais Sem Switch",null,null,{"$f":"IF(B101 =ISTEXT(qualquer), \"\", HYPERLINK(\"https://pt.firesecurityproducts.com/pt/search?q=\"&B101, \"Link Web\"))","v":""}]
[null,null,null,"•  Configuração Plug & Play \"Linux embedded\"\n•  Largura de banda 80/160/256 Mbps para gravação de câmara\n•  Até 8/16/32 canais\n•  Até 40 TB de armazenamento incorporado(4x 10TB)\n•  Painel frontal com indicação por ícones\n•  Gravação em tempo real - Full HD\n•  Deteção de movimento, VCA, máscara de privacidade e deteção sabotagem\n•  Suporte de câmaras via ONVIF e PSIA\n•  Importação/exportação de câmaras IP câmara\n•  Protocolo configurável (RTSP streaming)\n•  Redundância de rede e funcionalidade failover de gravação (uma unidade em falha por cada 4 gravadores operacionais)\n• Integração com centrais de intrusão IP da  UTC  via protocolo SIA/XSIA \n•  Funcionalidade failover de gravação (uma unidade em falha por cada 4 gravadores operacionais)\n•  Suporta a consola IP - TVK-800  (sem suporte para visualização local de câmaras H.265)\n•  Porta USB para ligação de gravador de DVD\n•  Compatível com a App TVRMobile (iOS e Android)\n•  Integração SDK",null,{"$f":"IF(B102 =ISTEXT(qualquer), \"\", HYPERLINK(\"https://pt.firesecurityproducts.com/pt/search?q=\"&B102, \"Link Web\"))","v":""}]
[null,null,null,null,null,{"$f":"IF(B103 =ISTEXT(qualquer), \"\", HYPERLINK(\"https://pt.firesecurityproducts.com/pt/search?q=\"&B103, \"Link Web\"))","v":""}]
[null,null,null,null,null,{"$f":"IF(B104 =ISTEXT(qualquer), \"\", HYPERLINK(\"https://pt.firesecurityproducts.com/pt/search?q=\"&B104, \"Link Web\"))","v":""}]
[null,null,null,null,null,{"$f":"IF(B105 =ISTEXT(qualquer), \"\", HYPERLINK(\"https://pt.firesecurityproducts.com/pt/search?q=\"&B105, \"Link Web\"))","v":""}]
[null,null,null,null,null,{"$f":"IF(B106 =ISTEXT(qualquer), \"\", HYPERLINK(\"https://pt.firesecurityproducts.com/pt/search?q=\"&B106, \"Link Web\"))","v":""}]
[null,null,null,null,null,{"$f":"IF(B107 =ISTEXT(qualquer), \"\", HYPERLINK(\"https://pt.firesecurityproducts.com/pt/search?q=\"&B107, \"Link Web\"))","v":""}]
[null,null,null,null,null,{"$f":"IF(B108 =ISTEXT(qualquer), \"\", HYPERLINK(\"https://pt.firesecurityproducts.com/pt/search?q=\"&B108, \"Link Web\"))","v":""}]
[null,null,null,null,null,{"$f":"IF(B109 =ISTEXT(qualquer), \"\", HYPERLINK(\"https://pt.firesecurityproducts.com/pt/search?q=\"&B109, \"Link Web\"))","v":""}]
[null,null,null,null,null,{"$f":"IF(B110 =ISTEXT(qualquer), \"\", HYPERLINK(\"https://pt.firesecurityproducts.com/pt/search?q=\"&B110, \"Link Web\"))","v":""}]
[null,null,null,null,null,{"$f":"IF(B111 =ISTEXT(qualquer), \"\", HYPERLINK(\"https://pt.firesecurityproducts.com/pt/search?q=\"&B111, \"Link Web\"))","v":""}]
[null,null,null,null,null,{"$f":"IF(B112 =ISTEXT(qualquer), \"\", HYPERLINK(\"https://pt.firesecurityproducts.com/pt/search?q=\"&B112, \"Link Web\"))","v":""}]
[null,null,null,null,null,{"$f":"IF(B113 =ISTEXT(qualquer), \"\", HYPERLINK(\"https://pt.firesecurityproducts.com/pt/search?q=\"&B113, \"Link Web\"))","v":""}]
[null,null,null,null,null,{"$f":"IF(B114 =ISTEXT(qualquer), \"\", HYPERLINK(\"https://pt.firesecurityproducts.com/pt/search?q=\"&B114, \"Link Web\"))","v":""}]
[null,null,null,null,null,{"$f":"IF(B115 =ISTEXT(qualquer), \"\", HYPERLINK(\"https://pt.firesecurityproducts.com/pt/search?q=\"&B115, \"Link Web\"))","v":""}]
[null,null,null,null,null,{"$f":"IF(B116 =ISTEXT(qualquer), \"\", HYPERLINK(\"https://pt.firesecurityproducts.com/pt/search?q=\"&B116, \"Link Web\"))","v":""}]
[null,null,null,null,null,{"$f":"IF(B117 =ISTEXT(qualquer), \"\", HYPERLINK(\"https://pt.firesecurityproducts.com/pt/search?q=\"&B117, \"Link Web\"))","v":""}]
[null,"16 Canais IP ",null,null,"PVP",null,"Desconto","Preço Liquido"]
[null,"TVN-2316-4T",{"$f":"_xlfn.XLOOKUP($B119,Tabela!A:A,Tabela!C:C,\"não encontrado\")","v":"NPI"},"TruVision NVR 23, H.265, 16 canais IP, 4TB",{"$f":"_xlfn.XLOOKUP($B119,Tabela!$A:$A,Tabela!$D:$D,\"não encontrado\")","v":1330.23},{"$f":"IF(B119 =ISTEXT(qualquer), \"\", HYPERLINK(\"https://pt.firesecurityproducts.com/pt/search?q=\"&B119, \"Link Web\"))","v":"Link Web"},{"$f":"$G$2","v":0},{"$f":"IF(ISBLANK(G119),\"\",E119-(E119*$G119))","v":1330.23}]
[null,"TVN-2316-6T",{"$f":"_xlfn.XLOOKUP($B120,Tabela!A:A,Tabela!C:C,\"não encontrado\")","v":"NPI"},"TruVision NVR 23, H.265, 16 canais IP, 6TB",{"$f":"_xlfn.XLOOKUP($B120,Tabela!$A:$A,Tabela!$D:$D,\"não encontrado\")","v":1477.61},{"$f":"IF(B120 =ISTEXT(qualquer), \"\", HYPERLINK(\"https://pt.firesecurityproducts.com/pt/search?q=\"&B120, \"Link Web\"))","v":"Link Web"},0,1477.61]
[null,"TVN-2316-8T",{"$f":"_xlfn.XLOOKUP($B121,Tabela!A:A,Tabela!C:C,\"não encontrado\")","v":"NPI"},"TruVision NVR 23, H.265, 16 canais IP, 8TB",{"$f":"_xlfn.XLOOKUP($B121,Tabela!$A:$A,Tabela!$D:$D,\"não encontrado\")","v":1707.29},{"$f":"IF(B121 =ISTEXT(qualquer), \"\", HYPERLINK(\"https://pt.firesecurityproducts.com/pt/search?q=\"&B121, \"Link Web\"))","v":"Link Web"},0,1707.29]
[null,"TVN-2316-10T",{"$f":"_xlfn.XLOOKUP($B122,Tabela!A:A,Tabela!C:C,\"não encontrado\")","v":"NPI"},"TruVision NVR 23, H.265, 16 canais IP, 10TB",{"$f":"_xlfn.XLOOKUP($B122,Tabela!$A:$A,Tabela!$D:$D,\"não encontrado\")","v":1854.67},{"$f":"IF(B122 =ISTEXT(qualquer), \"\", HYPERLINK(\"https://pt.firesecurityproducts.com/pt/search?q=\"&B122, \"Link Web\"))","v":"Link Web"},0,{"$f":"IF(ISBLANK(G122),\"\",E122-(E122*$G122))","v":1854.67}]
[null,"TVN-2316-12T",{"$f":"_xlfn.XLOOKUP($B123,Tabela!A:A,Tabela!C:C,\"não encontrado\")","v":"NPI"},"TruVision NVR 23, H.265, 16 canais IP, 12TB",{"$f":"_xlfn.XLOOKUP($B123,Tabela!$A:$A,Tabela!$D:$D,\"não encontrado\")","v":1979.08},{"$f":"IF(B123 =ISTEXT(qualquer), \"\", HYPERLINK(\"https://pt.firesecurityproducts.com/pt/search?q=\"&B123, \"Link Web\"))","v":"Link Web"},0,1979.08]
[null,"TVN-2316-16T",{"$f":"_xlfn.XLOOKUP($B124,Tabela!A:A,Tabela!C:C,\"não encontrado\")","v":"NPI"},"TruVision NVR 23, H.265, 16 canais IP, 16TB",{"$f":"_xlfn.XLOOKUP($B124,Tabela!$A:$A,Tabela!$D:$D,\"não encontrado\")","v":2438.44},{"$f":"IF(B124 =ISTEXT(qualquer), \"\", HYPERLINK(\"https://pt.firesecurityproducts.com/pt/search?q=\"&B124, \"Link Web\"))","v":"Link Web"},0,2438.44]
[null,null,null,null,null,{"$f":"IF(B125 =ISTEXT(qualquer), \"\", HYPERLINK(\"https://pt.firesecurityproducts.com/pt/search?q=\"&B125, \"Link Web\"))","v":""}]
[null,"32 Canais IP "]
[null,"TVN-2332-8T",{"$f":"_xlfn.XLOOKUP($B127,Tabela!A:A,Tabela!C:C,\"não encontrado\")","v":"NPI"},"TruVision NVR 23, H.265, 32 canais IP, 8TB",{"$f":"_xlfn.XLOOKUP($B127,Tabela!$A:$A,Tabela!$D:$D,\"não encontrado\")","v":1917.83},{"$f":"IF(B127 =ISTEXT(qualquer), \"\", HYPERLINK(\"https://pt.firesecurityproducts.com/pt/search?q=\"&B127, \"Link Web\"))","v":"Link Web"},{"$f":"$G$2","v":0},{"$f":"IF(ISBLANK(G127),\"\",E127-(E127*$G127))","v":1917.83}]
[null,"TVN-2332-10T",{"$f":"_xlfn.XLOOKUP($B128,Tabela!A:A,Tabela!C:C,\"não encontrado\")","v":"NPI"},"TruVision NVR 23, H.265, 32 canais IP, 10TB",{"$f":"_xlfn.XLOOKUP($B128,Tabela!$A:$A,Tabela!$D:$D,\"não encontrado\")","v":2065.21},{"$f":"IF(B128 =ISTEXT(qualquer), \"\", HYPERLINK(\"https://pt.firesecurityproducts.com/pt/search?q=\"&B128, \"Link Web\"))","v":"Link Web"},0,{"$f":"IF(ISBLANK(G128),\"\",E128-(E128*$G128))","v":2065.21}]
[null,"TVN-2332-12T",{"$f":"_xlfn.XLOOKUP($B129,Tabela!A:A,Tabela!C:C,\"não encontrado\")","v":"NPI"},"TruVision NVR 23, H.265, 32 canais IP, 12TB",{"$f":"_xlfn.XLOOKUP($B129,Tabela!$A:$A,Tabela!$D:$D,\"não encontrado\")","v":2189.62},{"$f":"IF(B129 =ISTEXT(qualquer), \"\", HYPERLINK(\"https://pt.firesecurityproducts.com/pt/search?q=\"&B129, \"Link Web\"))","v":"Link Web"},0,2189.62]
[null,"TVN-2332-16T",{"$f":"_xlfn.XLOOKUP($B130,Tabela!A:A,Tabela!C:C,\"não encontrado\")","v":"NPI"},"TruVision NVR 23, H.265, 32 canais IP, 16TB",{"$f":"_xlfn.XLOOKUP($B130,Tabela!$A:$A,Tabela!$D:$D,\"não encontrado\")","v":2648.98},{"$f":"IF(B130 =ISTEXT(qualquer), \"\", HYPERLINK(\"https://pt.firesecurityproducts.com/pt/search?q=\"&B130, \"Link Web\"))","v":"Link Web"},0,2648.98]
[null,"TVN-2332-18T",{"$f":"_xlfn.XLOOKUP($B131,Tabela!A:A,Tabela!C:C,\"não encontrado\")","v":"NPI"},"TruVision NVR 23, H.265, 32 canais IP, 18TB",{"$f":"_xlfn.XLOOKUP($B131,Tabela!$A:$A,Tabela!$D:$D,\"não encontrado\")","v":2691.08},{"$f":"IF(B131 =ISTEXT(qualquer), \"\", HYPERLINK(\"https://pt.firesecurityproducts.com/pt/search?q=\"&B131, \"Link Web\"))","v":"Link Web"},0,2691.08]
[null,"TVN-2332-20T",{"$f":"_xlfn.XLOOKUP($B132,Tabela!A:A,Tabela!C:C,\"não encontrado\")","v":"NPI"},"TruVision NVR 23, H.265, 32 canais IP, 20TB",{"$f":"_xlfn.XLOOKUP($B132,Tabela!$A:$A,Tabela!$D:$D,\"não encontrado\")","v":2943.73},{"$f":"IF(B132 =ISTEXT(qualquer), \"\", HYPERLINK(\"https://pt.firesecurityproducts.com/pt/search?q=\"&B132, \"Link Web\"))","v":"Link Web"},0,{"$f":"IF(ISBLANK(G132),\"\",E132-(E132*$G132))","v":2943.73}]
[null,"TVN-2332-24T",{"$f":"_xlfn.XLOOKUP($B133,Tabela!A:A,Tabela!C:C,\"não encontrado\")","v":"NPI"},"TruVision NVR 23, H.265, 32 canais IP, 24TB",{"$f":"_xlfn.XLOOKUP($B133,Tabela!$A:$A,Tabela!$D:$D,\"não encontrado\")","v":3192.55},{"$f":"IF(B133 =ISTEXT(qualquer), \"\", HYPERLINK(\"https://pt.firesecurityproducts.com/pt/search?q=\"&B133, \"Link Web\"))","v":"Link Web"},0,3192.55]
[null,"TVN-2332-32T",{"$f":"_xlfn.XLOOKUP($B134,Tabela!A:A,Tabela!C:C,\"não encontrado\")","v":"NPI"},"TruVision NVR 23, H.265, 32 canais IP, 32TB",{"$f":"_xlfn.XLOOKUP($B134,Tabela!$A:$A,Tabela!$D:$D,\"não encontrado\")","v":4111.2700000000004},{"$f":"IF(B134 =ISTEXT(qualquer), \"\", HYPERLINK(\"https://pt.firesecurityproducts.com/pt/search?q=\"&B134, \"Link Web\"))","v":"Link Web"},0,4111.2700000000004]
[null,null,null,null,null,{"$f":"IF(B135 =ISTEXT(qualquer), \"\", HYPERLINK(\"https://pt.firesecurityproducts.com/pt/search?q=\"&B135, \"Link Web\"))","v":""}]
["Série TVN 23S",null,"Gravadores Digitais Com Switch PoE",null,null,{"$f":"IF(B136 =ISTEXT(qualquer), \"\", HYPERLINK(\"https://pt.firesecurityproducts.com/pt/search?q=\"&B136, \"Link Web\"))","v":""}]
[null,null,null,"• Configuração Plug & Play \"Linux embedded\"\n•  Até 8/16 canais\n•  Largura de banda 80/160 Mbps para gravação de câmara\n•  Até 40TB de armazenamento incorporado (4x 10TB)\n•  Até 8/16 portos PoE incorporados, para câmaras\n•  Capacidade PoE-af & PoE-at \n•  Abertura tipo \"Flip\" do painel frontal para fácil acesso a HDD e manutenção\n•  Painel frontal com indicação por ícones\n•  Gravação em tempo real - Full HD\n•  Deteção de movimento, VCA, máscara de privacidade e deteção sabotagem\n•  Deteção automática de câmaras TruVision IP\n•  Suporte de câmaras via ONVIF e PSIA\n•  Importação/exportação de câmaras IP câmara\n•  Protocolo configurável (RTSP streaming)\n•  Integração com centrais de intrusão IP da  UTC  via protocolo SIA/XSIA \n•  Funcionalidade failover de gravação (uma unidade em falha por cada 4 gravadores operacionais)\n•  Suporta a consola IP - TVK-800  (sem suporte para visualização local de câmaras H.265)\n•  USB DVD burner support\n•  Porta USB para ligação de gravador de DVD\n•  Compatível com a App TVRMobile (iOS e Android)",null,{"$f":"IF(B137 =ISTEXT(qualquer), \"\", HYPERLINK(\"https://pt.firesecurityproducts.com/pt/search?q=\"&B137, \"Link Web\"))","v":""}]
[null,null,null,null,null,{"$f":"IF(B138 =ISTEXT(qualquer), \"\", HYPERLINK(\"https://pt.firesecurityproducts.com/pt/search?q=\"&B138, \"Link Web\"))","v":""}]
[null,null,null,null,null,{"$f":"IF(B139 =ISTEXT(qualquer), \"\", HYPERLINK(\"https://pt.firesecurityproducts.com/pt/search?q=\"&B139, \"Link Web\"))","v":""}]
[null,null,null,null,null,{"$f":"IF(B140 =ISTEXT(qualquer), \"\", HYPERLINK(\"https://pt.firesecurityproducts.com/pt/search?q=\"&B140, \"Link Web\"))","v":""}]
[null,null,null,null,null,{"$f":"IF(B141 =ISTEXT(qualquer), \"\", HYPERLINK(\"https://pt.firesecurityproducts.com/pt/search?q=\"&B141, \"Link Web\"))","v":""}]
[null,null,null,null,null,{"$f":"IF(B142 =ISTEXT(qualquer), \"\", HYPERLINK(\"https://pt.firesecurityproducts.com/pt/search?q=\"&B142, \"Link Web\"))","v":""}]
[null,null,null,null,null,{"$f":"IF(B143 =ISTEXT(qualquer), \"\", HYPERLINK(\"https://pt.firesecurityproducts.com/pt/search?q=\"&B143, \"Link Web\"))","v":""}]
[null,null,null,null,null,{"$f":"IF(B144 =ISTEXT(qualquer), \"\", HYPERLINK(\"https://pt.firesecurityproducts.com/pt/search?q=\"&B144, \"Link Web\"))","v":""}]
[null,null,null,null,null,{"$f":"IF(B145 =ISTEXT(qualquer), \"\", HYPERLINK(\"https://pt.firesecurityproducts.com/pt/search?q=\"&B145, \"Link Web\"))","v":""}]
[]
[]
[]
[]
[]
[null,null,null,null,null,{"$f":"IF(B151 =ISTEXT(qualquer), \"\", HYPERLINK(\"https://pt.firesecurityproducts.com/pt/search?q=\"&B151, \"Link Web\"))","v":""}]
[null,null,null,null,null,{"$f":"IF(B152 =ISTEXT(qualquer), \"\", HYPERLINK(\"https://pt.firesecurityproducts.com/pt/search?q=\"&B152, \"Link Web\"))","v":""}]
[null,null,null,null,null,{"$f":"IF(B153 =ISTEXT(qualquer), \"\", HYPERLINK(\"https://pt.firesecurityproducts.com/pt/search?q=\"&B153, \"Link Web\"))","v":""}]
[null,null,null,null,null,{"$f":"IF(B154 =ISTEXT(qualquer), \"\", HYPERLINK(\"https://pt.firesecurityproducts.com/pt/search?q=\"&B154, \"Link Web\"))","v":""}]
[null,null,null,null,null,{"$f":"IF(B155 =ISTEXT(qualquer), \"\", HYPERLINK(\"https://pt.firesecurityproducts.com/pt/search?q=\"&B155, \"Link Web\"))","v":""}]
[null,null,null,null,null,{"$f":"IF(B156 =ISTEXT(qualquer), \"\", HYPERLINK(\"https://pt.firesecurityproducts.com/pt/search?q=\"&B156, \"Link Web\"))","v":""}]
[null,null,null,null,null,{"$f":"IF(B157 =ISTEXT(qualquer), \"\", HYPERLINK(\"https://pt.firesecurityproducts.com/pt/search?q=\"&B157, \"Link Web\"))","v":""}]
[null,"8 Canais PoE",null,null,"PVP",null,"Desconto","Preço Liquido"]
[null,"TVN-2308S-2T",{"$f":"_xlfn.XLOOKUP($B159,Tabela!A:A,Tabela!C:C,\"não encontrado\")","v":"NPI"},"TruVision NVR 23, H.265, 8 canais IP, 8 canais PoE, 2TB",{"$f":"_xlfn.XLOOKUP($B159,Tabela!$A:$A,Tabela!$D:$D,\"não encontrado\")","v":1268.98},{"$f":"IF(B159 =ISTEXT(qualquer), \"\", HYPERLINK(\"https://pt.firesecurityproducts.com/pt/search?q=\"&B159, \"Link Web\"))","v":"Link Web"},{"$f":"$G$2","v":0},{"$f":"IF(ISBLANK(G159),\"\",E159-(E159*$G159))","v":1268.98}]
[null,"TVN-2308S-4T",{"$f":"_xlfn.XLOOKUP($B160,Tabela!A:A,Tabela!C:C,\"não encontrado\")","v":"NPI"},"TruVision NVR 23, H.265, 8 canais IP, 8 canais PoE, 4TB",{"$f":"_xlfn.XLOOKUP($B160,Tabela!$A:$A,Tabela!$D:$D,\"não encontrado\")","v":1349.37},{"$f":"IF(B160 =ISTEXT(qualquer), \"\", HYPERLINK(\"https://pt.firesecurityproducts.com/pt/search?q=\"&B160, \"Link Web\"))","v":"Link Web"},0,1349.37]
[null,"TVN-2308S-6T",{"$f":"_xlfn.XLOOKUP($B161,Tabela!A:A,Tabela!C:C,\"não encontrado\")","v":"NPI"},"TruVision NVR 23, H.265, 8 canais IP, 8 canais PoE, 6TB",{"$f":"_xlfn.XLOOKUP($B161,Tabela!$A:$A,Tabela!$D:$D,\"não encontrado\")","v":1496.75},{"$f":"IF(B161 =ISTEXT(qualquer), \"\", HYPERLINK(\"https://pt.firesecurityproducts.com/pt/search?q=\"&B161, \"Link Web\"))","v":"Link Web"},0,1496.75]
[null,"TVN-2308S-8T",{"$f":"_xlfn.XLOOKUP($B162,Tabela!A:A,Tabela!C:C,\"não encontrado\")","v":"NPI"},"TruVision NVR 23, H.265, 8 canais IP, 8 canais PoE, 8TB",{"$f":"_xlfn.XLOOKUP($B162,Tabela!$A:$A,Tabela!$D:$D,\"não encontrado\")","v":1726.43},{"$f":"IF(B162 =ISTEXT(qualquer), \"\", HYPERLINK(\"https://pt.firesecurityproducts.com/pt/search?q=\"&B162, \"Link Web\"))","v":"Link Web"},0,1726.43]
[null,"TVN-2308S-10T",{"$f":"_xlfn.XLOOKUP($B163,Tabela!A:A,Tabela!C:C,\"não encontrado\")","v":"NPI"},"TruVision NVR 23, H.265, 8 canais IP, 8 canais PoE, 10TB",{"$f":"_xlfn.XLOOKUP($B163,Tabela!$A:$A,Tabela!$D:$D,\"não encontrado\")","v":1873.81},{"$f":"IF(B163 =ISTEXT(qualquer), \"\", HYPERLINK(\"https://pt.firesecurityproducts.com/pt/search?q=\"&B163, \"Link Web\"))","v":"Link Web"},0,{"$f":"IF(ISBLANK(G163),\"\",E163-(E163*$G163))","v":1873.81}]
[null,null,null,null,null,{"$f":"IF(B164 =ISTEXT(qualquer), \"\", HYPERLINK(\"https://pt.firesecurityproducts.com/pt/search?q=\"&B164, \"Link Web\"))","v":""}]
[null,"16 Canais PoE"]
[null,"TVN-2316S-4T",{"$f":"_xlfn.XLOOKUP($B166,Tabela!A:A,Tabela!C:C,\"não encontrado\")","v":"NPI"},"TruVision NVR 23, H.265, 16 canais IP, 16 canais PoE, 4TB",{"$f":"_xlfn.XLOOKUP($B166,Tabela!$A:$A,Tabela!$D:$D,\"não encontrado\")","v":1588.62},{"$f":"IF(B166 =ISTEXT(qualquer), \"\", HYPERLINK(\"https://pt.firesecurityproducts.com/pt/search?q=\"&B166, \"Link Web\"))","v":"Link Web"},{"$f":"$G$2","v":0},{"$f":"IF(ISBLANK(G166),\"\",E166-(E166*$G166))","v":1588.62}]
[null,"TVN-2316S-6T",{"$f":"_xlfn.XLOOKUP($B167,Tabela!A:A,Tabela!C:C,\"não encontrado\")","v":"NPI"},"TruVision NVR 23, H.265, 16 canais IP, 16 canais PoE, 6TB",{"$f":"_xlfn.XLOOKUP($B167,Tabela!$A:$A,Tabela!$D:$D,\"não encontrado\")","v":1736},{"$f":"IF(B167 =ISTEXT(qualquer), \"\", HYPERLINK(\"https://pt.firesecurityproducts.com/pt/search?q=\"&B167, \"Link Web\"))","v":"Link Web"},0,1736]
[null,"TVN-2316S-8T",{"$f":"_xlfn.XLOOKUP($B168,Tabela!A:A,Tabela!C:C,\"não encontrado\")","v":"NPI"},"TruVision NVR 23, H.265, 16 canais IP, 16 canais PoE, 8TB",{"$f":"_xlfn.XLOOKUP($B168,Tabela!$A:$A,Tabela!$D:$D,\"não encontrado\")","v":1965.68},{"$f":"IF(B168 =ISTEXT(qualquer), \"\", HYPERLINK(\"https://pt.firesecurityproducts.com/pt/search?q=\"&B168, \"Link Web\"))","v":"Link Web"},0,1965.68]
[null,"TVN-2316S-10T",{"$f":"_xlfn.XLOOKUP($B169,Tabela!A:A,Tabela!C:C,\"não encontrado\")","v":"NPI"},"TruVision NVR 23, H.265, 16 canais IP, 16 canais PoE, 10TB",{"$f":"_xlfn.XLOOKUP($B169,Tabela!$A:$A,Tabela!$D:$D,\"não encontrado\")","v":2113.06},{"$f":"IF(B169 =ISTEXT(qualquer), \"\", HYPERLINK(\"https://pt.firesecurityproducts.com/pt/search?q=\"&B169, \"Link Web\"))","v":"Link Web"},0,{"$f":"IF(ISBLANK(G169),\"\",E169-(E169*$G169))","v":2113.06}]
[null,"TVN-2316S-12T",{"$f":"_xlfn.XLOOKUP($B170,Tabela!A:A,Tabela!C:C,\"não encontrado\")","v":"NPI"},"TruVision NVR 23, H.265, 16 canais IP, 16 canais PoE, 12TB",{"$f":"_xlfn.XLOOKUP($B170,Tabela!$A:$A,Tabela!$D:$D,\"não encontrado\")","v":2237.4699999999998},{"$f":"IF(B170 =ISTEXT(qualquer), \"\", HYPERLINK(\"https://pt.firesecurityproducts.com/pt/search?q=\"&B170, \"Link Web\"))","v":"Link Web"},0,2237.4699999999998]
[null,"TVN-2316S-16T",{"$f":"_xlfn.XLOOKUP($B171,Tabela!A:A,Tabela!C:C,\"não encontrado\")","v":"NPI"},"TruVision NVR 23, H.265, 16 canais IP, 16 canais PoE, 16TB",{"$f":"_xlfn.XLOOKUP($B171,Tabela!$A:$A,Tabela!$D:$D,\"não encontrado\")","v":2696.83},{"$f":"IF(B171 =ISTEXT(qualquer), \"\", HYPERLINK(\"https://pt.firesecurityproducts.com/pt/search?q=\"&B171, \"Link Web\"))","v":"Link Web"},0,2696.83]
[null,null,null,null,null,{"$f":"IF(B172 =ISTEXT(qualquer), \"\", HYPERLINK(\"https://pt.firesecurityproducts.com/pt/search?q=\"&B172, \"Link Web\"))","v":""}]
["Série TVN 23P",null,"Gravadores Digitais Com Suporte RAID 0, 1, 5, 6, 10",null,null,{"$f":"IF(B173 =ISTEXT(qualquer), \"\", HYPERLINK(\"https://pt.firesecurityproducts.com/pt/search?q=\"&B173, \"Link Web\"))","v":""}]
[null,null,null,"• Configuração Plug & Play \"Linux embedded\"\n•  Até 16/32/64 canais\n•  Largura de banda 256/320 Mbps para gravação de câmara\n•  Até 80TB de armazenamento incorporado (8x 10TB)                                            \n•  Suporte RAID 0,1, 5, 10\n• Abertura tipo \"Flip\" do painel frontal para fácil acesso a HDD e manutenção\n•  Painel frontal com indicação por ícones\n•  Gravação em tempo real - Full HD\n•  Deteção de movimento, VCA, máscara de privacidade e deteção sabotagem\n•  Deteção automática de câmaras TruVision IP\n•  Suporte de câmaras via ONVIF e PSIA\n•  Importação/exportação de câmaras IP câmara\n•  Protocolo configurável (RTSP streaming)\n•  Integração com centrais de intrusão IP da  UTC  via protocolo SIA/XSIA \n•  Funcionalidade failover de gravação (uma unidade em falha por cada 4 gravadores operacionais)\n•  Suporta a consola IP - TVK-800  (sem suporte para visualização local de câmaras H.265)\n•  USB DVD burner support\n•  Porta USB para ligação de gravador de DVD\n•  Compatível com a App TVRMobile (iOS e Android)",null,{"$f":"IF(B174 =ISTEXT(qualquer), \"\", HYPERLINK(\"https://pt.firesecurityproducts.com/pt/search?q=\"&B174, \"Link Web\"))","v":""}]
[null,null,null,null,null,{"$f":"IF(B175 =ISTEXT(qualquer), \"\", HYPERLINK(\"https://pt.firesecurityproducts.com/pt/search?q=\"&B175, \"Link Web\"))","v":""}]
[null,null,null,null,null,{"$f":"IF(B176 =ISTEXT(qualquer), \"\", HYPERLINK(\"https://pt.firesecurityproducts.com/pt/search?q=\"&B176, \"Link Web\"))","v":""}]
[null,null,null,null,null,{"$f":"IF(B177 =ISTEXT(qualquer), \"\", HYPERLINK(\"https://pt.firesecurityproducts.com/pt/search?q=\"&B177, \"Link Web\"))","v":""}]
[null,null,null,null,null,{"$f":"IF(B178 =ISTEXT(qualquer), \"\", HYPERLINK(\"https://pt.firesecurityproducts.com/pt/search?q=\"&B178, \"Link Web\"))","v":""}]
[null,null,null,null,null,{"$f":"IF(B179 =ISTEXT(qualquer), \"\", HYPERLINK(\"https://pt.firesecurityproducts.com/pt/search?q=\"&B179, \"Link Web\"))","v":""}]
[null,null,null,null,null,{"$f":"IF(B180 =ISTEXT(qualquer), \"\", HYPERLINK(\"https://pt.firesecurityproducts.com/pt/search?q=\"&B180, \"Link Web\"))","v":""}]
[null,null,null,null,null,{"$f":"IF(B181 =ISTEXT(qualquer), \"\", HYPERLINK(\"https://pt.firesecurityproducts.com/pt/search?q=\"&B181, \"Link Web\"))","v":""}]
[null,null,null,null,null,{"$f":"IF(B182 =ISTEXT(qualquer), \"\", HYPERLINK(\"https://pt.firesecurityproducts.com/pt/search?q=\"&B182, \"Link Web\"))","v":""}]
[null,null,null,null,null,{"$f":"IF(B183 =ISTEXT(qualquer), \"\", HYPERLINK(\"https://pt.firesecurityproducts.com/pt/search?q=\"&B183, \"Link Web\"))","v":""}]
[]
[]
[]
[]
[]
[null,null,null,null,null,{"$f":"IF(B189 =ISTEXT(qualquer), \"\", HYPERLINK(\"https://pt.firesecurityproducts.com/pt/search?q=\"&B189, \"Link Web\"))","v":""}]
[null,null,null,null,null,{"$f":"IF(B190 =ISTEXT(qualquer), \"\", HYPERLINK(\"https://pt.firesecurityproducts.com/pt/search?q=\"&B190, \"Link Web\"))","v":""}]
[null,null,null,null,null,{"$f":"IF(B191 =ISTEXT(qualquer), \"\", HYPERLINK(\"https://pt.firesecurityproducts.com/pt/search?q=\"&B191, \"Link Web\"))","v":""}]
[null,null,null,null,null,{"$f":"IF(B192 =ISTEXT(qualquer), \"\", HYPERLINK(\"https://pt.firesecurityproducts.com/pt/search?q=\"&B192, \"Link Web\"))","v":""}]
[null,null,null,null,null,{"$f":"IF(B193 =ISTEXT(qualquer), \"\", HYPERLINK(\"https://pt.firesecurityproducts.com/pt/search?q=\"&B193, \"Link Web\"))","v":""}]
[null,"16 Canais IP",null,null,"PVP",null,"Desconto","Preço Liquido"]
[null,"TVN-2316P-4T",{"$f":"_xlfn.XLOOKUP($B195,Tabela!A:A,Tabela!C:C,\"não encontrado\")","v":"NPI"},"TruVision NVR 23P, H.265, 16 canais IP, 2U, 4TB",{"$f":"_xlfn.XLOOKUP($B195,Tabela!$A:$A,Tabela!$D:$D,\"não encontrado\")","v":1923.57},{"$f":"IF(B195 =ISTEXT(qualquer), \"\", HYPERLINK(\"https://pt.firesecurityproducts.com/pt/search?q=\"&B195, \"Link Web\"))","v":"Link Web"},{"$f":"$G$2","v":0},{"$f":"IF(ISBLANK(G195),\"\",E195-(E195*$G195))","v":1923.57}]
[null,"TVN-2316P-6T",{"$f":"_xlfn.XLOOKUP($B196,Tabela!A:A,Tabela!C:C,\"não encontrado\")","v":"NPI"},"TruVision NVR 23P, H.265, 16 canais IP, 2U, 6TB",{"$f":"_xlfn.XLOOKUP($B196,Tabela!$A:$A,Tabela!$D:$D,\"não encontrado\")","v":2070.9499999999998},{"$f":"IF(B196 =ISTEXT(qualquer), \"\", HYPERLINK(\"https://pt.firesecurityproducts.com/pt/search?q=\"&B196, \"Link Web\"))","v":"Link Web"},0,2070.9499999999998]
[null,"TVN-2316P-8T",{"$f":"_xlfn.XLOOKUP($B197,Tabela!A:A,Tabela!C:C,\"não encontrado\")","v":"NPI"},"TruVision NVR 23P, H.265, 16 canais IP, 2U, 8TB",{"$f":"_xlfn.XLOOKUP($B197,Tabela!$A:$A,Tabela!$D:$D,\"não encontrado\")","v":2277.66},{"$f":"IF(B197 =ISTEXT(qualquer), \"\", HYPERLINK(\"https://pt.firesecurityproducts.com/pt/search?q=\"&B197, \"Link Web\"))","v":"Link Web"},0,2277.66]
[null,"TVN-2316P-12T",{"$f":"_xlfn.XLOOKUP($B198,Tabela!A:A,Tabela!C:C,\"não encontrado\")","v":"NPI"},"TruVision NVR 23P, H.265, 16 canais IP, 2U, 12TB",{"$f":"_xlfn.XLOOKUP($B198,Tabela!$A:$A,Tabela!$D:$D,\"não encontrado\")","v":2631.75},{"$f":"IF(B198 =ISTEXT(qualquer), \"\", HYPERLINK(\"https://pt.firesecurityproducts.com/pt/search?q=\"&B198, \"Link Web\"))","v":"Link Web"},0,2631.75]
[null,"TVN-2316P-16T",{"$f":"_xlfn.XLOOKUP($B199,Tabela!A:A,Tabela!C:C,\"não encontrado\")","v":"NPI"},"TruVision NVR 23P, H.265, 16 canais IP, 2U, 16TB",{"$f":"_xlfn.XLOOKUP($B199,Tabela!$A:$A,Tabela!$D:$D,\"não encontrado\")","v":2985.84},{"$f":"IF(B199 =ISTEXT(qualquer), \"\", HYPERLINK(\"https://pt.firesecurityproducts.com/pt/search?q=\"&B199, \"Link Web\"))","v":"Link Web"},0,2985.84]
[null,"TVN-2316P-18T",{"$f":"_xlfn.XLOOKUP($B200,Tabela!A:A,Tabela!C:C,\"não encontrado\")","v":"NPI"},"TruVision NVR 23P, H.265, 16 canais IP, 2U, 18TB",{"$f":"_xlfn.XLOOKUP($B200,Tabela!$A:$A,Tabela!$D:$D,\"não encontrado\")","v":3073.88},{"$f":"IF(B200 =ISTEXT(qualquer), \"\", HYPERLINK(\"https://pt.firesecurityproducts.com/pt/search?q=\"&B200, \"Link Web\"))","v":"Link Web"},0,3073.88]
[null,null,null,null,null,{"$f":"IF(B201 =ISTEXT(qualquer), \"\", HYPERLINK(\"https://pt.firesecurityproducts.com/pt/search?q=\"&B201, \"Link Web\"))","v":""}]
[null,"32 Canais IP",null,null,"PVP",null,"Desconto","Preço Liquido"]
[null,"TVN-2332P-8T",{"$f":"_xlfn.XLOOKUP($B203,Tabela!A:A,Tabela!C:C,\"não encontrado\")","v":"NPI"},"TruVision NVR 23P, H.265, 32 canais IP, 2U, 8TB",{"$f":"_xlfn.XLOOKUP($B203,Tabela!$A:$A,Tabela!$D:$D,\"não encontrado\")","v":3004.98},{"$f":"IF(B203 =ISTEXT(qualquer), \"\", HYPERLINK(\"https://pt.firesecurityproducts.com/pt/search?q=\"&B203, \"Link Web\"))","v":"Link Web"},{"$f":"$G$2","v":0},{"$f":"IF(ISBLANK(G203),\"\",E203-(E203*$G203))","v":3004.98}]
[null,"TVN-2332P-12T",{"$f":"_xlfn.XLOOKUP($B204,Tabela!A:A,Tabela!C:C,\"não encontrado\")","v":"NPI"},"TruVision NVR 23P, H.265, 32 canais IP, 2U, 12TB",{"$f":"_xlfn.XLOOKUP($B204,Tabela!$A:$A,Tabela!$D:$D,\"não encontrado\")","v":3359.07},{"$f":"IF(B204 =ISTEXT(qualquer), \"\", HYPERLINK(\"https://pt.firesecurityproducts.com/pt/search?q=\"&B204, \"Link Web\"))","v":"Link Web"},0,3359.07]
[null,"TVN-2332P-16T",{"$f":"_xlfn.XLOOKUP($B205,Tabela!A:A,Tabela!C:C,\"não encontrado\")","v":"NPI"},"TruVision NVR 23P, H.265, 32 canais IP, 2U, 16TB",{"$f":"_xlfn.XLOOKUP($B205,Tabela!$A:$A,Tabela!$D:$D,\"não encontrado\")","v":3713.16},{"$f":"IF(B205 =ISTEXT(qualquer), \"\", HYPERLINK(\"https://pt.firesecurityproducts.com/pt/search?q=\"&B205, \"Link Web\"))","v":"Link Web"},0,3713.16]
[null,"TVN-2332P-18T",{"$f":"_xlfn.XLOOKUP($B206,Tabela!A:A,Tabela!C:C,\"não encontrado\")","v":"NPI"},"TruVision NVR 23P, H.265, 32 canais IP, 2U, 18TB",{"$f":"_xlfn.XLOOKUP($B206,Tabela!$A:$A,Tabela!$D:$D,\"não encontrado\")","v":3801.2},{"$f":"IF(B206 =ISTEXT(qualquer), \"\", HYPERLINK(\"https://pt.firesecurityproducts.com/pt/search?q=\"&B206, \"Link Web\"))","v":"Link Web"},0,3801.2]
[null,"TVN-2332P-24T",{"$f":"_xlfn.XLOOKUP($B207,Tabela!A:A,Tabela!C:C,\"não encontrado\")","v":"NPI"},"TruVision NVR 23P, H.265, 32 canais IP, 2U, 24TB",{"$f":"_xlfn.XLOOKUP($B207,Tabela!$A:$A,Tabela!$D:$D,\"não encontrado\")","v":4302.67},{"$f":"IF(B207 =ISTEXT(qualquer), \"\", HYPERLINK(\"https://pt.firesecurityproducts.com/pt/search?q=\"&B207, \"Link Web\"))","v":"Link Web"},0,4302.67]
[null,"TVN-2332P-32T",{"$f":"_xlfn.XLOOKUP($B208,Tabela!A:A,Tabela!C:C,\"não encontrado\")","v":"NPI"},"TruVision NVR 23P, H.265, 32 canais IP, 2U, 32TB",{"$f":"_xlfn.XLOOKUP($B208,Tabela!$A:$A,Tabela!$D:$D,\"não encontrado\")","v":5221.3900000000003},{"$f":"IF(B208 =ISTEXT(qualquer), \"\", HYPERLINK(\"https://pt.firesecurityproducts.com/pt/search?q=\"&B208, \"Link Web\"))","v":"Link Web"},0,5221.3900000000003]
[null,null,null,null,null,{"$f":"IF(B209 =ISTEXT(qualquer), \"\", HYPERLINK(\"https://pt.firesecurityproducts.com/pt/search?q=\"&B209, \"Link Web\"))","v":""}]
[null,"64 Canais IP"]
[null,"TVN-2364P-16T",{"$f":"_xlfn.XLOOKUP($B211,Tabela!A:A,Tabela!C:C,\"não encontrado\")","v":"NPI"},"TruVision NVR 23P, H.265, 64 canais IP, 2U, 16TB",{"$f":"_xlfn.XLOOKUP($B211,Tabela!$A:$A,Tabela!$D:$D,\"não encontrado\")","v":3904.56},{"$f":"IF(B211 =ISTEXT(qualquer), \"\", HYPERLINK(\"https://pt.firesecurityproducts.com/pt/search?q=\"&B211, \"Link Web\"))","v":"Link Web"},{"$f":"$G$2","v":0},{"$f":"IF(ISBLANK(G211),\"\",E211-(E211*$G211))","v":3904.56}]
[null,"TVN-2364P-18T",{"$f":"_xlfn.XLOOKUP($B212,Tabela!A:A,Tabela!C:C,\"não encontrado\")","v":"NPI"},"TruVision NVR 23P, H.265, 64 canais IP, 2U, 18TB",{"$f":"_xlfn.XLOOKUP($B212,Tabela!$A:$A,Tabela!$D:$D,\"não encontrado\")","v":3992.6},{"$f":"IF(B212 =ISTEXT(qualquer), \"\", HYPERLINK(\"https://pt.firesecurityproducts.com/pt/search?q=\"&B212, \"Link Web\"))","v":"Link Web"},0,3992.6]
[null,"TVN-2364P-24T",{"$f":"_xlfn.XLOOKUP($B213,Tabela!A:A,Tabela!C:C,\"não encontrado\")","v":"NPI"},"TruVision NVR 23P, H.265, 64 canais IP, 2U, 24TB",{"$f":"_xlfn.XLOOKUP($B213,Tabela!$A:$A,Tabela!$D:$D,\"não encontrado\")","v":4494.07},{"$f":"IF(B213 =ISTEXT(qualquer), \"\", HYPERLINK(\"https://pt.firesecurityproducts.com/pt/search?q=\"&B213, \"Link Web\"))","v":"Link Web"},0,4494.07]
[null,"TVN-2364P-32T",{"$f":"_xlfn.XLOOKUP($B214,Tabela!A:A,Tabela!C:C,\"não encontrado\")","v":"NPI"},"TruVision NVR 23P, H.265, 64 canais IP, 2U, 32TB",{"$f":"_xlfn.XLOOKUP($B214,Tabela!$A:$A,Tabela!$D:$D,\"não encontrado\")","v":5412.79},{"$f":"IF(B214 =ISTEXT(qualquer), \"\", HYPERLINK(\"https://pt.firesecurityproducts.com/pt/search?q=\"&B214, \"Link Web\"))","v":"Link Web"},0,5412.79]
[null,"TVN-2364P-36T",{"$f":"_xlfn.XLOOKUP($B215,Tabela!A:A,Tabela!C:C,\"não encontrado\")","v":"NPI"},"TruVision NVR 23P, H.265, 64 canais IP, 2U, 36TB",{"$f":"_xlfn.XLOOKUP($B215,Tabela!$A:$A,Tabela!$D:$D,\"não encontrado\")","v":5497.01},{"$f":"IF(B215 =ISTEXT(qualquer), \"\", HYPERLINK(\"https://pt.firesecurityproducts.com/pt/search?q=\"&B215, \"Link Web\"))","v":"Link Web"},0,5497.01]
[null,"TVN-2364P-42T",{"$f":"_xlfn.XLOOKUP($B216,Tabela!A:A,Tabela!C:C,\"não encontrado\")","v":"NPI"},"TruVision NVR 23P, H.265, 64 canais IP, 2U, 42TB",{"$f":"_xlfn.XLOOKUP($B216,Tabela!$A:$A,Tabela!$D:$D,\"não encontrado\")","v":5998.48},{"$f":"IF(B216 =ISTEXT(qualquer), \"\", HYPERLINK(\"https://pt.firesecurityproducts.com/pt/search?q=\"&B216, \"Link Web\"))","v":"Link Web"},0,5998.48]
[null,"TVN-2364P-48T",{"$f":"_xlfn.XLOOKUP($B217,Tabela!A:A,Tabela!C:C,\"não encontrado\")","v":"NPI"},"TruVision NVR 23P, H.265, 64 canais IP, 2U, 48TB",{"$f":"_xlfn.XLOOKUP($B217,Tabela!$A:$A,Tabela!$D:$D,\"não encontrado\")","v":6499.94},{"$f":"IF(B217 =ISTEXT(qualquer), \"\", HYPERLINK(\"https://pt.firesecurityproducts.com/pt/search?q=\"&B217, \"Link Web\"))","v":"Link Web"},0,6499.94]
[null,"TVN-2364P-64T",{"$f":"_xlfn.XLOOKUP($B218,Tabela!A:A,Tabela!C:C,\"não encontrado\")","v":"NPI"},"TruVision NVR 23P, H.265, 64 canais IP, 2U, 64TB",{"$f":"_xlfn.XLOOKUP($B218,Tabela!$A:$A,Tabela!$D:$D,\"não encontrado\")","v":8337.3799999999992},{"$f":"IF(B218 =ISTEXT(qualquer), \"\", HYPERLINK(\"https://pt.firesecurityproducts.com/pt/search?q=\"&B218, \"Link Web\"))","v":"Link Web"},0,8337.3799999999992]
[null,"TVN-2364P-80T",{"$f":"_xlfn.XLOOKUP($B219,Tabela!A:A,Tabela!C:C,\"não encontrado\")","v":"NPI"},"TruVision NVR 23P, H.265, 64 canais IP, 2U, 80TB",{"$f":"_xlfn.XLOOKUP($B219,Tabela!$A:$A,Tabela!$D:$D,\"não encontrado\")","v":9516.41},{"$f":"IF(B219 =ISTEXT(qualquer), \"\", HYPERLINK(\"https://pt.firesecurityproducts.com/pt/search?q=\"&B219, \"Link Web\"))","v":"Link Web"},0,9516.41]
[null,null,null,null,null,{"$f":"IF(B220 =ISTEXT(qualquer), \"\", HYPERLINK(\"https://pt.firesecurityproducts.com/pt/search?q=\"&B220, \"Link Web\"))","v":""}]
["Série TVR 17",null,"Gravadores Digitais Híbridos com Ligação a Cloud",null,null,{"$f":"IF(B221 =ISTEXT(qualquer), \"\", HYPERLINK(\"https://pt.firesecurityproducts.com/pt/search?q=\"&B221, \"Link Web\"))","v":""}]
[null,null,null,"• Ligação a Cloud UltraSync, permitindo aceder remotamente ao gravador via app, e a todas as funcionalidades da UltraSync.\n• Não necessita de VPN para acesso remoto\n• Configuração Plug & Play \"Linux embedded\"\n• Suporta sinal analógico, HD-TVI, HD-AHD, HD-CVI e tecnologia IP\n• Modelos até 16 canais e 16TB de armazenamento\n• Classificação pessoas/veículos nos sinais HD-TVI\n• Suporta câmaras TruVision IP (série M/S e P) e ANPR\n• Suporta câmaras ANPR \n• Gravação em Tempo Real até 8MP (4K), dual stream em todos os canais\n• Saídas HDMI/VGA e BNC (eventos)\n• Suporte de câmaras de terceiros através de ONVIF Profile S \n• Integração com centrais de intrusão Aritech, via reporte SIA/XSIA\n• Suporta Consola TVK-600 IP\n• Acesso browser, OSD e software visualização e configuração\n• Compatível com a App TVRMobile (iOS e Android) e TruVision Navigator\n•  Integração SDK",null,{"$f":"IF(B222 =ISTEXT(qualquer), \"\", HYPERLINK(\"https://pt.firesecurityproducts.com/pt/search?q=\"&B222, \"Link Web\"))","v":""}]
[null,null,null,null,null,{"$f":"IF(B223 =ISTEXT(qualquer), \"\", HYPERLINK(\"https://pt.firesecurityproducts.com/pt/search?q=\"&B223, \"Link Web\"))","v":""}]
[null,null,null,null,null,{"$f":"IF(B224 =ISTEXT(qualquer), \"\", HYPERLINK(\"https://pt.firesecurityproducts.com/pt/search?q=\"&B224, \"Link Web\"))","v":""}]
[null,null,null,null,null,{"$f":"IF(B225 =ISTEXT(qualquer), \"\", HYPERLINK(\"https://pt.firesecurityproducts.com/pt/search?q=\"&B225, \"Link Web\"))","v":""}]
[null,null,null,null,null,{"$f":"IF(B226 =ISTEXT(qualquer), \"\", HYPERLINK(\"https://pt.firesecurityproducts.com/pt/search?q=\"&B226, \"Link Web\"))","v":""}]
[null,null,null,null,null,{"$f":"IF(B227 =ISTEXT(qualquer), \"\", HYPERLINK(\"https://pt.firesecurityproducts.com/pt/search?q=\"&B227, \"Link Web\"))","v":""}]
[null,null,null,null,null,{"$f":"IF(B228 =ISTEXT(qualquer), \"\", HYPERLINK(\"https://pt.firesecurityproducts.com/pt/search?q=\"&B228, \"Link Web\"))","v":""}]
[null,null,null,null,null,{"$f":"IF(B229 =ISTEXT(qualquer), \"\", HYPERLINK(\"https://pt.firesecurityproducts.com/pt/search?q=\"&B229, \"Link Web\"))","v":""}]
[]
[]
[]
[]
[]
[null,null,null,null,null,{"$f":"IF(B235 =ISTEXT(qualquer), \"\", HYPERLINK(\"https://pt.firesecurityproducts.com/pt/search?q=\"&B235, \"Link Web\"))","v":""}]
[null,null,null,null,null,{"$f":"IF(B236 =ISTEXT(qualquer), \"\", HYPERLINK(\"https://pt.firesecurityproducts.com/pt/search?q=\"&B236, \"Link Web\"))","v":""}]
[null,null,null,null,null,{"$f":"IF(B237 =ISTEXT(qualquer), \"\", HYPERLINK(\"https://pt.firesecurityproducts.com/pt/search?q=\"&B237, \"Link Web\"))","v":""}]
[null,null,null,null,null,{"$f":"IF(B238 =ISTEXT(qualquer), \"\", HYPERLINK(\"https://pt.firesecurityproducts.com/pt/search?q=\"&B238, \"Link Web\"))","v":""}]
[null,null,null,null,null,{"$f":"IF(B239 =ISTEXT(qualquer), \"\", HYPERLINK(\"https://pt.firesecurityproducts.com/pt/search?q=\"&B239, \"Link Web\"))","v":""}]
[null,null,null,null,null,{"$f":"IF(B240 =ISTEXT(qualquer), \"\", HYPERLINK(\"https://pt.firesecurityproducts.com/pt/search?q=\"&B240, \"Link Web\"))","v":""}]
[null,"Sem PoE"]
[null,null,null,null,null,{"$f":"IF(B242 =ISTEXT(qualquer), \"\", HYPERLINK(\"https://pt.firesecurityproducts.com/pt/search?q=\"&B242, \"Link Web\"))","v":""}]
[null,"4 Canais",null,null,"PVP",null,"Desconto","Preço Liquido"]
[null,"TVR-1704C-1T",{"$f":"_xlfn.XLOOKUP($B244,Tabela!A:A,Tabela!C:C,\"não encontrado\")","v":"Mature"},"Gravador Híbrido TruVision 4 Canais, 1 TB",{"$f":"_xlfn.XLOOKUP($B244,Tabela!$A:$A,Tabela!$D:$D,\"não encontrado\")","v":433.52},{"$f":"IF(B244 =ISTEXT(qualquer), \"\", HYPERLINK(\"https://pt.firesecurityproducts.com/pt/search?q=\"&B244, \"Link Web\"))","v":"Link Web"},{"$f":"$G$2","v":0},{"$f":"IF(ISBLANK(G244),\"\",E244-(E244*$G244))","v":433.52}]
[null,"TVR-1704C-2T",{"$f":"_xlfn.XLOOKUP($B245,Tabela!A:A,Tabela!C:C,\"não encontrado\")","v":"Mature"},"Gravador Híbrido TruVision 4 Canais, 2 TB",{"$f":"_xlfn.XLOOKUP($B245,Tabela!$A:$A,Tabela!$D:$D,\"não encontrado\")","v":456.49},{"$f":"IF(B245 =ISTEXT(qualquer), \"\", HYPERLINK(\"https://pt.firesecurityproducts.com/pt/search?q=\"&B245, \"Link Web\"))","v":"Link Web"},{"$f":"$G$2","v":0},{"$f":"IF(ISBLANK(G245),\"\",E245-(E245*$G245))","v":456.49}]
[null,null,null,null,null,{"$f":"IF(B246 =ISTEXT(qualquer), \"\", HYPERLINK(\"https://pt.firesecurityproducts.com/pt/search?q=\"&B246, \"Link Web\"))","v":""}]
[null,"8 Canais"]
[null,"TVR-1708-2T",{"$f":"_xlfn.XLOOKUP($B248,Tabela!A:A,Tabela!C:C,\"não encontrado\")","v":"Mature"},"Gravador Híbrido TruVision 8 Canais, 2 TB",{"$f":"_xlfn.XLOOKUP($B248,Tabela!$A:$A,Tabela!$D:$D,\"não encontrado\")","v":667.99},{"$f":"IF(B248 =ISTEXT(qualquer), \"\", HYPERLINK(\"https://pt.firesecurityproducts.com/pt/search?q=\"&B248, \"Link Web\"))","v":"Link Web"},{"$f":"$G$2","v":0},{"$f":"IF(ISBLANK(G248),\"\",E248-(E248*$G248))","v":667.99}]
[null,"TVR-1708-4T",{"$f":"_xlfn.XLOOKUP($B249,Tabela!A:A,Tabela!C:C,\"não encontrado\")","v":"Mature"},"Gravador Híbrido TruVision 8 Canais, 4 TB",{"$f":"_xlfn.XLOOKUP($B249,Tabela!$A:$A,Tabela!$D:$D,\"não encontrado\")","v":769.43},{"$f":"IF(B249 =ISTEXT(qualquer), \"\", HYPERLINK(\"https://pt.firesecurityproducts.com/pt/search?q=\"&B249, \"Link Web\"))","v":"Link Web"},{"$f":"$G$2","v":0},769.43]
[null,null,null,null,null,{"$f":"IF(B250 =ISTEXT(qualquer), \"\", HYPERLINK(\"https://pt.firesecurityproducts.com/pt/search?q=\"&B250, \"Link Web\"))","v":""}]
[null,"16 Canais "]
[null,"TVR-1716-2T",{"$f":"_xlfn.XLOOKUP($B252,Tabela!A:A,Tabela!C:C,\"não encontrado\")","v":"Sell-out"},"Gravador Híbrido TruVision 16 Canais, 2 TB",{"$f":"_xlfn.XLOOKUP($B252,Tabela!$A:$A,Tabela!$D:$D,\"não encontrado\")","v":1041.22},{"$f":"IF(B252 =ISTEXT(qualquer), \"\", HYPERLINK(\"https://pt.firesecurityproducts.com/pt/search?q=\"&B252, \"Link Web\"))","v":"Link Web"},{"$f":"$G$2","v":0},{"$f":"IF(ISBLANK(G252),\"\",E252-(E252*$G252))","v":1041.22}]
[null,"TVR-1716-4T",{"$f":"_xlfn.XLOOKUP($B253,Tabela!A:A,Tabela!C:C,\"não encontrado\")","v":"Sell-out"},"Gravador Híbrido TruVision 16 Canais, 4 TB",{"$f":"_xlfn.XLOOKUP($B253,Tabela!$A:$A,Tabela!$D:$D,\"não encontrado\")","v":1142.6600000000001},{"$f":"IF(B253 =ISTEXT(qualquer), \"\", HYPERLINK(\"https://pt.firesecurityproducts.com/pt/search?q=\"&B253, \"Link Web\"))","v":"Link Web"},0,{"$f":"IF(ISBLANK(G253),\"\",E253-(E253*$G253))","v":1142.6600000000001}]
[null,"TVR-1716-6T",{"$f":"_xlfn.XLOOKUP($B254,Tabela!A:A,Tabela!C:C,\"não encontrado\")","v":"Sell-out"},"Gravador Híbrido TruVision 16 Canais, 6 TB",{"$f":"_xlfn.XLOOKUP($B254,Tabela!$A:$A,Tabela!$D:$D,\"não encontrado\")","v":1276.6400000000001},{"$f":"IF(B254 =ISTEXT(qualquer), \"\", HYPERLINK(\"https://pt.firesecurityproducts.com/pt/search?q=\"&B254, \"Link Web\"))","v":"Link Web"},0,1276.6400000000001]
[null,"TVR-1716-8T",{"$f":"_xlfn.XLOOKUP($B255,Tabela!A:A,Tabela!C:C,\"não encontrado\")","v":"Sell-out"},"Gravador Híbrido TruVision 16 Canais, 8 TB",{"$f":"_xlfn.XLOOKUP($B255,Tabela!$A:$A,Tabela!$D:$D,\"não encontrado\")","v":1439.33},{"$f":"IF(B255 =ISTEXT(qualquer), \"\", HYPERLINK(\"https://pt.firesecurityproducts.com/pt/search?q=\"&B255, \"Link Web\"))","v":"Link Web"},0,1439.33]
[null,"TVR-1716-12T",{"$f":"_xlfn.XLOOKUP($B256,Tabela!A:A,Tabela!C:C,\"não encontrado\")","v":"Sell-out"},"Gravador Híbrido TruVision 16 Canais, 12 TB",{"$f":"_xlfn.XLOOKUP($B256,Tabela!$A:$A,Tabela!$D:$D,\"não encontrado\")","v":1707.29},{"$f":"IF(B256 =ISTEXT(qualquer), \"\", HYPERLINK(\"https://pt.firesecurityproducts.com/pt/search?q=\"&B256, \"Link Web\"))","v":"Link Web"},0,1707.29]
[null,"TVR-1716-16T",{"$f":"_xlfn.XLOOKUP($B257,Tabela!A:A,Tabela!C:C,\"não encontrado\")","v":"Sell-out"},"Gravador Híbrido TruVision 16 Canais, 16 TB",{"$f":"_xlfn.XLOOKUP($B257,Tabela!$A:$A,Tabela!$D:$D,\"não encontrado\")","v":2013.53},{"$f":"IF(B257 =ISTEXT(qualquer), \"\", HYPERLINK(\"https://pt.firesecurityproducts.com/pt/search?q=\"&B257, \"Link Web\"))","v":"Link Web"},0,2013.53]
[null,null,null,null,null,{"$f":"IF(B258 =ISTEXT(qualquer), \"\", HYPERLINK(\"https://pt.firesecurityproducts.com/pt/search?q=\"&B258, \"Link Web\"))","v":""}]
["Acessórios",null,"Montagem e Manutenção",null,null,{"$f":"IF(B259 =ISTEXT(qualquer), \"\", HYPERLINK(\"https://pt.firesecurityproducts.com/pt/search?q=\"&B259, \"Link Web\"))","v":""}]
[null,null,null,null,null,{"$f":"IF(B260 =ISTEXT(qualquer), \"\", HYPERLINK(\"https://pt.firesecurityproducts.com/pt/search?q=\"&B260, \"Link Web\"))","v":""}]
[null,"Fontes de Alimentação para Gravadores"]
[null,"TVN-PSU1",{"$f":"_xlfn.XLOOKUP($B262,Tabela!A:A,Tabela!C:C,\"não encontrado\")","v":"Mature"},"PSU 12VDC/3.33A Aplicação: TVR11(4/8ch), TVR12(4/8ch), TVR15HD (4/8ch), TVN10 (Non-PoE), TVN11 (Non-PoE)",{"$f":"_xlfn.XLOOKUP($B262,Tabela!$A:$A,Tabela!$D:$D,\"não encontrado\")","v":71.099999999999994},{"$f":"IF(B262 =ISTEXT(qualquer), \"\", HYPERLINK(\"https://pt.firesecurityproducts.com/pt/search?q=\"&B262, \"Link Web\"))","v":"Link Web"},{"$f":"$G$2","v":0},{"$f":"IF(ISBLANK(G262),\"\",E262-(E262*$G262))","v":71.099999999999994}]
[null,"TVN-PSU-2",{"$f":"_xlfn.XLOOKUP($B263,Tabela!A:A,Tabela!C:C,\"não encontrado\")","v":"NPI"},"PSU 12VDC/3.33A  Aplicação: TVN1208, TVN1216, TVR-1708",{"$f":"_xlfn.XLOOKUP($B263,Tabela!$A:$A,Tabela!$D:$D,\"não encontrado\")","v":44.98},{"$f":"IF(B263 =ISTEXT(qualquer), \"\", HYPERLINK(\"https://pt.firesecurityproducts.com/pt/search?q=\"&B263, \"Link Web\"))","v":"Link Web"},{"$f":"$G$2","v":0},44.98]
[null,"TVN-PSU-3",{"$f":"_xlfn.XLOOKUP($B264,Tabela!A:A,Tabela!C:C,\"não encontrado\")","v":"NPI"},"PSU 12VDC/5A Aplicação: TVR1716",{"$f":"_xlfn.XLOOKUP($B264,Tabela!$A:$A,Tabela!$D:$D,\"não encontrado\")","v":44.98},{"$f":"IF(B264 =ISTEXT(qualquer), \"\", HYPERLINK(\"https://pt.firesecurityproducts.com/pt/search?q=\"&B264, \"Link Web\"))","v":"Link Web"},{"$f":"$G$2","v":0},44.98]
[null,"TVN-PSU-POE-1",{"$f":"_xlfn.XLOOKUP($B265,Tabela!A:A,Tabela!C:C,\"não encontrado\")","v":"Mature"},"PSU 48V/1.35A Aplicação: TVN12 4 Canais PoE (TVN-1204cS-1T e TVR-1204cS-2T)",{"$f":"_xlfn.XLOOKUP($B265,Tabela!$A:$A,Tabela!$D:$D,\"não encontrado\")","v":46.89},{"$f":"IF(B265 =ISTEXT(qualquer), \"\", HYPERLINK(\"https://pt.firesecurityproducts.com/pt/search?q=\"&B265, \"Link Web\"))","v":"Link Web"},{"$f":"$G$2","v":0},46.89]
[null,"TVN-PSU-POE-2",{"$f":"_xlfn.XLOOKUP($B266,Tabela!A:A,Tabela!C:C,\"não encontrado\")","v":"Mature"},"PSU 48V/2.5A Aplicação: TVN12 8 Canais PoE (TVN-1208S-2T e TVN-1208S-4T)",{"$f":"_xlfn.XLOOKUP($B266,Tabela!$A:$A,Tabela!$D:$D,\"não encontrado\")","v":105.27},{"$f":"IF(B266 =ISTEXT(qualquer), \"\", HYPERLINK(\"https://pt.firesecurityproducts.com/pt/search?q=\"&B266, \"Link Web\"))","v":"Link Web"},{"$f":"$G$2","v":0},105.27]
[null,null,null,null,null,{"$f":"IF(B267 =ISTEXT(qualquer), \"\", HYPERLINK(\"https://pt.firesecurityproducts.com/pt/search?q=\"&B267, \"Link Web\"))","v":""}]
["HDD",null,"Kits Expansão HDD TruVision",null,null,{"$f":"IF(B268 =ISTEXT(qualquer), \"\", HYPERLINK(\"https://pt.firesecurityproducts.com/pt/search?q=\"&B268, \"Link Web\"))","v":""}]
[null,null,null,null,null,{"$f":"IF(B269 =ISTEXT(qualquer), \"\", HYPERLINK(\"https://pt.firesecurityproducts.com/pt/search?q=\"&B269, \"Link Web\"))","v":""}]
[null,"WD-PURPLE-1TB",{"$f":"_xlfn.XLOOKUP($B270,Tabela!A:A,Tabela!C:C,\"não encontrado\")","v":"Mature"},"WESTERN DIGITAL PURPLE HDD, 1TB","Sob Consulta",{"$f":"IF(B270 =ISTEXT(qualquer), \"\", HYPERLINK(\"https://pt.firesecurityproducts.com/pt/search?q=\"&B270, \"Link Web\"))","v":"Link Web"},{"$f":"$G$2","v":0},{"$f":"IF(ISBLANK(G270),\"\",E270-(E270*$G270))","v":{"$error":"#VALUE!"}}]
[null,"WD-PURPLE-2TB",{"$f":"_xlfn.XLOOKUP($B271,Tabela!A:A,Tabela!C:C,\"não encontrado\")","v":"NPI"},"WESTERN DIGITAL PURPLE HDD, 2TB","Sob Consulta",{"$f":"IF(B271 =ISTEXT(qualquer), \"\", HYPERLINK(\"https://pt.firesecurityproducts.com/pt/search?q=\"&B271, \"Link Web\"))","v":"Link Web"},0,{"$error":"#VALUE!"}]
[null,"WD-PURPLE-4TB",{"$f":"_xlfn.XLOOKUP($B272,Tabela!A:A,Tabela!C:C,\"não encontrado\")","v":"Mature"},"WESTERN DIGITAL PURPLE HDD, 4TB","Sob Consulta",{"$f":"IF(B272 =ISTEXT(qualquer), \"\", HYPERLINK(\"https://pt.firesecurityproducts.com/pt/search?q=\"&B272, \"Link Web\"))","v":"Link Web"},{"$f":"$G$2","v":0},{"$error":"#VALUE!"}]
[null,"WD-PURPLE-10TB",{"$f":"_xlfn.XLOOKUP($B273,Tabela!A:A,Tabela!C:C,\"não encontrado\")","v":"NPI"},"WESTERN DIGITAL PURPLE HDD, 10TB","Sob Consulta",{"$f":"IF(B273 =ISTEXT(qualquer), \"\", HYPERLINK(\"https://pt.firesecurityproducts.com/pt/search?q=\"&B273, \"Link Web\"))","v":"Link Web"},0,{"$error":"#VALUE!"}]
[]
[null,"SG-SKYHAWK-1TB",{"$f":"_xlfn.XLOOKUP($B275,Tabela!A:A,Tabela!C:C,\"não encontrado\")","v":"NPI"},"Disco Rígido SEAGATE SkyHawk, 1TB","Sob Consulta",{"$f":"IF(B275 =ISTEXT(qualquer), \"\", HYPERLINK(\"https://pt.firesecurityproducts.com/pt/search?q=\"&B275, \"Link Web\"))","v":"Link Web"},{"$f":"$G$2","v":0},{"$f":"IF(ISBLANK(G275),\"\",E275-(E275*$G275))","v":{"$error":"#VALUE!"}}]
[null,"SG-SKYHAWK-2TB",{"$f":"_xlfn.XLOOKUP($B276,Tabela!A:A,Tabela!C:C,\"não encontrado\")","v":"NPI"},"Disco Rígido SEAGATE SkyHawk, 2TB","Sob Consulta",{"$f":"IF(B276 =ISTEXT(qualquer), \"\", HYPERLINK(\"https://pt.firesecurityproducts.com/pt/search?q=\"&B276, \"Link Web\"))","v":"Link Web"},0,{"$error":"#VALUE!"}]
[null,"SG-SKYHAWK-4TB",{"$f":"_xlfn.XLOOKUP($B277,Tabela!A:A,Tabela!C:C,\"não encontrado\")","v":"NPI"},"Disco Rígido SEAGATE SkyHawk, 4TB","Sob Consulta",{"$f":"IF(B277 =ISTEXT(qualquer), \"\", HYPERLINK(\"https://pt.firesecurityproducts.com/pt/search?q=\"&B277, \"Link Web\"))","v":"Link Web"},0,{"$error":"#VALUE!"}]
[null,"SG-SKYHAWK-6TB",{"$f":"_xlfn.XLOOKUP($B278,Tabela!A:A,Tabela!C:C,\"não encontrado\")","v":"NPI"},"Disco Rígido SEAGATE SkyHawk, 6TB","Sob Consulta",{"$f":"IF(B278 =ISTEXT(qualquer), \"\", HYPERLINK(\"https://pt.firesecurityproducts.com/pt/search?q=\"&B278, \"Link Web\"))","v":"Link Web"},0,{"$error":"#VALUE!"}]
[null,"SG-SKYHAWK-8TB",{"$f":"_xlfn.XLOOKUP($B279,Tabela!A:A,Tabela!C:C,\"não encontrado\")","v":"NPI"},"Disco Rígido SEAGATE SkyHawk, 8TB","Sob Consulta",{"$f":"IF(B279 =ISTEXT(qualquer), \"\", HYPERLINK(\"https://pt.firesecurityproducts.com/pt/search?q=\"&B279, \"Link Web\"))","v":"Link Web"},0,{"$error":"#VALUE!"}]
[null,"SG-SKYHAWK-10TB",{"$f":"_xlfn.XLOOKUP($B280,Tabela!A:A,Tabela!C:C,\"não encontrado\")","v":"NPI"},"Disco Rígido SEAGATE SkyHawk, 10TB","Sob Consulta",{"$f":"IF(B280 =ISTEXT(qualquer), \"\", HYPERLINK(\"https://pt.firesecurityproducts.com/pt/search?q=\"&B280, \"Link Web\"))","v":"Link Web"},0,{"$error":"#VALUE!"}]
[null,null,null,null,null,{"$f":"IF(B281 =ISTEXT(qualquer), \"\", HYPERLINK(\"https://pt.firesecurityproducts.com/pt/search?q=\"&B281, \"Link Web\"))","v":""}]
[null,null,null,null,null,{"$f":"IF(B282 =ISTEXT(qualquer), \"\", HYPERLINK(\"https://pt.firesecurityproducts.com/pt/search?q=\"&B282, \"Link Web\"))","v":""}]
["Suportes",null,"Montagem e Fixação",null,null,{"$f":"IF(B283 =ISTEXT(qualquer), \"\", HYPERLINK(\"https://pt.firesecurityproducts.com/pt/search?q=\"&B283, \"Link Web\"))","v":""}]
[null,null,null,null,null,{"$f":"IF(B284 =ISTEXT(qualquer), \"\", HYPERLINK(\"https://pt.firesecurityproducts.com/pt/search?q=\"&B284, \"Link Web\"))","v":""}]
[null,"FPMA-C100",{"$f":"_xlfn.XLOOKUP($B285,Tabela!A:A,Tabela!C:C,\"não encontrado\")","v":"Mature"},"Suporte de teto  (comprimento: 79-129 cm),preto, 10-26\" ",{"$f":"_xlfn.XLOOKUP($B285,Tabela!$A:$A,Tabela!$D:$D,\"não encontrado\")","v":207.72},{"$f":"IF(B285 =ISTEXT(qualquer), \"\", HYPERLINK(\"https://pt.firesecurityproducts.com/pt/search?q=\"&B285, \"Link Web\"))","v":"Link Web"},{"$f":"$G$2","v":0},{"$f":"IF(ISBLANK(G285),\"\",E285-(E285*$G285))","v":207.72}]
[null,"FPMA-W25",{"$f":"_xlfn.XLOOKUP($B286,Tabela!A:A,Tabela!C:C,\"não encontrado\")","v":"Mature"},"Suporte de parede (fixo), preto, 10-30\"",{"$f":"_xlfn.XLOOKUP($B286,Tabela!$A:$A,Tabela!$D:$D,\"não encontrado\")","v":39.630000000000003},{"$f":"IF(B286 =ISTEXT(qualquer), \"\", HYPERLINK(\"https://pt.firesecurityproducts.com/pt/search?q=\"&B286, \"Link Web\"))","v":"Link Web"},{"$f":"$G$2","v":0},39.630000000000003]
[null,"FPMA-W830",{"$f":"_xlfn.XLOOKUP($B287,Tabela!A:A,Tabela!C:C,\"não encontrado\")","v":"Mature"},"Suporte de parede (orientável),prateado, 10-24\" ",{"$f":"_xlfn.XLOOKUP($B287,Tabela!$A:$A,Tabela!$D:$D,\"não encontrado\")","v":104.73},{"$f":"IF(B287 =ISTEXT(qualquer), \"\", HYPERLINK(\"https://pt.firesecurityproducts.com/pt/search?q=\"&B287, \"Link Web\"))","v":"Link Web"},{"$f":"$G$2","v":0},104.73]

{"sheet":"CCTV Suportes e Acessórios","index":20,"n_rows":88,"n_cols":8,"rows_kept":88,"cut":false,"hidden":false,"merged":[[0,2,2,3],[1,6,2,6]]}
[null,null,"Suportes e Acessórios"]
[null,null,null,null,null,null,0]
[]
[null,null,"Status",null,"PVP",null,"Desconto","Preço \nLiquido"]
["Bases e Adaptadores",null,"Fixação de Câmaras Parede e Teto"]
[null,null,null,null,"PVP",null,"Desconto","Preço Liquido"]
[null,"TVB-BB1",{"$f":"_xlfn.XLOOKUP($B7,Tabela!A:A,Tabela!C:C,\"não encontrado\")","v":"Mature"},"Base para Montagem Câmaras Bullet ",{"$f":"_xlfn.XLOOKUP($B7,Tabela!$A:$A,Tabela!$D:$D,\"não encontrado\")","v":18.53},{"$f":"IF(B7 =ISTEXT(qualquer), \"\", HYPERLINK(\"https://pt.firesecurityproducts.com/pt/search?q=\"&B7, \"Link Web\"))","v":"Link Web"},{"$f":"$G$2","v":0},{"$f":"IF(ISBLANK(G7),\"\",E7-(E7*$G7))","v":18.53}]
[null,"TVB-BB2",{"$f":"_xlfn.XLOOKUP($B8,Tabela!A:A,Tabela!C:C,\"não encontrado\")","v":"Mature"},"Base para Montagem Câmaras Mini Bullet",{"$f":"_xlfn.XLOOKUP($B8,Tabela!$A:$A,Tabela!$D:$D,\"não encontrado\")","v":37.31},{"$f":"IF(B8 =ISTEXT(qualquer), \"\", HYPERLINK(\"https://pt.firesecurityproducts.com/pt/search?q=\"&B8, \"Link Web\"))","v":"Link Web"},0,{"$f":"IF(ISBLANK(G8),\"\",E8-(E8*$G8))","v":37.31}]
[null,"TVD-BB1",{"$f":"_xlfn.XLOOKUP($B9,Tabela!A:A,Tabela!C:C,\"não encontrado\")","v":"Mature"},"Base para Montagem Câmaras TruVision ",{"$f":"_xlfn.XLOOKUP($B9,Tabela!$A:$A,Tabela!$D:$D,\"não encontrado\")","v":23.03},{"$f":"IF(B9 =ISTEXT(qualquer), \"\", HYPERLINK(\"https://pt.firesecurityproducts.com/pt/search?q=\"&B9, \"Link Web\"))","v":"Link Web"},0,23.03]
[null,"TVD-BB1-W",{"$f":"_xlfn.XLOOKUP($B10,Tabela!A:A,Tabela!C:C,\"não encontrado\")","v":"Mature"},"Base para Montagem Câmaras TruVision - Branca",{"$f":"_xlfn.XLOOKUP($B10,Tabela!$A:$A,Tabela!$D:$D,\"não encontrado\")","v":20.71},{"$f":"IF(B10 =ISTEXT(qualquer), \"\", HYPERLINK(\"https://pt.firesecurityproducts.com/pt/search?q=\"&B10, \"Link Web\"))","v":"Link Web"},0,20.71]
[null,"TVB-BB1-B",{"$f":"_xlfn.XLOOKUP($B11,Tabela!A:A,Tabela!C:C,\"não encontrado\")","v":"NPI"},"CAIXA TRASEIRA DA CÂMARA BULLET TRUVISION, PRETO",{"$f":"_xlfn.XLOOKUP($B11,Tabela!$A:$A,Tabela!$D:$D,\"não encontrado\")","v":29.34},{"$f":"IF(B11 =ISTEXT(qualquer), \"\", HYPERLINK(\"https://pt.firesecurityproducts.com/pt/search?q=\"&B11, \"Link Web\"))","v":"Link Web"},0,29.34]
[null,"TVD-BB3A-B",{"$f":"_xlfn.XLOOKUP($B12,Tabela!A:A,Tabela!C:C,\"não encontrado\")","v":"Mature"},"CAIXA TRASEIRA ANGULAR TRUVISION PARA CÂMARAS DE TORRET DE LENTE FIXA (PRETO)",{"$f":"_xlfn.XLOOKUP($B12,Tabela!$A:$A,Tabela!$D:$D,\"não encontrado\")","v":30.73},{"$f":"IF(B12 =ISTEXT(qualquer), \"\", HYPERLINK(\"https://pt.firesecurityproducts.com/pt/search?q=\"&B12, \"Link Web\"))","v":"Link Web"},0,30.73]
[null,"TVD-CBW-CB-B",{"$f":"_xlfn.XLOOKUP($B13,Tabela!A:A,Tabela!C:C,\"não encontrado\")","v":"Mature"},"SUPORTE DE MONTAGEM NA PAREDE E BASE DE COPO TRUVISION PARA CÂMARAS DE TORRET DE LENTE FIXA (PRETO)",{"$f":"_xlfn.XLOOKUP($B13,Tabela!$A:$A,Tabela!$D:$D,\"não encontrado\")","v":39.630000000000003},{"$f":"IF(B13 =ISTEXT(qualquer), \"\", HYPERLINK(\"https://pt.firesecurityproducts.com/pt/search?q=\"&B13, \"Link Web\"))","v":"Link Web"},0,39.630000000000003]
[null,"TVD-M-PMA-SS-B",{"$f":"_xlfn.XLOOKUP($B14,Tabela!A:A,Tabela!C:C,\"não encontrado\")","v":"NPI"},"TRUVISION POLE MOUNT, STAINLESS STEEL, BLACK",{"$f":"_xlfn.XLOOKUP($B14,Tabela!$A:$A,Tabela!$D:$D,\"não encontrado\")","v":97.67},{"$f":"IF(B14 =ISTEXT(qualquer), \"\", HYPERLINK(\"https://pt.firesecurityproducts.com/pt/search?q=\"&B14, \"Link Web\"))","v":"Link Web"},0,97.67]
[null,"TVD-BB3",{"$f":"_xlfn.XLOOKUP($B15,Tabela!A:A,Tabela!C:C,\"não encontrado\")","v":"Mature"},"Base para Montagem Câmaras TruVision Wedge e Dome",{"$f":"_xlfn.XLOOKUP($B15,Tabela!$A:$A,Tabela!$D:$D,\"não encontrado\")","v":23.03},{"$f":"IF(B15 =ISTEXT(qualquer), \"\", HYPERLINK(\"https://pt.firesecurityproducts.com/pt/search?q=\"&B15, \"Link Web\"))","v":"Link Web"},0,23.03]
[null,"TVD-BB3A",{"$f":"_xlfn.XLOOKUP($B16,Tabela!A:A,Tabela!C:C,\"não encontrado\")","v":"Mature"},"Base em Ângulo para montagem Câmaras TruVision S6",{"$f":"_xlfn.XLOOKUP($B16,Tabela!$A:$A,Tabela!$D:$D,\"não encontrado\")","v":23.03},{"$f":"IF(B16 =ISTEXT(qualquer), \"\", HYPERLINK(\"https://pt.firesecurityproducts.com/pt/search?q=\"&B16, \"Link Web\"))","v":"Link Web"},0,23.03]
[null,"TVD-BB3A-B",{"$f":"_xlfn.XLOOKUP($B17,Tabela!A:A,Tabela!C:C,\"não encontrado\")","v":"Mature"},"Base em Ângulo para montagem Câmaras TruVision S6 - Preto",{"$f":"_xlfn.XLOOKUP($B17,Tabela!$A:$A,Tabela!$D:$D,\"não encontrado\")","v":30.73},{"$f":"IF(B17 =ISTEXT(qualquer), \"\", HYPERLINK(\"https://pt.firesecurityproducts.com/pt/search?q=\"&B17, \"Link Web\"))","v":"Link Web"},0,30.73]
[null,"TVD-BB4-W",{"$f":"_xlfn.XLOOKUP($B18,Tabela!A:A,Tabela!C:C,\"não encontrado\")","v":"Mature"},"Base de Montagem Câmaras Dome TruVision Série M",{"$f":"_xlfn.XLOOKUP($B18,Tabela!$A:$A,Tabela!$D:$D,\"não encontrado\")","v":36.9},{"$f":"IF(B18 =ISTEXT(qualquer), \"\", HYPERLINK(\"https://pt.firesecurityproducts.com/pt/search?q=\"&B18, \"Link Web\"))","v":"Link Web"},0,36.9]
[null,"TVD-BB4",{"$f":"_xlfn.XLOOKUP($B19,Tabela!A:A,Tabela!C:C,\"não encontrado\")","v":"Mature"},"Base de Montagem Câmaras TruVision S6",{"$f":"_xlfn.XLOOKUP($B19,Tabela!$A:$A,Tabela!$D:$D,\"não encontrado\")","v":38.729999999999997},{"$f":"IF(B19 =ISTEXT(qualquer), \"\", HYPERLINK(\"https://pt.firesecurityproducts.com/pt/search?q=\"&B19, \"Link Web\"))","v":"Link Web"},0,38.729999999999997]
[null,"TVD-SNB-BB",{"$f":"_xlfn.XLOOKUP($B20,Tabela!A:A,Tabela!C:C,\"não encontrado\")","v":"Sell-out"},"Caixa montagem, 4 entradas para cabos, aplicação interior/exterior",{"$f":"_xlfn.XLOOKUP($B20,Tabela!$A:$A,Tabela!$D:$D,\"não encontrado\")","v":71.36},{"$f":"IF(B20 =ISTEXT(qualquer), \"\", HYPERLINK(\"https://pt.firesecurityproducts.com/pt/search?q=\"&B20, \"Link Web\"))","v":"Link Web"},0,71.36]
[null,"TVW-AWB-1",{"$f":"_xlfn.XLOOKUP($B21,Tabela!A:A,Tabela!C:C,\"não encontrado\")","v":"Sell-out"},"Base em Ângulo TruVision interior/exterior - Câmaras Wedge",{"$f":"_xlfn.XLOOKUP($B21,Tabela!$A:$A,Tabela!$D:$D,\"não encontrado\")","v":46.04},{"$f":"IF(B21 =ISTEXT(qualquer), \"\", HYPERLINK(\"https://pt.firesecurityproducts.com/pt/search?q=\"&B21, \"Link Web\"))","v":"Link Web"},0,46.04]
[null,"TVW-AWB-2",{"$f":"_xlfn.XLOOKUP($B22,Tabela!A:A,Tabela!C:C,\"não encontrado\")","v":"Mature"},"Base em Ângulo Truvision - Câmaras Wedge",{"$f":"_xlfn.XLOOKUP($B22,Tabela!$A:$A,Tabela!$D:$D,\"não encontrado\")","v":28.9},{"$f":"IF(B22 =ISTEXT(qualquer), \"\", HYPERLINK(\"https://pt.firesecurityproducts.com/pt/search?q=\"&B22, \"Link Web\"))","v":"Link Web"},0,28.9]
[null,"TVW-BB1",{"$f":"_xlfn.XLOOKUP($B23,Tabela!A:A,Tabela!C:C,\"não encontrado\")","v":"Mature"},"Base montagem câmaras wedge S6",{"$f":"_xlfn.XLOOKUP($B23,Tabela!$A:$A,Tabela!$D:$D,\"não encontrado\")","v":30.99},{"$f":"IF(B23 =ISTEXT(qualquer), \"\", HYPERLINK(\"https://pt.firesecurityproducts.com/pt/search?q=\"&B23, \"Link Web\"))","v":"Link Web"},0,30.99]
[null,null,null,null,null,{"$f":"IF(B24 =ISTEXT(qualquer), \"\", HYPERLINK(\"https://pt.firesecurityproducts.com/pt/search?q=\"&B24, \"Link Web\"))","v":""}]
["Bases e Suportes",null,"Fixação de Câmaras Parede",null,null,{"$f":"IF(B25 =ISTEXT(qualquer), \"\", HYPERLINK(\"https://pt.firesecurityproducts.com/pt/search?q=\"&B25, \"Link Web\"))","v":""}]
[null,null,null,null,"PVP",{"$f":"IF(B26 =ISTEXT(qualquer), \"\", HYPERLINK(\"https://pt.firesecurityproducts.com/pt/search?q=\"&B26, \"Link Web\"))","v":""},"Desconto","Preço Liquido"]
[null,"DR-RWM-AD",{"$f":"_xlfn.XLOOKUP($B27,Tabela!A:A,Tabela!C:C,\"não encontrado\")","v":"Mature"},"Base Adaptadora Mini Dome Truvision para utilizar suporte parede DR",{"$f":"_xlfn.XLOOKUP($B27,Tabela!$A:$A,Tabela!$D:$D,\"não encontrado\")","v":9.2200000000000006},{"$f":"IF(B27 =ISTEXT(qualquer), \"\", HYPERLINK(\"https://pt.firesecurityproducts.com/pt/search?q=\"&B27, \"Link Web\"))","v":"Link Web"},{"$f":"$G$2","v":0},{"$f":"IF(ISBLANK(G27),\"\",E27-(E27*$G27))","v":9.2200000000000006}]
[null,"TVD-LWB-1",{"$f":"_xlfn.XLOOKUP($B28,Tabela!A:A,Tabela!C:C,\"não encontrado\")","v":"Mature"},"TruVision Dome Bracket, L-Shape",{"$f":"_xlfn.XLOOKUP($B28,Tabela!$A:$A,Tabela!$D:$D,\"não encontrado\")","v":23.03},{"$f":"IF(B28 =ISTEXT(qualquer), \"\", HYPERLINK(\"https://pt.firesecurityproducts.com/pt/search?q=\"&B28, \"Link Web\"))","v":"Link Web"},0,23.03]
[null,"TVD-LWB-2",{"$f":"_xlfn.XLOOKUP($B29,Tabela!A:A,Tabela!C:C,\"não encontrado\")","v":"Mature"},"TruVision Dome Bracket, L-Shape",{"$f":"_xlfn.XLOOKUP($B29,Tabela!$A:$A,Tabela!$D:$D,\"não encontrado\")","v":23.03},{"$f":"IF(B29 =ISTEXT(qualquer), \"\", HYPERLINK(\"https://pt.firesecurityproducts.com/pt/search?q=\"&B29, \"Link Web\"))","v":"Link Web"},0,23.03]
[null,"TVD-LWB-S",{"$f":"_xlfn.XLOOKUP($B30,Tabela!A:A,Tabela!C:C,\"não encontrado\")","v":"Mature"},"Proteção Chuva aplicação Suportes TVD-LWB",{"$f":"_xlfn.XLOOKUP($B30,Tabela!$A:$A,Tabela!$D:$D,\"não encontrado\")","v":14.97},{"$f":"IF(B30 =ISTEXT(qualquer), \"\", HYPERLINK(\"https://pt.firesecurityproducts.com/pt/search?q=\"&B30, \"Link Web\"))","v":"Link Web"},0,14.97]
[null,"TVD-M-CMA",{"$f":"_xlfn.XLOOKUP($B31,Tabela!A:A,Tabela!C:C,\"não encontrado\")","v":"Mature"},"Adaptador de Montagem em Canto ",{"$f":"_xlfn.XLOOKUP($B31,Tabela!$A:$A,Tabela!$D:$D,\"não encontrado\")","v":31.76},{"$f":"IF(B31 =ISTEXT(qualquer), \"\", HYPERLINK(\"https://pt.firesecurityproducts.com/pt/search?q=\"&B31, \"Link Web\"))","v":"Link Web"},0,31.76]
[null,"TVD-M-PMA-SS",{"$f":"_xlfn.XLOOKUP($B32,Tabela!A:A,Tabela!C:C,\"não encontrado\")","v":"Mature"},"Suporte em aço inox para montagem em poste",{"$f":"_xlfn.XLOOKUP($B32,Tabela!$A:$A,Tabela!$D:$D,\"não encontrado\")","v":74.41},{"$f":"IF(B32 =ISTEXT(qualquer), \"\", HYPERLINK(\"https://pt.firesecurityproducts.com/pt/search?q=\"&B32, \"Link Web\"))","v":"Link Web"},0,74.41]
[null,"TVD-M2-WM",{"$f":"_xlfn.XLOOKUP($B33,Tabela!A:A,Tabela!C:C,\"não encontrado\")","v":"Mature"},"Suporte montagem parede Dome Interior TruVision",{"$f":"_xlfn.XLOOKUP($B33,Tabela!$A:$A,Tabela!$D:$D,\"não encontrado\")","v":49.15},{"$f":"IF(B33 =ISTEXT(qualquer), \"\", HYPERLINK(\"https://pt.firesecurityproducts.com/pt/search?q=\"&B33, \"Link Web\"))","v":"Link Web"},0,49.15]
[null,"TVD-CBW",{"$f":"_xlfn.XLOOKUP($B34,Tabela!A:A,Tabela!C:C,\"não encontrado\")","v":"Mature"},"Suporte de parede para base de dome",{"$f":"_xlfn.XLOOKUP($B34,Tabela!$A:$A,Tabela!$D:$D,\"não encontrado\")","v":47.2},{"$f":"IF(B34 =ISTEXT(qualquer), \"\", HYPERLINK(\"https://pt.firesecurityproducts.com/pt/search?q=\"&B34, \"Link Web\"))","v":"Link Web"},0,47.2]
[null,"TVB-PM",{"$f":"_xlfn.XLOOKUP($B35,Tabela!A:A,Tabela!C:C,\"não encontrado\")","v":"Mature"},"Suporte poste para câmaras bullet S6",{"$f":"_xlfn.XLOOKUP($B35,Tabela!$A:$A,Tabela!$D:$D,\"não encontrado\")","v":110.67},{"$f":"IF(B35 =ISTEXT(qualquer), \"\", HYPERLINK(\"https://pt.firesecurityproducts.com/pt/search?q=\"&B35, \"Link Web\"))","v":"Link Web"},0,110.67]
[null,null,null,null,null,{"$f":"IF(B36 =ISTEXT(qualquer), \"\", HYPERLINK(\"https://pt.firesecurityproducts.com/pt/search?q=\"&B36, \"Link Web\"))","v":""}]
["Bases e Suportes",null,"Montagem Pendente",null,null,{"$f":"IF(B37 =ISTEXT(qualquer), \"\", HYPERLINK(\"https://pt.firesecurityproducts.com/pt/search?q=\"&B37, \"Link Web\"))","v":""}]
[null,null,null,null,"PVP",{"$f":"IF(B38 =ISTEXT(qualquer), \"\", HYPERLINK(\"https://pt.firesecurityproducts.com/pt/search?q=\"&B38, \"Link Web\"))","v":""},"Desconto","Preço Liquido"]
[null,"TVD-CB2",{"$f":"_xlfn.XLOOKUP($B39,Tabela!A:A,Tabela!C:C,\"não encontrado\")","v":"Mature"},"Base 2\" para câmaras wedge IP 365",{"$f":"_xlfn.XLOOKUP($B39,Tabela!$A:$A,Tabela!$D:$D,\"não encontrado\")","v":30.11},{"$f":"IF(B39 =ISTEXT(qualquer), \"\", HYPERLINK(\"https://pt.firesecurityproducts.com/pt/search?q=\"&B39, \"Link Web\"))","v":"Link Web"},{"$f":"$G$2","v":0},{"$f":"IF(ISBLANK(G39),\"\",E39-(E39*$G39))","v":30.11}]
[null,"TVD-CB3",{"$f":"_xlfn.XLOOKUP($B40,Tabela!A:A,Tabela!C:C,\"não encontrado\")","v":"Mature"},"Base 3\" para câmaras dome e câmaras turret",{"$f":"_xlfn.XLOOKUP($B40,Tabela!$A:$A,Tabela!$D:$D,\"não encontrado\")","v":18.97},{"$f":"IF(B40 =ISTEXT(qualquer), \"\", HYPERLINK(\"https://pt.firesecurityproducts.com/pt/search?q=\"&B40, \"Link Web\"))","v":"Link Web"},0,18.97]
[null,"TVD-CB3A",{"$f":"_xlfn.XLOOKUP($B41,Tabela!A:A,Tabela!C:C,\"não encontrado\")","v":"Mature"},"Base 3\" para câmaras Série 6 turret varifocal com cabo",{"$f":"_xlfn.XLOOKUP($B41,Tabela!$A:$A,Tabela!$D:$D,\"não encontrado\")","v":23.25},{"$f":"IF(B41 =ISTEXT(qualquer), \"\", HYPERLINK(\"https://pt.firesecurityproducts.com/pt/search?q=\"&B41, \"Link Web\"))","v":"Link Web"},0,23.25]
[null,"TVD-CB3A-W",{"$f":"_xlfn.XLOOKUP($B42,Tabela!A:A,Tabela!C:C,\"não encontrado\")","v":"Mature"},"Base para câmaras Série M 6",{"$f":"_xlfn.XLOOKUP($B42,Tabela!$A:$A,Tabela!$D:$D,\"não encontrado\")","v":22.13},{"$f":"IF(B42 =ISTEXT(qualquer), \"\", HYPERLINK(\"https://pt.firesecurityproducts.com/pt/search?q=\"&B42, \"Link Web\"))","v":"Link Web"},0,22.13]
[null,"TVD-CB9-W",{"$f":"_xlfn.XLOOKUP($B43,Tabela!A:A,Tabela!C:C,\"não encontrado\")","v":"Mature"},"Base para câmaras domes Série 6 (6\")",{"$f":"_xlfn.XLOOKUP($B43,Tabela!$A:$A,Tabela!$D:$D,\"não encontrado\")","v":26.56},{"$f":"IF(B43 =ISTEXT(qualquer), \"\", HYPERLINK(\"https://pt.firesecurityproducts.com/pt/search?q=\"&B43, \"Link Web\"))","v":"Link Web"},0,26.56]
[null,"TVD-CB9",{"$f":"_xlfn.XLOOKUP($B44,Tabela!A:A,Tabela!C:C,\"não encontrado\")","v":"Mature"},"Base para câmaras dome Série 7 exterior",{"$f":"_xlfn.XLOOKUP($B44,Tabela!$A:$A,Tabela!$D:$D,\"não encontrado\")","v":30.99},{"$f":"IF(B44 =ISTEXT(qualquer), \"\", HYPERLINK(\"https://pt.firesecurityproducts.com/pt/search?q=\"&B44, \"Link Web\"))","v":"Link Web"},0,30.99]
[null,"TVD-PPB",{"$f":"_xlfn.XLOOKUP($B45,Tabela!A:A,Tabela!C:C,\"não encontrado\")","v":"Mature"},"Suporte para montagem pendente",{"$f":"_xlfn.XLOOKUP($B45,Tabela!$A:$A,Tabela!$D:$D,\"não encontrado\")","v":53.86},{"$f":"IF(B45 =ISTEXT(qualquer), \"\", HYPERLINK(\"https://pt.firesecurityproducts.com/pt/search?q=\"&B45, \"Link Web\"))","v":"Link Web"},0,53.86]
[null,null,null,null,null,{"$f":"IF(B46 =ISTEXT(qualquer), \"\", HYPERLINK(\"https://pt.firesecurityproducts.com/pt/search?q=\"&B46, \"Link Web\"))","v":""}]
["Bases e Suportes",null,"Montagem Embutir - Modelos Turret, Wedge e MiniDome",null,null,{"$f":"IF(B47 =ISTEXT(qualquer), \"\", HYPERLINK(\"https://pt.firesecurityproducts.com/pt/search?q=\"&B47, \"Link Web\"))","v":""}]
[null,null,null,null,"PVP",{"$f":"IF(B48 =ISTEXT(qualquer), \"\", HYPERLINK(\"https://pt.firesecurityproducts.com/pt/search?q=\"&B48, \"Link Web\"))","v":""},"Desconto","Preço Liquido"]
[null,"TVD-VFM3",{"$f":"_xlfn.XLOOKUP($B49,Tabela!A:A,Tabela!C:C,\"não encontrado\")","v":"Mature"},"Suporte Montagem Embutida para TruVision S6 Dome",{"$f":"_xlfn.XLOOKUP($B49,Tabela!$A:$A,Tabela!$D:$D,\"não encontrado\")","v":100.28},{"$f":"IF(B49 =ISTEXT(qualquer), \"\", HYPERLINK(\"https://pt.firesecurityproducts.com/pt/search?q=\"&B49, \"Link Web\"))","v":"Link Web"},{"$f":"$G$2","v":0},{"$f":"IF(ISBLANK(G49),\"\",E49-(E49*$G49))","v":100.28}]
[null,"TVD-VFM3-W",{"$f":"_xlfn.XLOOKUP($B50,Tabela!A:A,Tabela!C:C,\"não encontrado\")","v":"Mature"},"Suporte Montagem Embutida para Domes TruVision Série M",{"$f":"_xlfn.XLOOKUP($B50,Tabela!$A:$A,Tabela!$D:$D,\"não encontrado\")","v":59.02},{"$f":"IF(B50 =ISTEXT(qualquer), \"\", HYPERLINK(\"https://pt.firesecurityproducts.com/pt/search?q=\"&B50, \"Link Web\"))","v":"Link Web"},{"$f":"$G$2","v":0},59.02]
[null,null,null,null,null,{"$f":"IF(B51 =ISTEXT(qualquer), \"\", HYPERLINK(\"https://pt.firesecurityproducts.com/pt/search?q=\"&B51, \"Link Web\"))","v":""}]
[null,null,null,null,null,{"$f":"IF(B52 =ISTEXT(qualquer), \"\", HYPERLINK(\"https://pt.firesecurityproducts.com/pt/search?q=\"&B52, \"Link Web\"))","v":""}]
["Bases e Suportes",null,"Domes PTZ - Série M e P",null,null,{"$f":"IF(B53 =ISTEXT(qualquer), \"\", HYPERLINK(\"https://pt.firesecurityproducts.com/pt/search?q=\"&B53, \"Link Web\"))","v":""}]
[null,null,null,null,null,{"$f":"IF(B54 =ISTEXT(qualquer), \"\", HYPERLINK(\"https://pt.firesecurityproducts.com/pt/search?q=\"&B54, \"Link Web\"))","v":""}]
[null,"TVP-FM-01",{"$f":"_xlfn.XLOOKUP($B55,Tabela!A:A,Tabela!C:C,\"não encontrado\")","v":"Mature"},"Suporte montagem de embutir para Dome Série M ",{"$f":"_xlfn.XLOOKUP($B55,Tabela!$A:$A,Tabela!$D:$D,\"não encontrado\")","v":134.44},{"$f":"IF(B55 =ISTEXT(qualquer), \"\", HYPERLINK(\"https://pt.firesecurityproducts.com/pt/search?q=\"&B55, \"Link Web\"))","v":"Link Web"},{"$f":"$G$2","v":0},{"$f":"IF(ISBLANK(G55),\"\",E55-(E55*$G55))","v":134.44}]
[null,"TVP-PMB-01",{"$f":"_xlfn.XLOOKUP($B56,Tabela!A:A,Tabela!C:C,\"não encontrado\")","v":"Mature"},"Suporte montagem poste com caixa de ligações para Domes Série M e P\nLiga de alumínio e aço com tratamento",{"$f":"_xlfn.XLOOKUP($B56,Tabela!$A:$A,Tabela!$D:$D,\"não encontrado\")","v":122.27},{"$f":"IF(B56 =ISTEXT(qualquer), \"\", HYPERLINK(\"https://pt.firesecurityproducts.com/pt/search?q=\"&B56, \"Link Web\"))","v":"Link Web"},0,122.27]
[null,"TVP-PMB-02",{"$f":"_xlfn.XLOOKUP($B57,Tabela!A:A,Tabela!C:C,\"não encontrado\")","v":"NPI"},"TRUVISION PTZ POLE MOUNT BRACKET",{"$f":"_xlfn.XLOOKUP($B57,Tabela!$A:$A,Tabela!$D:$D,\"não encontrado\")","v":90.72},{"$f":"IF(B57 =ISTEXT(qualquer), \"\", HYPERLINK(\"https://pt.firesecurityproducts.com/pt/search?q=\"&B57, \"Link Web\"))","v":"Link Web"},0,{"$f":"IF(ISBLANK(G57),\"\",E57-(E57*$G57))","v":90.72}]
[null,"TVP-PMB-03",{"$f":"_xlfn.XLOOKUP($B58,Tabela!A:A,Tabela!C:C,\"não encontrado\")","v":"NPI"},"TRUVISION PTZ PENDANT MOUNT BRACKET",{"$f":"_xlfn.XLOOKUP($B58,Tabela!$A:$A,Tabela!$D:$D,\"não encontrado\")","v":44.21},{"$f":"IF(B58 =ISTEXT(qualquer), \"\", HYPERLINK(\"https://pt.firesecurityproducts.com/pt/search?q=\"&B58, \"Link Web\"))","v":"Link Web"},0,{"$f":"IF(ISBLANK(G58),\"\",E58-(E58*$G58))","v":44.21}]
[null,"TVP-CMB-01",{"$f":"_xlfn.XLOOKUP($B59,Tabela!A:A,Tabela!C:C,\"não encontrado\")","v":"Mature"},"Suporte montagem canto com caixa de ligações para Domes Série M e P\nLiga de alumínio e aço com tratamento",{"$f":"_xlfn.XLOOKUP($B59,Tabela!$A:$A,Tabela!$D:$D,\"não encontrado\")","v":122.27},{"$f":"IF(B59 =ISTEXT(qualquer), \"\", HYPERLINK(\"https://pt.firesecurityproducts.com/pt/search?q=\"&B59, \"Link Web\"))","v":"Link Web"},0,122.27]
[null,"TVP-CMB-02",{"$f":"_xlfn.XLOOKUP($B60,Tabela!A:A,Tabela!C:C,\"não encontrado\")","v":"NPI"},"TRUVISION PTZ CORNER MOUNT BRACKET",{"$f":"_xlfn.XLOOKUP($B60,Tabela!$A:$A,Tabela!$D:$D,\"não encontrado\")","v":109.48},{"$f":"IF(B60 =ISTEXT(qualquer), \"\", HYPERLINK(\"https://pt.firesecurityproducts.com/pt/search?q=\"&B60, \"Link Web\"))","v":"Link Web"},0,{"$f":"IF(ISBLANK(G60),\"\",E60-(E60*$G60))","v":109.48}]
[null,"TVP-PME-01",{"$f":"_xlfn.XLOOKUP($B61,Tabela!A:A,Tabela!C:C,\"não encontrado\")","v":"Mature"},"Suporte montagem extensível de 1500mm a 25mm - Interior",{"$f":"_xlfn.XLOOKUP($B61,Tabela!$A:$A,Tabela!$D:$D,\"não encontrado\")","v":144.99},{"$f":"IF(B61 =ISTEXT(qualquer), \"\", HYPERLINK(\"https://pt.firesecurityproducts.com/pt/search?q=\"&B61, \"Link Web\"))","v":"Link Web"},0,144.99]
[null,null,null,null,null,{"$f":"IF(B62 =ISTEXT(qualquer), \"\", HYPERLINK(\"https://pt.firesecurityproducts.com/pt/search?q=\"&B62, \"Link Web\"))","v":""}]
["Bases e Suportes",null,"Domes PTZ ",null,null,{"$f":"IF(B63 =ISTEXT(qualquer), \"\", HYPERLINK(\"https://pt.firesecurityproducts.com/pt/search?q=\"&B63, \"Link Web\"))","v":""}]
[null,null,null,null,"PVP",{"$f":"IF(B64 =ISTEXT(qualquer), \"\", HYPERLINK(\"https://pt.firesecurityproducts.com/pt/search?q=\"&B64, \"Link Web\"))","v":""},"Desconto","Preço Liquido"]
[null,"TVP-WMB",{"$f":"_xlfn.XLOOKUP($B65,Tabela!A:A,Tabela!C:C,\"não encontrado\")","v":"Mature"},"TruVision PTZ dome wall mount bracket",{"$f":"_xlfn.XLOOKUP($B65,Tabela!$A:$A,Tabela!$D:$D,\"não encontrado\")","v":149.63},{"$f":"IF(B65 =ISTEXT(qualquer), \"\", HYPERLINK(\"https://pt.firesecurityproducts.com/pt/search?q=\"&B65, \"Link Web\"))","v":"Link Web"},{"$f":"$G$2","v":0},{"$f":"IF(ISBLANK(G65),\"\",E65-(E65*$G65))","v":149.63}]
[null,"TVP-WMB-01",{"$f":"_xlfn.XLOOKUP($B66,Tabela!A:A,Tabela!C:C,\"não encontrado\")","v":"NPI"},"TRUVISION PTZ WALL MOUNT BRACKET",{"$f":"_xlfn.XLOOKUP($B66,Tabela!$A:$A,Tabela!$D:$D,\"não encontrado\")","v":76.180000000000007},{"$f":"IF(B66 =ISTEXT(qualquer), \"\", HYPERLINK(\"https://pt.firesecurityproducts.com/pt/search?q=\"&B66, \"Link Web\"))","v":"Link Web"},0,{"$f":"IF(ISBLANK(G66),\"\",E66-(E66*$G66))","v":76.180000000000007}]
[null,"TVP-WM-CM",{"$f":"_xlfn.XLOOKUP($B67,Tabela!A:A,Tabela!C:C,\"não encontrado\")","v":"Mature"},"Adaptador de esquina",{"$f":"_xlfn.XLOOKUP($B67,Tabela!$A:$A,Tabela!$D:$D,\"não encontrado\")","v":115.11},{"$f":"IF(B67 =ISTEXT(qualquer), \"\", HYPERLINK(\"https://pt.firesecurityproducts.com/pt/search?q=\"&B67, \"Link Web\"))","v":"Link Web"},0,115.11]
[null,"TVP-WM-PM",{"$f":"_xlfn.XLOOKUP($B68,Tabela!A:A,Tabela!C:C,\"não encontrado\")","v":"Mature"},"Adaptador de poste",{"$f":"_xlfn.XLOOKUP($B68,Tabela!$A:$A,Tabela!$D:$D,\"não encontrado\")","v":115.11},{"$f":"IF(B68 =ISTEXT(qualquer), \"\", HYPERLINK(\"https://pt.firesecurityproducts.com/pt/search?q=\"&B68, \"Link Web\"))","v":"Link Web"},0,115.11]
[null,null,null,null,null,{"$f":"IF(B69 =ISTEXT(qualquer), \"\", HYPERLINK(\"https://pt.firesecurityproducts.com/pt/search?q=\"&B69, \"Link Web\"))","v":""}]
["Bases e Suportes",null,"Câmaras Multi-Imagem",null,null,{"$f":"IF(B70 =ISTEXT(qualquer), \"\", HYPERLINK(\"https://pt.firesecurityproducts.com/pt/search?q=\"&B70, \"Link Web\"))","v":""}]
[null,null,null,null,null,{"$f":"IF(B71 =ISTEXT(qualquer), \"\", HYPERLINK(\"https://pt.firesecurityproducts.com/pt/search?q=\"&B71, \"Link Web\"))","v":""}]
[null,"TVMI-PM",{"$f":"_xlfn.XLOOKUP($B72,Tabela!A:A,Tabela!C:C,\"não encontrado\")","v":"Mature"},"Suporte montagem pendente com 57mm para Câmara TruVision Multi-Imagem",{"$f":"_xlfn.XLOOKUP($B72,Tabela!$A:$A,Tabela!$D:$D,\"não encontrado\")","v":35.14},{"$f":"IF(B72 =ISTEXT(qualquer), \"\", HYPERLINK(\"https://pt.firesecurityproducts.com/pt/search?q=\"&B72, \"Link Web\"))","v":"Link Web"},{"$f":"$G$2","v":0},{"$f":"IF(ISBLANK(G72),\"\",E72-(E72*$G72))","v":35.14}]
[null,"TVMI-PM2",{"$f":"_xlfn.XLOOKUP($B73,Tabela!A:A,Tabela!C:C,\"não encontrado\")","v":"Mature"},"Suporte montagem pendente com 200mm para Câmara TruVision Multi-Imagem",{"$f":"_xlfn.XLOOKUP($B73,Tabela!$A:$A,Tabela!$D:$D,\"não encontrado\")","v":60.52},{"$f":"IF(B73 =ISTEXT(qualquer), \"\", HYPERLINK(\"https://pt.firesecurityproducts.com/pt/search?q=\"&B73, \"Link Web\"))","v":"Link Web"},{"$f":"$G$2","v":0},60.52]
[null,"TVMI-PM3",{"$f":"_xlfn.XLOOKUP($B74,Tabela!A:A,Tabela!C:C,\"não encontrado\")","v":"Mature"},"Suporte montagem pendente com 500mm para Câmara TruVision Multi-Imagem",{"$f":"_xlfn.XLOOKUP($B74,Tabela!$A:$A,Tabela!$D:$D,\"não encontrado\")","v":92.17},{"$f":"IF(B74 =ISTEXT(qualquer), \"\", HYPERLINK(\"https://pt.firesecurityproducts.com/pt/search?q=\"&B74, \"Link Web\"))","v":"Link Web"},{"$f":"$G$2","v":0},92.17]
[null,"TVMI-WM",{"$f":"_xlfn.XLOOKUP($B75,Tabela!A:A,Tabela!C:C,\"não encontrado\")","v":"Mature"},"Suporte montagem em parede para Câmara TruVision Multi-Imagem",{"$f":"_xlfn.XLOOKUP($B75,Tabela!$A:$A,Tabela!$D:$D,\"não encontrado\")","v":110.83},{"$f":"IF(B75 =ISTEXT(qualquer), \"\", HYPERLINK(\"https://pt.firesecurityproducts.com/pt/search?q=\"&B75, \"Link Web\"))","v":"Link Web"},{"$f":"$G$2","v":0},110.83]
[null,null,null,null,null,{"$f":"IF(B76 =ISTEXT(qualquer), \"\", HYPERLINK(\"https://pt.firesecurityproducts.com/pt/search?q=\"&B76, \"Link Web\"))","v":""}]
["Acessórios",null,"Cúpulas para Domes",null,null,{"$f":"IF(B77 =ISTEXT(qualquer), \"\", HYPERLINK(\"https://pt.firesecurityproducts.com/pt/search?q=\"&B77, \"Link Web\"))","v":""}]
[null,null,null,null,"PVP",{"$f":"IF(B78 =ISTEXT(qualquer), \"\", HYPERLINK(\"https://pt.firesecurityproducts.com/pt/search?q=\"&B78, \"Link Web\"))","v":""},"Desconto","Preço Liquido"]
[null,"TVD-BS-2C",{"$f":"_xlfn.XLOOKUP($B79,Tabela!A:A,Tabela!C:C,\"não encontrado\")","v":"Mature"},"Cúpula Transparente para domes Série 11/31 IP",{"$f":"_xlfn.XLOOKUP($B79,Tabela!$A:$A,Tabela!$D:$D,\"não encontrado\")","v":14.5},{"$f":"IF(B79 =ISTEXT(qualquer), \"\", HYPERLINK(\"https://pt.firesecurityproducts.com/pt/search?q=\"&B79, \"Link Web\"))","v":"Link Web"},{"$f":"$G$2","v":0},{"$f":"IF(ISBLANK(G79),\"\",E79-(E79*$G79))","v":14.5}]
[null,"TVD-BS-3C",{"$f":"_xlfn.XLOOKUP($B80,Tabela!A:A,Tabela!C:C,\"não encontrado\")","v":"Mature"},"Cúpula Transparente",{"$f":"_xlfn.XLOOKUP($B80,Tabela!$A:$A,Tabela!$D:$D,\"não encontrado\")","v":19.329999999999998},{"$f":"IF(B80 =ISTEXT(qualquer), \"\", HYPERLINK(\"https://pt.firesecurityproducts.com/pt/search?q=\"&B80, \"Link Web\"))","v":"Link Web"},0,19.329999999999998]
[null,"TVD-BS-5C",{"$f":"_xlfn.XLOOKUP($B81,Tabela!A:A,Tabela!C:C,\"não encontrado\")","v":"Mature"},"Cúpula Transparente",{"$f":"_xlfn.XLOOKUP($B81,Tabela!$A:$A,Tabela!$D:$D,\"não encontrado\")","v":24.18},{"$f":"IF(B81 =ISTEXT(qualquer), \"\", HYPERLINK(\"https://pt.firesecurityproducts.com/pt/search?q=\"&B81, \"Link Web\"))","v":"Link Web"},0,24.18]
[null,"TVD-BS-5S",{"$f":"_xlfn.XLOOKUP($B82,Tabela!A:A,Tabela!C:C,\"não encontrado\")","v":"Mature"},"Cúpula Fumada",{"$f":"_xlfn.XLOOKUP($B82,Tabela!$A:$A,Tabela!$D:$D,\"não encontrado\")","v":24.18},{"$f":"IF(B82 =ISTEXT(qualquer), \"\", HYPERLINK(\"https://pt.firesecurityproducts.com/pt/search?q=\"&B82, \"Link Web\"))","v":"Link Web"},0,24.18]
[null,null,null,null,null,{"$f":"IF(B83 =ISTEXT(qualquer), \"\", HYPERLINK(\"https://pt.firesecurityproducts.com/pt/search?q=\"&B83, \"Link Web\"))","v":""}]
["Acessórios",null,"Fontes Alimentação Câmaras",null,null,{"$f":"IF(B84 =ISTEXT(qualquer), \"\", HYPERLINK(\"https://pt.firesecurityproducts.com/pt/search?q=\"&B84, \"Link Web\"))","v":""}]
[null,null,null,null,null,{"$f":"IF(B85 =ISTEXT(qualquer), \"\", HYPERLINK(\"https://pt.firesecurityproducts.com/pt/search?q=\"&B85, \"Link Web\"))","v":""}]
[null,"Universal",null,null,"PVP",{"$f":"IF(B86 =ISTEXT(qualquer), \"\", HYPERLINK(\"https://pt.firesecurityproducts.com/pt/search?q=\"&B86, \"Link Web\"))","v":"Link Web"},"Desconto","Preço Liquido"]
[null,"PSU-3.5A",{"$f":"_xlfn.XLOOKUP($B87,Tabela!A:A,Tabela!C:C,\"não encontrado\")","v":"Mature"},"Fonte alimentação 12VDC 3.5A",{"$f":"_xlfn.XLOOKUP($B87,Tabela!$A:$A,Tabela!$D:$D,\"não encontrado\")","v":47.01},{"$f":"IF(B87 =ISTEXT(qualquer), \"\", HYPERLINK(\"https://pt.firesecurityproducts.com/pt/search?q=\"&B87, \"Link Web\"))","v":"Link Web"},{"$f":"$G$2","v":0},{"$f":"IF(ISBLANK(G87),\"\",E87-(E87*$G87))","v":47.01}]
[null,"PSU-5.0A",{"$f":"_xlfn.XLOOKUP($B88,Tabela!A:A,Tabela!C:C,\"não encontrado\")","v":"Mature"},"Fonte alimentação 12VDC 5A",{"$f":"_xlfn.XLOOKUP($B88,Tabela!$A:$A,Tabela!$D:$D,\"não encontrado\")","v":65.72},{"$f":"IF(B88 =ISTEXT(qualquer), \"\", HYPERLINK(\"https://pt.firesecurityproducts.com/pt/search?q=\"&B88, \"Link Web\"))","v":"Link Web"},{"$f":"$G$2","v":0},65.72]

{"sheet":"Encoders e Network Products IFS","index":21,"n_rows":94,"n_cols":8,"rows_kept":94,"cut":false,"hidden":false,"merged":[[0,2,2,3],[1,6,2,6],[5,2,5,4],[66,2,69,4]]}
[null,null,"Encoders  e Network Products I"]
[null,null,null,null,null,null,0]
[]
[null,null,"Status",null,"PVP",null,"Desconto","Preço \nLiquido"]
["Série TVExx",null,"Encoders e Decoders"]
[null,null,"Os encoders de vídeo IP da série TruVision TVE incluem encoders de 1, 4, 8 e 16 canais, que permitem transformar sinais de câmaras analógicas num sinal IP com compressão H.265. Este produto é uma solução ideal para ajudá-lo a atualizar e migrar gradualmente os sistemas de vigilância por vídeo de analógico para IP."]
[null,"Encoder",null,null,"PVP",null,"Desconto","Preço Liquido"]
[null,"TVE-120",{"$f":"_xlfn.XLOOKUP($B8,Tabela!A:A,Tabela!C:C,\"não encontrado\")","v":"Mature"},"TruVision IP Encoder, 1 CH, H.265/H.264, Compact, 5MP (Max) HD-TVI, 960H, Audio, Alarm, RS-485, PoE (803.AF), 12VDC",{"$f":"_xlfn.XLOOKUP($B8,Tabela!$A:$A,Tabela!$D:$D,\"não encontrado\")","v":239.32},{"$f":"IF(B8 =ISTEXT(qualquer), \"\", HYPERLINK(\"https://pt.firesecurityproducts.com/pt/search?q=\"&B8, \"Link Web\"))","v":"Link Web"},{"$f":"$G$2","v":0},{"$f":"IF(ISBLANK(G8),\"\",E8-(E8*$G8))","v":239.32}]
[null,"TVE-420",{"$f":"_xlfn.XLOOKUP($B9,Tabela!A:A,Tabela!C:C,\"não encontrado\")","v":"Mature"},"TruVision IP Encoder, 4 CH, H.265/H.264, Compact, 5MP (Max) HD-TVI, 960H, Audio, Alarm, RS-485, PoE (803.AF), 12VDC",{"$f":"_xlfn.XLOOKUP($B9,Tabela!$A:$A,Tabela!$D:$D,\"não encontrado\")","v":376.07},{"$f":"IF(B9 =ISTEXT(qualquer), \"\", HYPERLINK(\"https://pt.firesecurityproducts.com/pt/search?q=\"&B9, \"Link Web\"))","v":"Link Web"},{"$f":"$G$2","v":0},{"$f":"IF(ISBLANK(G9),\"\",E9-(E9*$G9))","v":376.07}]
[null,null,null,null,null,{"$f":"IF(B10 =ISTEXT(qualquer), \"\", HYPERLINK(\"https://pt.firesecurityproducts.com/pt/search?q=\"&B10, \"Link Web\"))","v":""}]
[null,"Decoder"]
[null,"TVE-DEC13",{"$f":"_xlfn.XLOOKUP($B12,Tabela!A:A,Tabela!C:C,\"não encontrado\")","v":"NPI"},"Descodificador TruVision para 16 fluxos Full HD, 2 saídas (HDMI, BNC), 12 VDC",{"$f":"_xlfn.XLOOKUP($B12,Tabela!$A:$A,Tabela!$D:$D,\"não encontrado\")","v":933.32},{"$f":"IF(B12 =ISTEXT(qualquer), \"\", HYPERLINK(\"https://pt.firesecurityproducts.com/pt/search?q=\"&B12, \"Link Web\"))","v":"Link Web"},{"$f":"$G$2","v":0},{"$f":"IF(ISBLANK(G12),\"\",E12-(E12*$G12))","v":933.32}]
[null,null,null,null,null,{"$f":"IF(B13 =ISTEXT(qualquer), \"\", HYPERLINK(\"https://pt.firesecurityproducts.com/pt/search?q=\"&B13, \"Link Web\"))","v":""}]
["Switchs",null,"Industriais",null,null,{"$f":"IF(B14 =ISTEXT(qualquer), \"\", HYPERLINK(\"https://pt.firesecurityproducts.com/pt/search?q=\"&B14, \"Link Web\"))","v":""}]
[null,null,null,null,null,{"$f":"IF(B15 =ISTEXT(qualquer), \"\", HYPERLINK(\"https://pt.firesecurityproducts.com/pt/search?q=\"&B15, \"Link Web\"))","v":""}]
[null,"Sem Gestão"]
[null,"NS2052-8P-2C",{"$f":"_xlfn.XLOOKUP($B17,Tabela!A:A,Tabela!C:C,\"não encontrado\")","v":"Mature"},"Switch Industrial sem Gestão 2 x RJ-45/SFP Combo ports\n• 8 Portos 10/100Base-TX (PoE)\n• 2 RJ-45 Combo Ports 100/1000 (não PoE)\n• Auto MDI/MDI-X",{"$f":"_xlfn.XLOOKUP($B17,Tabela!$A:$A,Tabela!$D:$D,\"não encontrado\")","v":731.94},{"$f":"IF(B17 =ISTEXT(qualquer), \"\", HYPERLINK(\"https://pt.firesecurityproducts.com/pt/search?q=\"&B17, \"Link Web\"))","v":"Link Web"},{"$f":"$G$2","v":0},{"$f":"IF(ISBLANK(G17),\"\",E17-(E17*$G17))","v":731.94}]
[null,null,null,null,null,{"$f":"IF(B18 =ISTEXT(qualquer), \"\", HYPERLINK(\"https://pt.firesecurityproducts.com/pt/search?q=\"&B18, \"Link Web\"))","v":""}]
[null,"Com  Gestão"]
[null,"NS3550-8T-2S-V2",{"$f":"_xlfn.XLOOKUP($B20,Tabela!A:A,Tabela!C:C,\"não encontrado\")","v":"Mature"},"8-port + 2-SFP Industrial Gigabit Managed Switch",{"$f":"_xlfn.XLOOKUP($B20,Tabela!$A:$A,Tabela!$D:$D,\"não encontrado\")","v":787.44},{"$f":"IF(B20 =ISTEXT(qualquer), \"\", HYPERLINK(\"https://pt.firesecurityproducts.com/pt/search?q=\"&B20, \"Link Web\"))","v":"Link Web"},{"$f":"$G$2","v":0},{"$f":"IF(ISBLANK(G20),\"\",E20-(E20*$G20))","v":787.44}]
[null,"NS3552-8P-2S-V2",{"$f":"_xlfn.XLOOKUP($B21,Tabela!A:A,Tabela!C:C,\"não encontrado\")","v":"Mature"},"Switch Industrial  8+2 Gigabit PoE+ com Gestão • 8-portos 10/100/1000Base-T com PoE+ • 2-ports SFP (fibra) 100/1000Base-X • Suporte total de TruVision Navigator.",{"$f":"_xlfn.XLOOKUP($B21,Tabela!$A:$A,Tabela!$D:$D,\"não encontrado\")","v":1360.08},{"$f":"IF(B21 =ISTEXT(qualquer), \"\", HYPERLINK(\"https://pt.firesecurityproducts.com/pt/search?q=\"&B21, \"Link Web\"))","v":"Link Web"},{"$f":"$G$2","v":0},1360.08]
[null,"NS3553-4P-1T-2S-V2",{"$f":"_xlfn.XLOOKUP($B22,Tabela!A:A,Tabela!C:C,\"não encontrado\")","v":"Mature"},"Switch Industrial  4 t PoE+ com Gestão\n• 4-Portos 10/100/1000Base-T com PoE+\n• 1-Porto 10/100/1000Base-T RJ-45 uplink\n• 2-Port 100/1000Base-X mini-GBIC/SFP slots, SFP  com DDM",{"$f":"_xlfn.XLOOKUP($B22,Tabela!$A:$A,Tabela!$D:$D,\"não encontrado\")","v":1147.06},{"$f":"IF(B22 =ISTEXT(qualquer), \"\", HYPERLINK(\"https://pt.firesecurityproducts.com/pt/search?q=\"&B22, \"Link Web\"))","v":"Link Web"},{"$f":"$G$2","v":0},1147.06]
[null,"NS3562-8P-2S-V2",{"$f":"_xlfn.XLOOKUP($B23,Tabela!A:A,Tabela!C:C,\"não encontrado\")","v":"Mature"},"8+2 Industrial Gigabit Managed PoE+ Flat Wall Mount Switch",{"$f":"_xlfn.XLOOKUP($B23,Tabela!$A:$A,Tabela!$D:$D,\"não encontrado\")","v":1190.72},{"$f":"IF(B23 =ISTEXT(qualquer), \"\", HYPERLINK(\"https://pt.firesecurityproducts.com/pt/search?q=\"&B23, \"Link Web\"))","v":"Link Web"},{"$f":"$G$2","v":0},1190.72]
[null,null,null,null,null,{"$f":"IF(B24 =ISTEXT(qualquer), \"\", HYPERLINK(\"https://pt.firesecurityproducts.com/pt/search?q=\"&B24, \"Link Web\"))","v":""}]
["Switchs",null,"Economy",null,null,{"$f":"IF(B25 =ISTEXT(qualquer), \"\", HYPERLINK(\"https://pt.firesecurityproducts.com/pt/search?q=\"&B25, \"Link Web\"))","v":""}]
[null,null,null,null,"PVP",{"$f":"IF(B26 =ISTEXT(qualquer), \"\", HYPERLINK(\"https://pt.firesecurityproducts.com/pt/search?q=\"&B26, \"Link Web\"))","v":""},"Desconto","Preço Liquido"]
[null,"ES2402-8P-2C-V3",{"$f":"_xlfn.XLOOKUP($B27,Tabela!A:A,Tabela!C:C,\"não encontrado\")","v":"Sell-out"},"Web Smart Switch Fast Ethernet\n8 Portos PoE-AT, 2x Gig Uplinks",{"$f":"_xlfn.XLOOKUP($B27,Tabela!$A:$A,Tabela!$D:$D,\"não encontrado\")","v":494.81},{"$f":"IF(B27 =ISTEXT(qualquer), \"\", HYPERLINK(\"https://pt.firesecurityproducts.com/pt/search?q=\"&B27, \"Link Web\"))","v":"Link Web"},{"$f":"$G$2","v":0},{"$f":"IF(ISBLANK(G27),\"\",E27-(E27*$G27))","v":494.81}]
[null,"ES3402-16P-2S",{"$f":"_xlfn.XLOOKUP($B28,Tabela!A:A,Tabela!C:C,\"não encontrado\")","v":"NPI"},"16-PORT GIGABIT LITE-MANAGED SWITCH POE-AT WITH 2X 1000X SFP UPLINKS",{"$f":"_xlfn.XLOOKUP($B28,Tabela!$A:$A,Tabela!$D:$D,\"não encontrado\")","v":534.01},{"$f":"IF(B28 =ISTEXT(qualquer), \"\", HYPERLINK(\"https://pt.firesecurityproducts.com/pt/search?q=\"&B28, \"Link Web\"))","v":"Link Web"},{"$f":"$G$2","v":0},534.01]
[null,"ES2402-24P-2C-V3",{"$f":"_xlfn.XLOOKUP($B29,Tabela!A:A,Tabela!C:C,\"não encontrado\")","v":"Sell-out"},"Web Smart Switch Fast Ethernet\n24 Portos PoE-AT, 2x Gig Uplinks",{"$f":"_xlfn.XLOOKUP($B29,Tabela!$A:$A,Tabela!$D:$D,\"não encontrado\")","v":1012.1},{"$f":"IF(B29 =ISTEXT(qualquer), \"\", HYPERLINK(\"https://pt.firesecurityproducts.com/pt/search?q=\"&B29, \"Link Web\"))","v":"Link Web"},{"$f":"$G$2","v":0},1012.1]
[null,null,null,null,null,{"$f":"IF(B30 =ISTEXT(qualquer), \"\", HYPERLINK(\"https://pt.firesecurityproducts.com/pt/search?q=\"&B30, \"Link Web\"))","v":""}]
[null,null,null,null,null,{"$f":"IF(B31 =ISTEXT(qualquer), \"\", HYPERLINK(\"https://pt.firesecurityproducts.com/pt/search?q=\"&B31, \"Link Web\"))","v":""}]
["Switchs",null,"Backbone",null,null,{"$f":"IF(B32 =ISTEXT(qualquer), \"\", HYPERLINK(\"https://pt.firesecurityproducts.com/pt/search?q=\"&B32, \"Link Web\"))","v":""}]
[null,"NS4700-24T-4X",{"$f":"_xlfn.XLOOKUP($B33,Tabela!A:A,Tabela!C:C,\"não encontrado\")","v":"NPI"},"ENTERPRISE-CLASS 24 PORT GIGABIT MANAGED SWITCH WITH 10G UPLINKS",{"$f":"_xlfn.XLOOKUP($B33,Tabela!$A:$A,Tabela!$D:$D,\"não encontrado\")","v":595.25},{"$f":"IF(B33 =ISTEXT(qualquer), \"\", HYPERLINK(\"https://pt.firesecurityproducts.com/pt/search?q=\"&B33, \"Link Web\"))","v":"Link Web"},{"$f":"$G$2","v":0},{"$f":"IF(ISBLANK(G33),\"\",E33-(E33*$G33))","v":595.25}]
[null,"NS4702-24P-4X-V3",{"$f":"_xlfn.XLOOKUP($B34,Tabela!A:A,Tabela!C:C,\"não encontrado\")","v":"NPI"},"ENTERPRISE-CLASS 24 PORT POE AT GIGABIT MANAGED SWITCH WITH 10G UPLINKS",{"$f":"_xlfn.XLOOKUP($B34,Tabela!$A:$A,Tabela!$D:$D,\"não encontrado\")","v":995.28},{"$f":"IF(B34 =ISTEXT(qualquer), \"\", HYPERLINK(\"https://pt.firesecurityproducts.com/pt/search?q=\"&B34, \"Link Web\"))","v":"Link Web"},0,995.28]
[null,"NS4703-24P-4X",{"$f":"_xlfn.XLOOKUP($B35,Tabela!A:A,Tabela!C:C,\"não encontrado\")","v":"NPI"},"Switch gerenciável de 24 portas gigabit de classe empresarial com 8 portas poe bt (802.3bt) → 60 W ou até 90 W por porta, 16 portas PoE at e ligações de uplink de 10G",{"$f":"_xlfn.XLOOKUP($B35,Tabela!$A:$A,Tabela!$D:$D,\"não encontrado\")","v":1148.4000000000001},{"$f":"IF(B35 =ISTEXT(qualquer), \"\", HYPERLINK(\"https://pt.firesecurityproducts.com/pt/search?q=\"&B35, \"Link Web\"))","v":"Link Web"},0,{"$f":"IF(ISBLANK(G35),\"\",E35-(E35*$G35))","v":1148.4000000000001}]
[null,"NS4750-24S-4T-4X-V2",{"$f":"_xlfn.XLOOKUP($B36,Tabela!A:A,Tabela!C:C,\"não encontrado\")","v":"Mature"},"24 SFP PORT GIGABIT MANAGED SWITCH, 4 x 10G SFP PORTS, 4 x 10/100/1000 RJ45 Ports",{"$f":"_xlfn.XLOOKUP($B36,Tabela!$A:$A,Tabela!$D:$D,\"não encontrado\")","v":1496.07},{"$f":"IF(B36 =ISTEXT(qualquer), \"\", HYPERLINK(\"https://pt.firesecurityproducts.com/pt/search?q=\"&B36, \"Link Web\"))","v":"Link Web"},{"$f":"$G$2","v":0},1496.07]
[null,"NS4700-24T-4X",{"$f":"_xlfn.XLOOKUP($B37,Tabela!A:A,Tabela!C:C,\"não encontrado\")","v":"NPI"},"ENTERPRISE-CLASS 24 PORT GIGABIT MANAGED SWITCH WITH 10G UPLINKS",{"$f":"_xlfn.XLOOKUP($B37,Tabela!$A:$A,Tabela!$D:$D,\"não encontrado\")","v":595.25},{"$f":"IF(B37 =ISTEXT(qualquer), \"\", HYPERLINK(\"https://pt.firesecurityproducts.com/pt/search?q=\"&B37, \"Link Web\"))","v":"Link Web"},{"$f":"$G$2","v":0},595.25]
[null,null,null,null,null,{"$f":"IF(B38 =ISTEXT(qualquer), \"\", HYPERLINK(\"https://pt.firesecurityproducts.com/pt/search?q=\"&B38, \"Link Web\"))","v":""}]
["Vídeo",null,"IP & Power Over Coax",null,null,{"$f":"IF(B39 =ISTEXT(qualquer), \"\", HYPERLINK(\"https://pt.firesecurityproducts.com/pt/search?q=\"&B39, \"Link Web\"))","v":""}]
[null,"POC252-1CX-1P",{"$f":"_xlfn.XLOOKUP($B40,Tabela!A:A,Tabela!C:C,\"não encontrado\")","v":"Mature"},"1-Porto IP over Coax Extender com PoE-AT (Máx. 25W) - Lado da Camera\n• Auto-negotiation and auto-MDI/MDI-X\n• IEEE 1901 communication Standard\n• Wavelet-OFDM modulation\n• 128-bit AES security encryption",{"$f":"_xlfn.XLOOKUP($B40,Tabela!$A:$A,Tabela!$D:$D,\"não encontrado\")","v":279.67},{"$f":"IF(B40 =ISTEXT(qualquer), \"\", HYPERLINK(\"https://pt.firesecurityproducts.com/pt/search?q=\"&B40, \"Link Web\"))","v":"Link Web"},{"$f":"$G$2","v":0},{"$f":"IF(ISBLANK(G40),\"\",E40-(E40*$G40))","v":279.67}]
[null,"POC252-1CXP-1T",{"$f":"_xlfn.XLOOKUP($B41,Tabela!A:A,Tabela!C:C,\"não encontrado\")","v":"Mature"},"1-Porto IP over Coax Extender com PoE-AT (Máx. 36W) - Lado do Swicth\n• Auto-negotiation and auto-MDI/MDI-X\n• IEEE 1901 communication Standard\n• Wavelet-OFDM modulation\n• 128-bit AES security encryption",{"$f":"_xlfn.XLOOKUP($B41,Tabela!$A:$A,Tabela!$D:$D,\"não encontrado\")","v":279.67},{"$f":"IF(B41 =ISTEXT(qualquer), \"\", HYPERLINK(\"https://pt.firesecurityproducts.com/pt/search?q=\"&B41, \"Link Web\"))","v":"Link Web"},{"$f":"$G$2","v":0},279.67]
[null,null,null,null,null,{"$f":"IF(B42 =ISTEXT(qualquer), \"\", HYPERLINK(\"https://pt.firesecurityproducts.com/pt/search?q=\"&B42, \"Link Web\"))","v":""}]
["Interfaces",null,"Media Converters",null,null,{"$f":"IF(B43 =ISTEXT(qualquer), \"\", HYPERLINK(\"https://pt.firesecurityproducts.com/pt/search?q=\"&B43, \"Link Web\"))","v":""}]
[null,null,null,null,"PVP",{"$f":"IF(B44 =ISTEXT(qualquer), \"\", HYPERLINK(\"https://pt.firesecurityproducts.com/pt/search?q=\"&B44, \"Link Web\"))","v":""},"Desconto","Preço Liquido"]
[null,"MC352-4P-2S-V2",{"$f":"_xlfn.XLOOKUP($B45,Tabela!A:A,Tabela!C:C,\"não encontrado\")","v":"Mature"},"Media Convertor Industrial 4 Portos Ethernet Gigabit para 2 Portos SFP \n• 10/100/1000 Base-SX/BX/LX/LHX/ZX e 100 Base-FX/BX/LX\n• 10/100Base-Tx: 2 pares UTP Cat. 5e/6, até 100m\n• Conformidade com IEEE 802.3at e IEEE802.3af\n• 2 Portos SFP",{"$f":"_xlfn.XLOOKUP($B45,Tabela!$A:$A,Tabela!$D:$D,\"não encontrado\")","v":629.76},{"$f":"IF(B45 =ISTEXT(qualquer), \"\", HYPERLINK(\"https://pt.firesecurityproducts.com/pt/search?q=\"&B45, \"Link Web\"))","v":"Link Web"},{"$f":"$G$2","v":0},{"$f":"IF(ISBLANK(G45),\"\",E45-(E45*$G45))","v":629.76}]
[null,"MC352-1P-1S",{"$f":"_xlfn.XLOOKUP($B46,Tabela!A:A,Tabela!C:C,\"não encontrado\")","v":"PreRelease"},"INDUSTRIAL IP67 MEDIA CONVERTER 1000BASE-X SFP TO 10/100/1000BASE-T 802.3AT POE",{"$f":"_xlfn.XLOOKUP($B46,Tabela!$A:$A,Tabela!$D:$D,\"não encontrado\")","v":212.45},{"$f":"IF(B46 =ISTEXT(qualquer), \"\", HYPERLINK(\"https://pt.firesecurityproducts.com/pt/search?q=\"&B46, \"Link Web\"))","v":"Link Web"},0,212.45]
[null,"NS3503-8P-2X",{"$f":"_xlfn.XLOOKUP($B47,Tabela!A:A,Tabela!C:C,\"não encontrado\")","v":"NPI"},"8-PORT GIGABIT MANAGED SWITCH, 4X POE 802.3AT, 4X POE 802.3BT WITH 2-PORT 10G SPF",{"$f":"_xlfn.XLOOKUP($B47,Tabela!$A:$A,Tabela!$D:$D,\"não encontrado\")","v":744.55},{"$f":"IF(B47 =ISTEXT(qualquer), \"\", HYPERLINK(\"https://pt.firesecurityproducts.com/pt/search?q=\"&B47, \"Link Web\"))","v":"Link Web"},0,{"$f":"IF(ISBLANK(G47),\"\",E47-(E47*$G47))","v":744.55}]
[null,"MC250-4T/2S",{"$f":"_xlfn.XLOOKUP($B48,Tabela!A:A,Tabela!C:C,\"não encontrado\")","v":"Mature"},"Media Convertor Industrial 4 Portos Ethernet para SFP \n• 4 Portos RJ-45 10/100Base-TX\n• Conformidade com IEEE 802.3, IEEE 802.3u \n• Auto negociação e MDI/MDI-X\n• 2 Portos SFP - Drop-and-Repeat",{"$f":"_xlfn.XLOOKUP($B48,Tabela!$A:$A,Tabela!$D:$D,\"não encontrado\")","v":186.15},{"$f":"IF(B48 =ISTEXT(qualquer), \"\", HYPERLINK(\"https://pt.firesecurityproducts.com/pt/search?q=\"&B48, \"Link Web\"))","v":"Link Web"},0,186.15]
[null,"MCR300-1T-1S-V2",{"$f":"_xlfn.XLOOKUP($B49,Tabela!A:A,Tabela!C:C,\"não encontrado\")","v":"Mature"},"Gigabit Ethernet to SFP Media Converter",{"$f":"_xlfn.XLOOKUP($B49,Tabela!$A:$A,Tabela!$D:$D,\"não encontrado\")","v":98.96},{"$f":"IF(B49 =ISTEXT(qualquer), \"\", HYPERLINK(\"https://pt.firesecurityproducts.com/pt/search?q=\"&B49, \"Link Web\"))","v":"Link Web"},0,98.96]
[null,null,null,null,null,{"$f":"IF(B50 =ISTEXT(qualquer), \"\", HYPERLINK(\"https://pt.firesecurityproducts.com/pt/search?q=\"&B50, \"Link Web\"))","v":""}]
["Interfaces",null,"PoE Injectors, Splitter ou Extensores",null,null,{"$f":"IF(B51 =ISTEXT(qualquer), \"\", HYPERLINK(\"https://pt.firesecurityproducts.com/pt/search?q=\"&B51, \"Link Web\"))","v":""}]
[null,"POE304-EX-4P-V2",{"$f":"_xlfn.XLOOKUP($B52,Tabela!A:A,Tabela!C:C,\"não encontrado\")","v":"Mature"},"Extensor POE-bt para Ethernet Gigabit Ethernet 4-portos PoE+  \n• 4-Port POE+ Switch powered / 1 x POE-bt input (até 95W)\n• Até 75W potência PoE partilhada\n• Pode ser utilizado com I PoE-Ultra Injector ou outro equipamento em conformidade PSE POE-bt ",{"$f":"_xlfn.XLOOKUP($B52,Tabela!$A:$A,Tabela!$D:$D,\"não encontrado\")","v":337.37},{"$f":"IF(B52 =ISTEXT(qualquer), \"\", HYPERLINK(\"https://pt.firesecurityproducts.com/pt/search?q=\"&B52, \"Link Web\"))","v":"Link Web"},{"$f":"$G$2","v":0},{"$f":"IF(ISBLANK(G52),\"\",E52-(E52*$G52))","v":337.37}]
[null,"POE353-EX-2P",{"$f":"_xlfn.XLOOKUP($B53,Tabela!A:A,Tabela!C:C,\"não encontrado\")","v":"PreRelease"},"INDUSTRIAL IP67 POE EXTENDER 1-PORT POE 802.3BT TO 2-PORT 802.3AT/BT",{"$f":"_xlfn.XLOOKUP($B53,Tabela!$A:$A,Tabela!$D:$D,\"não encontrado\")","v":244.99},{"$f":"IF(B53 =ISTEXT(qualquer), \"\", HYPERLINK(\"https://pt.firesecurityproducts.com/pt/search?q=\"&B53, \"Link Web\"))","v":"Link Web"},{"$f":"$G$2","v":0},244.99]
[null,"POE304-EX-4P-V2",{"$f":"_xlfn.XLOOKUP($B54,Tabela!A:A,Tabela!C:C,\"não encontrado\")","v":"Mature"},"POE-BT TO GIGABIT ETHERNET 4-PORT POE+ EXTENDER",{"$f":"_xlfn.XLOOKUP($B54,Tabela!$A:$A,Tabela!$D:$D,\"não encontrado\")","v":337.37},{"$f":"IF(B54 =ISTEXT(qualquer), \"\", HYPERLINK(\"https://pt.firesecurityproducts.com/pt/search?q=\"&B54, \"Link Web\"))","v":"Link Web"},{"$f":"$G$2","v":0},337.37]
[null,"ESP-300",{"$f":"_xlfn.XLOOKUP($B55,Tabela!A:A,Tabela!C:C,\"não encontrado\")","v":"Mature"},"Proteção Sobretensão\n• Proteção descargas 20KA\n• 2 Portos Ethernet Passivos 10/100/1000 \n• Suporta PoE-at/af pass-through",{"$f":"_xlfn.XLOOKUP($B55,Tabela!$A:$A,Tabela!$D:$D,\"não encontrado\")","v":73.22},{"$f":"IF(B55 =ISTEXT(qualquer), \"\", HYPERLINK(\"https://pt.firesecurityproducts.com/pt/search?q=\"&B55, \"Link Web\"))","v":"Link Web"},{"$f":"$G$2","v":0},73.22]
[null,null,null,null,null,{"$f":"IF(B56 =ISTEXT(qualquer), \"\", HYPERLINK(\"https://pt.firesecurityproducts.com/pt/search?q=\"&B56, \"Link Web\"))","v":""}]
["Acessórios",null,"Fontes de Alimentação",null,null,{"$f":"IF(B57 =ISTEXT(qualquer), \"\", HYPERLINK(\"https://pt.firesecurityproducts.com/pt/search?q=\"&B57, \"Link Web\"))","v":""}]
[null,null,null,null,"PVP",{"$f":"IF(B58 =ISTEXT(qualquer), \"\", HYPERLINK(\"https://pt.firesecurityproducts.com/pt/search?q=\"&B58, \"Link Web\"))","v":""},"Desconto","Preço Liquido"]
[null,"PS5VDC2A-EU",{"$f":"_xlfn.XLOOKUP($B59,Tabela!A:A,Tabela!C:C,\"não encontrado\")","v":"Mature"},"100-240V AC Input 5V DC 2Amp 10W Output Power Supply with EU wallplug (0~+50°C ) 0",{"$f":"_xlfn.XLOOKUP($B59,Tabela!$A:$A,Tabela!$D:$D,\"não encontrado\")","v":31.51},{"$f":"IF(B59 =ISTEXT(qualquer), \"\", HYPERLINK(\"https://pt.firesecurityproducts.com/pt/search?q=\"&B59, \"Link Web\"))","v":"Link Web"},{"$f":"$G$2","v":0},{"$f":"IF(ISBLANK(G59),\"\",E59-(E59*$G59))","v":31.51}]
[null,"PS48VDC.38A-EU",{"$f":"_xlfn.XLOOKUP($B60,Tabela!A:A,Tabela!C:C,\"não encontrado\")","v":"Mature"},"100-240V AC Input 48V DC 0.38Amp 18W Output Power Supply with EU wallplug(0~+50°C )",{"$f":"_xlfn.XLOOKUP($B60,Tabela!$A:$A,Tabela!$D:$D,\"não encontrado\")","v":31.51},{"$f":"IF(B60 =ISTEXT(qualquer), \"\", HYPERLINK(\"https://pt.firesecurityproducts.com/pt/search?q=\"&B60, \"Link Web\"))","v":"Link Web"},0,31.51]
[null,"PS48VDC100W-DIN",{"$f":"_xlfn.XLOOKUP($B61,Tabela!A:A,Tabela!C:C,\"não encontrado\")","v":"Mature"},"100-240V AC Input 48VDC 100W Power Supply with DIN rail mount 0",{"$f":"_xlfn.XLOOKUP($B61,Tabela!$A:$A,Tabela!$D:$D,\"não encontrado\")","v":114.5},{"$f":"IF(B61 =ISTEXT(qualquer), \"\", HYPERLINK(\"https://pt.firesecurityproducts.com/pt/search?q=\"&B61, \"Link Web\"))","v":"Link Web"},0,114.5]
[null,"PS48VDC240W-DIN",{"$f":"_xlfn.XLOOKUP($B62,Tabela!A:A,Tabela!C:C,\"não encontrado\")","v":"Mature"},"100-240V AC Input 48VDC 240W Power Supply with DIN rail mount 0",{"$f":"_xlfn.XLOOKUP($B62,Tabela!$A:$A,Tabela!$D:$D,\"não encontrado\")","v":286.22000000000003},{"$f":"IF(B62 =ISTEXT(qualquer), \"\", HYPERLINK(\"https://pt.firesecurityproducts.com/pt/search?q=\"&B62, \"Link Web\"))","v":"Link Web"},0,286.22000000000003]
[null,"PS48VDC480W-DIN",{"$f":"_xlfn.XLOOKUP($B63,Tabela!A:A,Tabela!C:C,\"não encontrado\")","v":"Mature"},"100-240V AC Input 48VDC 480W Power Supply with DIN rail mount 0",{"$f":"_xlfn.XLOOKUP($B63,Tabela!$A:$A,Tabela!$D:$D,\"não encontrado\")","v":715.57},{"$f":"IF(B63 =ISTEXT(qualquer), \"\", HYPERLINK(\"https://pt.firesecurityproducts.com/pt/search?q=\"&B63, \"Link Web\"))","v":"Link Web"},0,715.57]
[null,"PS54VDC72W-EU",{"$f":"_xlfn.XLOOKUP($B64,Tabela!A:A,Tabela!C:C,\"não encontrado\")","v":"Mature"},"54VDC 72W Output Power Supply with EU wall plug",{"$f":"_xlfn.XLOOKUP($B64,Tabela!$A:$A,Tabela!$D:$D,\"não encontrado\")","v":63.92},{"$f":"IF(B64 =ISTEXT(qualquer), \"\", HYPERLINK(\"https://pt.firesecurityproducts.com/pt/search?q=\"&B64, \"Link Web\"))","v":"Link Web"},0,63.92]
[null,null,null,null,null,{"$f":"IF(B65 =ISTEXT(qualquer), \"\", HYPERLINK(\"https://pt.firesecurityproducts.com/pt/search?q=\"&B65, \"Link Web\"))","v":""}]
["Fibra Óptica",null,"SFPs",null,null,{"$f":"IF(B66 =ISTEXT(qualquer), \"\", HYPERLINK(\"https://pt.firesecurityproducts.com/pt/search?q=\"&B66, \"Link Web\"))","v":""}]
[null,null,"O módulo emissor-receptor foi especificamente concebido para acomodar fibra óptica de alto desempenho. Em conformidade com o SFP Multisource Agreement (MSA), estes módulos transceptores apresentam capacidade de hot-plug para uma fácil instalação sem interromper o equipamento anfitrião que opera online.",null,null,{"$f":"IF(B67 =ISTEXT(qualquer), \"\", HYPERLINK(\"https://pt.firesecurityproducts.com/pt/search?q=\"&B67, \"Link Web\"))","v":""}]
[null,null,null,null,null,{"$f":"IF(B68 =ISTEXT(qualquer), \"\", HYPERLINK(\"https://pt.firesecurityproducts.com/pt/search?q=\"&B68, \"Link Web\"))","v":""}]
[]
[null,null,null,null,null,{"$f":"IF(B70 =ISTEXT(qualquer), \"\", HYPERLINK(\"https://pt.firesecurityproducts.com/pt/search?q=\"&B70, \"Link Web\"))","v":""}]
[null,null,null,null,null,{"$f":"IF(B71 =ISTEXT(qualquer), \"\", HYPERLINK(\"https://pt.firesecurityproducts.com/pt/search?q=\"&B71, \"Link Web\"))","v":""}]
[null,"Multi-mode",null,null,"PVP",{"$f":"IF(B72 =ISTEXT(qualquer), \"\", HYPERLINK(\"https://pt.firesecurityproducts.com/pt/search?q=\"&B72, \"Link Web\"))","v":"Link Web"},"Desconto","Preço Liquido"]
[null,"S30-2MLC",{"$f":"_xlfn.XLOOKUP($B73,Tabela!A:A,Tabela!C:C,\"não encontrado\")","v":"Mature"},"SFP-Port 1000Base-SX Mini-GBIC Module - 2 Fiber - 550m - Multi-Mode - 850nm. (0~50℃) - Based on 50/125µm OM2 Fiber;",{"$f":"_xlfn.XLOOKUP($B73,Tabela!$A:$A,Tabela!$D:$D,\"não encontrado\")","v":85.92},{"$f":"IF(B73 =ISTEXT(qualquer), \"\", HYPERLINK(\"https://pt.firesecurityproducts.com/pt/search?q=\"&B73, \"Link Web\"))","v":"Link Web"},{"$f":"$G$2","v":0},{"$f":"IF(ISBLANK(G73),\"\",E73-(E73*$G73))","v":85.92}]
[null,"S35-2MLC",{"$f":"_xlfn.XLOOKUP($B74,Tabela!A:A,Tabela!C:C,\"não encontrado\")","v":"Mature"},"SFP-Port 1000Base-SX Mini-GBIC Module - 2 Fiber - 550m - Multi-Mode - 850nm. (-40~75℃) - Based on 50/125µm OM2 Fiber;",{"$f":"_xlfn.XLOOKUP($B74,Tabela!$A:$A,Tabela!$D:$D,\"não encontrado\")","v":150.30000000000001},{"$f":"IF(B74 =ISTEXT(qualquer), \"\", HYPERLINK(\"https://pt.firesecurityproducts.com/pt/search?q=\"&B74, \"Link Web\"))","v":"Link Web"},{"$f":"$G$2","v":0},150.30000000000001]
[null,"S30-2MLC-2",{"$f":"_xlfn.XLOOKUP($B75,Tabela!A:A,Tabela!C:C,\"não encontrado\")","v":"Mature"},"SFP-Port 1000Base-SX2 Mini-GBIC Module - 2 Fiber - 2Km - Multi-Mode - 1310nm. (0~50℃) - Based on 50/125µm OM4 Laser Optimised Fiber;",{"$f":"_xlfn.XLOOKUP($B75,Tabela!$A:$A,Tabela!$D:$D,\"não encontrado\")","v":100.25},{"$f":"IF(B75 =ISTEXT(qualquer), \"\", HYPERLINK(\"https://pt.firesecurityproducts.com/pt/search?q=\"&B75, \"Link Web\"))","v":"Link Web"},{"$f":"$G$2","v":0},100.25]
[null,"S20-2MLC-2",{"$f":"_xlfn.XLOOKUP($B76,Tabela!A:A,Tabela!C:C,\"não encontrado\")","v":"Mature"},"SFP-Port 100Base-FX Mini-GBIC Module - 2 Fiber - 2Km - Multi-Mode - 1310nm. (0~50℃);",{"$f":"_xlfn.XLOOKUP($B76,Tabela!$A:$A,Tabela!$D:$D,\"não encontrado\")","v":100.25},{"$f":"IF(B76 =ISTEXT(qualquer), \"\", HYPERLINK(\"https://pt.firesecurityproducts.com/pt/search?q=\"&B76, \"Link Web\"))","v":"Link Web"},{"$f":"$G$2","v":0},100.25]
[null,"S25-2MLC-2",{"$f":"_xlfn.XLOOKUP($B77,Tabela!A:A,Tabela!C:C,\"não encontrado\")","v":"Mature"},"SFP-Port 100Base-FX Mini-GBIC Module - 2 Fiber - 2Km - Multi-Mode - 1310nm. (-40~75℃);",{"$f":"_xlfn.XLOOKUP($B77,Tabela!$A:$A,Tabela!$D:$D,\"não encontrado\")","v":150.30000000000001},{"$f":"IF(B77 =ISTEXT(qualquer), \"\", HYPERLINK(\"https://pt.firesecurityproducts.com/pt/search?q=\"&B77, \"Link Web\"))","v":"Link Web"},{"$f":"$G$2","v":0},150.30000000000001]
[null,null,null,null,null,{"$f":"IF(B78 =ISTEXT(qualquer), \"\", HYPERLINK(\"https://pt.firesecurityproducts.com/pt/search?q=\"&B78, \"Link Web\"))","v":""}]
[null,"Single-mode",null,null,null,{"$f":"IF(B79 =ISTEXT(qualquer), \"\", HYPERLINK(\"https://pt.firesecurityproducts.com/pt/search?q=\"&B79, \"Link Web\"))","v":"Link Web"}]
[null,"S30-2SLC-10",{"$f":"_xlfn.XLOOKUP($B80,Tabela!A:A,Tabela!C:C,\"não encontrado\")","v":"Mature"},"SFP-Port 1000Base-LX10 Mini-GBIC Module - 2 Fiber - 10Km - Single-Mode - 1310nm. (0~50℃);",{"$f":"_xlfn.XLOOKUP($B80,Tabela!$A:$A,Tabela!$D:$D,\"não encontrado\")","v":107.4},{"$f":"IF(B80 =ISTEXT(qualquer), \"\", HYPERLINK(\"https://pt.firesecurityproducts.com/pt/search?q=\"&B80, \"Link Web\"))","v":"Link Web"},{"$f":"$G$2","v":0},{"$f":"IF(ISBLANK(G80),\"\",E80-(E80*$G80))","v":107.4}]
[null,"S35-2SLC-10",{"$f":"_xlfn.XLOOKUP($B81,Tabela!A:A,Tabela!C:C,\"não encontrado\")","v":"Mature"},"SFP-Port 1000Base-LX10 Mini-GBIC Module - 2 Fiber - 10Km - Single-Mode - 1310nm. (-40~75℃);",{"$f":"_xlfn.XLOOKUP($B81,Tabela!$A:$A,Tabela!$D:$D,\"não encontrado\")","v":171.81},{"$f":"IF(B81 =ISTEXT(qualquer), \"\", HYPERLINK(\"https://pt.firesecurityproducts.com/pt/search?q=\"&B81, \"Link Web\"))","v":"Link Web"},0,171.81]
[null,"S30-1SLC/A-20",{"$f":"_xlfn.XLOOKUP($B82,Tabela!A:A,Tabela!C:C,\"não encontrado\")","v":"Mature"},"SFP-Port 1000Base-BX20 Mini-GBIC Module - 1 Fiber - 20Km - Single-Mode - Tx 1310nm - Rx 1490nm. (0~50℃)",{"$f":"_xlfn.XLOOKUP($B82,Tabela!$A:$A,Tabela!$D:$D,\"não encontrado\")","v":257.7},{"$f":"IF(B82 =ISTEXT(qualquer), \"\", HYPERLINK(\"https://pt.firesecurityproducts.com/pt/search?q=\"&B82, \"Link Web\"))","v":"Link Web"},0,257.7]
[null,"S30-1SLC/B-20",{"$f":"_xlfn.XLOOKUP($B83,Tabela!A:A,Tabela!C:C,\"não encontrado\")","v":"Mature"},"SFP-Port 1000Base-BX20 Mini-GBIC Module - 1 Fiber - 20Km - Single-Mode - Tx 1490nm - Rx 1310nm (0~50℃)",{"$f":"_xlfn.XLOOKUP($B83,Tabela!$A:$A,Tabela!$D:$D,\"não encontrado\")","v":448.04},{"$f":"IF(B83 =ISTEXT(qualquer), \"\", HYPERLINK(\"https://pt.firesecurityproducts.com/pt/search?q=\"&B83, \"Link Web\"))","v":"Link Web"},0,448.04]
[null,"S20-2SLC-20",{"$f":"_xlfn.XLOOKUP($B84,Tabela!A:A,Tabela!C:C,\"não encontrado\")","v":"Mature"},"SFP-Port 100Base-LX20 Mini-GBIC Module - 2 Fiber - 20Km - Single-Mode - 1310nm. (0~50℃);",{"$f":"_xlfn.XLOOKUP($B84,Tabela!$A:$A,Tabela!$D:$D,\"não encontrado\")","v":150.30000000000001},{"$f":"IF(B84 =ISTEXT(qualquer), \"\", HYPERLINK(\"https://pt.firesecurityproducts.com/pt/search?q=\"&B84, \"Link Web\"))","v":"Link Web"},0,150.30000000000001]
[null,"S25-2SLC-20",{"$f":"_xlfn.XLOOKUP($B85,Tabela!A:A,Tabela!C:C,\"não encontrado\")","v":"Mature"},"SFP-Port 100Base-LX20 Mini-GBIC Module - 2 Fiber - 20Km - Single-Mode - 1310nm. (-40~75℃);",{"$f":"_xlfn.XLOOKUP($B85,Tabela!$A:$A,Tabela!$D:$D,\"não encontrado\")","v":171.81},{"$f":"IF(B85 =ISTEXT(qualquer), \"\", HYPERLINK(\"https://pt.firesecurityproducts.com/pt/search?q=\"&B85, \"Link Web\"))","v":"Link Web"},0,171.81]
[null,"S25-1MLC-A-2",{"$f":"_xlfn.XLOOKUP($B86,Tabela!A:A,Tabela!C:C,\"não encontrado\")","v":"Mature"},"SFP-Port 100Base-FX Mini-GBIC Module - 1 Fiber - 2Km - Multi-Mode – 1300nm – A End .(-40~75℃)",{"$f":"_xlfn.XLOOKUP($B86,Tabela!$A:$A,Tabela!$D:$D,\"não encontrado\")","v":141.78},{"$f":"IF(B86 =ISTEXT(qualquer), \"\", HYPERLINK(\"https://pt.firesecurityproducts.com/pt/search?q=\"&B86, \"Link Web\"))","v":"Link Web"},0,141.78]
[null,"S25-1MLC-B-2",{"$f":"_xlfn.XLOOKUP($B87,Tabela!A:A,Tabela!C:C,\"não encontrado\")","v":"Mature"},"SFP-Port 100Base-FX Mini-GBIC Module - 1 Fiber - 2Km - Multi-Mode – 1300nm – B End. (-40~75℃)",{"$f":"_xlfn.XLOOKUP($B87,Tabela!$A:$A,Tabela!$D:$D,\"não encontrado\")","v":141.78},{"$f":"IF(B87 =ISTEXT(qualquer), \"\", HYPERLINK(\"https://pt.firesecurityproducts.com/pt/search?q=\"&B87, \"Link Web\"))","v":"Link Web"},0,141.78]
[null,null,null,null,null,{"$f":"IF(B88 =ISTEXT(qualquer), \"\", HYPERLINK(\"https://pt.firesecurityproducts.com/pt/search?q=\"&B88, \"Link Web\"))","v":""}]
[null,"Single-mode e Muli-mode",null,null,null,{"$f":"IF(B89 =ISTEXT(qualquer), \"\", HYPERLINK(\"https://pt.firesecurityproducts.com/pt/search?q=\"&B89, \"Link Web\"))","v":"Link Web"}]
[null,"S40-2MLC",{"$f":"_xlfn.XLOOKUP($B90,Tabela!A:A,Tabela!C:C,\"não encontrado\")","v":"Mature"},"SFP+ Port 10BaseG-SR SFP+ - 2 Fiber - 300m - Multimode Mode (OM3 Fiber) - 850nm (0~70℃)",{"$f":"_xlfn.XLOOKUP($B90,Tabela!$A:$A,Tabela!$D:$D,\"não encontrado\")","v":171.81},{"$f":"IF(B90 =ISTEXT(qualquer), \"\", HYPERLINK(\"https://pt.firesecurityproducts.com/pt/search?q=\"&B90, \"Link Web\"))","v":"Link Web"},{"$f":"$G$2","v":0},{"$f":"IF(ISBLANK(G90),\"\",E90-(E90*$G90))","v":171.81}]
[null,"S40-2SLC-10",{"$f":"_xlfn.XLOOKUP($B91,Tabela!A:A,Tabela!C:C,\"não encontrado\")","v":"Mature"},"SFP+ Port 10BaseG-LR SFP+ Module - 2 Fiber - 10Km - Single-Mode - 1310nm (0~70℃)",{"$f":"_xlfn.XLOOKUP($B91,Tabela!$A:$A,Tabela!$D:$D,\"não encontrado\")","v":314.97000000000003},{"$f":"IF(B91 =ISTEXT(qualquer), \"\", HYPERLINK(\"https://pt.firesecurityproducts.com/pt/search?q=\"&B91, \"Link Web\"))","v":"Link Web"},{"$f":"$G$2","v":0},314.97000000000003]
[null,null,null,null,null,{"$f":"IF(B92 =ISTEXT(qualquer), \"\", HYPERLINK(\"https://pt.firesecurityproducts.com/pt/search?q=\"&B92, \"Link Web\"))","v":""}]
[null,"Cobre",null,null,null,{"$f":"IF(B93 =ISTEXT(qualquer), \"\", HYPERLINK(\"https://pt.firesecurityproducts.com/pt/search?q=\"&B93, \"Link Web\"))","v":"Link Web"}]
[null,"S30-RJ",{"$f":"_xlfn.XLOOKUP($B94,Tabela!A:A,Tabela!C:C,\"não encontrado\")","v":"Mature"},"SFP-Port 1000Base-T Mini-GBIC Module - 1 RJ45 Copper Port - 100m (0~50℃);",{"$f":"_xlfn.XLOOKUP($B94,Tabela!$A:$A,Tabela!$D:$D,\"não encontrado\")","v":128.80000000000001},{"$f":"IF(B94 =ISTEXT(qualquer), \"\", HYPERLINK(\"https://pt.firesecurityproducts.com/pt/search?q=\"&B94, \"Link Web\"))","v":"Link Web"},{"$f":"$G$2","v":0},{"$f":"IF(ISBLANK(G94),\"\",E94-(E94*$G94))","v":128.80000000000001}]

{"sheet":"Fontes & Baterias","index":22,"n_rows":80,"n_cols":8,"rows_kept":80,"cut":false,"hidden":false,"merged":[[46,2,51,4],[0,2,2,3],[1,6,2,6],[5,2,10,4],[17,2,26,4],[32,2,41,4]]}
[null,null,"Fontes de Alimentação e Baterias"]
[null,null,null,null,null,null,0]
[]
[null,null,"Status",null,"PVP",null,"Desconto","Preço \nLiquido"]
["PSU 12V",null," Fontes Alimentação Standard"]
[null,null,"Fontes de alimentação 12VDC de 1 a 4A\n• Corrente nominal continua em carga\n• 0.5A adicional para carga de bateria\n• Proteção eletrónica total contra sobrecarga em operação com alimentação de rede\n• Capacidade máxima de bateria de backup: 12V 7.2Ah\n• Proteção Tamper"]
[]
[]
[]
[]
[]
[null,null,null,null,"PVP",null,"Desconto","Preço Liquido"]
[null,"PM841",{"$f":"_xlfn.XLOOKUP($B13,Tabela!A:A,Tabela!C:C,\"não encontrado\")","v":"Mature"},"Fonte de alimentação com caixa 12VDC / 1 A - Bateria BS127 (1un) ",{"$f":"_xlfn.XLOOKUP($B13,Tabela!$A:$A,Tabela!$D:$D,\"não encontrado\")","v":108.85},{"$f":"IF(B13 =ISTEXT(qualquer), \"\", HYPERLINK(\"https://pt.firesecurityproducts.com/pt/search?q=\"&B13, \"Link Web\"))","v":"Link Web"},{"$f":"$G$2","v":0},{"$f":"IF(ISBLANK(G13),\"\",E13-(E13*$G13))","v":108.85}]
[null,"PM842",{"$f":"_xlfn.XLOOKUP($B14,Tabela!A:A,Tabela!C:C,\"não encontrado\")","v":"Mature"},"Fonte de alimentação com caixa 12VDC / 2 A - Bateria BS127 (1un) ",{"$f":"_xlfn.XLOOKUP($B14,Tabela!$A:$A,Tabela!$D:$D,\"não encontrado\")","v":142.13999999999999},{"$f":"IF(B14 =ISTEXT(qualquer), \"\", HYPERLINK(\"https://pt.firesecurityproducts.com/pt/search?q=\"&B14, \"Link Web\"))","v":"Link Web"},{"$f":"$G$2","v":0},{"$f":"IF(ISBLANK(G14),\"\",E14-(E14*$G14))","v":142.13999999999999}]
[null,"PM844-A",{"$f":"_xlfn.XLOOKUP($B15,Tabela!A:A,Tabela!C:C,\"não encontrado\")","v":"Mature"},"Fonte de alimentação com caixa 12VDC / 4 A - Bateria 18Ah ",{"$f":"_xlfn.XLOOKUP($B15,Tabela!$A:$A,Tabela!$D:$D,\"não encontrado\")","v":325.81},{"$f":"IF(B15 =ISTEXT(qualquer), \"\", HYPERLINK(\"https://pt.firesecurityproducts.com/pt/search?q=\"&B15, \"Link Web\"))","v":"Link Web"},{"$f":"$G$2","v":0},325.81]
[null,null,null,null,null,{"$f":"IF(B16 =ISTEXT(qualquer), \"\", HYPERLINK(\"https://pt.firesecurityproducts.com/pt/search?q=\"&B16, \"Link Web\"))","v":""}]
["PSU 12V",null," Fontes Alimentação EN50131 Grau 2",null,null,{"$f":"IF(B17 =ISTEXT(qualquer), \"\", HYPERLINK(\"https://pt.firesecurityproducts.com/pt/search?q=\"&B17, \"Link Web\"))","v":""}]
[null,null,"Fontes de alimentação comutada12VDC de 1 e 2A  \nAdequado para utilização em sistemas concebidos para cumprir com a norma EN50131-6:2008 Grau 2 e classe ambiental II, exigindo uma capacidade de 8 Ah de bateria em modo de espera.     \n• Sinalização de falha: 230VAC; PSU e bateria baixa\n• Proteção contra descarga total de bateria\n• Proteção contra inversão de polaridade de ligação de bateria\n• Led's de informação de estado\n• Proteção térmica\n• Proteção Tamper\n• Certificação EN50131-6:2008 Grau 2 Tipo A",null,null,{"$f":"IF(B18 =ISTEXT(qualquer), \"\", HYPERLINK(\"https://pt.firesecurityproducts.com/pt/search?q=\"&B18, \"Link Web\"))","v":""}]
[null,null,null,null,null,{"$f":"IF(B19 =ISTEXT(qualquer), \"\", HYPERLINK(\"https://pt.firesecurityproducts.com/pt/search?q=\"&B19, \"Link Web\"))","v":""}]
[null,null,null,null,null,{"$f":"IF(B20 =ISTEXT(qualquer), \"\", HYPERLINK(\"https://pt.firesecurityproducts.com/pt/search?q=\"&B20, \"Link Web\"))","v":""}]
[null,null,null,null,null,{"$f":"IF(B21 =ISTEXT(qualquer), \"\", HYPERLINK(\"https://pt.firesecurityproducts.com/pt/search?q=\"&B21, \"Link Web\"))","v":""}]
[null,null,null,null,null,{"$f":"IF(B22 =ISTEXT(qualquer), \"\", HYPERLINK(\"https://pt.firesecurityproducts.com/pt/search?q=\"&B22, \"Link Web\"))","v":""}]
[]
[]
[null,null,null,null,null,{"$f":"IF(B25 =ISTEXT(qualquer), \"\", HYPERLINK(\"https://pt.firesecurityproducts.com/pt/search?q=\"&B25, \"Link Web\"))","v":""}]
[null,null,null,null,null,{"$f":"IF(B26 =ISTEXT(qualquer), \"\", HYPERLINK(\"https://pt.firesecurityproducts.com/pt/search?q=\"&B26, \"Link Web\"))","v":""}]
[null,null,null,null,null,{"$f":"IF(B27 =ISTEXT(qualquer), \"\", HYPERLINK(\"https://pt.firesecurityproducts.com/pt/search?q=\"&B27, \"Link Web\"))","v":""}]
[null,null,null,null,null,{"$f":"IF(B28 =ISTEXT(qualquer), \"\", HYPERLINK(\"https://pt.firesecurityproducts.com/pt/search?q=\"&B28, \"Link Web\"))","v":""}]
[null,"PM811N-G2",{"$f":"_xlfn.XLOOKUP($B29,Tabela!A:A,Tabela!C:C,\"não encontrado\")","v":"Mature"},"Fonte de alimentação com caixa 12VDC / 1 A - EN 50131 Grau 2\nCapacidade de bateria: 12V 8Ah (máximo) - Dimensões 230 x 200 x 80mm",{"$f":"_xlfn.XLOOKUP($B29,Tabela!$A:$A,Tabela!$D:$D,\"não encontrado\")","v":178.57},{"$f":"IF(B29 =ISTEXT(qualquer), \"\", HYPERLINK(\"https://pt.firesecurityproducts.com/pt/search?q=\"&B29, \"Link Web\"))","v":"Link Web"},{"$f":"$G$2","v":0},{"$f":"IF(ISBLANK(G29),\"\",E29-(E29*$G29))","v":178.57}]
[null,"PM812N-G2",{"$f":"_xlfn.XLOOKUP($B30,Tabela!A:A,Tabela!C:C,\"não encontrado\")","v":"Mature"},"Fonte de alimentação com caixa 12VDC / 1.5 A - EN 50131 Grau 2       \nCapacidade de bateria: 12V 8Ah (máximo) - Dimensões 330 x 275 x 80mm",{"$f":"_xlfn.XLOOKUP($B30,Tabela!$A:$A,Tabela!$D:$D,\"não encontrado\")","v":206.82},{"$f":"IF(B30 =ISTEXT(qualquer), \"\", HYPERLINK(\"https://pt.firesecurityproducts.com/pt/search?q=\"&B30, \"Link Web\"))","v":"Link Web"},{"$f":"$G$2","v":0},206.82]
[null,null,null,null,null,{"$f":"IF(B31 =ISTEXT(qualquer), \"\", HYPERLINK(\"https://pt.firesecurityproducts.com/pt/search?q=\"&B31, \"Link Web\"))","v":""}]
["PSU 12V",null," Fontes Alimentação EN50131 Grau 3",null,null,{"$f":"IF(B32 =ISTEXT(qualquer), \"\", HYPERLINK(\"https://pt.firesecurityproducts.com/pt/search?q=\"&B32, \"Link Web\"))","v":""}]
[null,null,"Fontes de alimentação comutada 12VDC de 1A e 1.5A  \nAdequado para utilização em sistemas concebidos para cumprir com a norma EN50131-6:2008 Grau 3 e classe ambiental II, exigindo uma capacidade de 8 Ah de bateria em modo de espera.     \n• Sinalização de falha: 230VAC; PSU e bateria baixa\n• Proteção contra descarga total de bateria\n• Proteção contra inversão de polaridade de ligação de bateria\n• Led's de informação de estado\n• Proteção térmica\n• Proteção Tamper\n• Certificação EN50131-6:2008 Grau 3 Tipo A",null,null,{"$f":"IF(B33 =ISTEXT(qualquer), \"\", HYPERLINK(\"https://pt.firesecurityproducts.com/pt/search?q=\"&B33, \"Link Web\"))","v":""}]
[null,null,null,null,null,{"$f":"IF(B34 =ISTEXT(qualquer), \"\", HYPERLINK(\"https://pt.firesecurityproducts.com/pt/search?q=\"&B34, \"Link Web\"))","v":""}]
[null,null,null,null,null,{"$f":"IF(B35 =ISTEXT(qualquer), \"\", HYPERLINK(\"https://pt.firesecurityproducts.com/pt/search?q=\"&B35, \"Link Web\"))","v":""}]
[null,null,null,null,null,{"$f":"IF(B36 =ISTEXT(qualquer), \"\", HYPERLINK(\"https://pt.firesecurityproducts.com/pt/search?q=\"&B36, \"Link Web\"))","v":""}]
[null,null,null,null,null,{"$f":"IF(B37 =ISTEXT(qualquer), \"\", HYPERLINK(\"https://pt.firesecurityproducts.com/pt/search?q=\"&B37, \"Link Web\"))","v":""}]
[null,null,null,null,null,{"$f":"IF(B38 =ISTEXT(qualquer), \"\", HYPERLINK(\"https://pt.firesecurityproducts.com/pt/search?q=\"&B38, \"Link Web\"))","v":""}]
[null,null,null,null,null,{"$f":"IF(B39 =ISTEXT(qualquer), \"\", HYPERLINK(\"https://pt.firesecurityproducts.com/pt/search?q=\"&B39, \"Link Web\"))","v":""}]
[null,null,null,null,null,{"$f":"IF(B40 =ISTEXT(qualquer), \"\", HYPERLINK(\"https://pt.firesecurityproducts.com/pt/search?q=\"&B40, \"Link Web\"))","v":""}]
[null,null,null,null,null,{"$f":"IF(B41 =ISTEXT(qualquer), \"\", HYPERLINK(\"https://pt.firesecurityproducts.com/pt/search?q=\"&B41, \"Link Web\"))","v":""}]
[null,null,null,null,null,{"$f":"IF(B42 =ISTEXT(qualquer), \"\", HYPERLINK(\"https://pt.firesecurityproducts.com/pt/search?q=\"&B42, \"Link Web\"))","v":""}]
[null,null,null,null,null,{"$f":"IF(B43 =ISTEXT(qualquer), \"\", HYPERLINK(\"https://pt.firesecurityproducts.com/pt/search?q=\"&B43, \"Link Web\"))","v":""}]
[null,"PM812N-G3",{"$f":"_xlfn.XLOOKUP($B44,Tabela!A:A,Tabela!C:C,\"não encontrado\")","v":"Mature"},"Fonte de alimentação com caixa 12VDC / 1 A - EN 50131 Grau 2                          \nCapacidade de bateria: 12V 8Ah (máximo) - Dimensões 230 x 200 x 80mm",{"$f":"_xlfn.XLOOKUP($B44,Tabela!$A:$A,Tabela!$D:$D,\"não encontrado\")","v":261.11},{"$f":"IF(B44 =ISTEXT(qualquer), \"\", HYPERLINK(\"https://pt.firesecurityproducts.com/pt/search?q=\"&B44, \"Link Web\"))","v":"Link Web"},{"$f":"$G$2","v":0},{"$f":"IF(ISBLANK(G44),\"\",E44-(E44*$G44))","v":261.11}]
[null,null,null,null,null,{"$f":"IF(B45 =ISTEXT(qualquer), \"\", HYPERLINK(\"https://pt.firesecurityproducts.com/pt/search?q=\"&B45, \"Link Web\"))","v":""}]
["PSU 24V",null," Fontes Alimentação Standard",null,null,{"$f":"IF(B46 =ISTEXT(qualquer), \"\", HYPERLINK(\"https://pt.firesecurityproducts.com/pt/search?q=\"&B46, \"Link Web\"))","v":""}]
[null,null,"Fontes de alimentação comutada 24 VDC de 1 a 5A  \nAdequado para utilização em aplicações de incêndio, controlo de acesso e segurança geral.  \n• Indicação de presença de alimentação e de falha\n• Saídas de falha\n• Proteção contra descarga total de bateria\n• Fusíveis de proteção (AC e DC)",null,null,{"$f":"IF(B47 =ISTEXT(qualquer), \"\", HYPERLINK(\"https://pt.firesecurityproducts.com/pt/search?q=\"&B47, \"Link Web\"))","v":""}]
[null,null,null,null,null,{"$f":"IF(B48 =ISTEXT(qualquer), \"\", HYPERLINK(\"https://pt.firesecurityproducts.com/pt/search?q=\"&B48, \"Link Web\"))","v":""}]
[null,null,null,null,null,{"$f":"IF(B49 =ISTEXT(qualquer), \"\", HYPERLINK(\"https://pt.firesecurityproducts.com/pt/search?q=\"&B49, \"Link Web\"))","v":""}]
[null,null,null,null,null,{"$f":"IF(B50 =ISTEXT(qualquer), \"\", HYPERLINK(\"https://pt.firesecurityproducts.com/pt/search?q=\"&B50, \"Link Web\"))","v":""}]
[null,null,null,null,null,{"$f":"IF(B51 =ISTEXT(qualquer), \"\", HYPERLINK(\"https://pt.firesecurityproducts.com/pt/search?q=\"&B51, \"Link Web\"))","v":""}]
[null,null,null,null,null,{"$f":"IF(B52 =ISTEXT(qualquer), \"\", HYPERLINK(\"https://pt.firesecurityproducts.com/pt/search?q=\"&B52, \"Link Web\"))","v":""}]
[null,null,null,null,null,{"$f":"IF(B53 =ISTEXT(qualquer), \"\", HYPERLINK(\"https://pt.firesecurityproducts.com/pt/search?q=\"&B53, \"Link Web\"))","v":""}]
[null,"PM861",{"$f":"_xlfn.XLOOKUP($B54,Tabela!A:A,Tabela!C:C,\"não encontrado\")","v":"Mature"},"Fonte de alimentação comutada com caixa 24VDC/ 1A - Bateria BS127 (2un)",{"$f":"_xlfn.XLOOKUP($B54,Tabela!$A:$A,Tabela!$D:$D,\"não encontrado\")","v":204.38},{"$f":"IF(B54 =ISTEXT(qualquer), \"\", HYPERLINK(\"https://pt.firesecurityproducts.com/pt/search?q=\"&B54, \"Link Web\"))","v":"Link Web"},{"$f":"$G$2","v":0},{"$f":"IF(ISBLANK(G54),\"\",E54-(E54*$G54))","v":204.38}]
[null,"PM862",{"$f":"_xlfn.XLOOKUP($B55,Tabela!A:A,Tabela!C:C,\"não encontrado\")","v":"Mature"},"Fonte de alimentação comutada com caixa 24VDC/ 2A - Bateria BS127 (2un)  ",{"$f":"_xlfn.XLOOKUP($B55,Tabela!$A:$A,Tabela!$D:$D,\"não encontrado\")","v":272.47000000000003},{"$f":"IF(B55 =ISTEXT(qualquer), \"\", HYPERLINK(\"https://pt.firesecurityproducts.com/pt/search?q=\"&B55, \"Link Web\"))","v":"Link Web"},{"$f":"$G$2","v":0},272.47000000000003]
[null,"PM863",{"$f":"_xlfn.XLOOKUP($B56,Tabela!A:A,Tabela!C:C,\"não encontrado\")","v":"Mature"},"Fonte de alimentação comutada com caixa 24VDC/ 3A - Bateria BS127 (2un)  ",{"$f":"_xlfn.XLOOKUP($B56,Tabela!$A:$A,Tabela!$D:$D,\"não encontrado\")","v":342.07},{"$f":"IF(B56 =ISTEXT(qualquer), \"\", HYPERLINK(\"https://pt.firesecurityproducts.com/pt/search?q=\"&B56, \"Link Web\"))","v":"Link Web"},{"$f":"$G$2","v":0},342.07]
[null,"PM865",{"$f":"_xlfn.XLOOKUP($B57,Tabela!A:A,Tabela!C:C,\"não encontrado\")","v":"Mature"},"Fonte de alimentação comutada com caixa 24VDC/ 5A - Bateria BS127 (2un)  ",{"$f":"_xlfn.XLOOKUP($B57,Tabela!$A:$A,Tabela!$D:$D,\"não encontrado\")","v":459.03},{"$f":"IF(B57 =ISTEXT(qualquer), \"\", HYPERLINK(\"https://pt.firesecurityproducts.com/pt/search?q=\"&B57, \"Link Web\"))","v":"Link Web"},{"$f":"$G$2","v":0},459.03]
[null,null,null,null,null,{"$f":"IF(B58 =ISTEXT(qualquer), \"\", HYPERLINK(\"https://pt.firesecurityproducts.com/pt/search?q=\"&B58, \"Link Web\"))","v":""}]
["Baterias",null,null,null,null,{"$f":"IF(B59 =ISTEXT(qualquer), \"\", HYPERLINK(\"https://pt.firesecurityproducts.com/pt/search?q=\"&B59, \"Link Web\"))","v":""}]
[null,null,null,null,null,{"$f":"IF(B60 =ISTEXT(qualquer), \"\", HYPERLINK(\"https://pt.firesecurityproducts.com/pt/search?q=\"&B60, \"Link Web\"))","v":""}]
[null,"Especiais",null,null,"PVP",{"$f":"IF(B61 =ISTEXT(qualquer), \"\", HYPERLINK(\"https://pt.firesecurityproducts.com/pt/search?q=\"&B61, \"Link Web\"))","v":"Link Web"},"Desconto","Preço Liquido"]
[null,"BS170-N",{"$f":"_xlfn.XLOOKUP($B62,Tabela!A:A,Tabela!C:C,\"não encontrado\")","v":"Mature"},"Bateria para Sirenes Série AS27x",{"$f":"_xlfn.XLOOKUP($B62,Tabela!$A:$A,Tabela!$D:$D,\"não encontrado\")","v":49.66},{"$f":"IF(B62 =ISTEXT(qualquer), \"\", HYPERLINK(\"https://pt.firesecurityproducts.com/pt/search?q=\"&B62, \"Link Web\"))","v":"Link Web"},{"$f":"$G$2","v":0},{"$f":"IF(ISBLANK(G62),\"\",E62-(E62*$G62))","v":49.66}]
[null,"DL123A",{"$f":"_xlfn.XLOOKUP($B63,Tabela!A:A,Tabela!C:C,\"não encontrado\")","v":"Mature"},"3V Lítio battery Duracell (Unit)",{"$f":"_xlfn.XLOOKUP($B63,Tabela!$A:$A,Tabela!$D:$D,\"não encontrado\")","v":11.85},{"$f":"IF(B63 =ISTEXT(qualquer), \"\", HYPERLINK(\"https://pt.firesecurityproducts.com/pt/search?q=\"&B63, \"Link Web\"))","v":"Link Web"},{"$f":"$G$2","v":0},11.85]
[null,"AS620RF-BP",{"$f":"_xlfn.XLOOKUP($B64,Tabela!A:A,Tabela!C:C,\"não encontrado\")","v":"Mature"},"Bateria para Sirenes AS620RF",{"$f":"_xlfn.XLOOKUP($B64,Tabela!$A:$A,Tabela!$D:$D,\"não encontrado\")","v":35.19},{"$f":"IF(B64 =ISTEXT(qualquer), \"\", HYPERLINK(\"https://pt.firesecurityproducts.com/pt/search?q=\"&B64, \"Link Web\"))","v":"Link Web"},{"$f":"$G$2","v":0},35.19]
[null,null,null,null,null,{"$f":"IF(B65 =ISTEXT(qualquer), \"\", HYPERLINK(\"https://pt.firesecurityproducts.com/pt/search?q=\"&B65, \"Link Web\"))","v":""}]
[null,"6V",null,null,null,{"$f":"IF(B66 =ISTEXT(qualquer), \"\", HYPERLINK(\"https://pt.firesecurityproducts.com/pt/search?q=\"&B66, \"Link Web\"))","v":"Link Web"}]
[null,"BS111N",{"$f":"_xlfn.XLOOKUP($B67,Tabela!A:A,Tabela!C:C,\"não encontrado\")","v":"Mature"},"Bateria 6V/10Ah - VdS",{"$f":"_xlfn.XLOOKUP($B67,Tabela!$A:$A,Tabela!$D:$D,\"não encontrado\")","v":28.21},{"$f":"IF(B67 =ISTEXT(qualquer), \"\", HYPERLINK(\"https://pt.firesecurityproducts.com/pt/search?q=\"&B67, \"Link Web\"))","v":"Link Web"},{"$f":"$G$2","v":0},{"$f":"IF(ISBLANK(G67),\"\",E67-(E67*$G67))","v":28.21}]
[null,null,null,null,null,{"$f":"IF(B68 =ISTEXT(qualquer), \"\", HYPERLINK(\"https://pt.firesecurityproducts.com/pt/search?q=\"&B68, \"Link Web\"))","v":""}]
[null,"12V",null,null,null,{"$f":"IF(B69 =ISTEXT(qualquer), \"\", HYPERLINK(\"https://pt.firesecurityproducts.com/pt/search?q=\"&B69, \"Link Web\"))","v":"Link Web"}]
[null,"BS121N",{"$f":"_xlfn.XLOOKUP($B70,Tabela!A:A,Tabela!C:C,\"não encontrado\")","v":"Mature"},"Bateria 12V/1,2Ah - VdS ",{"$f":"_xlfn.XLOOKUP($B70,Tabela!$A:$A,Tabela!$D:$D,\"não encontrado\")","v":16.309999999999999},{"$f":"IF(B70 =ISTEXT(qualquer), \"\", HYPERLINK(\"https://pt.firesecurityproducts.com/pt/search?q=\"&B70, \"Link Web\"))","v":"Link Web"},{"$f":"$G$2","v":0},{"$f":"IF(ISBLANK(G70),\"\",E70-(E70*$G70))","v":16.309999999999999}]
[null,"BS122NS",{"$f":"_xlfn.XLOOKUP($B71,Tabela!A:A,Tabela!C:C,\"não encontrado\")","v":"Mature"},"Bateria 12V/2,3Ah ",{"$f":"_xlfn.XLOOKUP($B71,Tabela!$A:$A,Tabela!$D:$D,\"não encontrado\")","v":22.53},{"$f":"IF(B71 =ISTEXT(qualquer), \"\", HYPERLINK(\"https://pt.firesecurityproducts.com/pt/search?q=\"&B71, \"Link Web\"))","v":"Link Web"},0,22.53]
[null,"BS123N",{"$f":"_xlfn.XLOOKUP($B72,Tabela!A:A,Tabela!C:C,\"não encontrado\")","v":"Mature"},"Bateria 12V/3,2Ah    ",{"$f":"_xlfn.XLOOKUP($B72,Tabela!$A:$A,Tabela!$D:$D,\"não encontrado\")","v":32.26},{"$f":"IF(B72 =ISTEXT(qualquer), \"\", HYPERLINK(\"https://pt.firesecurityproducts.com/pt/search?q=\"&B72, \"Link Web\"))","v":"Link Web"},0,32.26]
[null,"BS127N",{"$f":"_xlfn.XLOOKUP($B73,Tabela!A:A,Tabela!C:C,\"não encontrado\")","v":"Mature"},"Bateria 12V/7,2Ah ",{"$f":"_xlfn.XLOOKUP($B73,Tabela!$A:$A,Tabela!$D:$D,\"não encontrado\")","v":28.49},{"$f":"IF(B73 =ISTEXT(qualquer), \"\", HYPERLINK(\"https://pt.firesecurityproducts.com/pt/search?q=\"&B73, \"Link Web\"))","v":"Link Web"},0,28.49]
[null,"BS127N-A",{"$f":"_xlfn.XLOOKUP($B74,Tabela!A:A,Tabela!C:C,\"não encontrado\")","v":"Mature"},"Bateria 12V/7,2Ah Não usar nas centrais de deteção de incêndios",{"$f":"_xlfn.XLOOKUP($B74,Tabela!$A:$A,Tabela!$D:$D,\"não encontrado\")","v":28.77},{"$f":"IF(B74 =ISTEXT(qualquer), \"\", HYPERLINK(\"https://pt.firesecurityproducts.com/pt/search?q=\"&B74, \"Link Web\"))","v":"Link Web"},0,28.77]
[null,"BS129N",{"$f":"_xlfn.XLOOKUP($B75,Tabela!A:A,Tabela!C:C,\"não encontrado\")","v":"Mature"},"Bateria 12V/26Ah - VdS",{"$f":"_xlfn.XLOOKUP($B75,Tabela!$A:$A,Tabela!$D:$D,\"não encontrado\")","v":106.8},{"$f":"IF(B75 =ISTEXT(qualquer), \"\", HYPERLINK(\"https://pt.firesecurityproducts.com/pt/search?q=\"&B75, \"Link Web\"))","v":"Link Web"},0,106.8]
[null,"BS129NS3",{"$f":"_xlfn.XLOOKUP($B76,Tabela!A:A,Tabela!C:C,\"não encontrado\")","v":"Mature"},"Bateria 12V/26Ah - à prova de chamas ",{"$f":"_xlfn.XLOOKUP($B76,Tabela!$A:$A,Tabela!$D:$D,\"não encontrado\")","v":114.66},{"$f":"IF(B76 =ISTEXT(qualquer), \"\", HYPERLINK(\"https://pt.firesecurityproducts.com/pt/search?q=\"&B76, \"Link Web\"))","v":"Link Web"},0,114.66]
[null,"BS131N",{"$f":"_xlfn.XLOOKUP($B77,Tabela!A:A,Tabela!C:C,\"não encontrado\")","v":"Mature"},"Bateria 12V/18Ah - VdS",{"$f":"_xlfn.XLOOKUP($B77,Tabela!$A:$A,Tabela!$D:$D,\"não encontrado\")","v":82.78},{"$f":"IF(B77 =ISTEXT(qualquer), \"\", HYPERLINK(\"https://pt.firesecurityproducts.com/pt/search?q=\"&B77, \"Link Web\"))","v":"Link Web"},0,82.78]
[null,"BS132NS",{"$f":"_xlfn.XLOOKUP($B78,Tabela!A:A,Tabela!C:C,\"não encontrado\")","v":"Mature"},"Bateria 12V/45Ah - VdS",{"$f":"_xlfn.XLOOKUP($B78,Tabela!$A:$A,Tabela!$D:$D,\"não encontrado\")","v":173.22},{"$f":"IF(B78 =ISTEXT(qualquer), \"\", HYPERLINK(\"https://pt.firesecurityproducts.com/pt/search?q=\"&B78, \"Link Web\"))","v":"Link Web"},0,173.22]
[null,"BS133N",{"$f":"_xlfn.XLOOKUP($B79,Tabela!A:A,Tabela!C:C,\"não encontrado\")","v":"Mature"},"Bateria 12V/65Ah - VdS",{"$f":"_xlfn.XLOOKUP($B79,Tabela!$A:$A,Tabela!$D:$D,\"não encontrado\")","v":316.35000000000002},{"$f":"IF(B79 =ISTEXT(qualquer), \"\", HYPERLINK(\"https://pt.firesecurityproducts.com/pt/search?q=\"&B79, \"Link Web\"))","v":"Link Web"},0,316.35000000000002]
[null,"BS134N",{"$f":"_xlfn.XLOOKUP($B80,Tabela!A:A,Tabela!C:C,\"não encontrado\")","v":"Mature"},"Bateria 12V/36Ah",{"$f":"_xlfn.XLOOKUP($B80,Tabela!$A:$A,Tabela!$D:$D,\"não encontrado\")","v":139.12},{"$f":"IF(B80 =ISTEXT(qualquer), \"\", HYPERLINK(\"https://pt.firesecurityproducts.com/pt/search?q=\"&B80, \"Link Web\"))","v":"Link Web"},0,139.12]

{"sheet":"Cabos & Acessórios Instalação","index":23,"n_rows":42,"n_cols":8,"rows_kept":42,"cut":false,"hidden":false,"merged":[[0,2,2,3],[1,6,2,6]]}
[null,null,"Cabos e Acessórios Instalação"]
[null,null,null,null,null,null,0]
[]
[null,null,"Status",null,"PVP",null,"Desconto","Preço \nLiquido"]
["Série WNxx",null,"Cabo de alarme sem par de alimentação - Multifilar"]
[]
[null,"WN106W-TC-ECA-100",{"$f":"_xlfn.XLOOKUP($B7,Tabela!A:A,Tabela!C:C,\"não encontrado\")","v":"NPI"},"SECURITY CABLE 6 X 7 / 0.2 MM, WHITE - TINNED COOPER - ECA - 100M ROLLS",{"$f":"_xlfn.XLOOKUP($B7,Tabela!A:A,Tabela!D:D,\"não encontrado\")","v":{"$error":"#N/A"}},{"$f":"IF(B7 =ISTEXT(qualquer), \"\", HYPERLINK(\"https://pt.firesecurityproducts.com/pt/search?q=\"&B7, \"Link Web\"))","v":"Link Web"},{"$f":"$G$2","v":0},{"$f":"IF(ISBLANK(G7),\"\",E7-(E7*$G7))","v":{"$error":"#N/A"}}]
[null,"WN108W-TC-ECA-100",{"$f":"_xlfn.XLOOKUP($B8,Tabela!A:A,Tabela!C:C,\"não encontrado\")","v":"NPI"},"SECURITY CABLE 8 X 7 / 0.2 MM, WHITE - TINNED COOPER - ECA - 100M ROLLS",{"$f":"_xlfn.XLOOKUP($B8,Tabela!A:A,Tabela!D:D,\"não encontrado\")","v":{"$error":"#N/A"}},{"$f":"IF(B8 =ISTEXT(qualquer), \"\", HYPERLINK(\"https://pt.firesecurityproducts.com/pt/search?q=\"&B8, \"Link Web\"))","v":"Link Web"},{"$f":"$G$2","v":0},{"$error":"#N/A"}]
[null,null,null,null,null,{"$f":"IF(B9 =ISTEXT(qualquer), \"\", HYPERLINK(\"https://pt.firesecurityproducts.com/pt/search?q=\"&B9, \"Link Web\"))","v":""}]
["Série WCxx",null,"Cabo de Alarme blindado com par de alimentação – Multifilar ",null,null,{"$f":"IF(B10 =ISTEXT(qualquer), \"\", HYPERLINK(\"https://pt.firesecurityproducts.com/pt/search?q=\"&B10, \"Link Web\"))","v":""}]
[null,null,null,null,null,{"$f":"IF(B11 =ISTEXT(qualquer), \"\", HYPERLINK(\"https://pt.firesecurityproducts.com/pt/search?q=\"&B11, \"Link Web\"))","v":""}]
[null,"WC112W",{"$f":"_xlfn.XLOOKUP($B12,Tabela!A:A,Tabela!C:C,\"não encontrado\")","v":"Mature"},"SH COM CAB WH 2X0.75(10X7/0.2)",{"$f":"_xlfn.XLOOKUP($B12,Tabela!A:A,Tabela!D:D,\"não encontrado\")","v":191.24},{"$f":"IF(B12 =ISTEXT(qualquer), \"\", HYPERLINK(\"https://pt.firesecurityproducts.com/pt/search?q=\"&B12, \"Link Web\"))","v":"Link Web"},{"$f":"$G$2","v":0},{"$f":"IF(ISBLANK(G12),\"\",E12-(E12*$G12))","v":191.24}]
[null,null,null,null,null,{"$f":"IF(B13 =ISTEXT(qualquer), \"\", HYPERLINK(\"https://pt.firesecurityproducts.com/pt/search?q=\"&B13, \"Link Web\"))","v":""}]
[null,null,null,null,null,{"$f":"IF(B14 =ISTEXT(qualquer), \"\", HYPERLINK(\"https://pt.firesecurityproducts.com/pt/search?q=\"&B14, \"Link Web\"))","v":""}]
["Série WCxx",null,"Cabo de Alarme blindado – Multifilar ",null,null,{"$f":"IF(B15 =ISTEXT(qualquer), \"\", HYPERLINK(\"https://pt.firesecurityproducts.com/pt/search?q=\"&B15, \"Link Web\"))","v":""}]
[null,null,null,null,null,{"$f":"IF(B16 =ISTEXT(qualquer), \"\", HYPERLINK(\"https://pt.firesecurityproducts.com/pt/search?q=\"&B16, \"Link Web\"))","v":""}]
[null,"WCAT52-BC-CCA-100",{"$f":"_xlfn.XLOOKUP($B17,Tabela!A:A,Tabela!C:C,\"não encontrado\")","v":"NPI"},"2 PAIRS - FTP LAN CABLE - CATEGORY 5E (ENHANCED) - BARE COOPER - CCA - 100M ROLLS",{"$f":"_xlfn.XLOOKUP($B17,Tabela!A:A,Tabela!D:D,\"não encontrado\")","v":{"$error":"#N/A"}},{"$f":"IF(B17 =ISTEXT(qualquer), \"\", HYPERLINK(\"https://pt.firesecurityproducts.com/pt/search?q=\"&B17, \"Link Web\"))","v":"Link Web"},{"$f":"$G$2","v":0},{"$f":"IF(ISBLANK(G17),\"\",E17-(E17*$G17))","v":{"$error":"#N/A"}}]
[null,"WCAT52-BC-ECA-100",{"$f":"_xlfn.XLOOKUP($B18,Tabela!A:A,Tabela!C:C,\"não encontrado\")","v":"NPI"},"2 PAIRS - FTP LAN CABLE - CATEGORY 5E (ENHANCED) - BARE COOPER - ECA - 100M ROLLS",{"$f":"_xlfn.XLOOKUP($B18,Tabela!A:A,Tabela!D:D,\"não encontrado\")","v":{"$error":"#N/A"}},{"$f":"IF(B18 =ISTEXT(qualquer), \"\", HYPERLINK(\"https://pt.firesecurityproducts.com/pt/search?q=\"&B18, \"Link Web\"))","v":"Link Web"},{"$f":"$G$2","v":0},{"$f":"IF(ISBLANK(G18),\"\",E18-(E18*$G18))","v":{"$error":"#N/A"}}]
[null,"WCAT52-BC-ECA-500",{"$f":"_xlfn.XLOOKUP($B19,Tabela!A:A,Tabela!C:C,\"não encontrado\")","v":"NPI"},"2 PAIRS - FTP LAN CABLE - CATEGORY 5E (ENHANCED) - BARE COOPER - ECA - 500M ROLLS",{"$f":"_xlfn.XLOOKUP($B19,Tabela!A:A,Tabela!D:D,\"não encontrado\")","v":{"$error":"#N/A"}},{"$f":"IF(B19 =ISTEXT(qualquer), \"\", HYPERLINK(\"https://pt.firesecurityproducts.com/pt/search?q=\"&B19, \"Link Web\"))","v":"Link Web"},{"$f":"$G$2","v":0},{"$f":"IF(ISBLANK(G19),\"\",E19-(E19*$G19))","v":{"$error":"#N/A"}}]
[null,null,null,null,null,{"$f":"IF(B20 =ISTEXT(qualquer), \"\", HYPERLINK(\"https://pt.firesecurityproducts.com/pt/search?q=\"&B20, \"Link Web\"))","v":""}]
["Série WBxx e WCxx",null,"Cabos livres de Halogéneo",null,null,{"$f":"IF(B21 =ISTEXT(qualquer), \"\", HYPERLINK(\"https://pt.firesecurityproducts.com/pt/search?q=\"&B21, \"Link Web\"))","v":""}]
[null,null,null,null,null,{"$f":"IF(B22 =ISTEXT(qualquer), \"\", HYPERLINK(\"https://pt.firesecurityproducts.com/pt/search?q=\"&B22, \"Link Web\"))","v":""}]
[null,"WB1-HF",{"$f":"_xlfn.XLOOKUP($B23,Tabela!A:A,Tabela!C:C,\"não encontrado\")","v":"Mature"},"Cabo Belden 9504 Cca grade - Rolo 500 m",{"$f":"_xlfn.XLOOKUP($B23,Tabela!A:A,Tabela!D:D,\"não encontrado\")","v":812.99},{"$f":"IF(B23 =ISTEXT(qualquer), \"\", HYPERLINK(\"https://pt.firesecurityproducts.com/pt/search?q=\"&B23, \"Link Web\"))","v":"Link Web"},{"$f":"$G$2","v":0},{"$f":"IF(ISBLANK(G23),\"\",E23-(E23*$G23))","v":812.99}]
[null,null,null,null,null,{"$f":"IF(B24 =ISTEXT(qualquer), \"\", HYPERLINK(\"https://pt.firesecurityproducts.com/pt/search?q=\"&B24, \"Link Web\"))","v":""}]
["Série ESxx",null,"Caixas de junção",null,null,{"$f":"IF(B25 =ISTEXT(qualquer), \"\", HYPERLINK(\"https://pt.firesecurityproducts.com/pt/search?q=\"&B25, \"Link Web\"))","v":""}]
[null,null,null,null,null,{"$f":"IF(B26 =ISTEXT(qualquer), \"\", HYPERLINK(\"https://pt.firesecurityproducts.com/pt/search?q=\"&B26, \"Link Web\"))","v":""},"Desconto","Preço Liquido"]
[null,"ES058W",{"$f":"_xlfn.XLOOKUP($B27,Tabela!A:A,Tabela!C:C,\"não encontrado\")","v":"Mature"},"Caixa de junção 5+2 terminais Cor: branca, temp.: -40ºC/+50ºC   Embalagem 1 x 10 unidades (custo unidade)",{"$f":"_xlfn.XLOOKUP($B27,Tabela!A:A,Tabela!D:D,\"não encontrado\")","v":2.98},{"$f":"IF(B27 =ISTEXT(qualquer), \"\", HYPERLINK(\"https://pt.firesecurityproducts.com/pt/search?q=\"&B27, \"Link Web\"))","v":"Link Web"},{"$f":"$G$2","v":0},{"$f":"IF(ISBLANK(G27),\"\",E27-(E27*$G27))","v":2.98}]
[null,"ES059W",{"$f":"_xlfn.XLOOKUP($B28,Tabela!A:A,Tabela!C:C,\"não encontrado\")","v":"Mature"},"Caixa de junção 8+2 terminais Cor: branca, temp.: -40ºC/+50ºC Embalagem 1 x 10 unidades (custo unidade) ",{"$f":"_xlfn.XLOOKUP($B28,Tabela!A:A,Tabela!D:D,\"não encontrado\")","v":3.14},{"$f":"IF(B28 =ISTEXT(qualquer), \"\", HYPERLINK(\"https://pt.firesecurityproducts.com/pt/search?q=\"&B28, \"Link Web\"))","v":"Link Web"},{"$f":"$G$2","v":0},3.14]
[null,"ES060W",{"$f":"_xlfn.XLOOKUP($B29,Tabela!A:A,Tabela!C:C,\"não encontrado\")","v":"Mature"},"Caixa de junção 22+2 terminais Cor: cinza, temp.: -40ºC/+50ºC ",{"$f":"_xlfn.XLOOKUP($B29,Tabela!A:A,Tabela!D:D,\"não encontrado\")","v":11.56},{"$f":"IF(B29 =ISTEXT(qualquer), \"\", HYPERLINK(\"https://pt.firesecurityproducts.com/pt/search?q=\"&B29, \"Link Web\"))","v":"Link Web"},{"$f":"$G$2","v":0},11.56]
[null,"ES070W",{"$f":"_xlfn.XLOOKUP($B30,Tabela!A:A,Tabela!C:C,\"não encontrado\")","v":"Mature"},"Caixa de junção - 8 terminais Tamper reed - baixo perfil",{"$f":"_xlfn.XLOOKUP($B30,Tabela!A:A,Tabela!D:D,\"não encontrado\")","v":16.420000000000002},{"$f":"IF(B30 =ISTEXT(qualquer), \"\", HYPERLINK(\"https://pt.firesecurityproducts.com/pt/search?q=\"&B30, \"Link Web\"))","v":"Link Web"},{"$f":"$G$2","v":0},16.420000000000002]
[null,"ES071W",{"$f":"_xlfn.XLOOKUP($B31,Tabela!A:A,Tabela!C:C,\"não encontrado\")","v":"Mature"},"Caixa de junção - 8 + 8 terminais Tamper reed - baixo perfil",{"$f":"_xlfn.XLOOKUP($B31,Tabela!A:A,Tabela!D:D,\"não encontrado\")","v":22.21},{"$f":"IF(B31 =ISTEXT(qualquer), \"\", HYPERLINK(\"https://pt.firesecurityproducts.com/pt/search?q=\"&B31, \"Link Web\"))","v":"Link Web"},{"$f":"$G$2","v":0},22.21]
[null,null,null,null,null,{"$f":"IF(B32 =ISTEXT(qualquer), \"\", HYPERLINK(\"https://pt.firesecurityproducts.com/pt/search?q=\"&B32, \"Link Web\"))","v":""}]
[null,null,null,null,null,{"$f":"IF(B33 =ISTEXT(qualquer), \"\", HYPERLINK(\"https://pt.firesecurityproducts.com/pt/search?q=\"&B33, \"Link Web\"))","v":""}]
["Série KAxx e KLxx ",null,"Comandos por Chave",null,null,{"$f":"IF(B34 =ISTEXT(qualquer), \"\", HYPERLINK(\"https://pt.firesecurityproducts.com/pt/search?q=\"&B34, \"Link Web\"))","v":""}]
[null,null,null,null,null,{"$f":"IF(B35 =ISTEXT(qualquer), \"\", HYPERLINK(\"https://pt.firesecurityproducts.com/pt/search?q=\"&B35, \"Link Web\"))","v":""}]
[null,"Comandos"]
[null,"KA150",{"$f":"_xlfn.XLOOKUP($B37,Tabela!A:A,Tabela!C:C,\"não encontrado\")","v":"Mature"},"Fechadura de alta qualidade - 3 chaves\nON/OFF - duplo contacto change-over",{"$f":"_xlfn.XLOOKUP($B37,Tabela!A:A,Tabela!D:D,\"não encontrado\")","v":108.39},{"$f":"IF(B37 =ISTEXT(qualquer), \"\", HYPERLINK(\"https://pt.firesecurityproducts.com/pt/search?q=\"&B37, \"Link Web\"))","v":"Link Web"},{"$f":"$G$2","v":0},{"$f":"IF(ISBLANK(G37),\"\",E37-(E37*$G37))","v":108.39}]
[null,"KA157",{"$f":"_xlfn.XLOOKUP($B38,Tabela!A:A,Tabela!C:C,\"não encontrado\")","v":"Mature"},"Fechadura de alta qualidade - 3 chaves\nIMPULSO - duplo contacto change-over",{"$f":"_xlfn.XLOOKUP($B38,Tabela!A:A,Tabela!D:D,\"não encontrado\")","v":125.65},{"$f":"IF(B38 =ISTEXT(qualquer), \"\", HYPERLINK(\"https://pt.firesecurityproducts.com/pt/search?q=\"&B38, \"Link Web\"))","v":"Link Web"},{"$f":"$G$2","v":0},125.65]
[null,null,null,null,null,{"$f":"IF(B39 =ISTEXT(qualquer), \"\", HYPERLINK(\"https://pt.firesecurityproducts.com/pt/search?q=\"&B39, \"Link Web\"))","v":""}]
[null,"Caixas"]
[]
[null,"KL838",{"$f":"_xlfn.XLOOKUP($B42,Tabela!A:A,Tabela!C:C,\"não encontrado\")","v":"Mature"},"Caixa p/instalação de comutadores KA 150/157\nSinalização por LED's - Proteção tamper",{"$f":"_xlfn.XLOOKUP($B42,Tabela!A:A,Tabela!D:D,\"não encontrado\")","v":199.76},{"$f":"IF(B42 =ISTEXT(qualquer), \"\", HYPERLINK(\"https://pt.firesecurityproducts.com/pt/search?q=\"&B42, \"Link Web\"))","v":"Link Web"},{"$f":"$G$2","v":0},{"$f":"IF(ISBLANK(G42),\"\",E42-(E42*$G42))","v":199.76}]

{"sheet":"Condições Gerais de Venda","index":24,"n_rows":112,"n_cols":26,"rows_kept":112,"cut":false,"hidden":false,"merged":[]}
["Condições Gerais de Venda",null,null,null,null,null,null,null,null,null,null,null,null,null,null,null,null,null,null,null,null,null,null,null,null,"exclude"]
["O presente documento pode ter sido enviado pela KGS Fire & Security Portugal, Lda na qualidade de agente e em nome de outra entidade. Se for este o caso, essa outra entidade deve ser mencionada como tal na confirmação da encomenda ou na fatura e qualquer referência feita abaixo ao “Vendedor” deverá ser considerada como referindo-se também a essa outra entidade. Se essa entidade não for mencionada, a KGS- Portugal – Segurança eletrónica, Lda deverá ser o Vendedor. Ao adquirir produtos do Vendedor, o Comprador confirma que os termos e condições que se seguem se aplicam exclusivamente à aquisição de produtos pelo Comprador ao Vendedor. Mesmo que o Comprador envie ao Vendedor outro impresso de contrato, ou de alterações ao presente,  e a menos que o Vendedor expressamente concorde com o impresso do Comprador e esse impresso seja assinado por um signatário autorizado do Vendedor, as presentes condições serão as condições exclusivas e deverão reger a venda de produtos pelo Vendedor. Se o Comprador não concordar com estas condições, deverá contactar o Vendedor, a fim de discutirem eventuais alterações. Todas as alterações deverão ser efetuadas por escrito e assinadas por um signatário autorizado do Vendedor."]
[]
["TERMOS E CONDIÇÕES DE VENDA. Ao abrigo das condições que se seguem, quaisquer  produtos adquiridos pelo Comprador ao Vendedor por via eletrónica, telefone, encomenda escrita ou qualquer outra forma de transmissão, são vendidos ao abrigo destas cláusulas e condições:\na. Se o Comprador já possuir um contrato de venda devidamente assinado pelo Vendedor, qualquer cláusula do mesmo que entre em conflito com qualquer parte das presentes cláusulas e condições deverá ser aplicada à compra efetuada pelo Comprador, em substituição dessa parte destas cláusulas e condições; caso contrário deverão ser aplicadas as restantes cláusulas e condições presentes.\nb. Se o Comprador não possuir um contrato de venda devidamente assinado pelo Vendedor, os presentes termos e condições serão então as condições que regerão exclusivamente a venda de produtos pelo Vendedor. Os presentes termos e condições regem-se pela Lei substantiva de Portugal O Tribunal Cível da Comarca de Lisboa deverá ter jurisdição exclusiva relativamente a qualquer questão que surja ou esteja relacionada com as presentes condições.  A Convenção das Nações Unidas sobre a Venda Internacional de Mercadorias não deverá ser aplicada.\n"]
[]
["PRODUTOS. Os produtos são os descritos na confirmação da encomenda do Vendedor, ou no talão de embalagem, a menos que, em caso de discrepância entre a encomenda do Comprador e a confirmação da encomenda do Vendedor ou o talão de embalagem, o Comprador notifique o Vendedor, por escrito, quanto ao seu desacordo, o mais tardar oito dias a contar da data da receção da confirmação da encomenda do Vendedor ou do talão de embalagem. Sempre que adequado, nestas cláusulas e condições o termo “produtos” deverá incluir quaisquer “serviços” prestados pelo Vendedor."]
[]
["PREÇO. Os preços dos produtos não incluem IVA e são determinados pela confirmação que o Comprador receber do Vendedor e, a menos que determinado de outro modo, serão entendidos ex works Weert o Dublin (Incoterms 2000), devendo o respetivo pagamento ser efetuado no prazo acordado, dias a contar da data da fatura no modo descrito nesta cláusula. Se o Comprador tiver de providenciar a exportação dos produtos, a pedido do Vendedor, deverá concordar em fornecer ao Vendedor, sem quaisquer encargos,  os documentos comprovativos da exportação, ou outras provas de isenção de impostos ou taxas, aceitáveis pelas entidades fiscais ou alfandegárias; se o não fizer, o valor de quaisquer impostos ou taxas a pagar pelo Vendedor relativamente à venda do(s) produto(s) deverá ser prontamente liquidado pelo Comprador ao Vendedor, mediante a apresentação da fatura do Vendedor. O Comprador não terá o direito de proceder a qualquer dedução dos pagamentos devidos ao Vendedor, a título de qualquer compensação ou pedido de reconvenção. O Vendedor tem sempre o direito de reclamar o pagamento antecipado integral ou parcial e/ou, de outro modo, de reclamar uma garantia de pagamento. Se o Comprador não pagar atempadamente ao Vendedor, o Comprador concorda em reembolsar ao Vendedor as despesas por este incorridas na cobrança dos montantes devidos, e em pagar ao Vendedor juros sobre qualquer pagamento em atraso, a uma taxa de 3% acima do juro legal e que deverá vencer-se até o pagamento estar efetivamente efetuado. O Comprador estará em incumprimento do contrato pelo mero facto de não cumprimento ou de mora no cumprimento sem interpelação. O Vendedor  poderá suspender ou cancelar a entrega de qualquer encomenda ou parte de encomenda, caso o Comprador exceda o seu limite de crédito com o Vendedor.  Todas as remessas devem ser  efetuadas num único pagamento, no montante total da respetiva fatura (ajustado em relação a quaisquer notas de débito) e devem obedecer aos seguintes requisitos: 1) Transferência bancária ou por via eletrónica (com referência do número da fatura), devendo ser o Comprador a efetuar a transferência. 2) Cheque bancário em nome do Comprador (sacado sobre a conta da empresa com o respetivo nome). 3) Carta de crédito irrevogável (com referência do número da fatura). Os cheques de terceiros, cheques bancários e letras provenientes do estrangeiro só serão aceites quando aprovados antecipadamente, por escrito, pelo Diretor Financeiro do Vendedor, devendo incluir documentação anexa que faça referência às faturas cujo pagamento está a ser efetuado."]
[]
["ENTREGA. Quaisquer datas de entrega que o Vendedor refira, ou que estejam indicadas na confirmação ou na aceitação da encomenda do Vendedor, são apenas estimativas e não se pretende que sejam legalmente vinculativas . O Vendedor não pode garantir a entrega numa data específica. Será faturada ao Comprador a quantidade efetivamente entregue. A menos que acordado de outro modo, por escrito, a entrega dos produtos poderá ser feita por parcelas. O prazo de entrega poderá ser prorrogado na medida e pelo tempo durante o qual o Comprador registe qualquer atraso no cumprimento de qualquer obrigação para com o Vendedor . Em circunstância alguma o Vendedor deverá ser responsável por qualquer perda ou dano verificada na sequência de um atraso ocorrido na entrega dos produtos (incluindo no caso de entrega parcelar), a menos que o mesmo seja atribuível a negligência grave ou má conduta intencional do Vendedor. A quantidade indicada no talão de embalagem do Vendedor deverá ser aceite por ambas as partes como correta, exceto se for contestada por escrito pelo Comprador no prazo de oito dias a contar da data de entrega. Se o Comprador se recusar a aceitar a entrega dos produtos, ou qualquer entrega parcelar dos mesmos, o Vendedor pode, sem prejuízo dos seus outros direitos, proceder ao armazenamento dos mesmos, por conta e risco do Comprador. Neste caso, todos os riscos de perda ou dano passam para o Comprador, à data em que os produtos tenham sido colocados à disposição do Comprador nas instalações do Vendedor, ou noutro local previamente acordado por escrito. O Vendedor deverá reter a propriedade sobre os produtos entregues ao Comprador até (i) o Vendedor ter recebido o pagamento integral da totalidade dos produtos, e (ii) o Vendedor ter recebido o pagamento de todos os outros montantes que estejam ou venham a estar em dívida pelo Comprador ao Vendedor, a qualquer título. Até a propriedade sobre os produtos passar para o Comprador, no caso de uma eventual revenda pelo Comprador de quaisquer produtos fabricados, para além dos produtos vendidos pelo Vendedor, o Comprador confere ao Vendedor todas as receitas obtidas com a respetiva venda, até ao valor dos montantes devidos ao Vendedor, devendo o Comprador manter esses montantes sob reserva para o Vendedor. O Vendedor deverá ter o direito de aceder a quaisquer instalações onde se encontrem armazenados os produtos, a fim de os inspecionar ou recuperar, caso o Comprador não cumpra quaisquer destas condições, ou caso ocorra quaisquer dos acontecimentos indicados na Cláusula 17. "]
[]
["GARANTIA LIMITADA. Os produtos vendidos pelo Vendedor ao Comprador estão de acordo com as especificações do fabricante, conforme estabelecido no(s) manual(is) aplicável(is) entregue(s) ao Comprador (a “Garantia Limitada”). O Comprador deverá inspecionar todos os produtos por ele recebidos, quanto a danos, defeitos ou eventuais faltas, imediatamente após a respetiva receção, devendo notificar o Vendedor, por escrito, no prazo de oito dias a contar da data da entrega, relativamente a qualquer dano, defeito ou eventual falta por ele detetada, ou que devesse razoavelmente ter detetado. No caso de o Comprador revender os produtos, será ele o responsável por quaisquer danos nos mesmos. O Comprador deve comunicar ao Vendedor, por escrito, qualquer defeito detetado, dentro do período de garantia desse produto. O período de garantia, a menos que acordado de outro modo entre o Vendedor e o Comprador, tem início a partir da data de fabrico e abrange o período de garantia padrão, aplicável ao respetivo produto. Se alguns produtos não estiverem em conformidade com a Garantia Limitada, ou se encontrarem de outro modo defeituosos, o Vendedor poderá, se assim optar, reparar ou substituir os produtos defeituosos pelos mesmos devidamente reparados, ou por produtos compatíveis novos ou reparados, ou então reembolsar ao Comprador o preço de compra. Esta é a solução exclusiva do Comprador para quebra da garantia. O Comprador não é responsável por condições ou aplicações relativamente às quais não tem qualquer controlo. Os defeitos ou problemas que resultem dessas condições ou aplicações não são da responsabilidade do Comprador. Dessas condições fazem parte o uso e desgaste normais dos produtos, qualquer catástrofe, falha ou negligência do utilizador ou de terceiros, que não o Vendedor, a instalação, aplicação, armazenagem, manutenção ou utilização inadequadas dos produtos, ou outras causas externas aos mesmos, ou ainda o não cumprimento de quaisquer recomendações do Vendedor e aplicáveis aos mesmos. A Garantia não cobre, e o Vendedor não garante, as baterias de qualquer tipo, utilizadas noutros produtos acabados. Na medida em que qualquer produto inclua “Software” (conforme definido no artigo com o título “Software” no presente documento), quer esteja ou não incluído num produto fornecido ao abrigo do presente contrato, ou separadamente, o Vendedor garante que esse Software deverá, quando da respetiva entrega, estar em conformidade, sob todos os aspetos materiais, com a documentação do Vendedor relativa a esse Software (“Documentação do Utilizador”). O Vendedor não será responsável pelos custos laborais da remoção ou reinstalação de produtos. Qualquer produto que for reparado ou substituído será garantido ao abrigo da Garantia Limitada pelo tempo restante até ao termo da Garantia do produto original, ou por 90 dias, conforme o que for mais longo. O Comprador não deverá devolver os produtos até o Vendedor concordar em que o Comprador possa agir desse modo. Qualquer produto que seja devolvido sem autorização não será reparado nem substituído, devendo ser devolvido a quem o enviou, por conta e risco do Comprador. . De qualquer modo, exceto conforme estabelecido na Cláusula 7, a responsabilidade máxima do Vendedor, independentemente de como tenha resultado, é igual ao preço líquido de compra que o Comprador pagou efetivamente ao Vendedor. Esta Garantia Limitada é concedida exclusivamente ao Comprador original, não se alargando a quaisquer outros compradores ou beneficiários posteriores dos produtos do Vendedor. O Comprador original não tem o direito de alargar ou ceder esta garantia a terceiros, quaisquer que eles sejam. Tanto quanto é permitido por Lei, a presente garantia substitui todas as outras garantias, condições, representações ou outras cláusulas, escritas ou verbais, expressas ou implícitas pelos estatutos, incluindo qualquer garantia de exploração ou adequação para qualquer fim específico."]
[]
["RESTRIÇÃO DE RECLAMAÇÕES. O Vendedor não será responsável por qualquer dano resultante da compra, posse ou uso pelo Comprador de quaisquer produtos fornecidos pelo Vendedor, pelo uso pelo Comprador de qualquer função nos sites do Vendedor, ou por qualquer parecer técnico que o Vendedor possa oferecer, exceto quando acordado na Garantia Limitada estabelecida acima, ou no caso de negligência grave ou de má conduta intencional, na medida em que tal seja atribuível ao Vendedor. O Vendedor não será responsável por quaisquer danos indiretos ou consequenciais, incluindo, embora de forma não restritiva, a perda de lucros, o custo de qualquer produto de substituição dos produtos adquiridos pelo Comprador, as reclamações de terceiros, ou qualquer dano pessoal ou material. O Vendedor não será responsável por qualquer dano, lesão, contaminação, ou prejuízo, resultante de incumprimento pelo Comprador das suas obrigações ao abrigo da cláusula 12, devendo o Comprador indemnizar e proteger o Vendedor, os seus funcionários, fornecedores e subempreiteiros, contra quaisquer reclamações, despesas, perdas ou danos relacionados com esse incumprimento. As condições de restrição, exclusão ou atribuição de responsabilidade, que podem ser invocadas pelos fornecedores ou por subcontratados independentes do Vendedor contra este, relativamente aos produtos entregues, poderão igualmente ser invocadas contra o Comprador. Nenhum ponto das cláusulas 6 e 7, ou de qualquer outra parte do presente contrato, pretende ou deverá ser interpretado por forma a excluir ou restringir a responsabilidade do Vendedor por (i) qualquer dano resultante de fraude, negligência grave, ou má conduta intencional por parte do Vendedor (não incluindo os seus funcionários, subcontratados ou agentes) ou os seus administradores executivos; ou (ii) qualquer outra responsabilidade que não possa ser excluída ou restringida ao abrigo da lei aplicável."]
[]
["CONSULTORIA TÉCNICA E OUTROS SERVIÇOS. O Comprador é responsável pelo design, configuração, integração, ensaio e etiquetagem de qualquer sistema, efetuado pelo Comprador na sequência da utilização dos produtos adquiridos ao Vendedor; o Comprador não deverá confiar nos dados que constam do site do Vendedor, nem em qualquer declaração feita pelo Vendedor quanto à adequação dos produtos fornecidos ou dos serviços prestados pelo Vendedor. O Comprador é responsável pelo ensaio e investigação dos produtos vendidos pelo Vendedor, por forma a estabelecer um parecer independente quanto à sua adequação para a utilização, conversão ou processamento  pretendidos pelo Comprador, não devendo apresentar qualquer reclamação contra o Vendedor com base nos conselhos, declarações, dados, serviços ou recomendações de carácter técnico do Vendedor. \nlicença ao abrigo dessas patentes\n"]
[]
["PATENTES. O Vendedor garante que os produtos fornecidos ao abrigo das presentes cláusulas e condições devem ser entregues livres de qualquer reclamação justa de terceiros quanto a uma eventual infração de qualquer patente norte-americana ou europeia válida. Se for notificado de imediato pelo Comprador, por escrito, e lhe for dada a devida autoridade, informação e apoio, e caso o Comprador não tome qualquer posição contrária ao Vendedor relativamente a essa reclamação, o Vendedor deverá defender, ou resolver por sua conta, qualquer litígio ou ação contra o Comprador, na medida em que o mesmo se baseie numa reclamação legítima de infração, que resultaria no incumprimento da garantia indicada neste parágrafo, devendo o Vendedor pagar todos os danos e despesas atribuídos na sequência da mesma ao Comprador, na sequência desse incumprimento. No caso de qualquer produto ou parte do mesmo ser considerado nesse processo como constituindo essa infração, e se for exigida a utilização do referido produto ou de parte dele para o fim em vista, o Vendedor deverá, por sua conta, e se assim o entender, ou obter para o Comprador o direito de continuar a utilizar o referido produto ou parte dele, ou de substituir o mesmo por um produto, ou parte dele, não infrator, ou modificar o mesmo de modo a torna-lo não infrator, ou ainda remover o produto e reembolsar ao Comprador o respetivo preço de compra (menos a desvalorização razoável relativa a qualquer período de utilização), assim como quaisquer despesas de transporte pagas separadamente pelo Comprador. O que antecede estabelece a responsabilidade total do Vendedor quanto a infrações de patentes pelos produtos ou parte deles, estando sujeita à informação imediata pelo Comprador ao Vendedor de qualquer reclamação, e concedendo ao Vendedor a gestão total da reclamação. O mesmo não se aplica a qualquer produto ou parte dele, conforme especificado pelo Comprador, ou fabricado em conformidade com o design do Comprador, ou com o uso de qualquer produto fornecido ao abrigo do presente documento, conjuntamente com qualquer outro produto, numa combinação não fornecida pelo Vendedor como parte da presente transação. Relativamente a qualquer desses produtos, ou parte deles, ou à utilização dos mesmos nessa combinação, o Vendedor não assume qualquer responsabilidade pela infração de patentes, e o Comprador compromete-se a manter o Vendedor a salvo de qualquer reclamação de infração resultante da mesma. "]
[]
["FACTOS FORA DO CONTROLO DO VENDEDOR. O Vendedor tem o direito de invocar força maior caso o cumprimento do contrato esteja, total ou parcialmente, temporariamente ou não, impedido ou impossibilitado, devido a circunstâncias razoavelmente fora do seu controlo, incluindo condições atmosféricas extremamente adversas, catástrofe natural, guerra, incêndio, comissão governamental, bloqueios de instalações ou edifícios, interrupções de transportes, greves, interrupções específicas do trabalho ou imposição de abrandamento do ritmo de trabalho, lockout, avaria de máquinas, atrasos nos fornecimentos de peças, bens ou serviços encomendados por terceiros ao Vendedor, acidentes e interrupções nas operações comerciais. Em caso de força maior por parte do Vendedor, este não deverá ser responsabilizado, devendo as suas obrigações ser suspensas. Se os motivos de força maior se prolongarem por mais de 90 dias, tanto o Vendedor como o Comprador estão a autorizados a rescindir as partes não exequíveis do contrato, mediante declaração escrita nesse sentido."]
[]
["LICENÇA DE SOFTWARE. Conforme utilizado nestas cláusulas e condições, o termo “Software” significa o formato codificado de um objeto, passível de leitura apenas através de uma máquina, um programa de computador, ou uma compilação de dados fixada em qualquer meio de expressão tangível, ou em qualquer meio de memória, a partir do qual o programa pode ser reconhecido, reproduzido ou de outro modo comunicado, apenas com a ajuda de uma máquina ou dispositivo, devendo incluir, sem restrições para qualquer Software específico utilizado pelo Vendedor e fornecido para o funcionamento habitual dos produtos, qualquer Software opcional destinado a incrementar o funcionamento do produto, assim como quaisquer upgrades ou revisões desse material, que o Vendedor forneça para o cumprimento de um compromisso escrito específico, ou outro. Nada no presente documento deverá ser considerado como constituindo uma obrigação por parte do Vendedor de fornecer qualquer apoio, upgrade ou revisão de qualquer Software, para além de uma obrigação em separado e por escrito nesse sentido. É concedida ao Comprador uma licença limitada relativa a qualquer Software e documentação do utilizador quanto ao mesmo e entregue pelo Vendedor, quer faça ou não parte de qualquer produto. Não é concedida ao Comprador qualquer licença relativa a qualquer outro Software ou documentação. Esta licença limitada permite ao Comprador: 1) Utilizar apenas o Software e a documentação do utilizador relativos aos produtos nos quais está instalado à data da entrega, ou, se o Software for fornecido em separado, aquele que se referir aos produtos fornecidos pelo Vendedor. O Comprador deverá obter uma licença suplementar por parte do Vendedor (que o Vendedor poderá ou não conceder, conforme entenda), antes de utilizar o software referente a qualquer outro equipamento ou destinado a qualquer outro fim; e 2) Fazer uma cópia do Software num formato passível de leitura pela máquina, exclusivamente para efeitos de backup, desde que o Comprador reproduza em cada uma dessas cópias a informação sobre direitos de autor (copyright) e quaisquer outras notas explicativas específicas constantes da cópia original. O Comprador não deverá ter quaisquer outros direitos ao abrigo desta licença. O Comprador não poderá distribuir cópias do Software ou da documentação do utilizador a terceiros, nem transferir o Software de um computador para outro, por via eletrónica, através da rede. O Software contém dados confidenciais sobre o negócio do Vendedor. De modo a proteger esses dados confidenciais, o Comprador não pode modificar, separar, reverter, desmontar ou de outro modo reduzir o Software a um formato humanamente percetível. O Comprador não pode modificar, adaptar, traduzir, arrendar, alugar, emprestar, revender com fins lucrativos ou outros, distribuir, introduzir na rede, ou criar trabalhos derivados com base no Software ou parte deste. Todo o Software e documentação do utilizador estão protegidos pelas leis dos direitos de autor, obras autorais, e pelos requisitos norte-americanos e europeus sobre patentes, além dos tratados internacionais aplicáveis. Ao abrigo de tais direitos, nenhuma licença deverá ser transferida para o Comprador, exceto conforme especificamente estabelecido acima. Qualquer Software fornecido pelo Vendedor continua a ser propriedade do Vendedor. Se o Comprador receber qualquer software que torne redundante o Software existente, o Comprador deverá devolver ao Vendedor esse Software redundante."]
[]
["CUMPRIMENTO DA APROVAÇÃO LEGAL. O Vendedor entregará ao Comprador, se possível e a pedido deste, certificados de aprovação, devendo o Comprador facultar os mesmos a quaisquer entidades que possam, por lei, exigir o seu recebimento. O Comprador concorda em disponibilizar os produtos e/ou as embalagens recicláveis, conforme exigido por quaisquer leis de inutilização ou reciclagem, em vigor.\nCUMPRIMENTO DO CONTROLO À EXPORTAÇÃO. O Comprador compromete-se a que quaisquer produtos, tecnologia ou Software por ele recebidos do Vendedor apenas serão  exportados pelo Comprador dentro do rigoroso cumprimento das leis do controlo à exportação, em vigor. O Comprador concorda em não utilizar ou conscientemente apoiar a utilização por terceiros desses produtos, tecnologia ou Software, no design, desenvolvimento ou aplicação em armas ou mísseis balísticos nucleares, químicos ou biológicos.\n"]
[]
["COMÉRCIO ELECTRÓNICO. O Vendedor pode oferecer produtos para venda através da Internet, e-mail ou outros meios de comunicação eletrónica via computador. Todas as vendas de produtos efetuadas através da aplicação de qualquer um destes meios deverão reger-se pelas presentes cláusulas e condições, pelas condições do contrato de venda em vigor, assim como por quaisquer cláusulas estabelecidas ou referenciadas no site do Vendedor na Internet, ou em quaisquer comunicações eletrónicas por ele feitas. Em caso de eventual conflito entre quaisquer cláusulas do contrato de venda em vigor ou qualquer das cláusulas adicionais e as presentes cláusulas e condições, as cláusulas do contrato de venda em vigor ou essas cláusulas adicionais deverão prevalecer. O Comprador não poderá partilhar qualquer palavra-passe, código de acesso ou autorização similar que lhe possa ser transmitida pelo Vendedor, além de que o Vendedor reserva-se o direito de suspender ou revogar qualquer dessas autorizações. O Comprador é unicamente responsável por garantir a segurança e integridade do seu processo de encomenda. Qualquer informação fornecida pelo Vendedor, através de qualquer site na Internet, ou através de comunicação eletrónica (i) está sujeita a correção ou alteração sem aviso prévio, e (ii) é fornecida apenas para utilização exclusiva pelo Comprador, para efeitos de facilitar transações individuais, envolvendo a compra e a venda dos produtos do Vendedor. O Comprador concorda em não confiar em nenhuma desta informação para qualquer fim que não seja exclusivamente o de efetuar compras individuais, e não deverá procurar que essa informação seja usada contra o Vendedor, em quaisquer circunstâncias. O Comprador concorda especificamente em que o Vendedor pode emitir aceitações ou confirmações de encomendas, assim como faturas, por via eletrónica, relativamente a quaisquer compras de produtos efetuadas através da Internet, e-mail ou outros meios de comunicação eletrónica via computador, concordando em honrar essas aceitações ou confirmações de encomendas, assim como as faturas, como se as mesmas tivessem sido efetuadas em papel."]
[]
["PROTECÇÃO DE DADOS. Na sua qualidade de controlador, o Vendedor processa e controla os dados pessoais (\"Dados\") do Comprador, sempre que este estabelece uma relação comercial com o Vendedor. O Vendedor efetua o processamento para os seguintes efeitos: estabelecimento e manutenção de uma base de dados dos seus devedores, juntamente com os respetivos perfis de risco, para além de efeitos de funcionamento e cobrança e ainda para racionalizar questões de proteção de dados no seio do seu grupo. Ao estabelecer um contrato com o Vendedor, o Comprador autoriza este processamento e confere ao Vendedor o direito de comunicar os Dados do Comprador às companhias suas associadas, para os mesmos fins acima referidos. Considerando que o Vendedor garante as salvaguardas adequadas, o Comprador autoriza ainda que, para o efeito, o Vendedor possa enviar os Dados do Comprador às empresas associadas do Vendedor, localizadas em qualquer jurisdição fora da UE. Os Dados do Comprador devem ser guardados durante tanto tempo quanto necessário, mas pelo menos até a relação comercial Vendedor – Comprador terminar. O Comprador tem o direito de, em qualquer altura, objetar e se libertar do encargo do processamento dos seus Dados, para efeitos de marketing direto, bastando para esse efeito enviar um e-mail ao Vendedor expressando a sua objeção. O Comprador tem o direito de aceder aos seus Dados e de os retificar, se necessário."]
[]
["MEDIDAS ANTI-LAVAGEM DE DINHEIRO. O Vendedor compromete-se firmemente a evitar qualquer envolvimento em operações de lavagem de dinheiro, por forma a cumprir integralmente todos os requisitos anti lavagem de dinheiro aplicáveis, assim como os requisitos de indicação de moeda e de registo, e ainda a tomar medidas firmes no sentido de prevenir, detetar e referir às autoridades competentes quaisquer suspeitas de violação desses requisitos. O Vendedor exigirá informação apropriada dos seus Compradores de modo a permitir ao Vendedor uma comprovação suficiente da legitimidade, fiabilidade e credibilidade dos seus Compradores. O Comprador aceita cooperar com o Vendedor em todos os aspetos de forma a permitir ao Vendedor o cumprimento dos objetivos previstos nesta cláusula.\nRESCISÃO POR INCUMPRIMENTO. Se o Comprador não cumprir uma ou mais das suas obrigações previstas nestes termos e condições, ou não as cumprir atempadamente e de forma adequada, se for declarado falido, se requerer moratória (temporária), se tornar insolvente, se for incapaz de pagar as suas dívidas, se tomar quaisquer medidas, ou qualquer outra pessoa tomar essas medidas, visando a liquidação do negócio do Comprador, se os bens do Comprador forem total ou parcialmente penhorados, ou se o Comprador se encontrar em qualquer situação análoga a qualquer uma das acima mencionadas, em qualquer jurisdição, o Vendedor tem o direito de suspender o cumprimento do contrato, ou de rescindir o mesmo, na totalidade ou em parte, sem aviso prévio ou incumprimento, mediante declaração escrita, conforme seja a sua opção, embora reservando-se sempre quaisquer direitos que lhe caibam relativamente a montantes que lhe sejam devido como Vendedor, compensações de custos, danos e juros. Nestes casos, todas as reclamações do Vendedor relativamente ao Comprador serão imediata e totalmente devidas. O Comprador está autorizado a rescindir o contrato apenas nos casos referidos nestas cláusulas e condições e apenas após o pagamento ao Vendedor de todos os montantes que lhe sejam devidos nessa data, quer se encontrem ou não vencidos.\n"]
[]
["OUTROS. (a) Os presentes termos e condições estabelecem o âmbito total das obrigações e responsabilidades do Vendedor. Para além do que se encontra expressamente estabelecido nestas cláusulas, todas as garantias, condições e declarações feitas pelo Vendedor, assim como todas as outras cláusulas que, caso a caso, estejam expressas na lei ou sejam implícitas na mesma, estão excluídas no âmbito mais lato permitido por lei. (b) Nenhuma destas cláusulas ou parte delas pretende conferir qualquer benefício a terceiros. (c) O incumprimento ou o atraso no cumprimento de qualquer ponto estabelecido nas presentes cláusulas, por parte do Vendedor, não será considerado como uma renúncia a qualquer dos direitos do Vendedor ao abrigo destas cláusulas. (d) Cada uma das cláusulas do presente contrato é separada e independente. Se qualquer cláusula, ou parte dela, for considerada ilegal, nula, ou de outro modo não válida, por um tribunal com jurisdição adequada, a mesma deverá, em igual medida, ser considerada como não fazendo parte destas cláusulas, embora o texto restante da mesma, assim como todas as outras cláusulas, não devam ser afetadas."]
[]
["Declaração de política de devolução e garantia\nVersão 2020-V4.0 - Março 2022\n\nIntrodução\nEsta Declaração de Política de Devolução e Garantia (\"Política\") aplica-se a todos os produtos adquiridos diretamente à KGS Fire & Security na EMEA. Se adquiriu produtos da KGS Fire & Security através de um distribuidor ou revendedor, por favor devolva os Produtos a essa parte. \nA KGS Fire & Security pode, a qualquer momento e a seu exclusivo critério, alterar esta Política. Por favor, contacte o seu escritório de vendas KGS para obter a última versão disponível da Política.\n\nSalvo indicação em contrário por parte da KGS, as descrições do processo são válidas nesta forma na Europa, Médio Oriente, e África. Podem existir diferenças especificas de países. \n\nA nossa Equipa de Apoio ao Cliente terá todo o prazer em responder a quaisquer perguntas que possa ter. \n\nDevolução de equipamentos KGS Fire & Security\nApresentamos esforços razoáveis para tornar o tempo de processamento tão curto quanto possível, utilizando processos padronizados. Para o conseguir, necessitamos da sua cooperação. Antes de devolver qualquer Produto à KGS Fire & Security, deve obter uma autorização de devolução de material (RMA). Isto aplica-se a todos os Produtos, incluindo reparações / substituições em garantia, reparações fora de garantia, substituições antecipadas, danificado ao abrir a caixa / avariado de fábrica e devoluções de stock.\n\nUm número de RMA permite-nos acompanhar o envio e assegurar que este é tratado da forma correta. \n\nAntes de solicitar um RMA de reparação, verifique primeiro se está disponível uma atualização de firmware para o seu Produto ou contacte o seu Serviço de Apoio ao Cliente para obter assistência. Para obter um RMA por razões técnicas ou operacionais, contacte o Departamento de Suporte Técnico.\n\nPara obter um formulário de reparação, por favor contacte o Serviço de Apoio ao Cliente da KGS Fire & Security. Exigimos o número de Produtos e o motivo da devolução com uma descrição clara da avaria. O formulário de RMA deve ser preenchido o mais completo possível. Uma vez enviado o formulário de RMA, enviar-lhe-emos um número de RMA para a devolução da remessa.\n\nEm caso de inconsistência ou discrepância entre o conteúdo do formulário RMA e o produto efetivamente devolvido, a KGS reserva-se o direito de modificar o formulário RMA para corresponder ao produto devolvido à sua discrição.\n\nTodos os Produtos devem ser devolvidos Freight Prepaid DAP Born (Netherlands). Reservamo-nos o direito de cancelar o RMA se o Produto não for recebido no prazo de 30 dias após a emissão do número de RMA.\n\nA KGS Fire & Security devolverá os Produtos reparados ou de substituição através do seu método de envio normal sem custos adicionais, quaisquer outros métodos de envio que possam ser solicitados pelo comprador serão cobrados na totalidade. Todas e quaisquer possíveis formalidades aduaneiras, taxas alfandegárias, direitos ou qualquer outra natureza serão suportados pelo comprador. KGS Fire & Security não aceita qualquer custo que possa resultar de atos ou omissões do comprador relacionados com formalidades erradas, incompletas ou ineficientes relacionadas com a importação/exportação dos Produtos.\n\n"]
[]
["Embalar o seu envio\n\nOs produtos a serem devolvidos necessitam de ser embalados e enviados devidamente.\nA KGS Fire & Security reserva-se o direito de negar a cobertura de garantia por quaisquer danos aos Produtos causados pelo não cumprimento das instruções:\n\n• Não escrever ou colocar uma fita adesiva na embalagem original do Produto\n• Todas as placas eletrónicas devem ser embaladas na sua embalagem de proteção electroestática original ou num substituto equivalente\n• Todos os Produtos devem ser embalados de forma segura para evitar danos mecânicos\n• A embalagem deve ser suficiente para proteger o conteúdo contra os riscos e danos que possam ocorrer durante o transporte\n• Cada número de RMA deve ser embalado individualmente e devidamente selado\n• O cliente não deve misturar vários RMAs dentro das caixas de expedição\n• As etiquetas de envio fornecidas por nós têm de ser claramente visíveis na embalagem\n• O formulário RMA deve acompanhar o envio para evitar atrasos na receção e registo\n\nGarantias, reparações e substituições\n\nSujeito aos termos da secção de garantia limitada abaixo, KGS Fire & Security, irá a seu exclusivo critério, reparar o Produto, substituir o Produto pelo o mesmo ou compatível novo ou reparado, realizar novos Serviços ou reembolsar o preço de compra. Esta é a sua solução exclusiva para a violação da Garantia Limitada\n\nPara produtos Critico para Negócio que não podem esperar pelo prazo de reparação e necessitam de substituição imediata e onde houver stock disponível, pode ser feito um Pedido Avançado de Troca ao serviço de apoio ao cliente da KGS Fire & Security. Será faturado por esta substituição, quando devolvido em garantia (com base na data fabrico) o artigo será creditado. O Produto avariado terá de nos ser devolvido no prazo de dez dias após a receção do Produto de troca.\n\nAs baterias não podem ser devolvidas para reparação; só podem ser devolvidas como Novo com defeito ou defeituosas de fábrica ou como excesso de stock (ver secção abaixo para FFN).\n\nSujeito aos requisitos da legislação aplicável e na medida em que não tenha sido acordado de outra forma entre a KGS Fire & Security e o comprador do Produto, o período de garantia varia com base na categoria do Produto e tipo de equipamento, conforme indicado na Tabela 1 abaixo.\n\nO período de garantia, tal como aqui indicado, inicia-se a partir da data real de fabrico do produto. Para cobrir o tempo médio entre o fabrico e a entrega dos Produtos, serão adicionados 6 meses ao período de garantia publicado.\n"]
[]
["Novo com defeito (FFN - Faulty from new)\n\nNo caso de um produto novo com defeito dentro do prazo de 90 dias após o dia da fatura, a KGS Fire & Security irá emitir uma nota de crédito após a receção do produto. Todos os Produtos deveram ser devolvidos com todos os acessórios fornecidos e de preferência na sua embalagem e estado original, Produtos incompletos não serão aceites."]
[]
["Reparações fora da Garantia \n\nNo caso da KGS Fire & Security definir um produto como fora de garantia, receberá uma cotação para os custos fora de garantia. A cotação precisa de ser confirmada ou rejeitada no prazo de 20 dias após a receção, caso contrário, reservamo-nos o direito de devolver os produtos.\n\nPara artigos com estatuto Obsoleto / Em fim de vida todo o suporte é avençar e para o melhor esforço, o que significa um produto de substituição se ainda disponível em stock, ou o produto será reparado quando possível. A KGS Fire & Security não é obrigada a fornecer apoio ou reparação para Devoluções Fora de Garantia.\n\nQuando aplicável, as reparações fora de garantia têm um período de garantia de 12 meses a partir da data da reparação.\n\nO orçamento de estimativa de reparação do(s) Produto(s) KGS Fire & Security é um custo aproximado para reparar os danos nos Produtos, contudo no caso de um dano imprevisível, despercebido ou oculto for descoberto apenas após o início dos trabalhos de reparação, os custos de reparação de tais danos serão faturados separadamente. Assim, a nossa estimativa ou orçamento é apenas preliminar e não um contrato para reparar os Produtos pelo preço estimado e não cobre quaisquer peças ou mão-de-obra adicional que possa ser necessária após o início dos trabalhos de reparação. Por conseguinte, os nossos preços de reparação não são garantidos e as cotações podem estar sujeitas a alterações. Será notificado se surgirem custos adicionais de reparação e tais custos adicionais estarão sujeitos à sua aprovação prévia. Se não concordar com tais custos adicionais de reparação, queira fornecer uma notificação por escrito de desacordo à KGS Fire & Security BV.\n\nA KGS reserva-se o direito de substituir um produto se a reparação - na opinião da KGS- não for viável.\n\nKGS Fire & Security reserva-se o direito de não prosseguir com o trabalho de reparação e devolverá os Produtos não reparados ou parcialmente reparados e só lhe faturará a parte do trabalho já realizado antes da receção do seu aviso de desacordo.\n\nPara Produtos que não mencionados na lista de períodos de garantia dos Produtos abaixo mencionados, contacte o serviço local de Apoio ao Cliente da KGS Fire & Security.\n\nDevolução de stock\n\nOs pedidos de RMA para devoluções de stock não utilizado devem ser efetuados o mais tardar 180 dias após a data da fatura, quaisquer pedidos feitos posteriormente devem ser analisados e avaliados caso-a-caso pela KGS Fire & Security, a seu exclusivo critério.\n\nAs devoluções autorizadas de produtos não utilizados devem ser recebidas pelo Serviço de Apoio ao Cliente da KGS, seu estado original vendável (incluindo todos os acessórios e encartes), na sua embalagem original, e sem danos.\n\nNão serão aceites produtos danificados, mesmo que tenha sido emitido um número de RMA. Todos os pedidos serão sujeitos a um processo de aprovação caso a caso e específico do produto por parte da KGS Fire & Security. Todas as devoluções de excesso de stock estão sujeitas a uma taxa mínimo de 15% de reposição de stock, este montante será deduzido pela KGS Fire & Security ao valor das devoluções de stock não utilizado.\n\nOs produtos de conceção personalizada, software e produtos de encomenda especial não podem ser devolvidos para crédito ou troca.\n\n"]
[]
["Períodos de garantia dos produtos\n\nA tabela 1 indica os períodos de Garantia Limitada para a maioria dos produtos da KGS Fire & Security, classificados por categoria, e ainda sujeitos aos termos e condições de quaisquer possíveis avisos de \"fim de vida útil\", que podem comunicados pela KGS Fire & Security a seu critério. O período de garantia tem início como estabelecido sob o título \"Reparação/substituição de garantia\".\n\nDentro dos grupos de garantia podem aplicar-se diferentes períodos de garantia.\n\nPara detalhes sobre os períodos de garantia do produto por produto, por favor contacte o seu serviço ao cliente KGS Fire & Security."]
["\nTabela 1. Períodos de garantia do produto"]
[]
[]
[]
[]
[]
[]
[]
[]
[]
[]
[]
[]
[]
[]
[]
[]
[]
[]
[]
[]
[]
[]
[]
[]
[]
[]
[]
[]
[]
[]
[]
[]
[]
[]
[]
[]
[]
[]
[]
[]
[]
[]
[]
[]
[]
[]
[]
[]
[]
[]
[]
[]
[]
[]
[]
[]
[]
[]
[]
[]
[]
[]
["** Definição de garantia vitalícia: durante a vida útil do Produto até ao anúncio de fim de vida do Produto (EOL), mas com um mínimo de 5 anos."]
[]
[]
["Garantia Limitada\n\nKGS Fire & Security garante que os seus Produtos estão livres de defeitos de fabrico e materiais, e estarão de acordo com as especificações padrão de KGS Fire & Security, sujeito aos termos desta garantia limitada. Com respeito a qualquer Produto fornecido pela KGS Fire & Security, o precedente aplica-se apenas para cumprir a referida garantia que aparece dentro do período de garantia aplicável estabelecido na presente Política. A garantia é dada apenas ao comprador original e não se estende a qualquer outra parte. A KGS Fire & Security não é responsável pelas condições ou aplicações sobre as quais a KGS Fire & Security não tem qualquer controlo. Defeitos ou problemas resultantes de tais condições ou aplicações não são da responsabilidade de KGS Fire & Security. Tais condições incluem desgaste normal; catástrofe; falha ou negligência de qualquer utilizador ou qualquer outra parte que não à KGS Fire & Security; instalação, aplicação, armazenamento, manutenção, ou utilização imprópria dos Produtos; outras causas externas aos Produtos; ou não conformidade com quaisquer recomendações aplicáveis da KGS Fire & Security.  Na medida em que qualquer Produto inclua firmware, quer esteja incluído num Produto fornecido abaixo ou fornecido separadamente, a KGS Fire & Security garante que tal firmware estará, no momento da entrega pela KGS Fire & Security e por um período de 90 dias depois, em conformidade em todos os aspetos materiais com a documentação da KGS Fire & Security relativa a tal firmware.\n\nPara baterias não recarregáveis a KGS Fire & Security concede a garantia \"Falha de bateria nova\", tal como acima estabelecido, e para baterias recarregáveis, é concedida uma garantia limitada de um ano apenas em caso de falha de fabrico.\n\n"]
["Qualquer Produto que não cumpra a Garantia Limitada, a KGS Fire & Security deverá, à sua escolha, corrigir qualquer falha, reparando qualquer defeito ou partes danificadas de Produtos danificados, ou disponibilizar, ponto de expedição CPT, quaisquer peças reparadas ou de substituição necessárias. KGS Fire & Security reserva-se o direito de substituir qualquer Produto sob garantia por Produto novo ou reparado. A KGS Fire & Security não será responsável por quaisquer custos (incluindo custos de mão-de-obra) associados à remoção ou reinstalação de Produtos incorridos pelo comprador original ou por qualquer outra parte. Os Produtos reparados ou substituídos serão garantidos nos termos da Garantia Limitada para o saldo do prazo da garantia ou por 12 meses, o que for mais longo. Para qualquer reclamação de garantia, o comprador / comprador deverá contactar o serviço local de apoio ao cliente KGS Fire & Security e solicitar autorização para devolver o Produto."]
[]
["As subsecções precedentes desta Garantia Limitada estabelecem os recursos exclusivos para reclamações baseadas em qualquer defeito, falha, mau funcionamento, ou qualquer outro desempenho ou não desempenho de qualquer Produto, quer a reclamação esteja em contrato, indemnização, garantia, delito (incluindo negligência), e responsabilidade estrita ou não, e seja qual for a forma instituída. Após o termo do período de Garantia Limitada aplicável, qualquer responsabilidade da KGS Fire & Security em relação a tais recursos exclusivos cessará, e o comprador/comprador terá 30 dias após o período de garantia para notificar por escrito quaisquer defeitos, falhas, avarias, ou qualquer outro problema de desempenho ou não-desempenho que tenha surgido durante o período de garantia. Em nenhum caso a KGS Fire & Security será responsável por danos acidentais, indiretos, especiais ou quaisquer outros danos consequentes. Na medida máxima permitida por lei, a garantia limitada anterior é exclusiva e substitui todas as outras garantias, quer escritas, orais, implícitas ou estatutárias. \n\nSujeita à lei aplicável, em nenhum caso a responsabilidade da KGS Fire & Security excederá o preço de compra dos Produtos. NENHUMA GARANTIA IMPLÍCITA DE COMERCIABILIDADE OU ADEQUAÇÃO A UM DETERMINADO FIM SERÁ APLICÁVEL."]

{"sheet":"Links","index":25,"n_rows":2518,"n_cols":26,"rows_kept":2518,"cut":false,"hidden":true,"merged":[]}
["Ref",null,"Link",null,null,null,null,null,null,null,null,null,null,null,null,null,null,null,null,null,null,null,null,null,null,"Exclude"]
["211",null,"https://pim.firesecurityproducts.com/sites/default/files/product_leaflet/pt/211-1-pt.pdf"]
["1345",null,"https://pim.firesecurityproducts.com/sites/default/files/product_leaflet/pt/1345-1-pt.pdf"]
["1450",null,"https://pim.firesecurityproducts.com/sites/default/files/product_leaflet/pt/1450-1-pt.pdf"]
["6295",null,"https://pim.firesecurityproducts.com/sites/default/files/product_leaflet/pt/6295-1-pt.pdf"]
["6296",null,"https://pim.firesecurityproducts.com/sites/default/files/product_leaflet/pt/6296-1-pt.pdf"]
["6297",null,"https://pim.firesecurityproducts.com/sites/default/files/product_leaflet/pt/6297-1-pt.pdf"]
["6298",null,"https://pim.firesecurityproducts.com/sites/default/files/product_leaflet/pt/6298-1-pt.pdf"]
[6540,null,"https://pim.firesecurityproducts.com/sites/default/files/product_leaflet/pt/6540-1-pt.pdf"]
[6640,null,"https://pim.firesecurityproducts.com/sites/default/files/product_leaflet/pt/6640-1-pt.pdf"]
["11520",null,"https://pim.firesecurityproducts.com/sites/default/files/product_leaflet/pt/11520-1-pt.pdf"]
["17210",null,"https://pim.firesecurityproducts.com/sites/default/files/product_leaflet/pt/17210-1-pt.pdf"]
["23701",null,"https://pim.firesecurityproducts.com/sites/default/files/product_leaflet/pt/23701-1-pt.pdf"]
["24201",null,"https://pim.firesecurityproducts.com/sites/default/files/product_leaflet/pt/24201-1-pt.pdf"]
["47102",null,"https://pim.firesecurityproducts.com/sites/default/files/product_leaflet/pt/47102-1-pt.pdf"]
["48202",null,"https://pim.firesecurityproducts.com/sites/default/files/product_leaflet/pt/48202-1-pt.pdf"]
["48501",null,"https://pim.firesecurityproducts.com/sites/default/files/product_leaflet/pt/48501-1-pt.pdf"]
["48601",null,"https://pim.firesecurityproducts.com/sites/default/files/product_leaflet/pt/48601-1-pt.pdf"]
["48701",null,"https://pim.firesecurityproducts.com/sites/default/files/product_leaflet/pt/48701-1-pt.pdf"]
["48801",null,"https://pim.firesecurityproducts.com/sites/default/files/product_leaflet/pt/48801-1-pt.pdf"]
["49901",null,"https://pim.firesecurityproducts.com/sites/default/files/product_leaflet/pt/49901-1-pt.pdf"]
["60019",null,"https://pim.firesecurityproducts.com/sites/default/files/product_leaflet/pt/60019-1-pt.pdf"]
["63601",null,"https://pim.firesecurityproducts.com/sites/default/files/product_leaflet/pt/63601-1-pt.pdf"]
["63701",null,"https://pim.firesecurityproducts.com/sites/default/files/product_leaflet/pt/63701-1-pt.pdf"]
["63802",null,"https://pim.firesecurityproducts.com/sites/default/files/product_leaflet/pt/63802-1-pt.pdf"]
["67702",null,"https://pim.firesecurityproducts.com/sites/default/files/product_leaflet/pt/67702-1-pt.pdf"]
["69902",null,"https://pim.firesecurityproducts.com/sites/default/files/product_leaflet/pt/69902-1-pt.pdf"]
["70002",null,"https://pim.firesecurityproducts.com/sites/default/files/product_leaflet/pt/70002-1-pt.pdf"]
["70802",null,"https://pim.firesecurityproducts.com/sites/default/files/product_leaflet/pt/70802-1-pt.pdf"]
["71305",null,"https://pim.firesecurityproducts.com/sites/default/files/product_leaflet/pt/71305-1-pt.pdf"]
["71401",null,"https://pim.firesecurityproducts.com/sites/default/files/product_leaflet/pt/71401-1-pt.pdf"]
["71405",null,"https://pim.firesecurityproducts.com/sites/default/files/product_leaflet/pt/71405-1-pt.pdf"]
["71501",null,"https://pim.firesecurityproducts.com/sites/default/files/product_leaflet/pt/71501-1-pt.pdf"]
["71505",null,"https://pim.firesecurityproducts.com/sites/default/files/product_leaflet/pt/71505-1-pt.pdf"]
["71601",null,"https://pim.firesecurityproducts.com/sites/default/files/product_leaflet/pt/71601-1-pt.pdf"]
["71603",null,"https://pim.firesecurityproducts.com/sites/default/files/product_leaflet/pt/71603-1-pt.pdf"]
["71608",null,"https://pim.firesecurityproducts.com/sites/default/files/product_leaflet/pt/71608-1-pt.pdf"]
["76102",null,"https://pim.firesecurityproducts.com/sites/default/files/product_leaflet/pt/76102-1-pt.pdf"]
["076800",null,"https://pim.firesecurityproducts.com/sites/default/files/product_leaflet/pt/076800-1-pt.pdf"]
["78301",null,"https://pim.firesecurityproducts.com/sites/default/files/product_leaflet/pt/78301-1-pt.pdf"]
["80301",null,"https://pim.firesecurityproducts.com/sites/default/files/product_leaflet/pt/80301-1-pt.pdf"]
["80801",null,"https://pim.firesecurityproducts.com/sites/default/files/product_leaflet/pt/80801-1-pt.pdf"]
["80802",null,"https://pim.firesecurityproducts.com/sites/default/files/product_leaflet/pt/80802-1-pt.pdf"]
["80803",null,"https://pim.firesecurityproducts.com/sites/default/files/product_leaflet/pt/80803-1-pt.pdf"]
["81901",null,"https://pim.firesecurityproducts.com/sites/default/files/product_leaflet/pt/81901-1-pt.pdf"]
["99102",null,"https://pim.firesecurityproducts.com/sites/default/files/product_leaflet/pt/99102-1-pt.pdf"]
["99202",null,"https://pim.firesecurityproducts.com/sites/default/files/product_leaflet/pt/99202-1-pt.pdf"]
["122301",null,"https://pim.firesecurityproducts.com/sites/default/files/product_leaflet/pt/122301-1-pt.pdf"]
["130070",null,"https://pim.firesecurityproducts.com/sites/default/files/product_leaflet/pt/130070-1-pt.pdf"]
[130095,null,"https://pim.firesecurityproducts.com/sites/default/files/product_leaflet/pt/130095-1-pt.pdf"]
["130101",null,"https://pim.firesecurityproducts.com/sites/default/files/product_leaflet/pt/130101-1-pt.pdf"]
["131601",null,"https://pim.firesecurityproducts.com/sites/default/files/product_leaflet/pt/131601-1-pt.pdf"]
["133011",null,"https://pim.firesecurityproducts.com/sites/default/files/product_leaflet/pt/133011-1-pt.pdf"]
["133021",null,"https://pim.firesecurityproducts.com/sites/default/files/product_leaflet/pt/133021-1-pt.pdf"]
["133041",null,"https://pim.firesecurityproducts.com/sites/default/files/product_leaflet/pt/133041-1-pt.pdf"]
["133101",null,"https://pim.firesecurityproducts.com/sites/default/files/product_leaflet/pt/133101-1-pt.pdf"]
["172101",null,"https://pim.firesecurityproducts.com/sites/default/files/product_leaflet/pt/172101-1-pt.pdf"]
["172104",null,"https://pim.firesecurityproducts.com/sites/default/files/product_leaflet/pt/172104-1-pt.pdf"]
["172105",null,"https://pim.firesecurityproducts.com/sites/default/files/product_leaflet/pt/172105-1-pt.pdf"]
["172115",null,"https://pim.firesecurityproducts.com/sites/default/files/product_leaflet/pt/172115-1-pt.pdf"]
["172201",null,"https://pim.firesecurityproducts.com/sites/default/files/product_leaflet/pt/172201-1-pt.pdf"]
["177401",null,"https://pim.firesecurityproducts.com/sites/default/files/product_leaflet/pt/177401-1-pt.pdf"]
["177601",null,"https://pim.firesecurityproducts.com/sites/default/files/product_leaflet/pt/177601-1-pt.pdf"]
["178001",null,"https://pim.firesecurityproducts.com/sites/default/files/product_leaflet/pt/178001-1-pt.pdf"]
["178601",null,"https://pim.firesecurityproducts.com/sites/default/files/product_leaflet/pt/178601-1-pt.pdf"]
["178701",null,"https://pim.firesecurityproducts.com/sites/default/files/product_leaflet/pt/178701-1-pt.pdf"]
["182101",null,"https://pim.firesecurityproducts.com/sites/default/files/product_leaflet/pt/182101-1-pt.pdf"]
["201301",null,"https://pim.firesecurityproducts.com/sites/default/files/product_leaflet/pt/201301-1-pt.pdf"]
["202708",null,"https://pim.firesecurityproducts.com/sites/default/files/product_leaflet/pt/202708-1-pt.pdf"]
["310001",null,"https://pim.firesecurityproducts.com/sites/default/files/product_leaflet/pt/310001-1-pt.pdf"]
["1108010",null,"https://pim.firesecurityproducts.com/sites/default/files/product_leaflet/pt/1108010-1-pt.pdf"]
["1109010",null,"https://pim.firesecurityproducts.com/sites/default/files/product_leaflet/pt/1109010-1-pt.pdf"]
["1283799",null,"https://pim.firesecurityproducts.com/sites/default/files/product_leaflet/pt/1283799-1-pt.pdf"]
[430209001,null,"https://pim.firesecurityproducts.com/sites/default/files/product_leaflet/pt/430209001-1-pt.pdf"]
[430209003,null,"https://pim.firesecurityproducts.com/sites/default/files/product_leaflet/pt/430209003-1-pt.pdf"]
[430210004]
[430211001]
[430211004]
[700183001,null,"https://pim.firesecurityproducts.com/sites/default/files/product_leaflet/pt/700183001-1-pt.pdf"]
[" ACI420-PIN"]
[" ACI420-PIN-W"]
[" ACI421-PIN"]
[" ACI421-PIN-W"]
[" ATS1180"]
[" ATS1183"]
[" TVD-CB3"]
["100-2005",null,"https://pim.firesecurityproducts.com/sites/default/files/product_leaflet/pt/100-2005-1-pt.pdf"]
["100-2007",null,"https://pim.firesecurityproducts.com/sites/default/files/product_leaflet/pt/100-2007-1-pt.pdf"]
["100-2030",null,"https://pim.firesecurityproducts.com/sites/default/files/product_leaflet/pt/100-2030-1-pt.pdf"]
["100-2032",null,"https://pim.firesecurityproducts.com/sites/default/files/product_leaflet/pt/100-2032-1-pt.pdf"]
["1044TW-N",null,"https://pim.firesecurityproducts.com/sites/default/files/product_leaflet/pt/1044tw-n-1-pt.pdf"]
["1074D-N",null,"https://pim.firesecurityproducts.com/sites/default/files/product_leaflet/pt/1074d-n-1-pt.pdf"]
["1074D-N",null,"https://pim.firesecurityproducts.com/sites/default/files/product_leaflet/pt/1074d-n-1-pt.pdf"]
["1075-N-3K3",null,"https://pim.firesecurityproducts.com/sites/default/files/product_leaflet/pt/1075-n-3k3-1-pt.pdf"]
["1076D-G",null,"https://pim.firesecurityproducts.com/sites/default/files/product_leaflet/pt/1076d-g-1-pt.pdf"]
["1076D-N",null,"https://pim.firesecurityproducts.com/sites/default/files/product_leaflet/pt/1076d-n-1-pt.pdf"]
["1076D-N",null,"https://pim.firesecurityproducts.com/sites/default/files/product_leaflet/pt/1076d-n-1-pt.pdf"]
["1078CT-N",null,"https://pim.firesecurityproducts.com/sites/default/files/product_leaflet/pt/1078ct-n-1-pt.pdf"]
["1078-G"]
["1078-G",null,"https://pim.firesecurityproducts.com/sites/default/files/product_leaflet/pt/1078-g-1-pt.pdf"]
["1078-N",null,"https://pim.firesecurityproducts.com/sites/default/files/product_leaflet/pt/1078-n-1-pt.pdf"]
["1078W-N",null,"https://pim.firesecurityproducts.com/sites/default/files/product_leaflet/pt/1078w-n-1-pt.pdf"]
["1078W-N",null,"https://pim.firesecurityproducts.com/sites/default/files/product_leaflet/pt/1078w-n-1-pt.pdf"]
["1084TW-G",null,"https://pim.firesecurityproducts.com/sites/default/files/product_leaflet/pt/1084tw-g-1-pt.pdf"]
["1084TW-G",null,"https://pim.firesecurityproducts.com/sites/default/files/product_leaflet/pt/1084tw-g-1-pt.pdf"]
["1085T-N-3K3",null,"https://pim.firesecurityproducts.com/sites/default/files/product_leaflet/pt/1085t-n-3k3-1-pt.pdf"]
["1085T-N-3K3",null,"https://pim.firesecurityproducts.com/sites/default/files/product_leaflet/pt/1085t-n-3k3-1-pt.pdf"]
["1087T-N",null,"https://pim.firesecurityproducts.com/sites/default/files/product_leaflet/pt/1087t-n-1-pt.pdf"]
["1087T-N",null,"https://pim.firesecurityproducts.com/sites/default/files/product_leaflet/pt/1087t-n-1-pt.pdf"]
["1087TW-N",null,"https://pim.firesecurityproducts.com/sites/default/files/product_leaflet/pt/1087tw-n-1-pt.pdf"]
["10Y29-03",null,"https://pim.firesecurityproducts.com/sites/default/files/product_leaflet/pt/10y29-03-1-pt.pdf"]
["10Y29C-26",null,"https://pim.firesecurityproducts.com/sites/default/files/product_leaflet/pt/10y29c-26-1-pt.pdf"]
["11510-ZT",null,"https://pim.firesecurityproducts.com/sites/default/files/product_leaflet/pt/11510-zt-1-pt.pdf"]
["11530-ZT",null,"https://pim.firesecurityproducts.com/sites/default/files/product_leaflet/pt/11530-zt-1-pt.pdf"]
["11540-ZT",null,"https://pim.firesecurityproducts.com/sites/default/files/product_leaflet/pt/11540-zt-1-pt.pdf"]
["116-BG-21",null,"https://pim.firesecurityproducts.com/sites/default/files/product_leaflet/pt/116-bg-21-1-pt.pdf"]
["116-BG-21F",null,"https://pim.firesecurityproducts.com/sites/default/files/product_leaflet/pt/116-bg-21f-1-pt.pdf"]
["116-BG-DEMOKIT",null,"https://pim.firesecurityproducts.com/sites/default/files/product_leaflet/pt/116-bg-demokit-1-pt.pdf"]
["120-2004",null,"https://pim.firesecurityproducts.com/sites/default/files/product_leaflet/pt/120-2004-1-pt.pdf"]
["120-2007",null,"https://pim.firesecurityproducts.com/sites/default/files/product_leaflet/pt/120-2007-1-pt.pdf"]
["120-2009",null,"https://pim.firesecurityproducts.com/sites/default/files/product_leaflet/pt/120-2009-1-pt.pdf"]
["120-2051",null,"https://pim.firesecurityproducts.com/sites/default/files/product_leaflet/pt/120-2051-1-pt.pdf"]
["120-2054",null,"https://pim.firesecurityproducts.com/sites/default/files/product_leaflet/pt/120-2054-1-pt.pdf"]
["120-2057",null,"https://pim.firesecurityproducts.com/sites/default/files/product_leaflet/pt/120-2057-1-pt.pdf"]
["120-2061",null,"https://pim.firesecurityproducts.com/sites/default/files/product_leaflet/pt/120-2061-1-pt.pdf"]
["120-2090",null,"https://pim.firesecurityproducts.com/sites/default/files/product_leaflet/pt/120-2090-1-pt.pdf"]
["120-2092",null,"https://pim.firesecurityproducts.com/sites/default/files/product_leaflet/pt/120-2092-1-pt.pdf"]
["120-3001",null,"https://pim.firesecurityproducts.com/sites/default/files/product_leaflet/pt/120-3001-1-pt.pdf"]
["120-3641",null,"https://pim.firesecurityproducts.com/sites/default/files/product_leaflet/pt/120-3641-1-pt.pdf"]
["120-3642",null,"https://pim.firesecurityproducts.com/sites/default/files/product_leaflet/pt/120-3642-1-pt.pdf"]
["120-3643",null,"https://pim.firesecurityproducts.com/sites/default/files/product_leaflet/pt/120-3643-1-pt.pdf"]
["120-3651",null,"https://pim.firesecurityproducts.com/sites/default/files/product_leaflet/pt/120-3651-1-pt.pdf"]
["120-3660E",null,"https://pim.firesecurityproducts.com/sites/default/files/product_leaflet/pt/120-3660e-1-pt.pdf"]
["120-6303E",null,"https://pim.firesecurityproducts.com/sites/default/files/product_leaflet/pt/120-6303e-1-pt.pdf"]
["120-6312W",null,"https://pim.firesecurityproducts.com/sites/default/files/product_leaflet/pt/120-6312w-1-pt.pdf"]
["120-7605",null,"https://pim.firesecurityproducts.com/sites/default/files/product_leaflet/pt/120-7605-1-pt.pdf"]
["120-7608",null,"https://pim.firesecurityproducts.com/sites/default/files/product_leaflet/pt/120-7608-1-pt.pdf"]
["120-8102",null,"https://pim.firesecurityproducts.com/sites/default/files/product_leaflet/pt/120-8102-1-pt.pdf"]
["120-8910",null,"https://pim.firesecurityproducts.com/sites/default/files/product_leaflet/pt/120-8910-1-pt.pdf"]
["120-8920",null,"https://pim.firesecurityproducts.com/sites/default/files/product_leaflet/pt/120-8920-1-pt.pdf"]
["120-8964",null,"https://pim.firesecurityproducts.com/sites/default/files/product_leaflet/pt/120-8964-1-pt.pdf"]
["1-21888-K030",null,"https://pim.firesecurityproducts.com/sites/default/files/product_leaflet/pt/1-21888-k030-1-pt.pdf"]
["1-21888-K030",null,"https://pim.firesecurityproducts.com/sites/default/files/product_leaflet/pt/1-21888-k030-1-pt.pdf"]
["1-21888-K033",null,"https://pim.firesecurityproducts.com/sites/default/files/product_leaflet/pt/1-21888-k033-1-pt.pdf"]
["1-21888-K033",null,"https://pim.firesecurityproducts.com/sites/default/files/product_leaflet/pt/1-21888-k033-1-pt.pdf"]
["1-21888-K063",null,"https://pim.firesecurityproducts.com/sites/default/files/product_leaflet/pt/1-21888-k063-1-pt.pdf"]
["1-21888-K063",null,"https://pim.firesecurityproducts.com/sites/default/files/product_leaflet/pt/1-21888-k063-1-pt.pdf"]
["1-21888-K064",null,"https://pim.firesecurityproducts.com/sites/default/files/product_leaflet/pt/1-21888-k064-1-pt.pdf"]
["1-21888-K064",null,"https://pim.firesecurityproducts.com/sites/default/files/product_leaflet/pt/1-21888-k064-1-pt.pdf"]
["1-21888-K064-P",null,"https://pim.firesecurityproducts.com/sites/default/files/product_leaflet/pt/1-21888-k064-p-1-pt.pdf"]
["1-21888-K064-P",null,"https://pim.firesecurityproducts.com/sites/default/files/product_leaflet/pt/1-21888-k064-p-1-pt.pdf"]
["1-21888-K068",null,"https://pim.firesecurityproducts.com/sites/default/files/product_leaflet/pt/1-21888-k068-1-pt.pdf"]
["1-21888-K074",null,"https://pim.firesecurityproducts.com/sites/default/files/product_leaflet/pt/1-21888-k074-1-pt.pdf"]
["1-21888-K075",null,"https://pim.firesecurityproducts.com/sites/default/files/product_leaflet/pt/1-21888-k075-1-pt.pdf"]
["1-21888-K075",null,"https://pim.firesecurityproducts.com/sites/default/files/product_leaflet/pt/1-21888-k075-1-pt.pdf"]
["1-21888-K076",null,"https://pim.firesecurityproducts.com/sites/default/files/product_leaflet/pt/1-21888-k076-1-pt.pdf"]
["1-21888-K076",null,"https://pim.firesecurityproducts.com/sites/default/files/product_leaflet/pt/1-21888-k076-1-pt.pdf"]
["1-23900-H02",null,"https://pim.firesecurityproducts.com/sites/default/files/product_leaflet/pt/1-23900-h02-1-pt.pdf"]
["1-23900-K069",null,"https://pim.firesecurityproducts.com/sites/default/files/product_leaflet/pt/1-23900-k069-1-pt.pdf"]
["1-23900-K134",null,"https://pim.firesecurityproducts.com/sites/default/files/product_leaflet/pt/1-23900-k134-1-pt.pdf"]
["1-23900-K137",null,"https://pim.firesecurityproducts.com/sites/default/files/product_leaflet/pt/1-23900-k137-1-pt.pdf"]
["1-23900-K216",null,"https://pim.firesecurityproducts.com/sites/default/files/product_leaflet/pt/1-23900-k216-1-pt.pdf"]
["1-23900-K217",null,"https://pim.firesecurityproducts.com/sites/default/files/product_leaflet/pt/1-23900-k217-1-pt.pdf"]
["1-23905-H03",null,"https://pim.firesecurityproducts.com/sites/default/files/product_leaflet/pt/1-23905-h03-1-pt.pdf"]
["1-23905-K019",null,"https://pim.firesecurityproducts.com/sites/default/files/product_leaflet/pt/1-23905-k019-1-pt.pdf"]
["1-23905-K022",null,"https://pim.firesecurityproducts.com/sites/default/files/product_leaflet/pt/1-23905-k022-1-pt.pdf"]
["1-23905-K024",null,"https://pim.firesecurityproducts.com/sites/default/files/product_leaflet/pt/1-23905-k024-1-pt.pdf"]
["1-23906-H02",null,"https://pim.firesecurityproducts.com/sites/default/files/product_leaflet/pt/1-23906-h02-1-pt.pdf"]
["1-23911-K069",null,"https://pim.firesecurityproducts.com/sites/default/files/product_leaflet/pt/1-23911-k069-1-pt.pdf"]
["1-23911-K069DK",null,"https://pim.firesecurityproducts.com/sites/default/files/product_leaflet/pt/1-23911-k069dk-1-pt.pdf"]
["1-23911-K070",null,"https://pim.firesecurityproducts.com/sites/default/files/product_leaflet/pt/1-23911-k070-1-pt.pdf"]
["1-23911-K071",null,"https://pim.firesecurityproducts.com/sites/default/files/product_leaflet/pt/1-23911-k071-1-pt.pdf"]
["1-23911-K073",null,"https://pim.firesecurityproducts.com/sites/default/files/product_leaflet/pt/1-23911-k073-1-pt.pdf"]
["1-23911-K075",null,"https://pim.firesecurityproducts.com/sites/default/files/product_leaflet/pt/1-23911-k075-1-pt.pdf"]
["1-23911-K081",null,"https://pim.firesecurityproducts.com/sites/default/files/product_leaflet/pt/1-23911-k081-1-pt.pdf"]
["1-23911-K085",null,"https://pim.firesecurityproducts.com/sites/default/files/product_leaflet/pt/1-23911-k085-1-pt.pdf"]
["1-23911-K085DK",null,"https://pim.firesecurityproducts.com/sites/default/files/product_leaflet/pt/1-23911-k085dk-1-pt.pdf"]
["1-23911-K087",null,"https://pim.firesecurityproducts.com/sites/default/files/product_leaflet/pt/1-23911-k087-1-pt.pdf"]
["1-23911-K087DK",null,"https://pim.firesecurityproducts.com/sites/default/files/product_leaflet/pt/1-23911-k087dk-1-pt.pdf"]
["1-23911-K090",null,"https://pim.firesecurityproducts.com/sites/default/files/product_leaflet/pt/1-23911-k090-1-pt.pdf"]
["1-23911-K109",null,"https://pim.firesecurityproducts.com/sites/default/files/product_leaflet/pt/1-23911-k109-1-pt.pdf"]
["1-23911-K113",null,"https://pim.firesecurityproducts.com/sites/default/files/product_leaflet/pt/1-23911-k113-1-pt.pdf"]
["1-23911-K114",null,"https://pim.firesecurityproducts.com/sites/default/files/product_leaflet/pt/1-23911-k114-1-pt.pdf"]
["1-23911-K115",null,"https://pim.firesecurityproducts.com/sites/default/files/product_leaflet/pt/1-23911-k115-1-pt.pdf"]
["1-23911-K116",null,"https://pim.firesecurityproducts.com/sites/default/files/product_leaflet/pt/1-23911-k116-1-pt.pdf"]
["1-23911-K128",null,"https://pim.firesecurityproducts.com/sites/default/files/product_leaflet/pt/1-23911-k128-1-pt.pdf"]
["1324GBN22"]
["1326-LMSMV",null,"https://pim.firesecurityproducts.com/sites/default/files/product_leaflet/pt/1326-lmsmv-1-pt.pdf"]
["1326-LSSMV",null,"https://pim.firesecurityproducts.com/sites/default/files/product_leaflet/pt/1326-lssmv-1-pt.pdf"]
["1336-LGGMN",null,"https://pim.firesecurityproducts.com/sites/default/files/product_leaflet/pt/1336-lggmn-1-pt.pdf"]
["1346-LNSMN"]
["13810-ZT",null,"https://pim.firesecurityproducts.com/sites/default/files/product_leaflet/pt/13810-zt-1-pt.pdf"]
["1386-HID",null,"https://pim.firesecurityproducts.com/sites/default/files/product_leaflet/pt/1386-hid-1-pt.pdf"]
["1386-LGGMH",null,"https://pim.firesecurityproducts.com/sites/default/files/product_leaflet/pt/1386-lggmh-1-pt.pdf"]
["1386-LGGMN",null,"https://pim.firesecurityproducts.com/sites/default/files/product_leaflet/pt/1386-lggmn-1-pt.pdf"]
["1386-LGSMN",null,"https://pim.firesecurityproducts.com/sites/default/files/product_leaflet/pt/1386-lgsmn-1-pt.pdf"]
["1386-W"]
["1391-LSSMN",null,"https://pim.firesecurityproducts.com/sites/default/files/product_leaflet/pt/1391-lssmn-1-pt.pdf"]
["1430-MGGMN"]
["1430-NGGNN"]
["1431-BGGMNN",null,"https://pim.firesecurityproducts.com/sites/default/files/product_leaflet/pt/1431-bggmnn-1-pt.pdf"]
["1435-MSSMN",null,"https://pim.firesecurityproducts.com/sites/default/files/product_leaflet/pt/1435-mssmn-1-pt.pdf"]
["1-53836-K247EX",null,"https://pim.firesecurityproducts.com/sites/default/files/product_leaflet/pt/1-53836-k247ex-1-pt.pdf"]
["1922-B",null,"https://pim.firesecurityproducts.com/sites/default/files/product_leaflet/pt/1922-b-1-pt.pdf"]
["1922-B",null,"https://pim.firesecurityproducts.com/sites/default/files/product_leaflet/pt/1922-b-1-pt.pdf"]
["19442-L",null,"https://pim.firesecurityproducts.com/sites/default/files/product_leaflet/pt/19442-l-1-pt.pdf"]
["1944-L",null,"https://pim.firesecurityproducts.com/sites/default/files/product_leaflet/pt/1944-l-1-pt.pdf"]
["1969-B",null,"https://pim.firesecurityproducts.com/sites/default/files/product_leaflet/pt/1969-b-1-pt.pdf"]
["1-AS2000A",null,"https://pim.firesecurityproducts.com/sites/default/files/product_leaflet/pt/1-as2000a-1-pt.pdf"]
["1-B6782-005",null,"https://pim.firesecurityproducts.com/sites/default/files/product_leaflet/pt/1-b6782-005-1-pt.pdf"]
["1-B6782-170",null,"https://pim.firesecurityproducts.com/sites/default/files/product_leaflet/pt/1-b6782-170-1-pt.pdf"]
["1-B6782-189",null,"https://pim.firesecurityproducts.com/sites/default/files/product_leaflet/pt/1-b6782-189-1-pt.pdf"]
["1-B6782-190",null,"https://pim.firesecurityproducts.com/sites/default/files/product_leaflet/pt/1-b6782-190-1-pt.pdf"]
["1-K82024",null,"https://pim.firesecurityproducts.com/sites/default/files/product_leaflet/pt/1-k82024-1-pt.pdf"]
["1X-C2",null,"https://pim.firesecurityproducts.com/sites/default/files/product_leaflet/pt/1x-c2-1-pt.pdf"]
["1X-C2-KK",null,"https://pim.firesecurityproducts.com/sites/default/files/product_leaflet/pt/1x-c2-kk-1-pt.pdf"]
["1X-C8-KK",null,"https://pim.firesecurityproducts.com/sites/default/files/product_leaflet/pt/1x-c8-kk-1-pt.pdf"]
["1X-E4-LK-01",null,"https://pim.firesecurityproducts.com/sites/default/files/product_leaflet/pt/1x-e4-lk-01-1-pt.pdf"]
["1X-E4-MB",null,"https://pim.firesecurityproducts.com/sites/default/files/product_leaflet/pt/1x-e4-mb-1-pt.pdf"]
["1X-E4-NL",null,"https://pim.firesecurityproducts.com/sites/default/files/product_leaflet/pt/1x-e4-nl-1-pt.pdf"]
["1X-E4-NL-01",null,"https://pim.firesecurityproducts.com/sites/default/files/product_leaflet/pt/1x-e4-nl-01-1-pt.pdf"]
["1X-F2",null,"https://pim.firesecurityproducts.com/sites/default/files/product_leaflet/pt/1x-f2-1-pt.pdf"]
["1X-F2-01",null,"https://pim.firesecurityproducts.com/sites/default/files/product_leaflet/pt/1x-f2-01-1-pt.pdf"]
["1X-F2-03",null,"https://pim.firesecurityproducts.com/sites/default/files/product_leaflet/pt/1x-f2-03-1-pt.pdf"]
["1X-F2-04",null,"https://pim.firesecurityproducts.com/sites/default/files/product_leaflet/pt/1x-f2-04-1-pt.pdf"]
["1X-F2-09",null,"https://pim.firesecurityproducts.com/sites/default/files/product_leaflet/pt/1x-f2-09-1-pt.pdf"]
["1X-F2-10",null,"https://pim.firesecurityproducts.com/sites/default/files/product_leaflet/pt/1x-f2-10-1-pt.pdf"]
["1X-F2-11",null,"https://pim.firesecurityproducts.com/sites/default/files/product_leaflet/pt/1x-f2-11-1-pt.pdf"]
["1X-F2-18",null,"https://pim.firesecurityproducts.com/sites/default/files/product_leaflet/pt/1x-f2-18-1-pt.pdf"]
["1X-F2-20",null,"https://pim.firesecurityproducts.com/sites/default/files/product_leaflet/pt/1x-f2-20-1-pt.pdf"]
["1X-F2-21",null,"https://pim.firesecurityproducts.com/sites/default/files/product_leaflet/pt/1x-f2-21-1-pt.pdf"]
["1X-F2-22",null,"https://pim.firesecurityproducts.com/sites/default/files/product_leaflet/pt/1x-f2-22-1-pt.pdf"]
["1X-F2-32",null,"https://pim.firesecurityproducts.com/sites/default/files/product_leaflet/pt/1x-f2-32-1-pt.pdf"]
["1X-F2-45",null,"https://pim.firesecurityproducts.com/sites/default/files/product_leaflet/pt/1x-f2-45-1-pt.pdf"]
["1X-F2-99",null,"https://pim.firesecurityproducts.com/sites/default/files/product_leaflet/pt/1x-f2-99-1-pt.pdf"]
["1X-F2-LK-01",null,"https://pim.firesecurityproducts.com/sites/default/files/product_leaflet/pt/1x-f2-lk-01-1-pt.pdf"]
["1X-F2-LK-03",null,"https://pim.firesecurityproducts.com/sites/default/files/product_leaflet/pt/1x-f2-lk-03-1-pt.pdf"]
["1X-F2-LK-03",null,"https://pim.firesecurityproducts.com/sites/default/files/product_leaflet/pt/1x-f2-lk-03-1-pt.pdf"]
["1X-F2-LK-04",null,"https://pim.firesecurityproducts.com/sites/default/files/product_leaflet/pt/1x-f2-lk-04-1-pt.pdf"]
["1X-F2-LK-04",null,"https://pim.firesecurityproducts.com/sites/default/files/product_leaflet/pt/1x-f2-lk-04-1-pt.pdf"]
["1X-F2-LK-05",null,"https://pim.firesecurityproducts.com/sites/default/files/product_leaflet/pt/1x-f2-lk-05-1-pt.pdf"]
["1X-F2-LK-05",null,"https://pim.firesecurityproducts.com/sites/default/files/product_leaflet/pt/1x-f2-lk-05-1-pt.pdf"]
["1X-F2-LK-06"]
["1X-F2-LK-06",null,"https://pim.firesecurityproducts.com/sites/default/files/product_leaflet/pt/1x-f2-lk-06-1-pt.pdf"]
["1X-F2-LK-07",null,"https://pim.firesecurityproducts.com/sites/default/files/product_leaflet/pt/1x-f2-lk-07-1-pt.pdf"]
["1X-F2-LK-07",null,"https://pim.firesecurityproducts.com/sites/default/files/product_leaflet/pt/1x-f2-lk-07-1-pt.pdf"]
["1X-F2-LK-09",null,"https://pim.firesecurityproducts.com/sites/default/files/product_leaflet/pt/1x-f2-lk-09-1-pt.pdf"]
["1X-F2-LK-09",null,"https://pim.firesecurityproducts.com/sites/default/files/product_leaflet/pt/1x-f2-lk-09-1-pt.pdf"]
["1X-F2-LK-10",null,"https://pim.firesecurityproducts.com/sites/default/files/product_leaflet/pt/1x-f2-lk-10-1-pt.pdf"]
["1X-F2-LK-10",null,"https://pim.firesecurityproducts.com/sites/default/files/product_leaflet/pt/1x-f2-lk-10-1-pt.pdf"]
["1X-F2-LK-11",null,"https://pim.firesecurityproducts.com/sites/default/files/product_leaflet/pt/1x-f2-lk-11-1-pt.pdf"]
["1X-F2-LK-11",null,"https://pim.firesecurityproducts.com/sites/default/files/product_leaflet/pt/1x-f2-lk-11-1-pt.pdf"]
["1X-F2-LK-18"]
["1X-F2-LK-18",null,"https://pim.firesecurityproducts.com/sites/default/files/product_leaflet/pt/1x-f2-lk-18-1-pt.pdf"]
["1X-F2-LK-20",null,"https://pim.firesecurityproducts.com/sites/default/files/product_leaflet/pt/1x-f2-lk-20-1-pt.pdf"]
["1X-F2-LK-20",null,"https://pim.firesecurityproducts.com/sites/default/files/product_leaflet/pt/1x-f2-lk-20-1-pt.pdf"]
["1X-F2-LK-21",null,"https://pim.firesecurityproducts.com/sites/default/files/product_leaflet/pt/1x-f2-lk-21-1-pt.pdf"]
["1X-F2-LK-21",null,"https://pim.firesecurityproducts.com/sites/default/files/product_leaflet/pt/1x-f2-lk-21-1-pt.pdf"]
["1X-F2-LK-22"]
["1X-F2-LK-22",null,"https://pim.firesecurityproducts.com/sites/default/files/product_leaflet/pt/1x-f2-lk-22-1-pt.pdf"]
["1X-F2-LK-24",null,"https://pim.firesecurityproducts.com/sites/default/files/product_leaflet/pt/1x-f2-lk-24-1-pt.pdf"]
["1X-F2-LK-24",null,"https://pim.firesecurityproducts.com/sites/default/files/product_leaflet/pt/1x-f2-lk-24-1-pt.pdf"]
["1X-F2-LK-27"]
["1X-F2-LK-27",null,"https://pim.firesecurityproducts.com/sites/default/files/product_leaflet/pt/1x-f2-lk-27-1-pt.pdf"]
["1X-F2-LK-28"]
["1X-F2-LK-28",null,"https://pim.firesecurityproducts.com/sites/default/files/product_leaflet/pt/1x-f2-lk-28-1-pt.pdf"]
["1X-F2-LK-32",null,"https://pim.firesecurityproducts.com/sites/default/files/product_leaflet/pt/1x-f2-lk-32-1-pt.pdf"]
["1X-F2-LK-32",null,"https://pim.firesecurityproducts.com/sites/default/files/product_leaflet/pt/1x-f2-lk-32-1-pt.pdf"]
["1X-F2-LK-45",null,"https://pim.firesecurityproducts.com/sites/default/files/product_leaflet/pt/1x-f2-lk-45-1-pt.pdf"]
["1X-F2-LK-45",null,"https://pim.firesecurityproducts.com/sites/default/files/product_leaflet/pt/1x-f2-lk-45-1-pt.pdf"]
["1X-F2-LK-99",null,"https://pim.firesecurityproducts.com/sites/default/files/product_leaflet/pt/1x-f2-lk-99-1-pt.pdf"]
["1X-F2-LK-99",null,"https://pim.firesecurityproducts.com/sites/default/files/product_leaflet/pt/1x-f2-lk-99-1-pt.pdf"]
["1X-F2-MB",null,"https://pim.firesecurityproducts.com/sites/default/files/product_leaflet/pt/1x-f2-mb-1-pt.pdf"]
["1X-F2-SC",null,"https://pim.firesecurityproducts.com/sites/default/files/product_leaflet/pt/1x-f2-sc-1-pt.pdf"]
["1X-F2-SC-05",null,"https://pim.firesecurityproducts.com/sites/default/files/product_leaflet/pt/1x-f2-sc-05-1-pt.pdf"]
["1X-F2-SC-06",null,"https://pim.firesecurityproducts.com/sites/default/files/product_leaflet/pt/1x-f2-sc-06-1-pt.pdf"]
["1X-F2-SC-07",null,"https://pim.firesecurityproducts.com/sites/default/files/product_leaflet/pt/1x-f2-sc-07-1-pt.pdf"]
["1X-F2-SC-28",null,"https://pim.firesecurityproducts.com/sites/default/files/product_leaflet/pt/1x-f2-sc-28-1-pt.pdf"]
["1X-F4",null,"https://pim.firesecurityproducts.com/sites/default/files/product_leaflet/pt/1x-f4-1-pt.pdf"]
["1X-F4-03",null,"https://pim.firesecurityproducts.com/sites/default/files/product_leaflet/pt/1x-f4-03-1-pt.pdf"]
["1X-F4-04",null,"https://pim.firesecurityproducts.com/sites/default/files/product_leaflet/pt/1x-f4-04-1-pt.pdf"]
["1X-F4-09"]
["1X-F4-09",null,"https://pim.firesecurityproducts.com/sites/default/files/product_leaflet/pt/1x-f4-09-1-pt.pdf"]
["1X-F4-10",null,"https://pim.firesecurityproducts.com/sites/default/files/product_leaflet/pt/1x-f4-10-1-pt.pdf"]
["1X-F4-11",null,"https://pim.firesecurityproducts.com/sites/default/files/product_leaflet/pt/1x-f4-11-1-pt.pdf"]
["1X-F4-18",null,"https://pim.firesecurityproducts.com/sites/default/files/product_leaflet/pt/1x-f4-18-1-pt.pdf"]
["1X-F4-20",null,"https://pim.firesecurityproducts.com/sites/default/files/product_leaflet/pt/1x-f4-20-1-pt.pdf"]
["1X-F4-21",null,"https://pim.firesecurityproducts.com/sites/default/files/product_leaflet/pt/1x-f4-21-1-pt.pdf"]
["1X-F4-22",null,"https://pim.firesecurityproducts.com/sites/default/files/product_leaflet/pt/1x-f4-22-1-pt.pdf"]
["1X-F4-24",null,"https://pim.firesecurityproducts.com/sites/default/files/product_leaflet/pt/1x-f4-24-1-pt.pdf"]
["1X-F4-27",null,"https://pim.firesecurityproducts.com/sites/default/files/product_leaflet/pt/1x-f4-27-1-pt.pdf"]
["1X-F4-32",null,"https://pim.firesecurityproducts.com/sites/default/files/product_leaflet/pt/1x-f4-32-1-pt.pdf"]
["1X-F4-45",null,"https://pim.firesecurityproducts.com/sites/default/files/product_leaflet/pt/1x-f4-45-1-pt.pdf"]
["1X-F4-99",null,"https://pim.firesecurityproducts.com/sites/default/files/product_leaflet/pt/1x-f4-99-1-pt.pdf"]
["1X-F4-MB",null,"https://pim.firesecurityproducts.com/sites/default/files/product_leaflet/pt/1x-f4-mb-1-pt.pdf"]
["1X-F4-NL",null,"https://pim.firesecurityproducts.com/sites/default/files/product_leaflet/pt/1x-f4-nl-1-pt.pdf"]
["1X-F4-NL-01",null,"https://pim.firesecurityproducts.com/sites/default/files/product_leaflet/pt/1x-f4-nl-01-1-pt.pdf"]
["1X-F4-NL-99",null,"https://pim.firesecurityproducts.com/sites/default/files/product_leaflet/pt/1x-f4-nl-99-1-pt.pdf"]
["1X-F4-SC",null,"https://pim.firesecurityproducts.com/sites/default/files/product_leaflet/pt/1x-f4-sc-1-pt.pdf"]
["1X-F4-SC-05",null,"https://pim.firesecurityproducts.com/sites/default/files/product_leaflet/pt/1x-f4-sc-05-1-pt.pdf"]
["1X-F4-SC-05-KIT",null,"https://pim.firesecurityproducts.com/sites/default/files/product_leaflet/pt/1x-f4-sc-05-kit-1-pt.pdf"]
["1X-F4-SC-06",null,"https://pim.firesecurityproducts.com/sites/default/files/product_leaflet/pt/1x-f4-sc-06-1-pt.pdf"]
["1X-F4-SC-06-KIT",null,"https://pim.firesecurityproducts.com/sites/default/files/product_leaflet/pt/1x-f4-sc-06-kit-1-pt.pdf"]
["1X-F4-SC-07",null,"https://pim.firesecurityproducts.com/sites/default/files/product_leaflet/pt/1x-f4-sc-07-1-pt.pdf"]
["1X-F4-SC-07-KIT",null,"https://pim.firesecurityproducts.com/sites/default/files/product_leaflet/pt/1x-f4-sc-07-kit-1-pt.pdf"]
["1X-F4-SC-28",null,"https://pim.firesecurityproducts.com/sites/default/files/product_leaflet/pt/1x-f4-sc-28-1-pt.pdf"]
["1X-F4-SC-28-KIT",null,"https://pim.firesecurityproducts.com/sites/default/files/product_leaflet/pt/1x-f4-sc-28-kit-1-pt.pdf"]
["1X-F8",null,"https://pim.firesecurityproducts.com/sites/default/files/product_leaflet/pt/1x-f8-1-pt.pdf"]
["1X-F8-03",null,"https://pim.firesecurityproducts.com/sites/default/files/product_leaflet/pt/1x-f8-03-1-pt.pdf"]
["1X-F8-04",null,"https://pim.firesecurityproducts.com/sites/default/files/product_leaflet/pt/1x-f8-04-1-pt.pdf"]
["1X-F8-09",null,"https://pim.firesecurityproducts.com/sites/default/files/product_leaflet/pt/1x-f8-09-1-pt.pdf"]
["1X-F8-10",null,"https://pim.firesecurityproducts.com/sites/default/files/product_leaflet/pt/1x-f8-10-1-pt.pdf"]
["1X-F8-11",null,"https://pim.firesecurityproducts.com/sites/default/files/product_leaflet/pt/1x-f8-11-1-pt.pdf"]
["1X-F8-18",null,"https://pim.firesecurityproducts.com/sites/default/files/product_leaflet/pt/1x-f8-18-1-pt.pdf"]
["1X-F8-19",null,"https://pim.firesecurityproducts.com/sites/default/files/product_leaflet/pt/1x-f8-19-1-pt.pdf"]
["1X-F8-21",null,"https://pim.firesecurityproducts.com/sites/default/files/product_leaflet/pt/1x-f8-21-1-pt.pdf"]
["1X-F8-22",null,"https://pim.firesecurityproducts.com/sites/default/files/product_leaflet/pt/1x-f8-22-1-pt.pdf"]
["1X-F8-27",null,"https://pim.firesecurityproducts.com/sites/default/files/product_leaflet/pt/1x-f8-27-1-pt.pdf"]
["1X-F8-32",null,"https://pim.firesecurityproducts.com/sites/default/files/product_leaflet/pt/1x-f8-32-1-pt.pdf"]
["1X-F8-45",null,"https://pim.firesecurityproducts.com/sites/default/files/product_leaflet/pt/1x-f8-45-1-pt.pdf"]
["1X-F8-99",null,"https://pim.firesecurityproducts.com/sites/default/files/product_leaflet/pt/1x-f8-99-1-pt.pdf"]
["1X-F8-LK-01",null,"https://pim.firesecurityproducts.com/sites/default/files/product_leaflet/pt/1x-f8-lk-01-1-pt.pdf"]
["1X-F8-LK-03",null,"https://pim.firesecurityproducts.com/sites/default/files/product_leaflet/pt/1x-f8-lk-03-1-pt.pdf"]
["1X-F8-LK-03",null,"https://pim.firesecurityproducts.com/sites/default/files/product_leaflet/pt/1x-f8-lk-03-1-pt.pdf"]
["1X-F8-LK-04",null,"https://pim.firesecurityproducts.com/sites/default/files/product_leaflet/pt/1x-f8-lk-04-1-pt.pdf"]
["1X-F8-LK-04",null,"https://pim.firesecurityproducts.com/sites/default/files/product_leaflet/pt/1x-f8-lk-04-1-pt.pdf"]
["1X-F8-LK-06"]
["1X-F8-LK-06",null,"https://pim.firesecurityproducts.com/sites/default/files/product_leaflet/pt/1x-f8-lk-06-1-pt.pdf"]
["1X-F8-LK-07",null,"https://pim.firesecurityproducts.com/sites/default/files/product_leaflet/pt/1x-f8-lk-07-1-pt.pdf"]
["1X-F8-LK-07",null,"https://pim.firesecurityproducts.com/sites/default/files/product_leaflet/pt/1x-f8-lk-07-1-pt.pdf"]
["1X-F8-LK-09",null,"https://pim.firesecurityproducts.com/sites/default/files/product_leaflet/pt/1x-f8-lk-09-1-pt.pdf"]
["1X-F8-LK-09",null,"https://pim.firesecurityproducts.com/sites/default/files/product_leaflet/pt/1x-f8-lk-09-1-pt.pdf"]
["1X-F8-LK-10"]
["1X-F8-LK-10",null,"https://pim.firesecurityproducts.com/sites/default/files/product_leaflet/pt/1x-f8-lk-10-1-pt.pdf"]
["1X-F8-LK-11",null,"https://pim.firesecurityproducts.com/sites/default/files/product_leaflet/pt/1x-f8-lk-11-1-pt.pdf"]
["1X-F8-LK-11",null,"https://pim.firesecurityproducts.com/sites/default/files/product_leaflet/pt/1x-f8-lk-11-1-pt.pdf"]
["1X-F8-LK-18"]
["1X-F8-LK-18",null,"https://pim.firesecurityproducts.com/sites/default/files/product_leaflet/pt/1x-f8-lk-18-1-pt.pdf"]
["1X-F8-LK-19"]
["1X-F8-LK-19",null,"https://pim.firesecurityproducts.com/sites/default/files/product_leaflet/pt/1x-f8-lk-19-1-pt.pdf"]
["1X-F8-LK-20"]
["1X-F8-LK-21",null,"https://pim.firesecurityproducts.com/sites/default/files/product_leaflet/pt/1x-f8-lk-21-1-pt.pdf"]
["1X-F8-LK-21",null,"https://pim.firesecurityproducts.com/sites/default/files/product_leaflet/pt/1x-f8-lk-21-1-pt.pdf"]
["1X-F8-LK-22",null,"https://pim.firesecurityproducts.com/sites/default/files/product_leaflet/pt/1x-f8-lk-22-1-pt.pdf"]
["1X-F8-LK-22",null,"https://pim.firesecurityproducts.com/sites/default/files/product_leaflet/pt/1x-f8-lk-22-1-pt.pdf"]
["1X-F8-LK-27",null,"https://pim.firesecurityproducts.com/sites/default/files/product_leaflet/pt/1x-f8-lk-27-1-pt.pdf"]
["1X-F8-LK-27",null,"https://pim.firesecurityproducts.com/sites/default/files/product_leaflet/pt/1x-f8-lk-27-1-pt.pdf"]
["1X-F8-LK-28"]
["1X-F8-LK-28",null,"https://pim.firesecurityproducts.com/sites/default/files/product_leaflet/pt/1x-f8-lk-28-1-pt.pdf"]
["1X-F8-LK-32",null,"https://pim.firesecurityproducts.com/sites/default/files/product_leaflet/pt/1x-f8-lk-32-1-pt.pdf"]
["1X-F8-LK-32",null,"https://pim.firesecurityproducts.com/sites/default/files/product_leaflet/pt/1x-f8-lk-32-1-pt.pdf"]
["1X-F8-LK-45"]
["1X-F8-LK-45",null,"https://pim.firesecurityproducts.com/sites/default/files/product_leaflet/pt/1x-f8-lk-45-1-pt.pdf"]
["1X-F8-LK-99",null,"https://pim.firesecurityproducts.com/sites/default/files/product_leaflet/pt/1x-f8-lk-99-1-pt.pdf"]
["1X-F8-LK-99",null,"https://pim.firesecurityproducts.com/sites/default/files/product_leaflet/pt/1x-f8-lk-99-1-pt.pdf"]
["1X-F8-MB",null,"https://pim.firesecurityproducts.com/sites/default/files/product_leaflet/pt/1x-f8-mb-1-pt.pdf"]
["1X-F8-NL",null,"https://pim.firesecurityproducts.com/sites/default/files/product_leaflet/pt/1x-f8-nl-1-pt.pdf"]
["1X-F8-NL-01",null,"https://pim.firesecurityproducts.com/sites/default/files/product_leaflet/pt/1x-f8-nl-01-1-pt.pdf"]
["1X-F8-NL-99",null,"https://pim.firesecurityproducts.com/sites/default/files/product_leaflet/pt/1x-f8-nl-99-1-pt.pdf"]
["1X-F8-SC",null,"https://pim.firesecurityproducts.com/sites/default/files/product_leaflet/pt/1x-f8-sc-1-pt.pdf"]
["1X-F8-SC-06",null,"https://pim.firesecurityproducts.com/sites/default/files/product_leaflet/pt/1x-f8-sc-06-1-pt.pdf"]
["1X-F8-SC-07",null,"https://pim.firesecurityproducts.com/sites/default/files/product_leaflet/pt/1x-f8-sc-07-1-pt.pdf"]
["1X-X3",null,"https://pim.firesecurityproducts.com/sites/default/files/product_leaflet/pt/1x-x3-1-pt.pdf"]
["1X-X3-09",null,"https://pim.firesecurityproducts.com/sites/default/files/product_leaflet/pt/1x-x3-09-1-pt.pdf"]
["1X-X3-09",null,"https://pim.firesecurityproducts.com/sites/default/files/product_leaflet/pt/1x-x3-09-1-pt.pdf"]
["1X-X3-10",null,"https://pim.firesecurityproducts.com/sites/default/files/product_leaflet/pt/1x-x3-10-1-pt.pdf"]
["1X-X3-11",null,"https://pim.firesecurityproducts.com/sites/default/files/product_leaflet/pt/1x-x3-11-1-pt.pdf"]
["1X-X3-19",null,"https://pim.firesecurityproducts.com/sites/default/files/product_leaflet/pt/1x-x3-19-1-pt.pdf"]
["1X-X3-21",null,"https://pim.firesecurityproducts.com/sites/default/files/product_leaflet/pt/1x-x3-21-1-pt.pdf"]
["1X-X3-21",null,"https://pim.firesecurityproducts.com/sites/default/files/product_leaflet/pt/1x-x3-21-1-pt.pdf"]
["1X-X3-27",null,"https://pim.firesecurityproducts.com/sites/default/files/product_leaflet/pt/1x-x3-27-1-pt.pdf"]
["1X-X3-32",null,"https://pim.firesecurityproducts.com/sites/default/files/product_leaflet/pt/1x-x3-32-1-pt.pdf"]
["1X-X3-36",null,"https://pim.firesecurityproducts.com/sites/default/files/product_leaflet/pt/1x-x3-36-1-pt.pdf"]
["1X-X3-45",null,"https://pim.firesecurityproducts.com/sites/default/files/product_leaflet/pt/1x-x3-45-1-pt.pdf"]
["1X-X3-99",null,"https://pim.firesecurityproducts.com/sites/default/files/product_leaflet/pt/1x-x3-99-1-pt.pdf"]
["1X-X3-99",null,"https://pim.firesecurityproducts.com/sites/default/files/product_leaflet/pt/1x-x3-99-1-pt.pdf"]
["1X-X3E",null,"https://pim.firesecurityproducts.com/sites/default/files/product_leaflet/pt/1x-x3e-1-pt.pdf"]
["1X-X3E-09",null,"https://pim.firesecurityproducts.com/sites/default/files/product_leaflet/pt/1x-x3e-09-1-pt.pdf"]
["1X-X3E-10",null,"https://pim.firesecurityproducts.com/sites/default/files/product_leaflet/pt/1x-x3e-10-1-pt.pdf"]
["1X-X3E-11",null,"https://pim.firesecurityproducts.com/sites/default/files/product_leaflet/pt/1x-x3e-11-1-pt.pdf"]
["1X-X3E-21",null,"https://pim.firesecurityproducts.com/sites/default/files/product_leaflet/pt/1x-x3e-21-1-pt.pdf"]
["1X-X3E-32",null,"https://pim.firesecurityproducts.com/sites/default/files/product_leaflet/pt/1x-x3e-32-1-pt.pdf"]
["1X-X3E-36",null,"https://pim.firesecurityproducts.com/sites/default/files/product_leaflet/pt/1x-x3e-36-1-pt.pdf"]
["1X-X3E-45",null,"https://pim.firesecurityproducts.com/sites/default/files/product_leaflet/pt/1x-x3e-45-1-pt.pdf"]
["1X-X3E-99",null,"https://pim.firesecurityproducts.com/sites/default/files/product_leaflet/pt/1x-x3e-99-1-pt.pdf"]
["1X-X3E-99",null,"https://pim.firesecurityproducts.com/sites/default/files/product_leaflet/pt/1x-x3e-99-1-pt.pdf"]
["1X-X3E-MB",null,"https://pim.firesecurityproducts.com/sites/default/files/product_leaflet/pt/1x-x3e-mb-1-pt.pdf"]
["1X-X3E-SC",null,"https://pim.firesecurityproducts.com/sites/default/files/product_leaflet/pt/1x-x3e-sc-1-pt.pdf"]
["1X-X3E-SC-06",null,"https://pim.firesecurityproducts.com/sites/default/files/product_leaflet/pt/1x-x3e-sc-06-1-pt.pdf"]
["1X-X3-LK-06"]
["1X-X3-LK-06",null,"https://pim.firesecurityproducts.com/sites/default/files/product_leaflet/pt/1x-x3-lk-06-1-pt.pdf"]
["1X-X3-LK-09",null,"https://pim.firesecurityproducts.com/sites/default/files/product_leaflet/pt/1x-x3-lk-09-1-pt.pdf"]
["1X-X3-LK-09",null,"https://pim.firesecurityproducts.com/sites/default/files/product_leaflet/pt/1x-x3-lk-09-1-pt.pdf"]
["1X-X3-LK-10"]
["1X-X3-LK-10",null,"https://pim.firesecurityproducts.com/sites/default/files/product_leaflet/pt/1x-x3-lk-10-1-pt.pdf"]
["1X-X3-LK-11"]
["1X-X3-LK-11",null,"https://pim.firesecurityproducts.com/sites/default/files/product_leaflet/pt/1x-x3-lk-11-1-pt.pdf"]
["1X-X3-LK-19"]
["1X-X3-LK-19",null,"https://pim.firesecurityproducts.com/sites/default/files/product_leaflet/pt/1x-x3-lk-19-1-pt.pdf"]
["1X-X3-LK-21",null,"https://pim.firesecurityproducts.com/sites/default/files/product_leaflet/pt/1x-x3-lk-21-1-pt.pdf"]
["1X-X3-LK-21",null,"https://pim.firesecurityproducts.com/sites/default/files/product_leaflet/pt/1x-x3-lk-21-1-pt.pdf"]
["1X-X3-LK-27"]
["1X-X3-LK-27",null,"https://pim.firesecurityproducts.com/sites/default/files/product_leaflet/pt/1x-x3-lk-27-1-pt.pdf"]
["1X-X3-LK-32"]
["1X-X3-LK-32",null,"https://pim.firesecurityproducts.com/sites/default/files/product_leaflet/pt/1x-x3-lk-32-1-pt.pdf"]
["1X-X3-LK-36"]
["1X-X3-LK-36",null,"https://pim.firesecurityproducts.com/sites/default/files/product_leaflet/pt/1x-x3-lk-36-1-pt.pdf"]
["1X-X3-LK-45"]
["1X-X3-LK-45",null,"https://pim.firesecurityproducts.com/sites/default/files/product_leaflet/pt/1x-x3-lk-45-1-pt.pdf"]
["1X-X3-LK-99",null,"https://pim.firesecurityproducts.com/sites/default/files/product_leaflet/pt/1x-x3-lk-99-1-pt.pdf"]
["1X-X3-LK-99",null,"https://pim.firesecurityproducts.com/sites/default/files/product_leaflet/pt/1x-x3-lk-99-1-pt.pdf"]
["1X-X3-MB",null,"https://pim.firesecurityproducts.com/sites/default/files/product_leaflet/pt/1x-x3-mb-1-pt.pdf"]
["1X-X3-MB",null,"https://pim.firesecurityproducts.com/sites/default/files/product_leaflet/pt/1x-x3-mb-1-pt.pdf"]
["2000CG1NN",null,"https://pim.firesecurityproducts.com/sites/default/files/product_leaflet/pt/2000cg1nn-1-pt.pdf"]
["2000HPGGMN",null,"https://pim.firesecurityproducts.com/sites/default/files/product_leaflet/pt/2000hpggmn-1-pt.pdf"]
["2000HPGGMN",null,"https://pim.firesecurityproducts.com/sites/default/files/product_leaflet/pt/2000hpggmn-1-pt.pdf"]
["2000WG1NN",null,"https://pim.firesecurityproducts.com/sites/default/files/product_leaflet/pt/2000wg1nn-1-pt.pdf"]
["2000WGGNN",null,"https://pim.firesecurityproducts.com/sites/default/files/product_leaflet/pt/2000wggnn-1-pt.pdf"]
["2001WGGNN",null,"https://pim.firesecurityproducts.com/sites/default/files/product_leaflet/pt/2001wggnn-1-pt.pdf"]
["2002HPGGMN",null,"https://pim.firesecurityproducts.com/sites/default/files/product_leaflet/pt/2002hpggmn-1-pt.pdf"]
["2002HPGGMN",null,"https://pim.firesecurityproducts.com/sites/default/files/product_leaflet/pt/2002hpggmn-1-pt.pdf"]
["2003WG1NN",null,"https://pim.firesecurityproducts.com/sites/default/files/product_leaflet/pt/2003wg1nn-1-pt.pdf"]
["2003WGGNN",null,"https://pim.firesecurityproducts.com/sites/default/files/product_leaflet/pt/2003wggnn-1-pt.pdf"]
["2004HPGGMN",null,"https://pim.firesecurityproducts.com/sites/default/files/product_leaflet/pt/2004hpggmn-1-pt.pdf"]
["2010-1-ACC-KIT",null,"https://pim.firesecurityproducts.com/sites/default/files/product_leaflet/pt/2010-1-acc-kit-1-pt.pdf"]
["2010-1-ACC-KIT",null,"https://pim.firesecurityproducts.com/sites/default/files/product_leaflet/pt/2010-1-acc-kit-1-pt.pdf"]
["2010-1F2-PS-C2",null,"https://pim.firesecurityproducts.com/sites/default/files/product_leaflet/pt/2010-1f2-ps-c2-1-pt.pdf"]
["2010-1F2-PS-C2",null,"https://pim.firesecurityproducts.com/sites/default/files/product_leaflet/pt/2010-1f2-ps-c2-1-pt.pdf"]
["2010-1F2-RK"]
["2010-1F8-PS-C2"]
["2010-1F8-PS-C2",null,"https://pim.firesecurityproducts.com/sites/default/files/product_leaflet/pt/2010-1f8-ps-c2-1-pt.pdf"]
["2010-1F8-RK",null,"https://pim.firesecurityproducts.com/sites/default/files/product_leaflet/pt/2010-1f8-rk-1-pt.pdf"]
["2010-1-NB",null,"https://pim.firesecurityproducts.com/sites/default/files/product_leaflet/pt/2010-1-nb-1-pt.pdf"]
["2010-1-PS-20",null,"https://pim.firesecurityproducts.com/sites/default/files/product_leaflet/pt/2010-1-ps-20-1-pt.pdf"]
["2010-1-PS-20",null,"https://pim.firesecurityproducts.com/sites/default/files/product_leaflet/pt/2010-1-ps-20-1-pt.pdf"]
["2010-1-PS-40",null,"https://pim.firesecurityproducts.com/sites/default/files/product_leaflet/pt/2010-1-ps-40-1-pt.pdf"]
["2010-1-PS-40",null,"https://pim.firesecurityproducts.com/sites/default/files/product_leaflet/pt/2010-1-ps-40-1-pt.pdf"]
["2010-1-RB",null,"https://pim.firesecurityproducts.com/sites/default/files/product_leaflet/pt/2010-1-rb-1-pt.pdf"]
["2010-1-RB",null,"https://pim.firesecurityproducts.com/sites/default/files/product_leaflet/pt/2010-1-rb-1-pt.pdf"]
["2010-1-SB",null,"https://pim.firesecurityproducts.com/sites/default/files/product_leaflet/pt/2010-1-sb-1-pt.pdf"]
["2010-1X-AE",null,"https://pim.firesecurityproducts.com/sites/default/files/product_leaflet/pt/2010-1x-ae-1-pt.pdf"]
["2010-1X-AE",null,"https://pim.firesecurityproducts.com/sites/default/files/product_leaflet/pt/2010-1x-ae-1-pt.pdf"]
["2010-2-232-KIT",null,"https://pim.firesecurityproducts.com/sites/default/files/product_leaflet/pt/2010-2-232-kit-1-pt.pdf"]
["2010-2-ACC-KIT",null,"https://pim.firesecurityproducts.com/sites/default/files/product_leaflet/pt/2010-2-acc-kit-1-pt.pdf"]
["2010-2-ACC-KIT",null,"https://pim.firesecurityproducts.com/sites/default/files/product_leaflet/pt/2010-2-acc-kit-1-pt.pdf"]
["2010-2A-LK-09",null,"https://pim.firesecurityproducts.com/sites/default/files/product_leaflet/pt/2010-2a-lk-09-1-pt.pdf"]
["2010-2A-LK-10",null,"https://pim.firesecurityproducts.com/sites/default/files/product_leaflet/pt/2010-2a-lk-10-1-pt.pdf"]
["2010-2A-LK-14",null,"https://pim.firesecurityproducts.com/sites/default/files/product_leaflet/pt/2010-2a-lk-14-1-pt.pdf"]
["2010-2A-LK-19",null,"https://pim.firesecurityproducts.com/sites/default/files/product_leaflet/pt/2010-2a-lk-19-1-pt.pdf"]
["2010-2A-LK-20",null,"https://pim.firesecurityproducts.com/sites/default/files/product_leaflet/pt/2010-2a-lk-20-1-pt.pdf"]
["2010-2A-LK-21",null,"https://pim.firesecurityproducts.com/sites/default/files/product_leaflet/pt/2010-2a-lk-21-1-pt.pdf"]
["2010-2A-LK-22",null,"https://pim.firesecurityproducts.com/sites/default/files/product_leaflet/pt/2010-2a-lk-22-1-pt.pdf"]
["2010-2A-LK-24",null,"https://pim.firesecurityproducts.com/sites/default/files/product_leaflet/pt/2010-2a-lk-24-1-pt.pdf"]
["2010-2A-LK-27",null,"https://pim.firesecurityproducts.com/sites/default/files/product_leaflet/pt/2010-2a-lk-27-1-pt.pdf"]
["2010-2A-LK-32",null,"https://pim.firesecurityproducts.com/sites/default/files/product_leaflet/pt/2010-2a-lk-32-1-pt.pdf"]
["2010-2A-LK-36",null,"https://pim.firesecurityproducts.com/sites/default/files/product_leaflet/pt/2010-2a-lk-36-1-pt.pdf"]
["2010-2A-LK-44",null,"https://pim.firesecurityproducts.com/sites/default/files/product_leaflet/pt/2010-2a-lk-44-1-pt.pdf"]
["2010-2A-LK-45",null,"https://pim.firesecurityproducts.com/sites/default/files/product_leaflet/pt/2010-2a-lk-45-1-pt.pdf"]
["2010-2A-LK-99",null,"https://pim.firesecurityproducts.com/sites/default/files/product_leaflet/pt/2010-2a-lk-99-1-pt.pdf"]
["2010-2A-PAK-HPL",null,"https://pim.firesecurityproducts.com/sites/default/files/product_leaflet/pt/2010-2a-pak-hpl-1-pt.pdf"]
["2010-2A-PAK-HPL",null,"https://pim.firesecurityproducts.com/sites/default/files/product_leaflet/pt/2010-2a-pak-hpl-1-pt.pdf"]
["2010-2A-ZI-20",null,"https://pim.firesecurityproducts.com/sites/default/files/product_leaflet/pt/2010-2a-zi-20-1-pt.pdf"]
["2010-2A-ZI-40",null,"https://pim.firesecurityproducts.com/sites/default/files/product_leaflet/pt/2010-2a-zi-40-1-pt.pdf"]
["2010-2CAP",null,"https://pim.firesecurityproducts.com/sites/default/files/product_leaflet/pt/2010-2cap-1-pt.pdf"]
["2010-2C-CEC",null,"https://pim.firesecurityproducts.com/sites/default/files/product_leaflet/pt/2010-2c-cec-1-pt.pdf"]
["2010-2C-CEC",null,"https://pim.firesecurityproducts.com/sites/default/files/product_leaflet/pt/2010-2c-cec-1-pt.pdf"]
["2010-2C-HP"]
["2010-2C-WB",null,"https://pim.firesecurityproducts.com/sites/default/files/product_leaflet/pt/2010-2c-wb-1-pt.pdf"]
["2010-2C-WB",null,"https://pim.firesecurityproducts.com/sites/default/files/product_leaflet/pt/2010-2c-wb-1-pt.pdf"]
["2010-2-DACT",null,"https://pim.firesecurityproducts.com/sites/default/files/product_leaflet/pt/2010-2-dact-1-pt.pdf"]
["2010-2F1-MB",null,"https://pim.firesecurityproducts.com/sites/default/files/product_leaflet/pt/2010-2f1-mb-1-pt.pdf"]
["2010-2F2-MB",null,"https://pim.firesecurityproducts.com/sites/default/files/product_leaflet/pt/2010-2f2-mb-1-pt.pdf"]
["2010-2F2-MB",null,"https://pim.firesecurityproducts.com/sites/default/files/product_leaflet/pt/2010-2f2-mb-1-pt.pdf"]
["2010-2-FL-CH"]
["2010-2FR-MB",null,"https://pim.firesecurityproducts.com/sites/default/files/product_leaflet/pt/2010-2fr-mb-1-pt.pdf"]
["2010-2FR-MB",null,"https://pim.firesecurityproducts.com/sites/default/files/product_leaflet/pt/2010-2fr-mb-1-pt.pdf"]
["2010-2-FTP-C30"]
["2010-2GUI-MO",null,"https://pim.firesecurityproducts.com/sites/default/files/product_leaflet/pt/2010-2gui-mo-1-pt.pdf"]
["2010-2-LB",null,"https://pim.firesecurityproducts.com/sites/default/files/product_leaflet/pt/2010-2-lb-1-pt.pdf"]
["2010-2-NB",null,"https://pim.firesecurityproducts.com/sites/default/files/product_leaflet/pt/2010-2-nb-1-pt.pdf"]
["2010-2-NB",null,"https://pim.firesecurityproducts.com/sites/default/files/product_leaflet/pt/2010-2-nb-1-pt.pdf"]
["2010-2-OPB",null,"https://pim.firesecurityproducts.com/sites/default/files/product_leaflet/pt/2010-2-opb-1-pt.pdf"]
["2010-2-OPB",null,"https://pim.firesecurityproducts.com/sites/default/files/product_leaflet/pt/2010-2-opb-1-pt.pdf"]
["2010-2-OPB-S",null,"https://pim.firesecurityproducts.com/sites/default/files/product_leaflet/pt/2010-2-opb-s-1-pt.pdf"]
["2010-2-OPB-S",null,"https://pim.firesecurityproducts.com/sites/default/files/product_leaflet/pt/2010-2-opb-s-1-pt.pdf"]
["2010-2-PAK-900",null,"https://pim.firesecurityproducts.com/sites/default/files/product_leaflet/pt/2010-2-pak-900-1-pt.pdf"]
["2010-2-PAK-NET128",null,"https://pim.firesecurityproducts.com/sites/default/files/product_leaflet/pt/2010-2-pak-net128-1-pt.pdf"]
["2010-2-PAK-NET256",null,"https://pim.firesecurityproducts.com/sites/default/files/product_leaflet/pt/2010-2-pak-net256-1-pt.pdf"]
["2010-2-PAK-RMBN"]
["2010-2-PAK-RMBN",null,"https://pim.firesecurityproducts.com/sites/default/files/product_leaflet/pt/2010-2-pak-rmbn-1-pt.pdf"]
["2010-2-PAK-RMMB",null,"https://pim.firesecurityproducts.com/sites/default/files/product_leaflet/pt/2010-2-pak-rmmb-1-pt.pdf"]
["2010-2-PAK-RMOH",null,"https://pim.firesecurityproducts.com/sites/default/files/product_leaflet/pt/2010-2-pak-rmoh-1-pt.pdf"]
["2010-2-PAK-RMSDK",null,"https://pim.firesecurityproducts.com/sites/default/files/product_leaflet/pt/2010-2-pak-rmsdk-1-pt.pdf"]
["2010-2-PCC-CF",null,"https://pim.firesecurityproducts.com/sites/default/files/product_leaflet/pt/2010-2-pcc-cf-1-pt.pdf"]
["2010-2-PIB",null,"https://pim.firesecurityproducts.com/sites/default/files/product_leaflet/pt/2010-2-pib-1-pt.pdf"]
["2010-2-PIB-8I",null,"https://pim.firesecurityproducts.com/sites/default/files/product_leaflet/pt/2010-2-pib-8i-1-pt.pdf"]
["2010-2-PIB-8I",null,"https://pim.firesecurityproducts.com/sites/default/files/product_leaflet/pt/2010-2-pib-8i-1-pt.pdf"]
["2010-2-PIB-8I8O",null,"https://pim.firesecurityproducts.com/sites/default/files/product_leaflet/pt/2010-2-pib-8i8o-1-pt.pdf"]
["2010-2-PIB-8I8O",null,"https://pim.firesecurityproducts.com/sites/default/files/product_leaflet/pt/2010-2-pib-8i8o-1-pt.pdf"]
["2010-2-PIB-8O",null,"https://pim.firesecurityproducts.com/sites/default/files/product_leaflet/pt/2010-2-pib-8o-1-pt.pdf"]
["2010-2-PIB-8O",null,"https://pim.firesecurityproducts.com/sites/default/files/product_leaflet/pt/2010-2-pib-8o-1-pt.pdf"]
["2010-2-PRT",null,"https://pim.firesecurityproducts.com/sites/default/files/product_leaflet/pt/2010-2-prt-1-pt.pdf"]
["2010-2-PRT",null,"https://pim.firesecurityproducts.com/sites/default/files/product_leaflet/pt/2010-2-prt-1-pt.pdf"]
["2010-2-PRT-3P",null,"https://pim.firesecurityproducts.com/sites/default/files/product_leaflet/pt/2010-2-prt-3p-1-pt.pdf"]
["2010-2-PRT-3P",null,"https://pim.firesecurityproducts.com/sites/default/files/product_leaflet/pt/2010-2-prt-3p-1-pt.pdf"]
["2010-2-PS-40",null,"https://pim.firesecurityproducts.com/sites/default/files/product_leaflet/pt/2010-2-ps-40-1-pt.pdf"]
["2010-2-PS-40",null,"https://pim.firesecurityproducts.com/sites/default/files/product_leaflet/pt/2010-2-ps-40-1-pt.pdf"]
["2010-2-PS-40N",null,"https://pim.firesecurityproducts.com/sites/default/files/product_leaflet/pt/2010-2-ps-40n-1-pt.pdf"]
["2010-2-PS-C2",null,"https://pim.firesecurityproducts.com/sites/default/files/product_leaflet/pt/2010-2-ps-c2-1-pt.pdf"]
["2010-2-PS-C2",null,"https://pim.firesecurityproducts.com/sites/default/files/product_leaflet/pt/2010-2-ps-c2-1-pt.pdf"]
["2010-2-RB",null,"https://pim.firesecurityproducts.com/sites/default/files/product_leaflet/pt/2010-2-rb-1-pt.pdf"]
["2010-2SW-FS",null,"https://pim.firesecurityproducts.com/sites/default/files/product_leaflet/pt/2010-2sw-fs-1-pt.pdf"]
["2010-2SW-FS",null,"https://pim.firesecurityproducts.com/sites/default/files/product_leaflet/pt/2010-2sw-fs-1-pt.pdf"]
["2010-2T-19",null,"https://pim.firesecurityproducts.com/sites/default/files/product_leaflet/pt/2010-2t-19-1-pt.pdf"]
["2010-2T-19",null,"https://pim.firesecurityproducts.com/sites/default/files/product_leaflet/pt/2010-2t-19-1-pt.pdf"]
["2010-2T-19-S",null,"https://pim.firesecurityproducts.com/sites/default/files/product_leaflet/pt/2010-2t-19-s-1-pt.pdf"]
["2010-2T-19-S",null,"https://pim.firesecurityproducts.com/sites/default/files/product_leaflet/pt/2010-2t-19-s-1-pt.pdf"]
["2010-2T-FM",null,"https://pim.firesecurityproducts.com/sites/default/files/product_leaflet/pt/2010-2t-fm-1-pt.pdf"]
["2010-2T-FM",null,"https://pim.firesecurityproducts.com/sites/default/files/product_leaflet/pt/2010-2t-fm-1-pt.pdf"]
["2010-2T-FM-S",null,"https://pim.firesecurityproducts.com/sites/default/files/product_leaflet/pt/2010-2t-fm-s-1-pt.pdf"]
["2010-2T-FM-S",null,"https://pim.firesecurityproducts.com/sites/default/files/product_leaflet/pt/2010-2t-fm-s-1-pt.pdf"]
["2010-2-UC240-KIT",null,"https://pim.firesecurityproducts.com/sites/default/files/product_leaflet/pt/2010-2-uc240-kit-1-pt.pdf"]
["2010-2-USB-C30",null,"https://pim.firesecurityproducts.com/sites/default/files/product_leaflet/pt/2010-2-usb-c30-1-pt.pdf"]
["2010-2-USB-C30",null,"https://pim.firesecurityproducts.com/sites/default/files/product_leaflet/pt/2010-2-usb-c30-1-pt.pdf"]
["2010-2-ZI-20-1-10"]
["2010-2-ZI-20-1-10",null,"https://pim.firesecurityproducts.com/sites/default/files/product_leaflet/pt/2010-2-zi-20-1-10-1-pt.pdf"]
["2010-2-ZI-20-11-20"]
["2010-2-ZI-20-11-20",null,"https://pim.firesecurityproducts.com/sites/default/files/product_leaflet/pt/2010-2-zi-20-11-20-1-pt.pdf"]
["2010-2-ZI-24-1-24"]
["2010-2-ZI-24-1-24",null,"https://pim.firesecurityproducts.com/sites/default/files/product_leaflet/pt/2010-2-zi-24-1-24-1-pt.pdf"]
["2010-2-ZI-40-1-20"]
["2010-2-ZI-40-1-20",null,"https://pim.firesecurityproducts.com/sites/default/files/product_leaflet/pt/2010-2-zi-40-1-20-1-pt.pdf"]
["2010-2-ZI-40-20-40",null,"https://pim.firesecurityproducts.com/sites/default/files/product_leaflet/pt/2010-2-zi-40-20-40-1-pt.pdf"]
["2010-2-ZI-40-20-40",null,"https://pim.firesecurityproducts.com/sites/default/files/product_leaflet/pt/2010-2-zi-40-20-40-1-pt.pdf"]
["2010-C-CEG",null,"https://pim.firesecurityproducts.com/sites/default/files/product_leaflet/pt/2010-c-ceg-1-pt.pdf"]
["2010-C-CEG",null,"https://pim.firesecurityproducts.com/sites/default/files/product_leaflet/pt/2010-c-ceg-1-pt.pdf"]
["2010-CK",null,"https://pim.firesecurityproducts.com/sites/default/files/product_leaflet/pt/2010-ck-1-pt.pdf"]
["2010-CK",null,"https://pim.firesecurityproducts.com/sites/default/files/product_leaflet/pt/2010-ck-1-pt.pdf"]
["2010-DL-AJ"]
["2010-DL-CH"]
["2010-DL-KFP",null,"https://pim.firesecurityproducts.com/sites/default/files/product_leaflet/pt/2010-dl-kfp-1-pt.pdf"]
["2010-DL-KFP",null,"https://pim.firesecurityproducts.com/sites/default/files/product_leaflet/pt/2010-dl-kfp-1-pt.pdf"]
["2010-DL-X",null,"https://pim.firesecurityproducts.com/sites/default/files/product_leaflet/pt/2010-dl-x-1-pt.pdf"]
["2010-DL-X",null,"https://pim.firesecurityproducts.com/sites/default/files/product_leaflet/pt/2010-dl-x-1-pt.pdf"]
["2010-DL-ZP",null,"https://pim.firesecurityproducts.com/sites/default/files/product_leaflet/pt/2010-dl-zp-1-pt.pdf"]
["2010-FS",null,"https://pim.firesecurityproducts.com/sites/default/files/product_leaflet/pt/2010-fs-1-pt.pdf"]
["2010-FS",null,"https://pim.firesecurityproducts.com/sites/default/files/product_leaflet/pt/2010-fs-1-pt.pdf"]
["2010-PS-40MC",null,"https://pim.firesecurityproducts.com/sites/default/files/product_leaflet/pt/2010-ps-40mc-1-pt.pdf"]
["2010-PS-40MC",null,"https://pim.firesecurityproducts.com/sites/default/files/product_leaflet/pt/2010-ps-40mc-1-pt.pdf"]
["2010-SK"]
["2010-SK",null,"https://pim.firesecurityproducts.com/sites/default/files/product_leaflet/pt/2010-sk-1-pt.pdf"]
["202501-101",null,"https://pim.firesecurityproducts.com/sites/default/files/product_leaflet/pt/202501-101-1-pt.pdf"]
["2050HNNMN",null,"https://pim.firesecurityproducts.com/sites/default/files/product_leaflet/pt/2050hnnmn-1-pt.pdf"]
["2050HNNMN",null,"https://pim.firesecurityproducts.com/sites/default/files/product_leaflet/pt/2050hnnmn-1-pt.pdf"]
["2050NNNNN",null,"https://pim.firesecurityproducts.com/sites/default/files/product_leaflet/pt/2050nnnnn-1-pt.pdf"]
["2080HPMSMV"]
["2080HPMSMV",null,"https://pim.firesecurityproducts.com/sites/default/files/product_leaflet/pt/2080hpmsmv-1-pt.pdf"]
["20-K-05",null,"https://pim.firesecurityproducts.com/sites/default/files/product_leaflet/pt/20-k-05-1-pt.pdf"]
["20-K-10",null,"https://pim.firesecurityproducts.com/sites/default/files/product_leaflet/pt/20-k-10-1-pt.pdf"]
["20-K-MP",null,"https://pim.firesecurityproducts.com/sites/default/files/product_leaflet/pt/20-k-mp-1-pt.pdf"]
["20KNKS-00-000000",null,"https://pim.firesecurityproducts.com/sites/default/files/product_leaflet/pt/20knks-00-000000-1-pt.pdf"]
["20KNKS-01-000000",null,"https://pim.firesecurityproducts.com/sites/default/files/product_leaflet/pt/20knks-01-000000-1-pt.pdf"]
["20KNKS-02-000000",null,"https://pim.firesecurityproducts.com/sites/default/files/product_leaflet/pt/20knks-02-000000-1-pt.pdf"]
["20KT-K-MP",null,"https://pim.firesecurityproducts.com/sites/default/files/product_leaflet/pt/20kt-k-mp-1-pt.pdf"]
["20KTKS-01-000000",null,"https://pim.firesecurityproducts.com/sites/default/files/product_leaflet/pt/20ktks-01-000000-1-pt.pdf"]
["20KTKS-02-000000",null,"https://pim.firesecurityproducts.com/sites/default/files/product_leaflet/pt/20ktks-02-000000-1-pt.pdf"]
["20KT-S-MP",null,"https://pim.firesecurityproducts.com/sites/default/files/product_leaflet/pt/20kt-s-mp-1-pt.pdf"]
["20NKS-00-000000",null,"https://pim.firesecurityproducts.com/sites/default/files/product_leaflet/pt/20nks-00-000000-1-pt.pdf"]
["20NKS-01-000000",null,"https://pim.firesecurityproducts.com/sites/default/files/product_leaflet/pt/20nks-01-000000-1-pt.pdf"]
["20NKS-02-000000",null,"https://pim.firesecurityproducts.com/sites/default/files/product_leaflet/pt/20nks-02-000000-1-pt.pdf"]
["20-S-05",null,"https://pim.firesecurityproducts.com/sites/default/files/product_leaflet/pt/20-s-05-1-pt.pdf"]
["20-S-10",null,"https://pim.firesecurityproducts.com/sites/default/files/product_leaflet/pt/20-s-10-1-pt.pdf"]
["20-S-MP",null,"https://pim.firesecurityproducts.com/sites/default/files/product_leaflet/pt/20-s-mp-1-pt.pdf"]
["20TKS-00-000000",null,"https://pim.firesecurityproducts.com/sites/default/files/product_leaflet/pt/20tks-00-000000-1-pt.pdf"]
["20TKS-01-000000",null,"https://pim.firesecurityproducts.com/sites/default/files/product_leaflet/pt/20tks-01-000000-1-pt.pdf"]
["20TKS-02-000000",null,"https://pim.firesecurityproducts.com/sites/default/files/product_leaflet/pt/20tks-02-000000-1-pt.pdf"]
["2100WGGNN",null,"https://pim.firesecurityproducts.com/sites/default/files/product_leaflet/pt/2100wggnn-1-pt.pdf"]
["2122AGGNNM"]
["2124BGGMNM",null,"https://pim.firesecurityproducts.com/sites/default/files/product_leaflet/pt/2124bggmnm-1-pt.pdf"]
["2124BGGMNM-C1000",null,"https://pim.firesecurityproducts.com/sites/default/files/product_leaflet/pt/2124bggmnm-c1000-1-pt.pdf"]
["2202AU*-LCXB",null,"https://pim.firesecurityproducts.com/sites/default/files/product_leaflet/pt/2202au-lcxb-1-pt.pdf"]
["2202AU*-LCXB",null,"https://pim.firesecurityproducts.com/sites/default/files/product_leaflet/pt/2202au*-lcxb-1-pt.pdf"]
["2320NMG1NNN"]
["2401ST-C",null,"https://pim.firesecurityproducts.com/sites/default/files/product_leaflet/pt/2401st-c-1-pt.pdf"]
["2402ST-E",null,"https://pim.firesecurityproducts.com/sites/default/files/product_leaflet/pt/2402st-e-1-pt.pdf"]
["2405ST-65",null,"https://pim.firesecurityproducts.com/sites/default/files/product_leaflet/pt/2405st-65-1-pt.pdf"]
["2405ST-E",null,"https://pim.firesecurityproducts.com/sites/default/files/product_leaflet/pt/2405st-e-1-pt.pdf"]
["2405ST-H",null,"https://pim.firesecurityproducts.com/sites/default/files/product_leaflet/pt/2405st-h-1-pt.pdf"]
["2706AP-L",null,"https://pim.firesecurityproducts.com/sites/default/files/product_leaflet/pt/2706ap-l-1-pt.pdf"]
["2706AP-L",null,"https://pim.firesecurityproducts.com/sites/default/files/product_leaflet/pt/2706ap-l-1-pt.pdf"]
["2707A-L",null,"https://pim.firesecurityproducts.com/sites/default/files/product_leaflet/pt/2707a-l-1-pt.pdf"]
["2804T-M",null,"https://pim.firesecurityproducts.com/sites/default/files/product_leaflet/pt/2804t-m-1-pt.pdf"]
["2X-AE1",null,"https://pim.firesecurityproducts.com/sites/default/files/product_leaflet/pt/2x-ae1-1-pt.pdf"]
["2X-AE2",null,"https://pim.firesecurityproducts.com/sites/default/files/product_leaflet/pt/2x-ae2-1-pt.pdf"]
["2X-AE2-01",null,"https://pim.firesecurityproducts.com/sites/default/files/product_leaflet/pt/2x-ae2-01-1-pt.pdf"]
["2X-AE2-P",null,"https://pim.firesecurityproducts.com/sites/default/files/product_leaflet/pt/2x-ae2-p-1-pt.pdf"]
["2X-AF1",null,"https://pim.firesecurityproducts.com/sites/default/files/product_leaflet/pt/2x-af1-1-pt.pdf"]
["2X-AF1-10",null,"https://pim.firesecurityproducts.com/sites/default/files/product_leaflet/pt/2x-af1-10-1-pt.pdf"]
["2X-AF1-19",null,"https://pim.firesecurityproducts.com/sites/default/files/product_leaflet/pt/2x-af1-19-1-pt.pdf"]
["2X-AF1-21",null,"https://pim.firesecurityproducts.com/sites/default/files/product_leaflet/pt/2x-af1-21-1-pt.pdf"]
["2X-AF1-99",null,"https://pim.firesecurityproducts.com/sites/default/files/product_leaflet/pt/2x-af1-99-1-pt.pdf"]
["2X-AF1-FB",null,"https://pim.firesecurityproducts.com/sites/default/files/product_leaflet/pt/2x-af1-fb-1-pt.pdf"]
["2X-AF1-FB-22",null,"https://pim.firesecurityproducts.com/sites/default/files/product_leaflet/pt/2x-af1-fb-22-1-pt.pdf"]
["2X-AF1-FB-45",null,"https://pim.firesecurityproducts.com/sites/default/files/product_leaflet/pt/2x-af1-fb-45-1-pt.pdf"]
["2X-AF1-FB-S",null,"https://pim.firesecurityproducts.com/sites/default/files/product_leaflet/pt/2x-af1-fb-s-1-pt.pdf"]
["2X-AF1-S",null,"https://pim.firesecurityproducts.com/sites/default/files/product_leaflet/pt/2x-af1-s-1-pt.pdf"]
["2X-AF1-S-09",null,"https://pim.firesecurityproducts.com/sites/default/files/product_leaflet/pt/2x-af1-s-09-1-pt.pdf"]
["2X-AF1-S-10",null,"https://pim.firesecurityproducts.com/sites/default/files/product_leaflet/pt/2x-af1-s-10-1-pt.pdf"]
["2X-AF1-S-21",null,"https://pim.firesecurityproducts.com/sites/default/files/product_leaflet/pt/2x-af1-s-21-1-pt.pdf"]
["2X-AF1-S-99",null,"https://pim.firesecurityproducts.com/sites/default/files/product_leaflet/pt/2x-af1-s-99-1-pt.pdf"]
["2X-AF1-SCFB",null,"https://pim.firesecurityproducts.com/sites/default/files/product_leaflet/pt/2x-af1-scfb-1-pt.pdf"]
["2X-AF1-SCFB-06",null,"https://pim.firesecurityproducts.com/sites/default/files/product_leaflet/pt/2x-af1-scfb-06-1-pt.pdf"]
["2X-AF1-SCFB-06",null,"https://pim.firesecurityproducts.com/sites/default/files/product_leaflet/pt/2x-af1-scfb-06-1-pt.pdf"]
["2X-AF1-SCFB-S",null,"https://pim.firesecurityproducts.com/sites/default/files/product_leaflet/pt/2x-af1-scfb-s-1-pt.pdf"]
["2X-AF2",null,"https://pim.firesecurityproducts.com/sites/default/files/product_leaflet/pt/2x-af2-1-pt.pdf"]
["2X-AF2-09",null,"https://pim.firesecurityproducts.com/sites/default/files/product_leaflet/pt/2x-af2-09-1-pt.pdf"]
["2X-AF2-10",null,"https://pim.firesecurityproducts.com/sites/default/files/product_leaflet/pt/2x-af2-10-1-pt.pdf"]
["2X-AF2-19",null,"https://pim.firesecurityproducts.com/sites/default/files/product_leaflet/pt/2x-af2-19-1-pt.pdf"]
["2X-AF2-21",null,"https://pim.firesecurityproducts.com/sites/default/files/product_leaflet/pt/2x-af2-21-1-pt.pdf"]
["2X-AF2-99",null,"https://pim.firesecurityproducts.com/sites/default/files/product_leaflet/pt/2x-af2-99-1-pt.pdf"]
["2X-AF2-FB",null,"https://pim.firesecurityproducts.com/sites/default/files/product_leaflet/pt/2x-af2-fb-1-pt.pdf"]
["2X-AF2-FB-11",null,"https://pim.firesecurityproducts.com/sites/default/files/product_leaflet/pt/2x-af2-fb-11-1-pt.pdf"]
["2X-AF2-FB-32",null,"https://pim.firesecurityproducts.com/sites/default/files/product_leaflet/pt/2x-af2-fb-32-1-pt.pdf"]
["2X-AF2-FB-45",null,"https://pim.firesecurityproducts.com/sites/default/files/product_leaflet/pt/2x-af2-fb-45-1-pt.pdf"]
["2X-AF2-FB-46",null,"https://pim.firesecurityproducts.com/sites/default/files/product_leaflet/pt/2x-af2-fb-46-1-pt.pdf"]
["2X-AF2-FB-P",null,"https://pim.firesecurityproducts.com/sites/default/files/product_leaflet/pt/2x-af2-fb-p-1-pt.pdf"]
["2X-AF2-FB-PRT",null,"https://pim.firesecurityproducts.com/sites/default/files/product_leaflet/pt/2x-af2-fb-prt-1-pt.pdf"]
["2X-AF2-FB-PRT-P",null,"https://pim.firesecurityproducts.com/sites/default/files/product_leaflet/pt/2x-af2-fb-prt-p-1-pt.pdf"]
["2X-AF2-FB-S",null,"https://pim.firesecurityproducts.com/sites/default/files/product_leaflet/pt/2x-af2-fb-s-1-pt.pdf"]
["2X-AF2-P",null,"https://pim.firesecurityproducts.com/sites/default/files/product_leaflet/pt/2x-af2-p-1-pt.pdf"]
["2X-AF2-PRT",null,"https://pim.firesecurityproducts.com/sites/default/files/product_leaflet/pt/2x-af2-prt-1-pt.pdf"]
["2X-AF2-PRT-P",null,"https://pim.firesecurityproducts.com/sites/default/files/product_leaflet/pt/2x-af2-prt-p-1-pt.pdf"]
["2X-AF2-S",null,"https://pim.firesecurityproducts.com/sites/default/files/product_leaflet/pt/2x-af2-s-1-pt.pdf"]
["2X-AF2-S-09",null,"https://pim.firesecurityproducts.com/sites/default/files/product_leaflet/pt/2x-af2-s-09-1-pt.pdf"]
["2X-AF2-SCFB",null,"https://pim.firesecurityproducts.com/sites/default/files/product_leaflet/pt/2x-af2-scfb-1-pt.pdf"]
["2X-AF2-SCFB-06",null,"https://pim.firesecurityproducts.com/sites/default/files/product_leaflet/pt/2x-af2-scfb-06-1-pt.pdf"]
["2X-AF2-SCFB-P",null,"https://pim.firesecurityproducts.com/sites/default/files/product_leaflet/pt/2x-af2-scfb-p-1-pt.pdf"]
["2X-AF2-SCFB-S",null,"https://pim.firesecurityproducts.com/sites/default/files/product_leaflet/pt/2x-af2-scfb-s-1-pt.pdf"]
["2X-AFR",null,"https://pim.firesecurityproducts.com/sites/default/files/product_leaflet/pt/2x-afr-1-pt.pdf"]
["2X-AFR-19",null,"https://pim.firesecurityproducts.com/sites/default/files/product_leaflet/pt/2x-afr-19-1-pt.pdf"]
["2X-AFR-FB-S",null,"https://pim.firesecurityproducts.com/sites/default/files/product_leaflet/pt/2x-afr-fb-s-1-pt.pdf"]
["2X-AFR-FB-S-11",null,"https://pim.firesecurityproducts.com/sites/default/files/product_leaflet/pt/2x-afr-fb-s-11-1-pt.pdf"]
["2X-AFR-FB-S-32",null,"https://pim.firesecurityproducts.com/sites/default/files/product_leaflet/pt/2x-afr-fb-s-32-1-pt.pdf"]
["2X-AFR-FB-S-99",null,"https://pim.firesecurityproducts.com/sites/default/files/product_leaflet/pt/2x-afr-fb-s-99-1-pt.pdf"]
["2X-AFR-S",null,"https://pim.firesecurityproducts.com/sites/default/files/product_leaflet/pt/2x-afr-s-1-pt.pdf"]
["2X-AFR-S-10",null,"https://pim.firesecurityproducts.com/sites/default/files/product_leaflet/pt/2x-afr-s-10-1-pt.pdf"]
["2X-AFR-S-21",null,"https://pim.firesecurityproducts.com/sites/default/files/product_leaflet/pt/2x-afr-s-21-1-pt.pdf"]
["2X-A-KIT-SA-1L",null,"https://pim.firesecurityproducts.com/sites/default/files/product_leaflet/pt/2x-a-kit-sa-1l-1-pt.pdf"]
["2X-A-KIT-SA-2L",null,"https://pim.firesecurityproducts.com/sites/default/files/product_leaflet/pt/2x-a-kit-sa-2l-1-pt.pdf"]
["2X-A-KIT-SA-2L-D50",null,"https://pim.firesecurityproducts.com/sites/default/files/product_leaflet/pt/2x-a-kit-sa-2l-d50-1-pt.pdf"]
["2X-A-KIT-SA-2L-LB",null,"https://pim.firesecurityproducts.com/sites/default/files/product_leaflet/pt/2x-a-kit-sa-2l-lb-1-pt.pdf"]
["2X-A-LB",null,"https://pim.firesecurityproducts.com/sites/default/files/product_leaflet/pt/2x-a-lb-1-pt.pdf"]
["2X-A-UI",null,"https://pim.firesecurityproducts.com/sites/default/files/product_leaflet/pt/2x-a-ui-1-pt.pdf"]
["2X-A-UI-FB",null,"https://pim.firesecurityproducts.com/sites/default/files/product_leaflet/pt/2x-a-ui-fb-1-pt.pdf"]
["2X-BZ",null,"https://pim.firesecurityproducts.com/sites/default/files/product_leaflet/pt/2x-bz-1-pt.pdf"]
["2X-D",null,"https://pim.firesecurityproducts.com/sites/default/files/product_leaflet/pt/2x-d-1-pt.pdf"]
["2X-D-E",null,"https://pim.firesecurityproducts.com/sites/default/files/product_leaflet/pt/2x-d-e-1-pt.pdf"]
["2X-D-FB2",null,"https://pim.firesecurityproducts.com/sites/default/files/product_leaflet/pt/2x-d-fb2-1-pt.pdf"]
["2X-D-FB2-S",null,"https://pim.firesecurityproducts.com/sites/default/files/product_leaflet/pt/2x-d-fb2-s-1-pt.pdf"]
["2X-D-FB-S",null,"https://pim.firesecurityproducts.com/sites/default/files/product_leaflet/pt/2x-d-fb-s-1-pt.pdf"]
["2X-D-S",null,"https://pim.firesecurityproducts.com/sites/default/files/product_leaflet/pt/2x-d-s-1-pt.pdf"]
["2X-D-SCFB",null,"https://pim.firesecurityproducts.com/sites/default/files/product_leaflet/pt/2x-d-scfb-1-pt.pdf"]
["2X-D-SCFB-S",null,"https://pim.firesecurityproducts.com/sites/default/files/product_leaflet/pt/2x-d-scfb-s-1-pt.pdf"]
["2X-D-TP",null,"https://pim.firesecurityproducts.com/sites/default/files/product_leaflet/pt/2x-d-tp-1-pt.pdf"]
["2X-D-TP-S",null,"https://pim.firesecurityproducts.com/sites/default/files/product_leaflet/pt/2x-d-tp-s-1-pt.pdf"]
["2X-E1",null,"https://pim.firesecurityproducts.com/sites/default/files/product_leaflet/pt/2x-e1-1-pt.pdf"]
["2X-E1-01",null,"https://pim.firesecurityproducts.com/sites/default/files/product_leaflet/pt/2x-e1-01-1-pt.pdf"]
["2X-E1-S",null,"https://pim.firesecurityproducts.com/sites/default/files/product_leaflet/pt/2x-e1-s-1-pt.pdf"]
["2X-E1-S-01",null,"https://pim.firesecurityproducts.com/sites/default/files/product_leaflet/pt/2x-e1-s-01-1-pt.pdf"]
["2X-E2",null,"https://pim.firesecurityproducts.com/sites/default/files/product_leaflet/pt/2x-e2-1-pt.pdf"]
["2X-E2-01",null,"https://pim.firesecurityproducts.com/sites/default/files/product_leaflet/pt/2x-e2-01-1-pt.pdf"]
["2X-E2-S",null,"https://pim.firesecurityproducts.com/sites/default/files/product_leaflet/pt/2x-e2-s-1-pt.pdf"]
["2X-E2-S-01",null,"https://pim.firesecurityproducts.com/sites/default/files/product_leaflet/pt/2x-e2-s-01-1-pt.pdf"]
["2X-ER",null,"https://pim.firesecurityproducts.com/sites/default/files/product_leaflet/pt/2x-er-1-pt.pdf"]
["2X-ER-01",null,"https://pim.firesecurityproducts.com/sites/default/files/product_leaflet/pt/2x-er-01-1-pt.pdf"]
["2X-ER-C",null,"https://pim.firesecurityproducts.com/sites/default/files/product_leaflet/pt/2x-er-c-1-pt.pdf"]
["2X-ER-C-01",null,"https://pim.firesecurityproducts.com/sites/default/files/product_leaflet/pt/2x-er-c-01-1-pt.pdf"]
["2X-ER-S",null,"https://pim.firesecurityproducts.com/sites/default/files/product_leaflet/pt/2x-er-s-1-pt.pdf"]
["2X-ER-S-01",null,"https://pim.firesecurityproducts.com/sites/default/files/product_leaflet/pt/2x-er-s-01-1-pt.pdf"]
["2X-F1"]
["2X-F1",null,"https://pim.firesecurityproducts.com/sites/default/files/product_leaflet/pt/2x-f1-1-pt.pdf"]
["2X-F1-09",null,"https://pim.firesecurityproducts.com/sites/default/files/product_leaflet/pt/2X-F2-PRT-21-1-pt.pdf"]
["2X-F1-09",null,"https://pim.firesecurityproducts.com/sites/default/files/product_leaflet/pt/2x-f1-09-1-pt.pdf"]
["2X-F1-10",null,"https://pim.firesecurityproducts.com/sites/default/files/product_leaflet/pt/2x-f1-10-1-pt.pdf"]
["2X-F1-19",null,"https://pim.firesecurityproducts.com/sites/default/files/product_leaflet/pt/2x-f1-19-1-pt.pdf"]
["2X-F1-21",null,"https://pim.firesecurityproducts.com/sites/default/files/product_leaflet/pt/2x-f1-21-1-pt.pdf"]
["2X-F1-27",null,"https://pim.firesecurityproducts.com/sites/default/files/product_leaflet/pt/2x-f1-27-1-pt.pdf"]
["2X-F1-99",null,"https://pim.firesecurityproducts.com/sites/default/files/product_leaflet/pt/2x-f1-99-1-pt.pdf"]
["2X-F1-FB2",null,"https://pim.firesecurityproducts.com/sites/default/files/product_leaflet/pt/2x-f1-fb2-1-pt.pdf"]
["2X-F1-FB2-01",null,"https://pim.firesecurityproducts.com/sites/default/files/product_leaflet/pt/2x-f1-fb2-01-1-pt.pdf"]
["2X-F1-FB2-11",null,"https://pim.firesecurityproducts.com/sites/default/files/product_leaflet/pt/2x-f1-fb2-11-1-pt.pdf"]
["2X-F1-FB2-18",null,"https://pim.firesecurityproducts.com/sites/default/files/product_leaflet/pt/2x-f1-fb2-18-1-pt.pdf"]
["2X-F1-FB2-22",null,"https://pim.firesecurityproducts.com/sites/default/files/product_leaflet/pt/2x-f1-fb2-22-1-pt.pdf"]
["2X-F1-FB2-32",null,"https://pim.firesecurityproducts.com/sites/default/files/product_leaflet/pt/2x-f1-fb2-32-1-pt.pdf"]
["2X-F1-FB2-45",null,"https://pim.firesecurityproducts.com/sites/default/files/product_leaflet/pt/2x-f1-fb2-45-1-pt.pdf"]
["2X-F1-FB2-46",null,"https://pim.firesecurityproducts.com/sites/default/files/product_leaflet/pt/2x-f1-fb2-46-1-pt.pdf"]
["2X-F1-FB2-99",null,"https://pim.firesecurityproducts.com/sites/default/files/product_leaflet/pt/2x-f1-fb2-99-1-pt.pdf"]
["2X-F1-FB2-S",null,"https://pim.firesecurityproducts.com/sites/default/files/product_leaflet/pt/2x-f1-fb2-s-1-pt.pdf"]
["2X-F1-FB2-S-01",null,"https://pim.firesecurityproducts.com/sites/default/files/product_leaflet/pt/2x-f1-fb2-s-01-1-pt.pdf"]
["2X-F1-FB2-S-11",null,"https://pim.firesecurityproducts.com/sites/default/files/product_leaflet/pt/2x-f1-fb2-s-11-1-pt.pdf"]
["2X-F1-FB2-S-18",null,"https://pim.firesecurityproducts.com/sites/default/files/product_leaflet/pt/2x-f1-fb2-s-18-1-pt.pdf"]
["2X-F1-FB2-S-22",null,"https://pim.firesecurityproducts.com/sites/default/files/product_leaflet/pt/2x-f1-fb2-s-22-1-pt.pdf"]
["2X-F1-FB2-S-25",null,"https://pim.firesecurityproducts.com/sites/default/files/product_leaflet/pt/2x-f1-fb2-s-25-1-pt.pdf"]
["2X-F1-FB2-S-32",null,"https://pim.firesecurityproducts.com/sites/default/files/product_leaflet/pt/2x-f1-fb2-s-32-1-pt.pdf"]
["2X-F1-FB2-S-45",null,"https://pim.firesecurityproducts.com/sites/default/files/product_leaflet/pt/2x-f1-fb2-s-45-1-pt.pdf"]
["2X-F1-FB2-S-46",null,"https://pim.firesecurityproducts.com/sites/default/files/product_leaflet/pt/2x-f1-fb2-s-46-1-pt.pdf"]
["2X-F1-FB2-S-99",null,"https://pim.firesecurityproducts.com/sites/default/files/product_leaflet/pt/2x-f1-fb2-s-99-1-pt.pdf"]
["2X-F1-S",null,"https://pim.firesecurityproducts.com/sites/default/files/product_leaflet/pt/2x-f1-s-1-pt.pdf"]
["2X-F1-S-03",null,"https://pim.firesecurityproducts.com/sites/default/files/product_leaflet/pt/2x-f1-s-03-1-pt.pdf"]
["2X-F1-S-09",null,"https://pim.firesecurityproducts.com/sites/default/files/product_leaflet/pt/2x-f1-s-09-1-pt.pdf"]
["2X-F1-S-10",null,"https://pim.firesecurityproducts.com/sites/default/files/product_leaflet/pt/2x-f1-s-10-1-pt.pdf"]
["2X-F1-S-19",null,"https://pim.firesecurityproducts.com/sites/default/files/product_leaflet/pt/2x-f1-s-19-1-pt.pdf"]
["2X-F1-S-21",null,"https://pim.firesecurityproducts.com/sites/default/files/product_leaflet/pt/2x-f1-s-21-1-pt.pdf"]
["2X-F1-S-27",null,"https://pim.firesecurityproducts.com/sites/default/files/product_leaflet/pt/2x-f1-s-27-1-pt.pdf"]
["2X-F1-S-99",null,"https://pim.firesecurityproducts.com/sites/default/files/product_leaflet/pt/2x-f1-s-99-1-pt.pdf"]
["2X-F1-SCFB",null,"https://pim.firesecurityproducts.com/sites/default/files/product_leaflet/pt/2x-f1-scfb-1-pt.pdf"]
["2X-F1-SCFB-06",null,"https://pim.firesecurityproducts.com/sites/default/files/product_leaflet/pt/2x-f1-scfb-06-1-pt.pdf"]
["2X-F1-SCFB-07",null,"https://pim.firesecurityproducts.com/sites/default/files/product_leaflet/pt/2x-f1-scfb-07-1-pt.pdf"]
["2X-F1-SCFB-S",null,"https://pim.firesecurityproducts.com/sites/default/files/product_leaflet/pt/2x-f1-scfb-s-1-pt.pdf"]
["2X-F1-SCFB-S-05",null,"https://pim.firesecurityproducts.com/sites/default/files/product_leaflet/pt/2x-f1-scfb-s-05-1-pt.pdf"]
["2X-F1-SCFB-S-06",null,"https://pim.firesecurityproducts.com/sites/default/files/product_leaflet/pt/2x-f1-scfb-s-06-1-pt.pdf"]
["2X-F1-SCFB-S-07",null,"https://pim.firesecurityproducts.com/sites/default/files/product_leaflet/pt/2x-f1-scfb-s-07-1-pt.pdf"]
["2X-F2",null,"https://pim.firesecurityproducts.com/sites/default/files/product_leaflet/pt/2x-f2-1-pt.pdf"]
["2X-F2-09",null,"https://pim.firesecurityproducts.com/sites/default/files/product_leaflet/pt/2x-f2-09-1-pt.pdf"]
["2X-F2-10",null,"https://pim.firesecurityproducts.com/sites/default/files/product_leaflet/pt/2x-f2-10-1-pt.pdf"]
["2X-F2-19",null,"https://pim.firesecurityproducts.com/sites/default/files/product_leaflet/pt/2x-f2-19-1-pt.pdf"]
["2X-F2-21",null,"https://pim.firesecurityproducts.com/sites/default/files/product_leaflet/pt/2x-f2-21-1-pt.pdf"]
["2X-F2-27",null,"https://pim.firesecurityproducts.com/sites/default/files/product_leaflet/pt/2x-f2-27-1-pt.pdf"]
["2X-F2-99",null,"https://pim.firesecurityproducts.com/sites/default/files/product_leaflet/pt/2x-f2-99-1-pt.pdf"]
["2X-F2-FB2",null,"https://pim.firesecurityproducts.com/sites/default/files/product_leaflet/pt/2x-f2-fb2-1-pt.pdf"]
["2X-F2-FB2-01",null,"https://pim.firesecurityproducts.com/sites/default/files/product_leaflet/pt/2x-f2-fb2-01-1-pt.pdf"]
["2X-F2-FB2-11",null,"https://pim.firesecurityproducts.com/sites/default/files/product_leaflet/pt/2x-f2-fb2-11-1-pt.pdf"]
["2X-F2-FB2-18",null,"https://pim.firesecurityproducts.com/sites/default/files/product_leaflet/pt/2x-f2-fb2-18-1-pt.pdf"]
["2X-F2-FB2-22",null,"https://pim.firesecurityproducts.com/sites/default/files/product_leaflet/pt/2x-f2-fb2-22-1-pt.pdf"]
["2X-F2-FB2-32",null,"https://pim.firesecurityproducts.com/sites/default/files/product_leaflet/pt/2x-f2-fb2-32-1-pt.pdf"]
["2X-F2-FB2-45",null,"https://pim.firesecurityproducts.com/sites/default/files/product_leaflet/pt/2x-f2-fb2-45-1-pt.pdf"]
["2X-F2-FB2-46",null,"https://pim.firesecurityproducts.com/sites/default/files/product_leaflet/pt/2x-f2-fb2-46-1-pt.pdf"]
["2X-F2-FB2-99",null,"https://pim.firesecurityproducts.com/sites/default/files/product_leaflet/pt/2x-f2-fb2-99-1-pt.pdf"]
["2X-F2-FB2-PRT",null,"https://pim.firesecurityproducts.com/sites/default/files/product_leaflet/pt/2x-f2-fb2-prt-1-pt.pdf"]
["2X-F2-FB2-PRT-01",null,"https://pim.firesecurityproducts.com/sites/default/files/product_leaflet/pt/2x-f2-fb2-prt-01-1-pt.pdf"]
["2X-F2-FB2-PRT-11",null,"https://pim.firesecurityproducts.com/sites/default/files/product_leaflet/pt/2x-f2-fb2-prt-11-1-pt.pdf"]
["2X-F2-FB2-PRT-18",null,"https://pim.firesecurityproducts.com/sites/default/files/product_leaflet/pt/2x-f2-fb2-prt-18-1-pt.pdf"]
["2X-F2-FB2-PRT-32",null,"https://pim.firesecurityproducts.com/sites/default/files/product_leaflet/pt/2x-f2-fb2-prt-32-1-pt.pdf"]
["2X-F2-FB2-PRT-36",null,"https://pim.firesecurityproducts.com/sites/default/files/product_leaflet/pt/2x-f2-fb2-prt-36-1-pt.pdf"]
["2X-F2-FB2-PRT-45",null,"https://pim.firesecurityproducts.com/sites/default/files/product_leaflet/pt/2x-f2-fb2-prt-45-1-pt.pdf"]
["2X-F2-FB2-PRT-46",null,"https://pim.firesecurityproducts.com/sites/default/files/product_leaflet/pt/2x-f2-fb2-prt-46-1-pt.pdf"]
["2X-F2-FB2-PRT-99",null,"https://pim.firesecurityproducts.com/sites/default/files/product_leaflet/pt/2x-f2-fb2-prt-99-1-pt.pdf"]
["2X-F2-FB2-S",null,"https://pim.firesecurityproducts.com/sites/default/files/product_leaflet/pt/2x-f2-fb2-s-1-pt.pdf"]
["2X-F2-FB2-S-01",null,"https://pim.firesecurityproducts.com/sites/default/files/product_leaflet/pt/2x-f2-fb2-s-01-1-pt.pdf"]
["2X-F2-FB2-S-11",null,"https://pim.firesecurityproducts.com/sites/default/files/product_leaflet/pt/2x-f2-fb2-s-11-1-pt.pdf"]
["2X-F2-FB2-S-18",null,"https://pim.firesecurityproducts.com/sites/default/files/product_leaflet/pt/2x-f2-fb2-s-18-1-pt.pdf"]
["2X-F2-FB2-S-32",null,"https://pim.firesecurityproducts.com/sites/default/files/product_leaflet/pt/2x-f2-fb2-s-32-1-pt.pdf"]
["2X-F2-FB2-S-46",null,"https://pim.firesecurityproducts.com/sites/default/files/product_leaflet/pt/2x-f2-fb2-s-46-1-pt.pdf"]
["2X-F2-FB2-S-99",null,"https://pim.firesecurityproducts.com/sites/default/files/product_leaflet/pt/2x-f2-fb2-s-99-1-pt.pdf"]
["2X-F2-PRT",null,"https://pim.firesecurityproducts.com/sites/default/files/product_leaflet/pt/2x-f2-prt-1-pt.pdf"]
["2X-F2-PRT-09",null,"https://pim.firesecurityproducts.com/sites/default/files/product_leaflet/pt/2x-f2-prt-09-1-pt.pdf"]
["2X-F2-PRT-10",null,"https://pim.firesecurityproducts.com/sites/default/files/product_leaflet/pt/2x-f2-prt-10-1-pt.pdf"]
["2X-F2-PRT-21"]
["2X-F2-PRT-21",null,"https://pim.firesecurityproducts.com/sites/default/files/product_leaflet/pt/2x-f2-prt-21-1-pt.pdf"]
["2X-F2-PRT-99",null,"https://pim.firesecurityproducts.com/sites/default/files/product_leaflet/pt/2x-f2-prt-99-1-pt.pdf"]
["2X-F2-S",null,"https://pim.firesecurityproducts.com/sites/default/files/product_leaflet/pt/2x-f2-s-1-pt.pdf"]
["2X-F2-S-03",null,"https://pim.firesecurityproducts.com/sites/default/files/product_leaflet/pt/2x-f2-s-03-1-pt.pdf"]
["2X-F2-S-09"]
["2X-F2-S-09",null,"https://pim.firesecurityproducts.com/sites/default/files/product_leaflet/pt/2x-f2-s-09-1-pt.pdf"]
["2X-F2-S-10",null,"https://pim.firesecurityproducts.com/sites/default/files/product_leaflet/pt/2x-f2-s-10-1-pt.pdf"]
["2X-F2-S-19",null,"https://pim.firesecurityproducts.com/sites/default/files/product_leaflet/pt/2x-f2-s-19-1-pt.pdf"]
["2X-F2-S-21",null,"https://pim.firesecurityproducts.com/sites/default/files/product_leaflet/pt/2x-f2-s-21-1-pt.pdf"]
["2X-F2-S-27",null,"https://pim.firesecurityproducts.com/sites/default/files/product_leaflet/pt/2x-f2-s-27-1-pt.pdf"]
["2X-F2-S-99",null,"https://pim.firesecurityproducts.com/sites/default/files/product_leaflet/pt/2x-f2-s-99-1-pt.pdf"]
["2X-F2-SCFB",null,"https://pim.firesecurityproducts.com/sites/default/files/product_leaflet/pt/2x-f2-scfb-1-pt.pdf"]
["2X-F2-SCFB-06",null,"https://pim.firesecurityproducts.com/sites/default/files/product_leaflet/pt/2x-f2-scfb-06-1-pt.pdf"]
["2X-F2-SCFB-07",null,"https://pim.firesecurityproducts.com/sites/default/files/product_leaflet/pt/2x-f2-scfb-07-1-pt.pdf"]
["2X-F2-SCFB-28",null,"https://pim.firesecurityproducts.com/sites/default/files/product_leaflet/pt/2x-f2-scfb-28-1-pt.pdf"]
["2X-F2-SCFB-S",null,"https://pim.firesecurityproducts.com/sites/default/files/product_leaflet/pt/2x-f2-scfb-s-1-pt.pdf"]
["2X-F2-SCFB-S-06",null,"https://pim.firesecurityproducts.com/sites/default/files/product_leaflet/pt/2x-f2-scfb-s-06-1-pt.pdf"]
["2X-FR",null,"https://pim.firesecurityproducts.com/sites/default/files/product_leaflet/pt/2x-fr-1-pt.pdf"]
["2X-FR",null,"https://pim.firesecurityproducts.com/sites/default/files/product_leaflet/pt/2x-fr-1-pt.pdf"]
["2X-FR-09",null,"https://pim.firesecurityproducts.com/sites/default/files/product_leaflet/pt/2x-fr-09-1-pt.pdf"]
["2X-FR-10",null,"https://pim.firesecurityproducts.com/sites/default/files/product_leaflet/pt/2x-fr-10-1-pt.pdf"]
["2X-FR-10",null,"https://pim.firesecurityproducts.com/sites/default/files/product_leaflet/pt/2x-fr-10-1-pt.pdf"]
["2X-FR-15",null,"https://pim.firesecurityproducts.com/sites/default/files/product_leaflet/pt/2x-fr-15-1-pt.pdf"]
["2X-FR-19",null,"https://pim.firesecurityproducts.com/sites/default/files/product_leaflet/pt/2x-fr-19-1-pt.pdf"]
["2X-FR-19",null,"https://pim.firesecurityproducts.com/sites/default/files/product_leaflet/pt/2x-fr-19-1-pt.pdf"]
["2X-FR-21"]
["2X-FR-21",null,"https://pim.firesecurityproducts.com/sites/default/files/product_leaflet/pt/2x-fr-21-1-pt.pdf"]
["2X-FR-27",null,"https://pim.firesecurityproducts.com/sites/default/files/product_leaflet/pt/2x-fr-27-1-pt.pdf"]
["2X-FR-30",null,"https://pim.firesecurityproducts.com/sites/default/files/product_leaflet/pt/2x-fr-30-1-pt.pdf"]
["2X-FR-31",null,"https://pim.firesecurityproducts.com/sites/default/files/product_leaflet/pt/2x-fr-31-1-pt.pdf"]
["2X-FR-99",null,"https://pim.firesecurityproducts.com/sites/default/files/product_leaflet/pt/2x-fr-99-1-pt.pdf"]
["2X-FR-99",null,"https://pim.firesecurityproducts.com/sites/default/files/product_leaflet/pt/2x-fr-99-1-pt.pdf"]
["2X-FR-C",null,"https://pim.firesecurityproducts.com/sites/default/files/product_leaflet/pt/2x-fr-c-1-pt.pdf"]
["2X-FR-C-09",null,"https://pim.firesecurityproducts.com/sites/default/files/product_leaflet/pt/2x-fr-c-21-1-pt.pdf"]
["2X-FR-C-09",null,"https://pim.firesecurityproducts.com/sites/default/files/product_leaflet/pt/2x-fr-c-09-1-pt.pdf"]
["2X-FR-C-10",null,"https://pim.firesecurityproducts.com/sites/default/files/product_leaflet/pt/2x-fr-c-10-1-pt.pdf"]
["2X-FR-C-21"]
["2X-FR-C-21",null,"https://pim.firesecurityproducts.com/sites/default/files/product_leaflet/pt/2x-fr-c-21-1-pt.pdf"]
["2X-FR-C-99",null,"https://pim.firesecurityproducts.com/sites/default/files/product_leaflet/pt/2x-fr-c-99-1-pt.pdf"]
["2X-FR-D-C",null,"https://pim.firesecurityproducts.com/sites/default/files/product_leaflet/pt/2x-fr-d-c-1-pt.pdf"]
["2X-FR-FB2",null,"https://pim.firesecurityproducts.com/sites/default/files/product_leaflet/pt/2x-fr-fb2-1-pt.pdf"]
["2X-FR-FB2-11",null,"https://pim.firesecurityproducts.com/sites/default/files/product_leaflet/pt/2x-fr-fb2-11-1-pt.pdf"]
["2X-FR-FB2-20",null,"https://pim.firesecurityproducts.com/sites/default/files/product_leaflet/pt/2x-fr-fb2-20-1-pt.pdf"]
["2X-FR-FB2-22",null,"https://pim.firesecurityproducts.com/sites/default/files/product_leaflet/pt/2x-fr-fb2-22-1-pt.pdf"]
["2X-FR-FB2-32",null,"https://pim.firesecurityproducts.com/sites/default/files/product_leaflet/pt/2x-fr-fb2-32-1-pt.pdf"]
["2X-FR-FB2-45",null,"https://pim.firesecurityproducts.com/sites/default/files/product_leaflet/pt/2x-fr-fb2-45-1-pt.pdf"]
["2X-FR-FB2-46",null,"https://pim.firesecurityproducts.com/sites/default/files/product_leaflet/pt/2x-fr-fb2-46-1-pt.pdf"]
["2X-FR-FB2-99",null,"https://pim.firesecurityproducts.com/sites/default/files/product_leaflet/pt/2x-fr-fb2-99-1-pt.pdf"]
["2X-FR-FB2-C",null,"https://pim.firesecurityproducts.com/sites/default/files/product_leaflet/pt/2x-fr-fb2-c-1-pt.pdf"]
["2X-FR-FB2-C-01",null,"https://pim.firesecurityproducts.com/sites/default/files/product_leaflet/pt/2x-fr-fb2-c-01-1-pt.pdf"]
["2X-FR-FB2-C-11",null,"https://pim.firesecurityproducts.com/sites/default/files/product_leaflet/pt/2x-fr-fb2-c-11-1-pt.pdf"]
["2X-FR-FB2-C-22",null,"https://pim.firesecurityproducts.com/sites/default/files/product_leaflet/pt/2x-fr-fb2-c-22-1-pt.pdf"]
["2X-FR-FB2-C-32",null,"https://pim.firesecurityproducts.com/sites/default/files/product_leaflet/pt/2x-fr-fb2-c-32-1-pt.pdf"]
["2X-FR-FB2-C-45",null,"https://pim.firesecurityproducts.com/sites/default/files/product_leaflet/pt/2x-fr-fb2-c-45-1-pt.pdf"]
["2X-FR-FB2-C-46",null,"https://pim.firesecurityproducts.com/sites/default/files/product_leaflet/pt/2x-fr-fb2-c-46-1-pt.pdf"]
["2X-FR-FB2-C-99",null,"https://pim.firesecurityproducts.com/sites/default/files/product_leaflet/pt/2x-fr-fb2-c-99-1-pt.pdf"]
["2X-FR-FB2-S",null,"https://pim.firesecurityproducts.com/sites/default/files/product_leaflet/pt/2x-fr-fb2-s-1-pt.pdf"]
["2X-FR-FB2-S-01",null,"https://pim.firesecurityproducts.com/sites/default/files/product_leaflet/pt/2x-fr-fb2-s-01-1-pt.pdf"]
["2X-FR-FB2-S-11",null,"https://pim.firesecurityproducts.com/sites/default/files/product_leaflet/pt/2x-fr-fb2-s-11-1-pt.pdf"]
["2X-FR-FB2-S-20",null,"https://pim.firesecurityproducts.com/sites/default/files/product_leaflet/pt/2x-fr-fb2-s-20-1-pt.pdf"]
["2X-FR-FB2-S-22",null,"https://pim.firesecurityproducts.com/sites/default/files/product_leaflet/pt/2x-fr-fb2-s-22-1-pt.pdf"]
["2X-FR-FB2-S-32",null,"https://pim.firesecurityproducts.com/sites/default/files/product_leaflet/pt/2x-fr-fb2-s-32-1-pt.pdf"]
["2X-FR-FB2-S-45",null,"https://pim.firesecurityproducts.com/sites/default/files/product_leaflet/pt/2x-fr-fb2-s-45-1-pt.pdf"]
["2X-FR-FB2-S-46",null,"https://pim.firesecurityproducts.com/sites/default/files/product_leaflet/pt/2x-fr-fb2-s-46-1-pt.pdf"]
["2X-FR-FB2-S-99",null,"https://pim.firesecurityproducts.com/sites/default/files/product_leaflet/pt/2x-fr-fb2-s-99-1-pt.pdf"]
["2X-FR-NL-C",null,"https://pim.firesecurityproducts.com/sites/default/files/product_leaflet/pt/2x-fr-nl-c-1-pt.pdf"]
["2X-FR-S",null,"https://pim.firesecurityproducts.com/sites/default/files/product_leaflet/pt/2x-fr-s-1-pt.pdf"]
["2X-FR-S-03",null,"https://pim.firesecurityproducts.com/sites/default/files/product_leaflet/pt/2x-fr-s-03-1-pt.pdf"]
["2X-FR-S-09",null,"https://pim.firesecurityproducts.com/sites/default/files/product_leaflet/pt/2x-fr-s-09-1-pt.pdf"]
["2X-FR-S-09",null,"https://pim.firesecurityproducts.com/sites/default/files/product_leaflet/pt/2x-fr-s-09-1-pt.pdf"]
["2X-FR-S-10",null,"https://pim.firesecurityproducts.com/sites/default/files/product_leaflet/pt/2x-fr-s-10-1-pt.pdf"]
["2X-FR-S-10",null,"https://pim.firesecurityproducts.com/sites/default/files/product_leaflet/pt/2x-fr-s-10-1-pt.pdf"]
["2X-FR-S-15",null,"https://pim.firesecurityproducts.com/sites/default/files/product_leaflet/pt/2x-fr-s-15-1-pt.pdf"]
["2X-FR-S-19",null,"https://pim.firesecurityproducts.com/sites/default/files/product_leaflet/pt/2x-fr-s-19-1-pt.pdf"]
["2X-FR-S-19",null,"https://pim.firesecurityproducts.com/sites/default/files/product_leaflet/pt/2x-fr-s-19-1-pt.pdf"]
["2X-FR-S-21"]
["2X-FR-S-21",null,"https://pim.firesecurityproducts.com/sites/default/files/product_leaflet/pt/2x-fr-s-21-1-pt.pdf"]
["2X-FR-S-30"]
["2X-FR-S-31",null,"https://pim.firesecurityproducts.com/sites/default/files/product_leaflet/pt/2x-fr-s-31-1-pt.pdf"]
["2X-FR-S-99",null,"https://pim.firesecurityproducts.com/sites/default/files/product_leaflet/pt/2x-fr-s-99-1-pt.pdf"]
["2X-FR-S-99",null,"https://pim.firesecurityproducts.com/sites/default/files/product_leaflet/pt/2x-fr-s-99-1-pt.pdf"]
["2X-FR-SCFB",null,"https://pim.firesecurityproducts.com/sites/default/files/product_leaflet/pt/2x-fr-scfb-1-pt.pdf"]
["2X-FR-SCFB-06",null,"https://pim.firesecurityproducts.com/sites/default/files/product_leaflet/pt/2x-fr-scfb-06-1-pt.pdf"]
["2X-FR-SCFB-C",null,"https://pim.firesecurityproducts.com/sites/default/files/product_leaflet/pt/2x-fr-scfb-c-1-pt.pdf"]
["2X-FR-SCFB-C-06",null,"https://pim.firesecurityproducts.com/sites/default/files/product_leaflet/pt/2x-fr-scfb-c-06-1-pt.pdf"]
["2X-FR-SCFB-S",null,"https://pim.firesecurityproducts.com/sites/default/files/product_leaflet/pt/2x-fr-scfb-s-1-pt.pdf"]
["2X-FR-SCFB-S-06",null,"https://pim.firesecurityproducts.com/sites/default/files/product_leaflet/pt/2x-fr-scfb-s-06-1-pt.pdf"]
["2X-KIT-SA-1L",null,"https://pim.firesecurityproducts.com/sites/default/files/product_leaflet/pt/2x-kit-sa-1l-1-pt.pdf"]
["2X-KIT-SA-2L",null,"https://pim.firesecurityproducts.com/sites/default/files/product_leaflet/pt/2x-kit-sa-2l-1-pt.pdf"]
["2X-KIT-SA-2L-D50",null,"https://pim.firesecurityproducts.com/sites/default/files/product_leaflet/pt/2x-kit-sa-2l-d50-1-pt.pdf"]
["2X-KIT-SA-2L-LB",null,"https://pim.firesecurityproducts.com/sites/default/files/product_leaflet/pt/2x-kit-sa-2l-lb-1-pt.pdf"]
["2X-LB",null,"https://pim.firesecurityproducts.com/sites/default/files/product_leaflet/pt/2x-lb-1-pt.pdf"]
["2X-LB",null,"https://pim.firesecurityproducts.com/sites/default/files/product_leaflet/pt/2x-lb-1-pt.pdf"]
["2X-LK-01",null,"https://pim.firesecurityproducts.com/sites/default/files/product_leaflet/pt/2x-lk-01-1-pt.pdf"]
["2X-LK-01",null,"https://pim.firesecurityproducts.com/sites/default/files/product_leaflet/pt/2x-lk-01-1-pt.pdf"]
["2X-LK-05",null,"https://pim.firesecurityproducts.com/sites/default/files/product_leaflet/pt/2x-lk-05-1-pt.pdf"]
["2X-LK-05",null,"https://pim.firesecurityproducts.com/sites/default/files/product_leaflet/pt/2x-lk-05-1-pt.pdf"]
["2X-LK-06",null,"https://pim.firesecurityproducts.com/sites/default/files/product_leaflet/pt/2x-lk-06-1-pt.pdf"]
["2X-LK-06",null,"https://pim.firesecurityproducts.com/sites/default/files/product_leaflet/pt/2x-lk-06-1-pt.pdf"]
["2X-LK-07"]
["2X-LK-07",null,"https://pim.firesecurityproducts.com/sites/default/files/product_leaflet/pt/2x-lk-07-1-pt.pdf"]
["2X-LK-09",null,"https://pim.firesecurityproducts.com/sites/default/files/product_leaflet/pt/2x-lk-09-1-pt.pdf"]
["2X-LK-09",null,"https://pim.firesecurityproducts.com/sites/default/files/product_leaflet/pt/2x-lk-09-1-pt.pdf"]
["2X-LK-10",null,"https://pim.firesecurityproducts.com/sites/default/files/product_leaflet/pt/2x-lk-10-1-pt.pdf"]
["2X-LK-10",null,"https://pim.firesecurityproducts.com/sites/default/files/product_leaflet/pt/2x-lk-10-1-pt.pdf"]
["2X-LK-11",null,"https://pim.firesecurityproducts.com/sites/default/files/product_leaflet/pt/2x-lk-11-1-pt.pdf"]
["2X-LK-18"]
["2X-LK-18",null,"https://pim.firesecurityproducts.com/sites/default/files/product_leaflet/pt/2x-lk-18-1-pt.pdf"]
["2X-LK-19",null,"https://pim.firesecurityproducts.com/sites/default/files/product_leaflet/pt/2x-lk-19-1-pt.pdf"]
["2X-LK-19",null,"https://pim.firesecurityproducts.com/sites/default/files/product_leaflet/pt/2x-lk-19-1-pt.pdf"]
["2X-LK-20"]
["2X-LK-20",null,"https://pim.firesecurityproducts.com/sites/default/files/product_leaflet/pt/2x-lk-20-1-pt.pdf"]
["2X-LK-21",null,"https://pim.firesecurityproducts.com/sites/default/files/product_leaflet/pt/2x-lk-21-1-pt.pdf"]
["2X-LK-21",null,"https://pim.firesecurityproducts.com/sites/default/files/product_leaflet/pt/2x-lk-21-1-pt.pdf"]
["2X-LK-22"]
["2X-LK-22",null,"https://pim.firesecurityproducts.com/sites/default/files/product_leaflet/pt/2x-lk-22-1-pt.pdf"]
["2X-LK-24",null,"https://pim.firesecurityproducts.com/sites/default/files/product_leaflet/pt/2x-lk-24-1-pt.pdf"]
["2X-LK-24",null,"https://pim.firesecurityproducts.com/sites/default/files/product_leaflet/pt/2x-lk-24-1-pt.pdf"]
["2X-LK-25",null,"https://pim.firesecurityproducts.com/sites/default/files/product_leaflet/pt/2x-lk-25-1-pt.pdf"]
["2X-LK-25",null,"https://pim.firesecurityproducts.com/sites/default/files/product_leaflet/pt/2x-lk-25-1-pt.pdf"]
["2X-LK-27",null,"https://pim.firesecurityproducts.com/sites/default/files/product_leaflet/pt/2x-lk-27-1-pt.pdf"]
["2X-LK-27",null,"https://pim.firesecurityproducts.com/sites/default/files/product_leaflet/pt/2x-lk-27-1-pt.pdf"]
["2X-LK-28"]
["2X-LK-28",null,"https://pim.firesecurityproducts.com/sites/default/files/product_leaflet/pt/2x-lk-28-1-pt.pdf"]
["2X-LK-32",null,"https://pim.firesecurityproducts.com/sites/default/files/product_leaflet/pt/2x-lk-32-1-pt.pdf"]
["2X-LK-32",null,"https://pim.firesecurityproducts.com/sites/default/files/product_leaflet/pt/2x-lk-32-1-pt.pdf"]
["2X-LK-36"]
["2X-LK-36",null,"https://pim.firesecurityproducts.com/sites/default/files/product_leaflet/pt/2x-lk-36-1-pt.pdf"]
["2X-LK-44"]
["2X-LK-45",null,"https://pim.firesecurityproducts.com/sites/default/files/product_leaflet/pt/2x-lk-45-1-pt.pdf"]
["2X-LK-45",null,"https://pim.firesecurityproducts.com/sites/default/files/product_leaflet/pt/2x-lk-45-1-pt.pdf"]
["2X-LK-46",null,"https://pim.firesecurityproducts.com/sites/default/files/product_leaflet/pt/2x-lk-46-1-pt.pdf"]
["2X-LK-46",null,"https://pim.firesecurityproducts.com/sites/default/files/product_leaflet/pt/2x-lk-46-1-pt.pdf"]
["2X-LK-99",null,"https://pim.firesecurityproducts.com/sites/default/files/product_leaflet/pt/2x-lk-99-1-pt.pdf"]
["2X-LK-99",null,"https://pim.firesecurityproducts.com/sites/default/files/product_leaflet/pt/2x-lk-99-1-pt.pdf"]
["2X-LXN-FB2",null,"https://pim.firesecurityproducts.com/sites/default/files/product_leaflet/pt/2x-lxn-fb2-1-pt.pdf"]
["2X-LXN-SCFB",null,"https://pim.firesecurityproducts.com/sites/default/files/product_leaflet/pt/2x-lxn-scfb-1-pt.pdf"]
["2X-UI",null,"https://pim.firesecurityproducts.com/sites/default/files/product_leaflet/pt/2x-ui-1-pt.pdf"]
["2X-UI-E",null,"https://pim.firesecurityproducts.com/sites/default/files/product_leaflet/pt/2x-ui-e-1-pt.pdf"]
["2X-UI-FB2",null,"https://pim.firesecurityproducts.com/sites/default/files/product_leaflet/pt/2x-ui-fb2-1-pt.pdf"]
["2X-UI-SCFB",null,"https://pim.firesecurityproducts.com/sites/default/files/product_leaflet/pt/2x-ui-scfb-1-pt.pdf"]
["2X-ZI-20",null,"https://pim.firesecurityproducts.com/sites/default/files/product_leaflet/pt/2x-zi-20-1-pt.pdf"]
["2X-ZI-24-S",null,"https://pim.firesecurityproducts.com/sites/default/files/product_leaflet/pt/2x-zi-24-s-1-pt.pdf"]
["2X-ZI-40",null,"https://pim.firesecurityproducts.com/sites/default/files/product_leaflet/pt/2x-zi-40-1-pt.pdf"]
["3000-026",null,"https://pim.firesecurityproducts.com/sites/default/files/product_leaflet/pt/3000-026-1-pt.pdf"]
["3000-115"]
["3000-115",null,"https://pim.firesecurityproducts.com/sites/default/files/product_leaflet/pt/3000-115-1-pt.pdf"]
["3000PGGMN"]
["3000PGGMN",null,"https://pim.firesecurityproducts.com/sites/default/files/product_leaflet/pt/3000pggmn-1-pt.pdf"]
["3002PGGMN",null,"https://pim.firesecurityproducts.com/sites/default/files/product_leaflet/pt/3002pggmn-1-pt.pdf"]
["3002PGGMN",null,"https://pim.firesecurityproducts.com/sites/default/files/product_leaflet/pt/3002pggmn-1-pt.pdf"]
["3004PGGMN",null,"https://pim.firesecurityproducts.com/sites/default/files/product_leaflet/pt/3004pggmn-1-pt.pdf"]
["3012-N",null,"https://pim.firesecurityproducts.com/sites/default/files/product_leaflet/pt/3012-n-1-pt.pdf"]
["3012-N",null,"https://pim.firesecurityproducts.com/sites/default/files/product_leaflet/pt/3012-n-1-pt.pdf"]
["3040-W",null,"https://pim.firesecurityproducts.com/sites/default/files/product_leaflet/pt/3040-w-1-pt.pdf"]
["3040-W",null,"https://pim.firesecurityproducts.com/sites/default/files/product_leaflet/pt/3040-w-1-pt.pdf"]
["3045CT-W"]
["3045-W",null,"https://pim.firesecurityproducts.com/sites/default/files/product_leaflet/pt/3045-w-1-pt.pdf"]
["3045-W",null,"https://pim.firesecurityproducts.com/sites/default/files/product_leaflet/pt/3045-w-1-pt.pdf"]
["305-784",null,"https://pim.firesecurityproducts.com/sites/default/files/product_leaflet/pt/305-784-1-pt.pdf"]
["3250PNNMN",null,"https://pim.firesecurityproducts.com/sites/default/files/product_leaflet/pt/3250pnnmn-1-pt.pdf"]
["3350PMSMV"]
["3350PMSMV",null,"https://pim.firesecurityproducts.com/sites/default/files/product_leaflet/pt/3350pmsmv-1-pt.pdf"]
["360FM",null,"https://pim.firesecurityproducts.com/sites/default/files/product_leaflet/pt/360fm-1-pt.pdf"]
["360FM",null,"https://pim.firesecurityproducts.com/sites/default/files/product_leaflet/pt/360fm-1-pt.pdf"]
["3633-0053",null,"https://pim.firesecurityproducts.com/sites/default/files/product_leaflet/pt/3633-0053-1-pt.pdf"]
["3633-0054",null,"https://pim.firesecurityproducts.com/sites/default/files/product_leaflet/pt/3633-0054-1-pt.pdf"]
["3649-0001",null,"https://pim.firesecurityproducts.com/sites/default/files/product_leaflet/pt/3649-0001-1-pt.pdf"]
["3649-0002"]
["3649-0002",null,"https://pim.firesecurityproducts.com/sites/default/files/product_leaflet/pt/3649-0002-1-pt.pdf"]
["3700CPGGMN"]
["398-6907",null,"https://pim.firesecurityproducts.com/sites/default/files/product_leaflet/pt/398-6907-1-pt.pdf"]
["398-6907",null,"https://pim.firesecurityproducts.com/sites/default/files/product_leaflet/pt/398-6907-1-pt.pdf"]
["40-K-05",null,"https://pim.firesecurityproducts.com/sites/default/files/product_leaflet/pt/40-k-05-1-pt.pdf"]
["40-K-10",null,"https://pim.firesecurityproducts.com/sites/default/files/product_leaflet/pt/40-k-10-1-pt.pdf"]
["40-K-MP",null,"https://pim.firesecurityproducts.com/sites/default/files/product_leaflet/pt/40-k-mp-1-pt.pdf"]
["40KNKS-00-000000",null,"https://pim.firesecurityproducts.com/sites/default/files/product_leaflet/pt/40knks-00-000000-1-pt.pdf"]
["40KNKS-01-000000",null,"https://pim.firesecurityproducts.com/sites/default/files/product_leaflet/pt/40knks-01-000000-1-pt.pdf"]
["40KNKS-02-000000",null,"https://pim.firesecurityproducts.com/sites/default/files/product_leaflet/pt/40knks-02-000000-1-pt.pdf"]
["40KT-K-MP",null,"https://pim.firesecurityproducts.com/sites/default/files/product_leaflet/pt/40kt-k-mp-1-pt.pdf"]
["40KTKS-00-000000",null,"https://pim.firesecurityproducts.com/sites/default/files/product_leaflet/pt/40ktks-00-000000-1-pt.pdf"]
["40KTKS-01-000000",null,"https://pim.firesecurityproducts.com/sites/default/files/product_leaflet/pt/40ktks-01-000000-1-pt.pdf"]
["40KTKS-02-000000",null,"https://pim.firesecurityproducts.com/sites/default/files/product_leaflet/pt/40ktks-02-000000-1-pt.pdf"]
["40KT-S-MP",null,"https://pim.firesecurityproducts.com/sites/default/files/product_leaflet/pt/40kt-s-mp-1-pt.pdf"]
["40NKS-00-000000",null,"https://pim.firesecurityproducts.com/sites/default/files/product_leaflet/pt/40nks-00-000000-1-pt.pdf"]
["40NKS-01-000000",null,"https://pim.firesecurityproducts.com/sites/default/files/product_leaflet/pt/40nks-01-000000-1-pt.pdf"]
["40NKS-02-000000",null,"https://pim.firesecurityproducts.com/sites/default/files/product_leaflet/pt/40nks-02-000000-1-pt.pdf"]
["40-S-05",null,"https://pim.firesecurityproducts.com/sites/default/files/product_leaflet/pt/40-s-05-1-pt.pdf"]
["40-S-10",null,"https://pim.firesecurityproducts.com/sites/default/files/product_leaflet/pt/40-s-10-1-pt.pdf"]
["40-S-MP",null,"https://pim.firesecurityproducts.com/sites/default/files/product_leaflet/pt/40-s-mp-1-pt.pdf"]
["40TKS-00-000000",null,"https://pim.firesecurityproducts.com/sites/default/files/product_leaflet/pt/40tks-00-000000-1-pt.pdf"]
["40TKS-01-000000",null,"https://pim.firesecurityproducts.com/sites/default/files/product_leaflet/pt/40tks-01-000000-1-pt.pdf"]
["40TKS-02-000000",null,"https://pim.firesecurityproducts.com/sites/default/files/product_leaflet/pt/40tks-02-000000-1-pt.pdf"]
["452-669"]
["452-669",null,"https://pim.firesecurityproducts.com/sites/default/files/product_leaflet/pt/452-669-1-pt.pdf"]
["4GFXLS"]
["4GFXLSO",null,"https://pim.firesecurityproducts.com/sites/default/files/product_leaflet/pt/4gfxlso-1-pt.pdf"]
["4GFXLSP",null,"https://pim.firesecurityproducts.com/sites/default/files/product_leaflet/pt/4gfxlsp-1-pt.pdf"]
["4GFXS",null,"https://pim.firesecurityproducts.com/sites/default/files/product_leaflet/pt/4gfxs-1-pt.pdf"]
["51-0003-FG",null,"https://pim.firesecurityproducts.com/sites/default/files/product_leaflet/pt/51-0003-fg-1-pt.pdf"]
["5150-M",null,"https://pim.firesecurityproducts.com/sites/default/files/product_leaflet/pt/5150-m-1-pt.pdf"]
["5150-M",null,"https://pim.firesecurityproducts.com/sites/default/files/product_leaflet/pt/5150-m-1-pt.pdf"]
["5150-W",null,"https://pim.firesecurityproducts.com/sites/default/files/product_leaflet/pt/5150-w-1-pt.pdf"]
["5150-W",null,"https://pim.firesecurityproducts.com/sites/default/files/product_leaflet/pt/5150-w-1-pt.pdf"]
["515PS1"]
["51FP-2"]
["5501-M",null,"https://pim.firesecurityproducts.com/sites/default/files/product_leaflet/pt/5501-m-1-pt.pdf"]
["550PGGAN",null,"https://pim.firesecurityproducts.com/sites/default/files/product_leaflet/pt/550pggan-1-pt.pdf"]
["550PGGNN",null,"https://pim.firesecurityproducts.com/sites/default/files/product_leaflet/pt/550pggnn-1-pt.pdf"]
["5515-G",null,"https://pim.firesecurityproducts.com/sites/default/files/product_leaflet/pt/5515-g-1-pt.pdf"]
["5709C-W",null,"https://pim.firesecurityproducts.com/sites/default/files/product_leaflet/pt/5709c-w-1-pt.pdf"]
["5812Apt1-W",null,"https://pim.firesecurityproducts.com/sites/default/files/product_leaflet/pt/5812apt1-w-1-pt.pdf"]
["5812Apt1-W",null,"https://pim.firesecurityproducts.com/sites/default/files/product_leaflet/pt/5812apt1-w-1-pt.pdf"]
["5812NT",null,"https://pim.firesecurityproducts.com/sites/default/files/product_leaflet/pt/5812nt-1-pt.pdf"]
["5815NT",null,"https://pim.firesecurityproducts.com/sites/default/files/product_leaflet/pt/5815nt-1-pt.pdf"]
["5815NT",null,"https://pim.firesecurityproducts.com/sites/default/files/product_leaflet/pt/5815nt-1-pt.pdf"]
["5815NT-ART",null,"https://pim.firesecurityproducts.com/sites/default/files/product_leaflet/pt/5815nt-art-1-pt.pdf"]
["5822A-W",null,"https://pim.firesecurityproducts.com/sites/default/files/product_leaflet/pt/5822a-w-1-pt.pdf"]
["584503-W",null,"https://pim.firesecurityproducts.com/sites/default/files/product_leaflet/pt/584503-w-1-pt.pdf"]
["59-1048-01-433",null,"https://pim.firesecurityproducts.com/sites/default/files/product_leaflet/pt/59-1048-01-433-1-pt.pdf"]
["597-784",null,"https://pim.firesecurityproducts.com/sites/default/files/product_leaflet/pt/597-784-1-pt.pdf"]
["597-784",null,"https://pim.firesecurityproducts.com/sites/default/files/product_leaflet/pt/597-784-1-pt.pdf"]
["600-1056-43",null,"https://pim.firesecurityproducts.com/sites/default/files/product_leaflet/pt/600-1056-43-1-pt.pdf"]
["600-1057-43",null,"https://pim.firesecurityproducts.com/sites/default/files/product_leaflet/pt/600-1057-43-1-pt.pdf"]
["6005-BGB00",null,"https://pim.firesecurityproducts.com/sites/default/files/product_leaflet/pt/6005-bgb00-1-pt.pdf"]
["6005-BGB00",null,"https://pim.firesecurityproducts.com/sites/default/files/product_leaflet/pt/6005-bgb00-1-pt.pdf"]
["600TGGNN",null,"https://pim.firesecurityproducts.com/sites/default/files/product_leaflet/pt/600tggnn-1-pt.pdf"]
["60-188-25PKG",null,"https://pim.firesecurityproducts.com/sites/default/files/product_leaflet/pt/60-188-25pkg-1-pt.pdf"]
["60-190-25PKG",null,"https://pim.firesecurityproducts.com/sites/default/files/product_leaflet/pt/60-190-25pkg-1-pt.pdf"]
["60-639-43-EUR",null,"https://pim.firesecurityproducts.com/sites/default/files/product_leaflet/pt/60-639-43-eur-1-pt.pdf"]
["60-873-43-EUR",null,"https://pim.firesecurityproducts.com/sites/default/files/product_leaflet/pt/60-873-43-eur-1-pt.pdf"]
["613P-EU",null,"https://pim.firesecurityproducts.com/sites/default/files/product_leaflet/pt/613p-eu-1-pt.pdf"]
["614P",null,"https://pim.firesecurityproducts.com/sites/default/files/product_leaflet/pt/614p-1-pt.pdf"]
["626-6616",null,"https://pim.firesecurityproducts.com/sites/default/files/product_leaflet/pt/626-6616-1-pt.pdf"]
["63802N",null,"https://pim.firesecurityproducts.com/sites/default/files/product_leaflet/pt/63802n-1-pt.pdf"]
["6530CM",null,"https://pim.firesecurityproducts.com/sites/default/files/product_leaflet/pt/6530cm-1-pt.pdf"]
["6530CM",null,"https://pim.firesecurityproducts.com/sites/default/files/product_leaflet/pt/6530cm-1-pt.pdf"]
["6540-KIT",null,"https://pim.firesecurityproducts.com/sites/default/files/product_leaflet/pt/6540-kit-1-pt.pdf"]
["6540PI",null,"https://pim.firesecurityproducts.com/sites/default/files/product_leaflet/pt/6540pi-1-pt.pdf"]
["6540PI",null,"https://pim.firesecurityproducts.com/sites/default/files/product_leaflet/pt/6540pi-1-pt.pdf"]
["6545-BP",null,"https://pim.firesecurityproducts.com/sites/default/files/product_leaflet/pt/6545-bp-1-pt.pdf"]
["6545-LR",null,"https://pim.firesecurityproducts.com/sites/default/files/product_leaflet/pt/6545-lr-1-pt.pdf"]
["6550AM",null,"https://pim.firesecurityproducts.com/sites/default/files/product_leaflet/pt/6550am-1-pt.pdf"]
["6630CM",null,"https://pim.firesecurityproducts.com/sites/default/files/product_leaflet/pt/6630cm-1-pt.pdf"]
["6630CM-N",null,"https://pim.firesecurityproducts.com/sites/default/files/product_leaflet/pt/6630cm-n-1-pt.pdf"]
["6640PI",null,"https://pim.firesecurityproducts.com/sites/default/files/product_leaflet/pt/6640pi-1-pt.pdf"]
["6650AM",null,"https://pim.firesecurityproducts.com/sites/default/files/product_leaflet/pt/6650am-1-pt.pdf"]
["6910P",null,"https://pim.firesecurityproducts.com/sites/default/files/product_leaflet/pt/6910p-1-pt.pdf"]
["6910P",null,"https://pim.firesecurityproducts.com/sites/default/files/product_leaflet/pt/6910p-1-pt.pdf"]
["6920P",null,"https://pim.firesecurityproducts.com/sites/default/files/product_leaflet/pt/6920p-1-pt.pdf"]
["6920P",null,"https://pim.firesecurityproducts.com/sites/default/files/product_leaflet/pt/6920p-1-pt.pdf"]
["6921P",null,"https://pim.firesecurityproducts.com/sites/default/files/product_leaflet/pt/6921p-1-pt.pdf"]
["6921P",null,"https://pim.firesecurityproducts.com/sites/default/files/product_leaflet/pt/6921p-1-pt.pdf"]
["6930AMP",null,"https://pim.firesecurityproducts.com/sites/default/files/product_leaflet/pt/6930amp-1-pt.pdf"]
["6930AMP",null,"https://pim.firesecurityproducts.com/sites/default/files/product_leaflet/pt/6930amp-1-pt.pdf"]
["6930AMP-SB",null,"https://pim.firesecurityproducts.com/sites/default/files/product_leaflet/pt/6930amp-sb-1-pt.pdf"]
["6930AMP-SB",null,"https://pim.firesecurityproducts.com/sites/default/files/product_leaflet/pt/6930amp-sb-1-pt.pdf"]
["6931AMP",null,"https://pim.firesecurityproducts.com/sites/default/files/product_leaflet/pt/6931amp-1-pt.pdf"]
["6931AMP",null,"https://pim.firesecurityproducts.com/sites/default/files/product_leaflet/pt/6931amp-1-pt.pdf"]
["6932AMP-SB",null,"https://pim.firesecurityproducts.com/sites/default/files/product_leaflet/pt/6932amp-sb-1-pt.pdf"]
["6932AMP-SB",null,"https://pim.firesecurityproducts.com/sites/default/files/product_leaflet/pt/6932amp-sb-1-pt.pdf"]
["6932AMP-TB",null,"https://pim.firesecurityproducts.com/sites/default/files/product_leaflet/pt/6932amp-tb-1-pt.pdf"]
["6932AMP-TB",null,"https://pim.firesecurityproducts.com/sites/default/files/product_leaflet/pt/6932amp-tb-1-pt.pdf"]
["6933AMP",null,"https://pim.firesecurityproducts.com/sites/default/files/product_leaflet/pt/6933amp-1-pt.pdf"]
["6933AMP",null,"https://pim.firesecurityproducts.com/sites/default/files/product_leaflet/pt/6933amp-1-pt.pdf"]
["6TM008CO",null,"https://pim.firesecurityproducts.com/sites/default/files/product_leaflet/pt/6tm008co-1-pt.pdf"]
["6TM008SM",null,"https://pim.firesecurityproducts.com/sites/default/files/product_leaflet/pt/6tm008sm-1-pt.pdf"]
["70011.101",null,"https://pim.firesecurityproducts.com/sites/default/files/product_leaflet/pt/70011.101-1-pt.pdf"]
["710-KS1022-2-00",null,"https://pim.firesecurityproducts.com/sites/default/files/product_leaflet/pt/710-ks1022-2-00-1-pt.pdf"]
["71305N",null,"https://pim.firesecurityproducts.com/sites/default/files/product_leaflet/pt/71305n-1-pt.pdf"]
["71401N",null,"https://pim.firesecurityproducts.com/sites/default/files/product_leaflet/pt/71401n-1-pt.pdf"]
["71403N",null,"https://pim.firesecurityproducts.com/sites/default/files/product_leaflet/pt/71403n-1-pt.pdf"]
["71405N",null,"https://pim.firesecurityproducts.com/sites/default/files/product_leaflet/pt/71405n-1-pt.pdf"]
["71501N",null,"https://pim.firesecurityproducts.com/sites/default/files/product_leaflet/pt/71501n-1-pt.pdf"]
["71503N",null,"https://pim.firesecurityproducts.com/sites/default/files/product_leaflet/pt/71503n-1-pt.pdf"]
["71505N",null,"https://pim.firesecurityproducts.com/sites/default/files/product_leaflet/pt/71505n-1-pt.pdf"]
["722-LAS37B-2-0",null,"https://pim.firesecurityproducts.com/sites/default/files/product_leaflet/pt/722-las37b-2-0-1-pt.pdf"]
["80001-ZT",null,"https://pim.firesecurityproducts.com/sites/default/files/product_leaflet/pt/80001-zt-1-pt.pdf"]
["80101-ZT",null,"https://pim.firesecurityproducts.com/sites/default/files/product_leaflet/pt/80101-zt-1-pt.pdf"]
["80-116",null,"https://pim.firesecurityproducts.com/sites/default/files/product_leaflet/pt/80-116-1-pt.pdf"]
["80-116",null,"https://pim.firesecurityproducts.com/sites/default/files/product_leaflet/pt/80-116-1-pt.pdf"]
["80801N",null,"https://pim.firesecurityproducts.com/sites/default/files/product_leaflet/pt/80801n-1-pt.pdf"]
["80802N",null,"https://pim.firesecurityproducts.com/sites/default/files/product_leaflet/pt/80802n-1-pt.pdf"]
["80803N",null,"https://pim.firesecurityproducts.com/sites/default/files/product_leaflet/pt/80803n-1-pt.pdf"]
["84301/BLK",null,"https://pim.firesecurityproducts.com/sites/default/files/product_leaflet/pt/84301/blk-1-pt.pdf"]
["900LTNNEK0000D"]
["900LTNTEK0000D"]
["900NTNNEK00342",null,"https://pim.firesecurityproducts.com/sites/default/files/product_leaflet/pt/900ntnnek00342-1-pt.pdf"]
["900NTNNEK00342",null,"https://pim.firesecurityproducts.com/sites/default/files/product_leaflet/pt/900ntnnek00342-1-pt.pdf"]
["900NTNNEK0045E",null,"https://pim.firesecurityproducts.com/sites/default/files/product_leaflet/pt/900ntnnek0045e-1-pt.pdf"]
["900NTNTEK00342",null,"https://pim.firesecurityproducts.com/sites/default/files/product_leaflet/pt/900ntntek00342-1-pt.pdf"]
["900NTNTEK00342",null,"https://pim.firesecurityproducts.com/sites/default/files/product_leaflet/pt/900ntntek00342-1-pt.pdf"]
["900NTPNEK0033V",null,"https://pim.firesecurityproducts.com/sites/default/files/product_leaflet/pt/900ntpnek0033v-1-pt.pdf"]
["900NTPNEK0033V",null,"https://pim.firesecurityproducts.com/sites/default/files/product_leaflet/pt/900ntpnek0033v-1-pt.pdf"]
["900NTPNEKE041P",null,"https://pim.firesecurityproducts.com/sites/default/files/product_leaflet/pt/900ntpneke041p-1-pt.pdf"]
["900NTPTEK0033V",null,"https://pim.firesecurityproducts.com/sites/default/files/product_leaflet/pt/900ntptek0033v-1-pt.pdf"]
["900NTPTEK0033V",null,"https://pim.firesecurityproducts.com/sites/default/files/product_leaflet/pt/900ntptek0033v-1-pt.pdf"]
["900NWNNEKE055N",null,"https://pim.firesecurityproducts.com/sites/default/files/product_leaflet/pt/900nwnneke055n-1-pt.pdf"]
["900NWNNEKE055N",null,"https://pim.firesecurityproducts.com/sites/default/files/product_leaflet/pt/900nwnneke055n-1-pt.pdf"]
["900NWNTEKE055N",null,"https://pim.firesecurityproducts.com/sites/default/files/product_leaflet/pt/900nwnteke055n-1-pt.pdf"]
["900NWNTEKE055N",null,"https://pim.firesecurityproducts.com/sites/default/files/product_leaflet/pt/900nwnteke055n-1-pt.pdf"]
["900NWPNEKE055Q",null,"https://pim.firesecurityproducts.com/sites/default/files/product_leaflet/pt/900nwpneke055q-1-pt.pdf"]
["900NWPNEKE055Q",null,"https://pim.firesecurityproducts.com/sites/default/files/product_leaflet/pt/900nwpneke055q-1-pt.pdf"]
["900NWPTEKE055Q",null,"https://pim.firesecurityproducts.com/sites/default/files/product_leaflet/pt/900nwpteke055q-1-pt.pdf"]
["900NWPTEKE055Q",null,"https://pim.firesecurityproducts.com/sites/default/files/product_leaflet/pt/900nwpteke055q-1-pt.pdf"]
["900PNNTEKE045K"]
["900PTNNEK00344"]
["900PTNNEK00344",null,"https://pim.firesecurityproducts.com/sites/default/files/product_leaflet/pt/900ptnnek00344-1-pt.pdf"]
["900PTNTEK00344"]
["900PTNTEK00344",null,"https://pim.firesecurityproducts.com/sites/default/files/product_leaflet/pt/900ptntek00344-1-pt.pdf"]
["900PTPNEK00340",null,"https://pim.firesecurityproducts.com/sites/default/files/product_leaflet/pt/900ptpnek00340-1-pt.pdf"]
["900PTPNEK00340",null,"https://pim.firesecurityproducts.com/sites/default/files/product_leaflet/pt/900ptpnek00340-1-pt.pdf"]
["900PTPTEK00340",null,"https://pim.firesecurityproducts.com/sites/default/files/product_leaflet/pt/900ptptek00340-1-pt.pdf"]
["900PTPTEK00340",null,"https://pim.firesecurityproducts.com/sites/default/files/product_leaflet/pt/900ptptek00340-1-pt.pdf"]
["900PWNNEKE055T"]
["900PWNNEKE055T",null,"https://pim.firesecurityproducts.com/sites/default/files/product_leaflet/pt/900pwnneke055t-1-pt.pdf"]
["900PWNTEKE055T"]
["900PWNTEKE055T",null,"https://pim.firesecurityproducts.com/sites/default/files/product_leaflet/pt/900pwnteke055t-1-pt.pdf"]
["900PWPNEKE055V"]
["900PWPNEKE055V",null,"https://pim.firesecurityproducts.com/sites/default/files/product_leaflet/pt/900pwpneke055v-1-pt.pdf"]
["900PWPTEKE055V",null,"https://pim.firesecurityproducts.com/sites/default/files/product_leaflet/pt/900pwpteke055v-1-pt.pdf"]
["900PWPTEKE055V",null,"https://pim.firesecurityproducts.com/sites/default/files/product_leaflet/pt/900pwpteke055v-1-pt.pdf"]
["9-10900",null,"https://pim.firesecurityproducts.com/sites/default/files/product_leaflet/pt/9-10900-1-pt.pdf"]
["9-10900",null,"https://pim.firesecurityproducts.com/sites/default/files/product_leaflet/pt/9-10900-1-pt.pdf"]
["9-10905",null,"https://pim.firesecurityproducts.com/sites/default/files/product_leaflet/pt/9-10905-1-pt.pdf"]
["9-10905",null,"https://pim.firesecurityproducts.com/sites/default/files/product_leaflet/pt/9-10905-1-pt.pdf"]
["9-10906",null,"https://pim.firesecurityproducts.com/sites/default/files/product_leaflet/pt/9-10906-1-pt.pdf"]
["9-10906",null,"https://pim.firesecurityproducts.com/sites/default/files/product_leaflet/pt/9-10906-1-pt.pdf"]
["9-10908",null,"https://pim.firesecurityproducts.com/sites/default/files/product_leaflet/pt/9-10908-1-pt.pdf"]
["9-10908",null,"https://pim.firesecurityproducts.com/sites/default/files/product_leaflet/pt/9-10908-1-pt.pdf"]
["9-10909",null,"https://pim.firesecurityproducts.com/sites/default/files/product_leaflet/pt/9-10909-1-pt.pdf"]
["9-10909",null,"https://pim.firesecurityproducts.com/sites/default/files/product_leaflet/pt/9-10909-1-pt.pdf"]
["9-10913"]
["9-10913",null,"https://pim.firesecurityproducts.com/sites/default/files/product_leaflet/pt/9-10913-1-pt.pdf"]
["9-10914",null,"https://pim.firesecurityproducts.com/sites/default/files/product_leaflet/pt/9-10914-1-pt.pdf"]
["9-10915",null,"https://pim.firesecurityproducts.com/sites/default/files/product_leaflet/pt/9-10915-1-pt.pdf"]
["9-10915",null,"https://pim.firesecurityproducts.com/sites/default/files/product_leaflet/pt/9-10915-1-pt.pdf"]
["9-10916",null,"https://pim.firesecurityproducts.com/sites/default/files/product_leaflet/pt/9-10916-1-pt.pdf"]
["9-10918",null,"https://pim.firesecurityproducts.com/sites/default/files/product_leaflet/pt/9-10918-1-pt.pdf"]
["9-10919",null,"https://pim.firesecurityproducts.com/sites/default/files/product_leaflet/pt/9-10919-1-pt.pdf"]
["9-10921",null,"https://pim.firesecurityproducts.com/sites/default/files/product_leaflet/pt/9-10921-1-pt.pdf"]
["9-10922",null,"https://pim.firesecurityproducts.com/sites/default/files/product_leaflet/pt/9-10922-1-pt.pdf"]
["9-10925",null,"https://pim.firesecurityproducts.com/sites/default/files/product_leaflet/pt/9-10925-1-pt.pdf"]
["9-10925",null,"https://pim.firesecurityproducts.com/sites/default/files/product_leaflet/pt/9-10925-1-pt.pdf"]
["9-10927",null,"https://pim.firesecurityproducts.com/sites/default/files/product_leaflet/pt/9-10927-1-pt.pdf"]
["9-10927",null,"https://pim.firesecurityproducts.com/sites/default/files/product_leaflet/pt/9-10927-1-pt.pdf"]
["9-10928",null,"https://pim.firesecurityproducts.com/sites/default/files/product_leaflet/pt/9-10928-1-pt.pdf"]
["9-10928",null,"https://pim.firesecurityproducts.com/sites/default/files/product_leaflet/pt/9-10928-1-pt.pdf"]
["9-10930",null,"https://pim.firesecurityproducts.com/sites/default/files/product_leaflet/pt/9-10930-1-pt.pdf"]
["9-10931",null,"https://pim.firesecurityproducts.com/sites/default/files/product_leaflet/pt/9-10931-1-pt.pdf"]
["9-10931",null,"https://pim.firesecurityproducts.com/sites/default/files/product_leaflet/pt/9-10931-1-pt.pdf"]
["9-10933",null,"https://pim.firesecurityproducts.com/sites/default/files/product_leaflet/pt/9-10933-1-pt.pdf"]
["9-10936",null,"https://pim.firesecurityproducts.com/sites/default/files/product_leaflet/pt/9-10936-1-pt.pdf"]
["9-10936-25",null,"https://pim.firesecurityproducts.com/sites/default/files/product_leaflet/pt/9-10936-25-1-pt.pdf"]
["9-10943",null,"https://pim.firesecurityproducts.com/sites/default/files/product_leaflet/pt/9-10943-1-pt.pdf"]
["9-10944",null,"https://pim.firesecurityproducts.com/sites/default/files/product_leaflet/pt/9-10944-1-pt.pdf"]
["9-10945",null,"https://pim.firesecurityproducts.com/sites/default/files/product_leaflet/pt/9-10945-1-pt.pdf"]
["9-10946",null,"https://pim.firesecurityproducts.com/sites/default/files/product_leaflet/pt/9-10946-1-pt.pdf"]
["9-10946",null,"https://pim.firesecurityproducts.com/sites/default/files/product_leaflet/pt/9-10946-1-pt.pdf"]
["9-10947",null,"https://pim.firesecurityproducts.com/sites/default/files/product_leaflet/pt/9-10947-1-pt.pdf"]
["9-10950",null,"https://pim.firesecurityproducts.com/sites/default/files/product_leaflet/pt/9-10950-1-pt.pdf"]
["9-10950",null,"https://pim.firesecurityproducts.com/sites/default/files/product_leaflet/pt/9-10950-1-pt.pdf"]
["9-10951",null,"https://pim.firesecurityproducts.com/sites/default/files/product_leaflet/pt/9-10951-1-pt.pdf"]
["9-10951",null,"https://pim.firesecurityproducts.com/sites/default/files/product_leaflet/pt/9-10951-1-pt.pdf"]
["9-10952",null,"https://pim.firesecurityproducts.com/sites/default/files/product_leaflet/pt/9-10952-1-pt.pdf"]
["9-10952",null,"https://pim.firesecurityproducts.com/sites/default/files/product_leaflet/pt/9-10952-1-pt.pdf"]
["9-10954",null,"https://pim.firesecurityproducts.com/sites/default/files/product_leaflet/pt/9-10954-1-pt.pdf"]
["9-10954-100",null,"https://pim.firesecurityproducts.com/sites/default/files/product_leaflet/pt/9-10954-100-1-pt.pdf"]
["9-10954-100",null,"https://pim.firesecurityproducts.com/sites/default/files/product_leaflet/pt/9-10954-100-1-pt.pdf"]
["9-10954-25",null,"https://pim.firesecurityproducts.com/sites/default/files/product_leaflet/pt/9-10954-25-1-pt.pdf"]
["9-10954-25",null,"https://pim.firesecurityproducts.com/sites/default/files/product_leaflet/pt/9-10954-25-1-pt.pdf"]
["9-10955",null,"https://pim.firesecurityproducts.com/sites/default/files/product_leaflet/pt/9-10955-1-pt.pdf"]
["9-10956",null,"https://pim.firesecurityproducts.com/sites/default/files/product_leaflet/pt/9-10956-1-pt.pdf"]
["9-10956",null,"https://pim.firesecurityproducts.com/sites/default/files/product_leaflet/pt/9-10956-1-pt.pdf"]
["9-10960",null,"https://pim.firesecurityproducts.com/sites/default/files/product_leaflet/pt/9-10960-1-pt.pdf"]
["9-10960",null,"https://pim.firesecurityproducts.com/sites/default/files/product_leaflet/pt/9-10960-1-pt.pdf"]
["9-10963-100",null,"https://pim.firesecurityproducts.com/sites/default/files/product_leaflet/pt/9-10963-100-1-pt.pdf"]
["9-10964-100",null,"https://pim.firesecurityproducts.com/sites/default/files/product_leaflet/pt/9-10964-100-1-pt.pdf"]
["9-10965",null,"https://pim.firesecurityproducts.com/sites/default/files/product_leaflet/pt/9-10965-1-pt.pdf"]
["9-10967"]
["9-10967",null,"https://pim.firesecurityproducts.com/sites/default/files/product_leaflet/pt/9-10967-1-pt.pdf"]
["9-10973-25",null,"https://pim.firesecurityproducts.com/sites/default/files/product_leaflet/pt/9-10973-25-1-pt.pdf"]
["9-10974",null,"https://pim.firesecurityproducts.com/sites/default/files/product_leaflet/pt/9-10974-1-pt.pdf"]
["9-10975"]
["9-10975",null,"https://pim.firesecurityproducts.com/sites/default/files/product_leaflet/pt/9-10975-1-pt.pdf"]
["9-10976",null,"https://pim.firesecurityproducts.com/sites/default/files/product_leaflet/pt/9-10976-1-pt.pdf"]
["9-10978",null,"https://pim.firesecurityproducts.com/sites/default/files/product_leaflet/pt/9-10978-1-pt.pdf"]
["9-10978",null,"https://pim.firesecurityproducts.com/sites/default/files/product_leaflet/pt/9-10978-1-pt.pdf"]
["9-10980"]
["9-10980",null,"https://pim.firesecurityproducts.com/sites/default/files/product_leaflet/pt/9-10980-1-pt.pdf"]
["910NTNNEK00342"]
["910NTNNEK00342",null,"https://pim.firesecurityproducts.com/sites/default/files/product_leaflet/pt/910ntnnek00342-1-pt.pdf"]
["910NTNTEK00342"]
["910NTNTEK00342",null,"https://pim.firesecurityproducts.com/sites/default/files/product_leaflet/pt/910ntntek00342-1-pt.pdf"]
["910NTPNEK0033V",null,"https://pim.firesecurityproducts.com/sites/default/files/product_leaflet/pt/910ntpnek0033v-1-pt.pdf"]
["910NTPNEK0033V",null,"https://pim.firesecurityproducts.com/sites/default/files/product_leaflet/pt/910ntpnek0033v-1-pt.pdf"]
["910NTPTEK0033V",null,"https://pim.firesecurityproducts.com/sites/default/files/product_leaflet/pt/910ntptek0033v-1-pt.pdf"]
["910NTPTEK0033V",null,"https://pim.firesecurityproducts.com/sites/default/files/product_leaflet/pt/910ntptek0033v-1-pt.pdf"]
["910NWNNEKE055N",null,"https://pim.firesecurityproducts.com/sites/default/files/product_leaflet/pt/910nwnneke055n-1-pt.pdf"]
["910NWNNEKE055N",null,"https://pim.firesecurityproducts.com/sites/default/files/product_leaflet/pt/910nwnneke055n-1-pt.pdf"]
["910NWNTEKE00CK"]
["910NWNTEKE055N"]
["910NWNTEKE055N",null,"https://pim.firesecurityproducts.com/sites/default/files/product_leaflet/pt/910nwnteke055n-1-pt.pdf"]
["910NWPNEKE055Q"]
["910NWPNEKE055Q",null,"https://pim.firesecurityproducts.com/sites/default/files/product_leaflet/pt/910nwpneke055q-1-pt.pdf"]
["910NWPTEKE055Q"]
["910PTNNEK00344"]
["910PTNNEK00344",null,"https://pim.firesecurityproducts.com/sites/default/files/product_leaflet/pt/910ptnnek00344-1-pt.pdf"]
["910PTNTEK00344",null,"https://pim.firesecurityproducts.com/sites/default/files/product_leaflet/pt/910ptntek00344-1-pt.pdf"]
["910PTNTEK00344",null,"https://pim.firesecurityproducts.com/sites/default/files/product_leaflet/pt/910ptntek00344-1-pt.pdf"]
["910PTPNEK00340",null,"https://pim.firesecurityproducts.com/sites/default/files/product_leaflet/pt/910ptpnek00340-1-pt.pdf"]
["910PTPNEK00340",null,"https://pim.firesecurityproducts.com/sites/default/files/product_leaflet/pt/910ptpnek00340-1-pt.pdf"]
["910PTPTEK00340",null,"https://pim.firesecurityproducts.com/sites/default/files/product_leaflet/pt/910ptptek00340-1-pt.pdf"]
["910PTPTEK00340",null,"https://pim.firesecurityproducts.com/sites/default/files/product_leaflet/pt/910ptptek00340-1-pt.pdf"]
["910PWNNEKE055T",null,"https://pim.firesecurityproducts.com/sites/default/files/product_leaflet/pt/910pwnneke055t-1-pt.pdf"]
["910PWNTEKE055T"]
["910PWNTEKE055T",null,"https://pim.firesecurityproducts.com/sites/default/files/product_leaflet/pt/910pwnteke055t-1-pt.pdf"]
["910PWPNEKE055V"]
["910PWPNEKE055V",null,"https://pim.firesecurityproducts.com/sites/default/files/product_leaflet/pt/910pwpneke055v-1-pt.pdf"]
["910PWPTEKE055V"]
["910PWPTEKE055V",null,"https://pim.firesecurityproducts.com/sites/default/files/product_leaflet/pt/910pwpteke055v-1-pt.pdf"]
["920NTNNEK00342",null,"https://pim.firesecurityproducts.com/sites/default/files/product_leaflet/pt/920ntnnek00342-1-pt.pdf"]
["920NTNNEK00342",null,"https://pim.firesecurityproducts.com/sites/default/files/product_leaflet/pt/920ntnnek00342-1-pt.pdf"]
["920NTNTEK00342",null,"https://pim.firesecurityproducts.com/sites/default/files/product_leaflet/pt/920ntntek00342-1-pt.pdf"]
["920NTNTEK00342",null,"https://pim.firesecurityproducts.com/sites/default/files/product_leaflet/pt/920ntntek00342-1-pt.pdf"]
["920NTPNEK0033V"]
["920NTPNEK0033V",null,"https://pim.firesecurityproducts.com/sites/default/files/product_leaflet/pt/920ntpnek0033v-1-pt.pdf"]
["920NTPTEK0033V"]
["920NTPTEK0033V",null,"https://pim.firesecurityproducts.com/sites/default/files/product_leaflet/pt/920ntptek0033v-1-pt.pdf"]
["920NWNNEKE055N",null,"https://pim.firesecurityproducts.com/sites/default/files/product_leaflet/pt/920nwnneke055n-1-pt.pdf"]
["920NWNNEKE055N",null,"https://pim.firesecurityproducts.com/sites/default/files/product_leaflet/pt/920nwnneke055n-1-pt.pdf"]
["920NWNTEKE055N"]
["920NWNTEKE055N",null,"https://pim.firesecurityproducts.com/sites/default/files/product_leaflet/pt/920nwnteke055n-1-pt.pdf"]
["920NWPNEKE055Q",null,"https://pim.firesecurityproducts.com/sites/default/files/product_leaflet/pt/920nwpneke055q-1-pt.pdf"]
["920NWPNEKE055Q",null,"https://pim.firesecurityproducts.com/sites/default/files/product_leaflet/pt/920nwpneke055q-1-pt.pdf"]
["920NWPTEKE055Q",null,"https://pim.firesecurityproducts.com/sites/default/files/product_leaflet/pt/920nwpteke055q-1-pt.pdf"]
["920NWPTEKE055Q",null,"https://pim.firesecurityproducts.com/sites/default/files/product_leaflet/pt/920nwpteke055q-1-pt.pdf"]
["920PTNNEK00344",null,"https://pim.firesecurityproducts.com/sites/default/files/product_leaflet/pt/920ptnnek00344-1-pt.pdf"]
["920PTNNEK00344",null,"https://pim.firesecurityproducts.com/sites/default/files/product_leaflet/pt/920ptnnek00344-1-pt.pdf"]
["920PTNTEK00344"]
["920PTNTEK00344",null,"https://pim.firesecurityproducts.com/sites/default/files/product_leaflet/pt/920ptntek00344-1-pt.pdf"]
["920PTPNEK00340"]
["920PTPNEK00340",null,"https://pim.firesecurityproducts.com/sites/default/files/product_leaflet/pt/920ptpnek00340-1-pt.pdf"]
["920PTPTEK00340",null,"https://pim.firesecurityproducts.com/sites/default/files/product_leaflet/pt/920ptptek00340-1-pt.pdf"]
["920PTPTEK00340",null,"https://pim.firesecurityproducts.com/sites/default/files/product_leaflet/pt/920ptptek00340-1-pt.pdf"]
["920PWNNEKE055T"]
["920PWNNEKE055T",null,"https://pim.firesecurityproducts.com/sites/default/files/product_leaflet/pt/920pwnneke055t-1-pt.pdf"]
["920PWNTEKE055T"]
["920PWNTEKE055T",null,"https://pim.firesecurityproducts.com/sites/default/files/product_leaflet/pt/920pwnteke055t-1-pt.pdf"]
["920PWPNEKE055V"]
["920PWPNEKE055V",null,"https://pim.firesecurityproducts.com/sites/default/files/product_leaflet/pt/920pwpneke055v-1-pt.pdf"]
["920PWPTEKE055V"]
["920PWPTEKE055V",null,"https://pim.firesecurityproducts.com/sites/default/files/product_leaflet/pt/920pwpteke055v-1-pt.pdf"]
["921NTNNEK00343",null,"https://pim.firesecurityproducts.com/sites/default/files/product_leaflet/pt/921ntnnek00343-1-pt.pdf"]
["921NTNNEK00343",null,"https://pim.firesecurityproducts.com/sites/default/files/product_leaflet/pt/921ntnnek00343-1-pt.pdf"]
["921NTNNEK00343N"]
["921NTNTEK00343"]
["921NTNTEK00343",null,"https://pim.firesecurityproducts.com/sites/default/files/product_leaflet/pt/921ntntek00343-1-pt.pdf"]
["921NTNTEK00343N"]
["921NTPNEK0033Y"]
["921NTPNEK0033Y",null,"https://pim.firesecurityproducts.com/sites/default/files/product_leaflet/pt/921ntpnek0033y-1-pt.pdf"]
["921NTPNEK0033YN"]
["921NTPNEKE041Q",null,"https://pim.firesecurityproducts.com/sites/default/files/product_leaflet/pt/921ntpneke041q-1-pt.pdf"]
["921NTPTEK0033Y"]
["921NTPTEK0033Y",null,"https://pim.firesecurityproducts.com/sites/default/files/product_leaflet/pt/921ntptek0033y-1-pt.pdf"]
["921NTPTEK0033YN"]
["921NWNNEKE055P",null,"https://pim.firesecurityproducts.com/sites/default/files/product_leaflet/pt/921nwnneke055p-1-pt.pdf"]
["921NWNNEKE055P",null,"https://pim.firesecurityproducts.com/sites/default/files/product_leaflet/pt/921nwnneke055p-1-pt.pdf"]
["921NWNTEK00324"]
["921NWNTEKE031E"]
["921NWNTEKE0521"]
["921NWNTEKE055P"]
["921NWNTEKE055P",null,"https://pim.firesecurityproducts.com/sites/default/files/product_leaflet/pt/921nwnteke055p-1-pt.pdf"]
["921NWPNEKE055R"]
["921NWPNEKE055R",null,"https://pim.firesecurityproducts.com/sites/default/files/product_leaflet/pt/921nwpneke055r-1-pt.pdf"]
["921NWPTEK00327",null,"https://pim.firesecurityproducts.com/sites/default/files/product_leaflet/pt/921nwptek00327-1-pt.pdf"]
["921NWPTEKE052M"]
["921PHRNEK0002D",null,"https://pim.firesecurityproducts.com/sites/default/files/product_leaflet/pt/921phrnek0002d-1-pt.pdf"]
["921PMNNEKMA07D",null,"https://pim.firesecurityproducts.com/sites/default/files/product_leaflet/pt/921pmnnekma07d-1-pt.pdf"]
["921PTNNEK00345",null,"https://pim.firesecurityproducts.com/sites/default/files/product_leaflet/pt/921ptnnek00345-1-pt.pdf"]
["921PTNNEK00345",null,"https://pim.firesecurityproducts.com/sites/default/files/product_leaflet/pt/921ptnnek00345-1-pt.pdf"]
["921PTNNEK00345N"]
["921PTNTEK00345"]
["921PTNTEK00345",null,"https://pim.firesecurityproducts.com/sites/default/files/product_leaflet/pt/921ptntek00345-1-pt.pdf"]
["921PTNTEK00345N"]
["921PTPNEK00341"]
["921PTPNEK00341",null,"https://pim.firesecurityproducts.com/sites/default/files/product_leaflet/pt/921ptpnek00341-1-pt.pdf"]
["921PTPTEK00341"]
["921PTPTEK00341",null,"https://pim.firesecurityproducts.com/sites/default/files/product_leaflet/pt/921ptptek00341-1-pt.pdf"]
["921PWNNEKE055U",null,"https://pim.firesecurityproducts.com/sites/default/files/product_leaflet/pt/921pwnneke055u-1-pt.pdf"]
["921PWNNEKE055U",null,"https://pim.firesecurityproducts.com/sites/default/files/product_leaflet/pt/921pwnneke055u-1-pt.pdf"]
["921PWNTEKE055U",null,"https://pim.firesecurityproducts.com/sites/default/files/product_leaflet/pt/921pwnteke055u-1-pt.pdf"]
["921PWNTEKE055U",null,"https://pim.firesecurityproducts.com/sites/default/files/product_leaflet/pt/921pwnteke055u-1-pt.pdf"]
["921PWPNEKE055W"]
["921PWPTEKE055W"]
["921PWPTEKE055W",null,"https://pim.firesecurityproducts.com/sites/default/files/product_leaflet/pt/921pwpteke055w-1-pt.pdf"]
["9-30051",null,"https://pim.firesecurityproducts.com/sites/default/files/product_leaflet/pt/9-30051-1-pt.pdf"]
["9-30051",null,"https://pim.firesecurityproducts.com/sites/default/files/product_leaflet/pt/9-30051-1-pt.pdf"]
["9-30058",null,"https://pim.firesecurityproducts.com/sites/default/files/product_leaflet/pt/9-30058-1-pt.pdf"]
["9-30058",null,"https://pim.firesecurityproducts.com/sites/default/files/product_leaflet/pt/9-30058-1-pt.pdf"]
["9-30072"]
["9-30072",null,"https://pim.firesecurityproducts.com/sites/default/files/product_leaflet/pt/9-30072-1-pt.pdf"]
["9-30072-P",null,"https://pim.firesecurityproducts.com/sites/default/files/product_leaflet/pt/9-30072-p-1-pt.pdf"]
["9-30095"]
["9-30250",null,"https://pim.firesecurityproducts.com/sites/default/files/product_leaflet/pt/9-30250-1-pt.pdf"]
["9-30250",null,"https://pim.firesecurityproducts.com/sites/default/files/product_leaflet/pt/9-30250-1-pt.pdf"]
["9-30419",null,"https://pim.firesecurityproducts.com/sites/default/files/product_leaflet/pt/9-30419-1-pt.pdf"]
["9-30422",null,"https://pim.firesecurityproducts.com/sites/default/files/product_leaflet/pt/9-30422-1-pt.pdf"]
["9-30430",null,"https://pim.firesecurityproducts.com/sites/default/files/product_leaflet/pt/9-30430-1-pt.pdf"]
["9-30430",null,"https://pim.firesecurityproducts.com/sites/default/files/product_leaflet/pt/9-30430-1-pt.pdf"]
["9-30433",null,"https://pim.firesecurityproducts.com/sites/default/files/product_leaflet/pt/9-30433-1-pt.pdf"]
["9-30436",null,"https://pim.firesecurityproducts.com/sites/default/files/product_leaflet/pt/9-30436-1-pt.pdf"]
["9-30437",null,"https://pim.firesecurityproducts.com/sites/default/files/product_leaflet/pt/9-30437-1-pt.pdf"]
["9-30437",null,"https://pim.firesecurityproducts.com/sites/default/files/product_leaflet/pt/9-30437-1-pt.pdf"]
["9-30620-KID",null,"https://pim.firesecurityproducts.com/sites/default/files/product_leaflet/pt/9-30620-kid-1-pt.pdf"]
["9-30621-KID",null,"https://pim.firesecurityproducts.com/sites/default/files/product_leaflet/pt/9-30621-kid-1-pt.pdf"]
["9-30624-KID",null,"https://pim.firesecurityproducts.com/sites/default/files/product_leaflet/pt/9-30624-kid-1-pt.pdf"]
["9-30627-KID",null,"https://pim.firesecurityproducts.com/sites/default/files/product_leaflet/pt/9-30627-kid-1-pt.pdf"]
["9-30671-KID",null,"https://pim.firesecurityproducts.com/sites/default/files/product_leaflet/pt/9-30671-kid-1-pt.pdf"]
["9-30671-KID-ULF",null,"https://pim.firesecurityproducts.com/sites/default/files/product_leaflet/pt/9-30671-kid-ulf-1-pt.pdf"]
["9-30672-KID",null,"https://pim.firesecurityproducts.com/sites/default/files/product_leaflet/pt/9-30672-kid-1-pt.pdf"]
["9-30672-KID-ULF",null,"https://pim.firesecurityproducts.com/sites/default/files/product_leaflet/pt/9-30672-kid-ulf-1-pt.pdf"]
["9-30689",null,"https://pim.firesecurityproducts.com/sites/default/files/product_leaflet/pt/9-30689-1-pt.pdf"]
["9-30689",null,"https://pim.firesecurityproducts.com/sites/default/files/product_leaflet/pt/9-30689-1-pt.pdf"]
["9-30690",null,"https://pim.firesecurityproducts.com/sites/default/files/product_leaflet/pt/9-30690-1-pt.pdf"]
["9-30690",null,"https://pim.firesecurityproducts.com/sites/default/files/product_leaflet/pt/9-30690-1-pt.pdf"]
["9-30691",null,"https://pim.firesecurityproducts.com/sites/default/files/product_leaflet/pt/9-30691-1-pt.pdf"]
["9-30695",null,"https://pim.firesecurityproducts.com/sites/default/files/product_leaflet/pt/9-30695-1-pt.pdf"]
["9-30695",null,"https://pim.firesecurityproducts.com/sites/default/files/product_leaflet/pt/9-30695-1-pt.pdf"]
["9-30696",null,"https://pim.firesecurityproducts.com/sites/default/files/product_leaflet/pt/9-30696-1-pt.pdf"]
["9-30697",null,"https://pim.firesecurityproducts.com/sites/default/files/product_leaflet/pt/9-30697-1-pt.pdf"]
["9-30697",null,"https://pim.firesecurityproducts.com/sites/default/files/product_leaflet/pt/9-30697-1-pt.pdf"]
["9-30698",null,"https://pim.firesecurityproducts.com/sites/default/files/product_leaflet/pt/9-30698-1-pt.pdf"]
["9-30698",null,"https://pim.firesecurityproducts.com/sites/default/files/product_leaflet/pt/9-30698-1-pt.pdf"]
["9-30699",null,"https://pim.firesecurityproducts.com/sites/default/files/product_leaflet/pt/9-30699-1-pt.pdf"]
["9-30699N",null,"https://pim.firesecurityproducts.com/sites/default/files/product_leaflet/pt/9-30699n-1-pt.pdf"]
["9-30699N-P",null,"https://pim.firesecurityproducts.com/sites/default/files/product_leaflet/pt/9-30699n-p-1-pt.pdf"]
["9-30699-P",null,"https://pim.firesecurityproducts.com/sites/default/files/product_leaflet/pt/9-30699-p-1-pt.pdf"]
["9-30706-KID",null,"https://pim.firesecurityproducts.com/sites/default/files/product_leaflet/pt/9-30706-kid-1-pt.pdf"]
["9-30709-KID",null,"https://pim.firesecurityproducts.com/sites/default/files/product_leaflet/pt/9-30709-kid-1-pt.pdf"]
["9-30710-KID",null,"https://pim.firesecurityproducts.com/sites/default/files/product_leaflet/pt/9-30710-kid-1-pt.pdf"]
["9-30755",null,"https://pim.firesecurityproducts.com/sites/default/files/product_leaflet/pt/9-30755-1-pt.pdf"]
["9-30755",null,"https://pim.firesecurityproducts.com/sites/default/files/product_leaflet/pt/9-30755-1-pt.pdf"]
["9-30755-P",null,"https://pim.firesecurityproducts.com/sites/default/files/product_leaflet/pt/9-30755-p-1-pt.pdf"]
["9-30755-P",null,"https://pim.firesecurityproducts.com/sites/default/files/product_leaflet/pt/9-30755-p-1-pt.pdf"]
["9-30760-KID",null,"https://pim.firesecurityproducts.com/sites/default/files/product_leaflet/pt/9-30760-kid-1-pt.pdf"]
["9-30760-KID-ULF",null,"https://pim.firesecurityproducts.com/sites/default/files/product_leaflet/pt/9-30760-kid-ulf-1-pt.pdf"]
["9-30764-KID",null,"https://pim.firesecurityproducts.com/sites/default/files/product_leaflet/pt/9-30764-kid-1-pt.pdf"]
["9-30780-KID",null,"https://pim.firesecurityproducts.com/sites/default/files/product_leaflet/pt/9-30780-kid-1-pt.pdf"]
["9-30780-KID-ULF",null,"https://pim.firesecurityproducts.com/sites/default/files/product_leaflet/pt/9-30780-kid-ulf-1-pt.pdf"]
["9-30780-ULF",null,"https://pim.firesecurityproducts.com/sites/default/files/product_leaflet/pt/9-30780-ulf-1-pt.pdf"]
["9-30781",null,"https://pim.firesecurityproducts.com/sites/default/files/product_leaflet/pt/9-30781-1-pt.pdf"]
["9-30781-KID",null,"https://pim.firesecurityproducts.com/sites/default/files/product_leaflet/pt/9-30781-kid-1-pt.pdf"]
["9-30781-KID-ULF",null,"https://pim.firesecurityproducts.com/sites/default/files/product_leaflet/pt/9-30781-kid-ulf-1-pt.pdf"]
["9-30781-ULF",null,"https://pim.firesecurityproducts.com/sites/default/files/product_leaflet/pt/9-30781-ulf-1-pt.pdf"]
["9-30782",null,"https://pim.firesecurityproducts.com/sites/default/files/product_leaflet/pt/9-30782-1-pt.pdf"]
["9-30782-KID",null,"https://pim.firesecurityproducts.com/sites/default/files/product_leaflet/pt/9-30782-kid-1-pt.pdf"]
["9-30782-KID-ULF",null,"https://pim.firesecurityproducts.com/sites/default/files/product_leaflet/pt/9-30782-kid-ulf-1-pt.pdf"]
["9-30782-ULF",null,"https://pim.firesecurityproducts.com/sites/default/files/product_leaflet/pt/9-30782-ulf-1-pt.pdf"]
["9-30783",null,"https://pim.firesecurityproducts.com/sites/default/files/product_leaflet/pt/9-30783-1-pt.pdf"]
["9-30783-KID",null,"https://pim.firesecurityproducts.com/sites/default/files/product_leaflet/pt/9-30783-kid-1-pt.pdf"]
["9-30783-KID-ULF",null,"https://pim.firesecurityproducts.com/sites/default/files/product_leaflet/pt/9-30783-kid-ulf-1-pt.pdf"]
["9-30783-ULF",null,"https://pim.firesecurityproducts.com/sites/default/files/product_leaflet/pt/9-30783-ulf-1-pt.pdf"]
["9-30790",null,"https://pim.firesecurityproducts.com/sites/default/files/product_leaflet/pt/9-30790-1-pt.pdf"]
["9-30791-2",null,"https://pim.firesecurityproducts.com/sites/default/files/product_leaflet/pt/9-30791-2-1-pt.pdf"]
["9-30792",null,"https://pim.firesecurityproducts.com/sites/default/files/product_leaflet/pt/9-30792-1-pt.pdf"]
["9-30793",null,"https://pim.firesecurityproducts.com/sites/default/files/product_leaflet/pt/9-30793-1-pt.pdf"]
["9-30794",null,"https://pim.firesecurityproducts.com/sites/default/files/product_leaflet/pt/9-30794-1-pt.pdf"]
["9-30795",null,"https://pim.firesecurityproducts.com/sites/default/files/product_leaflet/pt/9-30795-1-pt.pdf"]
["9-30796",null,"https://pim.firesecurityproducts.com/sites/default/files/product_leaflet/pt/9-30796-1-pt.pdf"]
["9-30797",null,"https://pim.firesecurityproducts.com/sites/default/files/product_leaflet/pt/9-30797-1-pt.pdf"]
["9-30798-2",null,"https://pim.firesecurityproducts.com/sites/default/files/product_leaflet/pt/9-30798-2-1-pt.pdf"]
["940NTNTEK00000",null,"https://pim.firesecurityproducts.com/sites/default/files/product_leaflet/pt/940ntntek00000-1-pt.pdf"]
["940NTNTEK00000",null,"https://pim.firesecurityproducts.com/sites/default/files/product_leaflet/pt/940ntntek00000-1-pt.pdf"]
["940NTNTEK00000-L01"]
["95ANTNTEW00000",null,"https://pim.firesecurityproducts.com/sites/default/files/product_leaflet/pt/95antntew00000-1-pt.pdf"]
["A51R-KIT",null,"https://pim.firesecurityproducts.com/sites/default/files/product_leaflet/pt/a51r-kit-1-pt.pdf"]
["AA-0100",null,"https://pim.firesecurityproducts.com/sites/default/files/product_leaflet/pt/aa-0100-1-pt.pdf"]
["AA-0100",null,"https://pim.firesecurityproducts.com/sites/default/files/product_leaflet/pt/aa-0100-1-pt.pdf"]
["AA-0500",null,"https://pim.firesecurityproducts.com/sites/default/files/product_leaflet/pt/aa-0500-1-pt.pdf"]
["AA-0500",null,"https://pim.firesecurityproducts.com/sites/default/files/product_leaflet/pt/aa-0500-1-pt.pdf"]
["AACU-EOL",null,"https://pim.firesecurityproducts.com/sites/default/files/product_leaflet/pt/aacu-eol-1-pt.pdf"]
["AACU-EOL",null,"https://pim.firesecurityproducts.com/sites/default/files/product_leaflet/pt/aacu-eol-1-pt.pdf"]
["AACULP",null,"https://pim.firesecurityproducts.com/sites/default/files/product_leaflet/pt/aaculp-1-pt.pdf"]
["AACULP",null,"https://pim.firesecurityproducts.com/sites/default/files/product_leaflet/pt/aaculp-1-pt.pdf"]
["AACU-PCC",null,"https://pim.firesecurityproducts.com/sites/default/files/product_leaflet/pt/aacu-pcc-1-pt.pdf"]
["AACU-PCC",null,"https://pim.firesecurityproducts.com/sites/default/files/product_leaflet/pt/aacu-pcc-1-pt.pdf"]
["AACUSP",null,"https://pim.firesecurityproducts.com/sites/default/files/product_leaflet/pt/aacusp-1-pt.pdf"]
["AACUSP",null,"https://pim.firesecurityproducts.com/sites/default/files/product_leaflet/pt/aacusp-1-pt.pdf"]
["AAE-0100",null,"https://pim.firesecurityproducts.com/sites/default/files/product_leaflet/pt/aae-0100-1-pt.pdf"]
["AAE-0500",null,"https://pim.firesecurityproducts.com/sites/default/files/product_leaflet/pt/aae-0500-1-pt.pdf"]
["AAECU",null,"https://pim.firesecurityproducts.com/sites/default/files/product_leaflet/pt/aaecu-1-pt.pdf"]
["AAECU-EOL",null,"https://pim.firesecurityproducts.com/sites/default/files/product_leaflet/pt/aaecu-eol-1-pt.pdf"]
["AAECU-JUN",null,"https://pim.firesecurityproducts.com/sites/default/files/product_leaflet/pt/aaecu-jun-1-pt.pdf"]
["AAECU-PCC",null,"https://pim.firesecurityproducts.com/sites/default/files/product_leaflet/pt/aaecu-pcc-1-pt.pdf"]
["AAE-TptT",null,"https://pim.firesecurityproducts.com/sites/default/files/product_leaflet/pt/aae-tptt-1-pt.pdf"]
["AAI-0100",null,"https://pim.firesecurityproducts.com/sites/default/files/product_leaflet/pt/aai-0100-1-pt.pdf"]
["AAI-0100",null,"https://pim.firesecurityproducts.com/sites/default/files/product_leaflet/pt/aai-0100-1-pt.pdf"]
["AAN-0100",null,"https://pim.firesecurityproducts.com/sites/default/files/product_leaflet/pt/aan-0100-1-pt.pdf"]
["AAN-0100",null,"https://pim.firesecurityproducts.com/sites/default/files/product_leaflet/pt/aan-0100-1-pt.pdf"]
["AAN-0500",null,"https://pim.firesecurityproducts.com/sites/default/files/product_leaflet/pt/aan-0500-1-pt.pdf"]
["AAN-0500",null,"https://pim.firesecurityproducts.com/sites/default/files/product_leaflet/pt/aan-0500-1-pt.pdf"]
["AAP-0100",null,"https://pim.firesecurityproducts.com/sites/default/files/product_leaflet/pt/aap-0100-1-pt.pdf"]
["AAP-0100",null,"https://pim.firesecurityproducts.com/sites/default/files/product_leaflet/pt/aap-0100-1-pt.pdf"]
["AAP-0500",null,"https://pim.firesecurityproducts.com/sites/default/files/product_leaflet/pt/aap-0500-1-pt.pdf"]
["AAP-0500",null,"https://pim.firesecurityproducts.com/sites/default/files/product_leaflet/pt/aap-0500-1-pt.pdf"]
["AASS-0100",null,"https://pim.firesecurityproducts.com/sites/default/files/product_leaflet/pt/aass-0100-1-pt.pdf"]
["AASS-0100",null,"https://pim.firesecurityproducts.com/sites/default/files/product_leaflet/pt/aass-0100-1-pt.pdf"]
["AASS-0500",null,"https://pim.firesecurityproducts.com/sites/default/files/product_leaflet/pt/aass-0500-1-pt.pdf"]
["AASS-0500",null,"https://pim.firesecurityproducts.com/sites/default/files/product_leaflet/pt/aass-0500-1-pt.pdf"]
["AASSN-0100",null,"https://pim.firesecurityproducts.com/sites/default/files/product_leaflet/pt/aassn-0100-1-pt.pdf"]
["AASSN-0100",null,"https://pim.firesecurityproducts.com/sites/default/files/product_leaflet/pt/aassn-0100-1-pt.pdf"]
["AASSN-0500",null,"https://pim.firesecurityproducts.com/sites/default/files/product_leaflet/pt/aassn-0500-1-pt.pdf"]
["AASSN-0500",null,"https://pim.firesecurityproducts.com/sites/default/files/product_leaflet/pt/aassn-0500-1-pt.pdf"]
["AB300",null,"https://pim.firesecurityproducts.com/sites/default/files/product_leaflet/pt/ab300-1-pt.pdf"]
["AB300",null,"https://pim.firesecurityproducts.com/sites/default/files/product_leaflet/pt/ab300-1-pt.pdf"]
["AB301",null,"https://pim.firesecurityproducts.com/sites/default/files/product_leaflet/pt/ab301-1-pt.pdf"]
["AB301",null,"https://pim.firesecurityproducts.com/sites/default/files/product_leaflet/pt/ab301-1-pt.pdf"]
["AB302",null,"https://pim.firesecurityproducts.com/sites/default/files/product_leaflet/pt/ab302-1-pt.pdf"]
["AB302",null,"https://pim.firesecurityproducts.com/sites/default/files/product_leaflet/pt/ab302-1-pt.pdf"]
["AB303",null,"https://pim.firesecurityproducts.com/sites/default/files/product_leaflet/pt/ab303-1-pt.pdf"]
["AB303",null,"https://pim.firesecurityproducts.com/sites/default/files/product_leaflet/pt/ab303-1-pt.pdf"]
["AB304",null,"https://pim.firesecurityproducts.com/sites/default/files/product_leaflet/pt/ab304-1-pt.pdf"]
["AB304",null,"https://pim.firesecurityproducts.com/sites/default/files/product_leaflet/pt/ab304-1-pt.pdf"]
["AB305",null,"https://pim.firesecurityproducts.com/sites/default/files/product_leaflet/pt/ab305-1-pt.pdf"]
["AB305",null,"https://pim.firesecurityproducts.com/sites/default/files/product_leaflet/pt/ab305-1-pt.pdf"]
["AB360",null,"https://pim.firesecurityproducts.com/sites/default/files/product_leaflet/pt/ab360-1-pt.pdf"]
["AB360",null,"https://pim.firesecurityproducts.com/sites/default/files/product_leaflet/pt/ab360-1-pt.pdf"]
["AB360-06",null,"https://pim.firesecurityproducts.com/sites/default/files/product_leaflet/pt/ab360-06-1-pt.pdf"]
["AB380E",null,"https://pim.firesecurityproducts.com/sites/default/files/product_leaflet/pt/ab380e-1-pt.pdf"]
["AB380E",null,"https://pim.firesecurityproducts.com/sites/default/files/product_leaflet/pt/ab380e-1-pt.pdf"]
["AB450"]
["AB450D",null,"https://pim.firesecurityproducts.com/sites/default/files/product_leaflet/pt/ab450d-1-pt.pdf"]
["AB451",null,"https://pim.firesecurityproducts.com/sites/default/files/product_leaflet/pt/ab451-1-pt.pdf"]
["AB451",null,"https://pim.firesecurityproducts.com/sites/default/files/product_leaflet/pt/ab451-1-pt.pdf"]
["AB611",null,"https://pim.firesecurityproducts.com/sites/default/files/product_leaflet/pt/ab611-1-pt.pdf"]
["AB611",null,"https://pim.firesecurityproducts.com/sites/default/files/product_leaflet/pt/ab611-1-pt.pdf"]
["AB612",null,"https://pim.firesecurityproducts.com/sites/default/files/product_leaflet/pt/ab612-1-pt.pdf"]
["AB612",null,"https://pim.firesecurityproducts.com/sites/default/files/product_leaflet/pt/ab612-1-pt.pdf"]
["AB613",null,"https://pim.firesecurityproducts.com/sites/default/files/product_leaflet/pt/ab613-1-pt.pdf"]
["AB613",null,"https://pim.firesecurityproducts.com/sites/default/files/product_leaflet/pt/ab613-1-pt.pdf"]
["AB614"]
["AB630",null,"https://pim.firesecurityproducts.com/sites/default/files/product_leaflet/pt/ab630-1-pt.pdf"]
["AB630",null,"https://pim.firesecurityproducts.com/sites/default/files/product_leaflet/pt/ab630-1-pt.pdf"]
["ABT-W6-FRAME",null,"https://pim.firesecurityproducts.com/sites/default/files/product_leaflet/pt/abt-w6-frame-1-pt.pdf"]
["ABT-W6-KIT/HOOK",null,"https://pim.firesecurityproducts.com/sites/default/files/product_leaflet/pt/abt-w6-kithook-1-pt.pdf"]
["ABT-W6-TMPL",null,"https://pim.firesecurityproducts.com/sites/default/files/product_leaflet/pt/abt-w6-tmpl-1-pt.pdf"]
["AC1300FEPP",null,"https://pim.firesecurityproducts.com/sites/default/files/product_leaflet/pt/ac1300fepp-1-pt.pdf"]
["AC1300FEPP",null,"https://pim.firesecurityproducts.com/sites/default/files/product_leaflet/pt/ac1300fepp-1-pt.pdf"]
["AC1400C"]
["AC9700MAGN",null,"https://pim.firesecurityproducts.com/sites/default/files/product_leaflet/pt/ac9700magn-1-pt.pdf"]
["AC9700REED",null,"https://pim.firesecurityproducts.com/sites/default/files/product_leaflet/pt/ac9700reed-1-pt.pdf"]
["ACA000",null,"https://pim.firesecurityproducts.com/sites/default/files/product_leaflet/pt/aca000-1-pt.pdf"]
["ACA001",null,"https://pim.firesecurityproducts.com/sites/default/files/product_leaflet/pt/aca001-1-pt.pdf"]
["ACA001",null,"https://pim.firesecurityproducts.com/sites/default/files/product_leaflet/pt/aca001-1-pt.pdf"]
["ACA711",null,"https://pim.firesecurityproducts.com/sites/default/files/product_leaflet/pt/aca711-1-pt.pdf"]
["ACA711",null,"https://pim.firesecurityproducts.com/sites/default/files/product_leaflet/pt/aca711-1-pt.pdf"]
["ACA-B706-025",null,"https://pim.firesecurityproducts.com/sites/default/files/product_leaflet/pt/aca-b706-025-1-pt.pdf"]
["ACA-B706-025",null,"https://pim.firesecurityproducts.com/sites/default/files/product_leaflet/pt/aca-b706-025-1-pt.pdf"]
["ACA-B706-100",null,"https://pim.firesecurityproducts.com/sites/default/files/product_leaflet/pt/aca-b706-100-1-pt.pdf"]
["ACA-B706-100",null,"https://pim.firesecurityproducts.com/sites/default/files/product_leaflet/pt/aca-b706-100-1-pt.pdf"]
["ACA-B706SS-025",null,"https://pim.firesecurityproducts.com/sites/default/files/product_leaflet/pt/aca-b706ss-025-1-pt.pdf"]
["ACA-B706SS-025",null,"https://pim.firesecurityproducts.com/sites/default/files/product_leaflet/pt/aca-b706ss-025-1-pt.pdf"]
["ACA-B706SS-100",null,"https://pim.firesecurityproducts.com/sites/default/files/product_leaflet/pt/aca-b706ss-100-1-pt.pdf"]
["ACA-B706SS-100",null,"https://pim.firesecurityproducts.com/sites/default/files/product_leaflet/pt/aca-b706ss-100-1-pt.pdf"]
["ACA-BI20-025",null,"https://pim.firesecurityproducts.com/sites/default/files/product_leaflet/pt/aca-bi20-025-1-pt.pdf"]
["ACA-BI20-025",null,"https://pim.firesecurityproducts.com/sites/default/files/product_leaflet/pt/aca-bi20-025-1-pt.pdf"]
["ACA-BI20-100",null,"https://pim.firesecurityproducts.com/sites/default/files/product_leaflet/pt/aca-bi20-100-1-pt.pdf"]
["ACA-BI20-100",null,"https://pim.firesecurityproducts.com/sites/default/files/product_leaflet/pt/aca-bi20-100-1-pt.pdf"]
["ACA-BI20SS-025"]
["ACA-BI20SS-100",null,"https://pim.firesecurityproducts.com/sites/default/files/product_leaflet/pt/aca-bi20ss-100-1-pt.pdf"]
["ACA-BI20SS-100",null,"https://pim.firesecurityproducts.com/sites/default/files/product_leaflet/pt/aca-bi20ss-100-1-pt.pdf"]
["ACA-BL05-025",null,"https://pim.firesecurityproducts.com/sites/default/files/product_leaflet/pt/aca-bl05-025-1-pt.pdf"]
["ACA-BL05-025",null,"https://pim.firesecurityproducts.com/sites/default/files/product_leaflet/pt/aca-bl05-025-1-pt.pdf"]
["ACA-BL05-100",null,"https://pim.firesecurityproducts.com/sites/default/files/product_leaflet/pt/aca-bl05-100-1-pt.pdf"]
["ACA-BL05-100",null,"https://pim.firesecurityproducts.com/sites/default/files/product_leaflet/pt/aca-bl05-100-1-pt.pdf"]
["ACA-BL05SS-025"]
["ACA-BL05SS-100",null,"https://pim.firesecurityproducts.com/sites/default/files/product_leaflet/pt/aca-bl05ss-100-1-pt.pdf"]
["ACA-BL05SS-100",null,"https://pim.firesecurityproducts.com/sites/default/files/product_leaflet/pt/aca-bl05ss-100-1-pt.pdf"]
["ACA-BL10-025"]
["ACA-BL10-100",null,"https://pim.firesecurityproducts.com/sites/default/files/product_leaflet/pt/aca-bl10-100-1-pt.pdf"]
["ACA-BL10-100",null,"https://pim.firesecurityproducts.com/sites/default/files/product_leaflet/pt/aca-bl10-100-1-pt.pdf"]
["ACA-BL10SS-025"]
["ACA-BL10SS-100",null,"https://pim.firesecurityproducts.com/sites/default/files/product_leaflet/pt/aca-bl10ss-100-1-pt.pdf"]
["ACA-BL10SS-100",null,"https://pim.firesecurityproducts.com/sites/default/files/product_leaflet/pt/aca-bl10ss-100-1-pt.pdf"]
["ACA-BL20-025",null,"https://pim.firesecurityproducts.com/sites/default/files/product_leaflet/pt/aca-bl20-025-1-pt.pdf"]
["ACA-BL20-025",null,"https://pim.firesecurityproducts.com/sites/default/files/product_leaflet/pt/aca-bl20-025-1-pt.pdf"]
["ACA-BL20-100",null,"https://pim.firesecurityproducts.com/sites/default/files/product_leaflet/pt/aca-bl20-100-1-pt.pdf"]
["ACA-BL20-100",null,"https://pim.firesecurityproducts.com/sites/default/files/product_leaflet/pt/aca-bl20-100-1-pt.pdf"]
["ACA-BL20SS-025",null,"https://pim.firesecurityproducts.com/sites/default/files/product_leaflet/pt/aca-bl20ss-025-1-pt.pdf"]
["ACA-BL20SS-025",null,"https://pim.firesecurityproducts.com/sites/default/files/product_leaflet/pt/aca-bl20ss-025-1-pt.pdf"]
["ACA-BL20SS-100",null,"https://pim.firesecurityproducts.com/sites/default/files/product_leaflet/pt/aca-bl20ss-100-1-pt.pdf"]
["ACA-BL20SS-100",null,"https://pim.firesecurityproducts.com/sites/default/files/product_leaflet/pt/aca-bl20ss-100-1-pt.pdf"]
["ACA-BU06-025"]
["ACA-BU06-100",null,"https://pim.firesecurityproducts.com/sites/default/files/product_leaflet/pt/aca-bu06-100-1-pt.pdf"]
["ACA-BU06SS-025",null,"https://pim.firesecurityproducts.com/sites/default/files/product_leaflet/pt/aca-bu06ss-025-1-pt.pdf"]
["ACA-BU06SS-100",null,"https://pim.firesecurityproducts.com/sites/default/files/product_leaflet/pt/aca-bu06ss-100-1-pt.pdf"]
["ACA-BU06SS-100",null,"https://pim.firesecurityproducts.com/sites/default/files/product_leaflet/pt/aca-bu06ss-100-1-pt.pdf"]
["ACA-BVSS-025"]
["ACA-BVSS-100",null,"https://pim.firesecurityproducts.com/sites/default/files/product_leaflet/pt/aca-bvss-100-1-pt.pdf"]
["ACA-BVSS-100",null,"https://pim.firesecurityproducts.com/sites/default/files/product_leaflet/pt/aca-bvss-100-1-pt.pdf"]
["ACA-CE02-025",null,"https://pim.firesecurityproducts.com/sites/default/files/product_leaflet/pt/aca-ce02-025-1-pt.pdf"]
["ACA-CE02-025",null,"https://pim.firesecurityproducts.com/sites/default/files/product_leaflet/pt/aca-ce02-025-1-pt.pdf"]
["ACA-CE02-025(KIT)",null,"https://pim.firesecurityproducts.com/sites/default/files/product_leaflet/pt/aca-ce02-025kit-1-pt.pdf"]
["ACA-CE02-025(KIT)",null,"https://pim.firesecurityproducts.com/sites/default/files/product_leaflet/pt/aca-ce02-025(kit)-1-pt.pdf"]
["ACA-CE02-100",null,"https://pim.firesecurityproducts.com/sites/default/files/product_leaflet/pt/aca-ce02-100-1-pt.pdf"]
["ACA-CE02-100",null,"https://pim.firesecurityproducts.com/sites/default/files/product_leaflet/pt/aca-ce02-100-1-pt.pdf"]
["ACA-CE02-100(KIT)",null,"https://pim.firesecurityproducts.com/sites/default/files/product_leaflet/pt/aca-ce02-100kit-1-pt.pdf"]
["ACA-CE03-025",null,"https://pim.firesecurityproducts.com/sites/default/files/product_leaflet/pt/aca-ce03-025-1-pt.pdf"]
["ACA-CE03-025",null,"https://pim.firesecurityproducts.com/sites/default/files/product_leaflet/pt/aca-ce03-025-1-pt.pdf"]
["ACA-CE03-025(KIT)",null,"https://pim.firesecurityproducts.com/sites/default/files/product_leaflet/pt/aca-ce03-025kit-1-pt.pdf"]
["ACA-CE03-100",null,"https://pim.firesecurityproducts.com/sites/default/files/product_leaflet/pt/aca-ce03-100-1-pt.pdf"]
["ACA-CE03-100",null,"https://pim.firesecurityproducts.com/sites/default/files/product_leaflet/pt/aca-ce03-100-1-pt.pdf"]
["ACA-CE03-100(KIT)",null,"https://pim.firesecurityproducts.com/sites/default/files/product_leaflet/pt/aca-ce03-100kit-1-pt.pdf"]
["ACA-CE03-100(KIT)",null,"https://pim.firesecurityproducts.com/sites/default/files/product_leaflet/pt/aca-ce03-100(kit)-1-pt.pdf"]
["ACA-CE08-025",null,"https://pim.firesecurityproducts.com/sites/default/files/product_leaflet/pt/aca-ce08-025-1-pt.pdf"]
["ACA-CE08-025",null,"https://pim.firesecurityproducts.com/sites/default/files/product_leaflet/pt/aca-ce08-025-1-pt.pdf"]
["ACA-CE08-025(KIT)",null,"https://pim.firesecurityproducts.com/sites/default/files/product_leaflet/pt/aca-ce08-025kit-1-pt.pdf"]
["ACA-CE08-100",null,"https://pim.firesecurityproducts.com/sites/default/files/product_leaflet/pt/aca-ce08-100-1-pt.pdf"]
["ACA-CE08-100",null,"https://pim.firesecurityproducts.com/sites/default/files/product_leaflet/pt/aca-ce08-100-1-pt.pdf"]
["ACA-CE08-100(KIT)",null,"https://pim.firesecurityproducts.com/sites/default/files/product_leaflet/pt/aca-ce08-100kit-1-pt.pdf"]
["ACA-CE14-025",null,"https://pim.firesecurityproducts.com/sites/default/files/product_leaflet/pt/aca-ce14-025-1-pt.pdf"]
["ACA-CE14-025",null,"https://pim.firesecurityproducts.com/sites/default/files/product_leaflet/pt/aca-ce14-025-1-pt.pdf"]
["ACA-CE14-025(KIT)",null,"https://pim.firesecurityproducts.com/sites/default/files/product_leaflet/pt/aca-ce14-025kit-1-pt.pdf"]
["ACA-CE14-100",null,"https://pim.firesecurityproducts.com/sites/default/files/product_leaflet/pt/aca-ce14-100-1-pt.pdf"]
["ACA-CE14-100",null,"https://pim.firesecurityproducts.com/sites/default/files/product_leaflet/pt/aca-ce14-100-1-pt.pdf"]
["ACA-CE14-100(KIT)",null,"https://pim.firesecurityproducts.com/sites/default/files/product_leaflet/pt/aca-ce14-100kit-1-pt.pdf"]
["ACA-CP-025",null,"https://pim.firesecurityproducts.com/sites/default/files/product_leaflet/pt/aca-cp-025-1-pt.pdf"]
["ACA-CP-025",null,"https://pim.firesecurityproducts.com/sites/default/files/product_leaflet/pt/aca-cp-025-1-pt.pdf"]
["ACA-CP-100",null,"https://pim.firesecurityproducts.com/sites/default/files/product_leaflet/pt/aca-cp-100-1-pt.pdf"]
["ACA-CP-100",null,"https://pim.firesecurityproducts.com/sites/default/files/product_leaflet/pt/aca-cp-100-1-pt.pdf"]
["ACA-CPSS-025",null,"https://pim.firesecurityproducts.com/sites/default/files/product_leaflet/pt/aca-cpss-025-1-pt.pdf"]
["ACA-CPSS-025",null,"https://pim.firesecurityproducts.com/sites/default/files/product_leaflet/pt/aca-cpss-025-1-pt.pdf"]
["ACA-CPSS-100",null,"https://pim.firesecurityproducts.com/sites/default/files/product_leaflet/pt/aca-cpss-100-1-pt.pdf"]
["ACA-CPSS-100",null,"https://pim.firesecurityproducts.com/sites/default/files/product_leaflet/pt/aca-cpss-100-1-pt.pdf"]
["ACA-CT-025",null,"https://pim.firesecurityproducts.com/sites/default/files/product_leaflet/pt/aca-ct-025-1-pt.pdf"]
["ACA-CT-025",null,"https://pim.firesecurityproducts.com/sites/default/files/product_leaflet/pt/aca-ct-025-1-pt.pdf"]
["ACA-CT-100",null,"https://pim.firesecurityproducts.com/sites/default/files/product_leaflet/pt/aca-ct-100-1-pt.pdf"]
["ACA-CT-100",null,"https://pim.firesecurityproducts.com/sites/default/files/product_leaflet/pt/aca-ct-100-1-pt.pdf"]
["ACA-JBW",null,"https://pim.firesecurityproducts.com/sites/default/files/product_leaflet/pt/aca-jbw-1-pt.pdf"]
["ACA-JBW",null,"https://pim.firesecurityproducts.com/sites/default/files/product_leaflet/pt/aca-jbw-1-pt.pdf"]
["ACA-RS-025",null,"https://pim.firesecurityproducts.com/sites/default/files/product_leaflet/pt/aca-rs-025-1-pt.pdf"]
["ACA-RS-025",null,"https://pim.firesecurityproducts.com/sites/default/files/product_leaflet/pt/aca-rs-025-1-pt.pdf"]
["ACA-RS-100",null,"https://pim.firesecurityproducts.com/sites/default/files/product_leaflet/pt/aca-rs-100-1-pt.pdf"]
["ACA-RS-100",null,"https://pim.firesecurityproducts.com/sites/default/files/product_leaflet/pt/aca-rs-100-1-pt.pdf"]
["ACA-STEEL",null,"https://pim.firesecurityproducts.com/sites/default/files/product_leaflet/pt/aca-steel-1-pt.pdf"]
["ACA-STEEL-SLIM",null,"https://pim.firesecurityproducts.com/sites/default/files/product_leaflet/pt/aca-steel-slim-1-pt.pdf"]
["ACA-TOUCH",null,"https://pim.firesecurityproducts.com/sites/default/files/product_leaflet/pt/aca-touch-1-pt.pdf"]
["ACA-TOUCH-SLIM",null,"https://pim.firesecurityproducts.com/sites/default/files/product_leaflet/pt/aca-touch-slim-1-pt.pdf"]
["ACA-TW11W-025",null,"https://pim.firesecurityproducts.com/sites/default/files/product_leaflet/pt/aca-tw11w-025-1-pt.pdf"]
["ACA-TW11W-025",null,"https://pim.firesecurityproducts.com/sites/default/files/product_leaflet/pt/aca-tw11w-025-1-pt.pdf"]
["ACA-TW11W-100",null,"https://pim.firesecurityproducts.com/sites/default/files/product_leaflet/pt/aca-tw11w-100-1-pt.pdf"]
["ACA-TW11W-100",null,"https://pim.firesecurityproducts.com/sites/default/files/product_leaflet/pt/aca-tw11w-100-1-pt.pdf"]
["ACA-TW17-025",null,"https://pim.firesecurityproducts.com/sites/default/files/product_leaflet/pt/aca-tw17-025-1-pt.pdf"]
["ACA-TW17-025",null,"https://pim.firesecurityproducts.com/sites/default/files/product_leaflet/pt/aca-tw17-025-1-pt.pdf"]
["ACA-TW17-100",null,"https://pim.firesecurityproducts.com/sites/default/files/product_leaflet/pt/aca-tw17-100-1-pt.pdf"]
["ACA-TW17-100",null,"https://pim.firesecurityproducts.com/sites/default/files/product_leaflet/pt/aca-tw17-100-1-pt.pdf"]
["ACA-TWSS-025",null,"https://pim.firesecurityproducts.com/sites/default/files/product_leaflet/pt/aca-twss-025-1-pt.pdf"]
["ACA-TWSS-025",null,"https://pim.firesecurityproducts.com/sites/default/files/product_leaflet/pt/aca-twss-025-1-pt.pdf"]
["ACA-TWSS-100",null,"https://pim.firesecurityproducts.com/sites/default/files/product_leaflet/pt/aca-twss-100-1-pt.pdf"]
["ACA-TWSS-100",null,"https://pim.firesecurityproducts.com/sites/default/files/product_leaflet/pt/aca-twss-100-1-pt.pdf"]
["ACA-TWT",null,"https://pim.firesecurityproducts.com/sites/default/files/product_leaflet/pt/aca-twt-1-pt.pdf"]
["ACA-TWT",null,"https://pim.firesecurityproducts.com/sites/default/files/product_leaflet/pt/aca-twt-1-pt.pdf"]
["ACA-WEATHER-S",null,"https://pim.firesecurityproducts.com/sites/default/files/product_leaflet/pt/aca-weather-s-1-pt.pdf"]
["ACA-WEATHER-W",null,"https://pim.firesecurityproducts.com/sites/default/files/product_leaflet/pt/aca-weather-w-1-pt.pdf"]
["ACI406"]
["ACI406N",null,"https://pim.firesecurityproducts.com/sites/default/files/product_leaflet/pt/aci406n-1-pt.pdf"]
["ACI406N",null,"https://pim.firesecurityproducts.com/sites/default/files/product_leaflet/pt/aci406n-1-pt.pdf"]
["ACI407"]
["ACI407N",null,"https://pim.firesecurityproducts.com/sites/default/files/product_leaflet/pt/aci407n-1-pt.pdf"]
["ACI407N",null,"https://pim.firesecurityproducts.com/sites/default/files/product_leaflet/pt/aci407n-1-pt.pdf"]
["ACI420",null,"https://pim.firesecurityproducts.com/sites/default/files/product_leaflet/pt/aci420-1-pt.pdf"]
["ACI420-PIN",null,"https://pim.firesecurityproducts.com/sites/default/files/product_leaflet/pt/aci420-pin-1-pt.pdf"]
["ACI420-PIN-W",null,"https://pim.firesecurityproducts.com/sites/default/files/product_leaflet/pt/aci420-pin-w-1-pt.pdf"]
["ACI420-W",null,"https://pim.firesecurityproducts.com/sites/default/files/product_leaflet/pt/aci420-w-1-pt.pdf"]
["ACI421",null,"https://pim.firesecurityproducts.com/sites/default/files/product_leaflet/pt/aci421-1-pt.pdf"]
["ACI421-PIN",null,"https://pim.firesecurityproducts.com/sites/default/files/product_leaflet/pt/aci421-pin-1-pt.pdf"]
["ACI421-PIN-W",null,"https://pim.firesecurityproducts.com/sites/default/files/product_leaflet/pt/aci421-pin-w-1-pt.pdf"]
["ACI421-W",null,"https://pim.firesecurityproducts.com/sites/default/files/product_leaflet/pt/aci421-w-1-pt.pdf"]
["ACI42X-A1-A4",null,"https://pim.firesecurityproducts.com/sites/default/files/product_leaflet/pt/aci42x-a1-a4-1-pt.pdf"]
["ACI42X-A5-A8",null,"https://pim.firesecurityproducts.com/sites/default/files/product_leaflet/pt/aci42x-a5-a8-1-pt.pdf"]
["ACI711",null,"https://pim.firesecurityproducts.com/sites/default/files/product_leaflet/pt/aci711-1-pt.pdf"]
["ACI712",null,"https://pim.firesecurityproducts.com/sites/default/files/product_leaflet/pt/aci712-1-pt.pdf"]
["ACI740",null,"https://pim.firesecurityproducts.com/sites/default/files/product_leaflet/pt/aci740-1-pt.pdf"]
["ACI775",null,"https://pim.firesecurityproducts.com/sites/default/files/product_leaflet/pt/aci775-1-pt.pdf"]
["ACI-ID8CDP-WSP-S44",null,"https://pim.firesecurityproducts.com/sites/default/files/product_leaflet/pt/aci-id8cdp-wsp-s44-1-pt.pdf"]
["ACI-ID8CDP-WST-S44",null,"https://pim.firesecurityproducts.com/sites/default/files/product_leaflet/pt/aci-id8cdp-wst-s44-1-pt.pdf"]
["ACI-ID8CD-WSP-S44",null,"https://pim.firesecurityproducts.com/sites/default/files/product_leaflet/pt/aci-id8cd-wsp-s44-1-pt.pdf"]
["ACI-ID8CD-WST-S44",null,"https://pim.firesecurityproducts.com/sites/default/files/product_leaflet/pt/aci-id8cd-wst-s44-1-pt.pdf"]
["ACI-IDCD-LABS-S44",null,"https://pim.firesecurityproducts.com/sites/default/files/product_leaflet/pt/aci-idcd-labs-s44-1-pt.pdf"]
["ACI-IDCDP-LABS-S44",null,"https://pim.firesecurityproducts.com/sites/default/files/product_leaflet/pt/aci-idcdp-labs-s44-1-pt.pdf"]
["ACI-IDP-QUK",null,"https://pim.firesecurityproducts.com/sites/default/files/product_leaflet/pt/aci-idp-quk-1-pt.pdf"]
["ACI-IDP-S",null,"https://pim.firesecurityproducts.com/sites/default/files/product_leaflet/pt/aci-idp-s-1-pt.pdf"]
["ACI-IDP-SS",null,"https://pim.firesecurityproducts.com/sites/default/files/product_leaflet/pt/aci-idp-ss-1-pt.pdf"]
["ACL570",null,"https://pim.firesecurityproducts.com/sites/default/files/product_leaflet/pt/acl570-1-pt.pdf"]
["ACL570FI",null,"https://pim.firesecurityproducts.com/sites/default/files/product_leaflet/pt/ACL570FI-1-pt.pdf"]
["ACL580",null,"https://pim.firesecurityproducts.com/sites/default/files/product_leaflet/pt/acl580-1-pt.pdf"]
["ACL580FI",null,"https://pim.firesecurityproducts.com/sites/default/files/product_leaflet/pt/acl580fi-1-pt.pdf"]
["ACL580WI",null,"https://pim.firesecurityproducts.com/sites/default/files/product_leaflet/pt/acl580wi-1-pt.pdf"]
["ACL585",null,"https://pim.firesecurityproducts.com/sites/default/files/product_leaflet/pt/acl585-1-pt.pdf"]
["ACL760",null,"https://pim.firesecurityproducts.com/sites/default/files/product_leaflet/pt/acl760-1-pt.pdf"]
["ACL800-BC-USB-B"]
["ACL800-BC-USB-B",null,"https://pim.firesecurityproducts.com/sites/default/files/product_leaflet/pt/acl800-bc-usb-b-1-pt.pdf"]
["ACL800FL-1F-EU-G",null,"https://pim.firesecurityproducts.com/sites/default/files/product_leaflet/pt/acl800fl-1f-eu-g-1-pt.pdf"]
["ACL800FL-1F-EU-S",null,"https://pim.firesecurityproducts.com/sites/default/files/product_leaflet/pt/acl800fl-1f-eu-s-1-pt.pdf"]
["ACL800FL-1F-EU-S",null,"https://pim.firesecurityproducts.com/sites/default/files/product_leaflet/pt/acl800fl-1f-eu-s-1-pt.pdf"]
["ACL800FL-1F-EU-W"]
["ACL800FL-1F-UK-G",null,"https://pim.firesecurityproducts.com/sites/default/files/product_leaflet/pt/acl800fl-1f-uk-g-1-pt.pdf"]
["ACL800FL-1F-UK-S",null,"https://pim.firesecurityproducts.com/sites/default/files/product_leaflet/pt/acl800fl-1f-uk-s-1-pt.pdf"]
["ACL800FL-1F-UK-W",null,"https://pim.firesecurityproducts.com/sites/default/files/product_leaflet/pt/acl800fl-1f-uk-w-1-pt.pdf"]
["ACL800FL-2FH-G"]
["ACL800FL-2FH-S",null,"https://pim.firesecurityproducts.com/sites/default/files/product_leaflet/pt/acl800fl-2fh-s-1-pt.pdf"]
["ACL800FL-2FV-W",null,"https://pim.firesecurityproducts.com/sites/default/files/product_leaflet/pt/acl800fl-2fv-w-1-pt.pdf"]
["ACL800FL-CONV-W",null,"https://pim.firesecurityproducts.com/sites/default/files/product_leaflet/pt/acl800fl-conv-w-1-pt.pdf"]
["ACL800FL-PB",null,"https://pim.firesecurityproducts.com/sites/default/files/product_leaflet/pt/acl800fl-pb-1-pt.pdf"]
["ACL800FL-RU2-W",null,"https://pim.firesecurityproducts.com/sites/default/files/product_leaflet/pt/acl800fl-ru2-w-1-pt.pdf"]
["ACL800FLW-RDMF",null,"https://pim.firesecurityproducts.com/sites/default/files/product_leaflet/pt/acl800flw-rdmf-1-pt.pdf"]
["ACL800FLW-RDMF",null,"https://pim.firesecurityproducts.com/sites/default/files/product_leaflet/pt/acl800flw-rdmf-1-pt.pdf"]
["ACL800FLW-RDPX",null,"https://pim.firesecurityproducts.com/sites/default/files/product_leaflet/pt/acl800flw-rdpx-1-pt.pdf"]
["ACL800-PB-B",null,"https://pim.firesecurityproducts.com/sites/default/files/product_leaflet/pt/acl800-pb-b-1-pt.pdf"]
["ACL800-PB-B",null,"https://pim.firesecurityproducts.com/sites/default/files/product_leaflet/pt/acl800-pb-b-1-pt.pdf"]
["ACL800-PB-G",null,"https://pim.firesecurityproducts.com/sites/default/files/product_leaflet/pt/acl800-pb-g-1-pt.pdf"]
["ACL800-PB-GRAY"]
["ACL800-PB-S",null,"https://pim.firesecurityproducts.com/sites/default/files/product_leaflet/pt/acl800-pb-s-1-pt.pdf"]
["ACL800-PB-S",null,"https://pim.firesecurityproducts.com/sites/default/files/product_leaflet/pt/acl800-pb-s-1-pt.pdf"]
["ACL800-PB-SILV"]
["ACL800-PB-W",null,"https://pim.firesecurityproducts.com/sites/default/files/product_leaflet/pt/acl800-pb-w-1-pt.pdf"]
["ACL800SUW-BC-G",null,"https://pim.firesecurityproducts.com/sites/default/files/product_leaflet/pt/acl800suw-bc-g-1-pt.pdf"]
["ACL800SUW-BCMF-S",null,"https://pim.firesecurityproducts.com/sites/default/files/product_leaflet/pt/acl800suw-bcmf-s-1-pt.pdf"]
["ACL800SUW-BCMF-S",null,"https://pim.firesecurityproducts.com/sites/default/files/product_leaflet/pt/acl800suw-bcmf-s-1-pt.pdf"]
["ACL800SUW-BCPX-G",null,"https://pim.firesecurityproducts.com/sites/default/files/product_leaflet/pt/acl800suw-bcpx-g-1-pt.pdf"]
["ACL800SUW-BCPX-S",null,"https://pim.firesecurityproducts.com/sites/default/files/product_leaflet/pt/acl800suw-bcpx-s-1-pt.pdf"]
["ACL800SUW-BC-S",null,"https://pim.firesecurityproducts.com/sites/default/files/product_leaflet/pt/acl800suw-bc-s-1-pt.pdf"]
["ACL800SUW-BC-S",null,"https://pim.firesecurityproducts.com/sites/default/files/product_leaflet/pt/acl800suw-bc-s-1-pt.pdf"]
["ACL800SUW-BS-G"]
["ACL800SUW-BSMF-B",null,"https://pim.firesecurityproducts.com/sites/default/files/product_leaflet/pt/acl800suw-bsmf-b-1-pt.pdf"]
["ACL800SUW-BSMF-G",null,"https://pim.firesecurityproducts.com/sites/default/files/product_leaflet/pt/acl800suw-bsmf-g-1-pt.pdf"]
["ACL800SUW-BSMF-S",null,"https://pim.firesecurityproducts.com/sites/default/files/product_leaflet/pt/acl800suw-bsmf-s-1-pt.pdf"]
["ACL800SUW-BSPX-B",null,"https://pim.firesecurityproducts.com/sites/default/files/product_leaflet/pt/acl800suw-bspx-b-1-pt.pdf"]
["ACL800SUW-BSPX-G"]
["ACL800SUW-BSPX-G",null,"https://pim.firesecurityproducts.com/sites/default/files/product_leaflet/pt/acl800suw-bspx-g-1-pt.pdf"]
["ACL800SUW-RDMF-B",null,"https://pim.firesecurityproducts.com/sites/default/files/product_leaflet/pt/acl800suw-rdmf-b-1-pt.pdf"]
["ACL800SUW-RDMF-G",null,"https://pim.firesecurityproducts.com/sites/default/files/product_leaflet/pt/acl800suw-rdmf-g-1-pt.pdf"]
["ACL800SUW-RDMF-S",null,"https://pim.firesecurityproducts.com/sites/default/files/product_leaflet/pt/acl800suw-rdmf-s-1-pt.pdf"]
["ACL800SUW-RDMF-S",null,"https://pim.firesecurityproducts.com/sites/default/files/product_leaflet/pt/acl800suw-rdmf-s-1-pt.pdf"]
["ACL800SUW-RDPX-B",null,"https://pim.firesecurityproducts.com/sites/default/files/product_leaflet/pt/acl800suw-rdpx-b-1-pt.pdf"]
["ACL800SUW-RDPX-B",null,"https://pim.firesecurityproducts.com/sites/default/files/product_leaflet/pt/acl800suw-rdpx-b-1-pt.pdf"]
["ACL800SUW-RDPX-G",null,"https://pim.firesecurityproducts.com/sites/default/files/product_leaflet/pt/acl800suw-rdpx-g-1-pt.pdf"]
["ACL800SUW-RDPX-S",null,"https://pim.firesecurityproducts.com/sites/default/files/product_leaflet/pt/acl800suw-rdpx-s-1-pt.pdf"]
["ACL800SUW-RDPX-S",null,"https://pim.firesecurityproducts.com/sites/default/files/product_leaflet/pt/acl800suw-rdpx-s-1-pt.pdf"]
["ACL805SUW-B",null,"https://pim.firesecurityproducts.com/sites/default/files/product_leaflet/pt/acl805suw-b-1-pt.pdf"]
["ACL805SUW-BC-G"]
["ACL805SUW-BC-S",null,"https://pim.firesecurityproducts.com/sites/default/files/product_leaflet/pt/acl805suw-bc-s-1-pt.pdf"]
["ACL805SUW-BS-B",null,"https://pim.firesecurityproducts.com/sites/default/files/product_leaflet/pt/acl805suw-bs-b-1-pt.pdf"]
["ACL805SUW-BS-G",null,"https://pim.firesecurityproducts.com/sites/default/files/product_leaflet/pt/acl805suw-bs-g-1-pt.pdf"]
["ACL805SUW-BS-S"]
["ACL805SUW-G",null,"https://pim.firesecurityproducts.com/sites/default/files/product_leaflet/pt/acl805suw-g-1-pt.pdf"]
["ACL805SUW-RDMF-G"]
["ACL805SUW-RDPX-S",null,"https://pim.firesecurityproducts.com/sites/default/files/product_leaflet/pt/acl805suw-rdpx-s-1-pt.pdf"]
["ACL805SUW-S",null,"https://pim.firesecurityproducts.com/sites/default/files/product_leaflet/pt/acl805suw-s-1-pt.pdf"]
["ACL805SUW-S",null,"https://pim.firesecurityproducts.com/sites/default/files/product_leaflet/pt/acl805suw-s-1-pt.pdf"]
["ACL870FL-PB-S",null,"https://pim.firesecurityproducts.com/sites/default/files/product_leaflet/pt/acl870fl-pb-s-1-pt.pdf"]
["ACL870FL-PB-S",null,"https://pim.firesecurityproducts.com/sites/default/files/product_leaflet/pt/acl870fl-pb-s-1-pt.pdf"]
["ACL870SU-BS-B",null,"https://pim.firesecurityproducts.com/sites/default/files/product_leaflet/pt/acl870su-bs-b-1-pt.pdf"]
["ACL870SU-BS-G",null,"https://pim.firesecurityproducts.com/sites/default/files/product_leaflet/pt/acl870su-bs-g-1-pt.pdf"]
["ACL870SU-BS-G",null,"https://pim.firesecurityproducts.com/sites/default/files/product_leaflet/pt/acl870su-bs-g-1-pt.pdf"]
["ACL870SU-BSMF-B",null,"https://pim.firesecurityproducts.com/sites/default/files/product_leaflet/pt/acl870su-bsmf-b-1-pt.pdf"]
["ACL870SU-BSMF-B",null,"https://pim.firesecurityproducts.com/sites/default/files/product_leaflet/pt/acl870su-bsmf-b-1-pt.pdf"]
["ACL870SU-BSPX-B",null,"https://pim.firesecurityproducts.com/sites/default/files/product_leaflet/pt/acl870su-bspx-b-1-pt.pdf"]
["ACL870SU-BS-S",null,"https://pim.firesecurityproducts.com/sites/default/files/product_leaflet/pt/acl870su-bs-s-1-pt.pdf"]
["ACL870SU-PB-B"]
["ACL870SU-PB-G",null,"https://pim.firesecurityproducts.com/sites/default/files/product_leaflet/pt/acl870su-pb-g-1-pt.pdf"]
["ACL870SU-PB-S",null,"https://pim.firesecurityproducts.com/sites/default/files/product_leaflet/pt/acl870su-pb-s-1-pt.pdf"]
["ACL870SU-PB-W",null,"https://pim.firesecurityproducts.com/sites/default/files/product_leaflet/pt/acl870su-pb-w-1-pt.pdf"]
["ACL875FL-KP-S"]
["ACL875FL-KP-S",null,"https://pim.firesecurityproducts.com/sites/default/files/product_leaflet/pt/acl875fl-kp-s-1-pt.pdf"]
["ACL875SU-B",null,"https://pim.firesecurityproducts.com/sites/default/files/product_leaflet/pt/acl875su-b-1-pt.pdf"]
["ACL875SU-B",null,"https://pim.firesecurityproducts.com/sites/default/files/product_leaflet/pt/acl875su-b-1-pt.pdf"]
["ACL875SU-BS-B"]
["ACL875SU-BS-G",null,"https://pim.firesecurityproducts.com/sites/default/files/product_leaflet/pt/acl875su-bs-g-1-pt.pdf"]
["ACL875SU-BS-S"]
["ACL875SU-BS-S",null,"https://pim.firesecurityproducts.com/sites/default/files/product_leaflet/pt/acl875su-bs-s-1-pt.pdf"]
["ACL875SU-S",null,"https://pim.firesecurityproducts.com/sites/default/files/product_leaflet/pt/acl875su-s-1-pt.pdf"]
["ACL875SU-S",null,"https://pim.firesecurityproducts.com/sites/default/files/product_leaflet/pt/acl875su-s-1-pt.pdf"]
["ACT1161WPO",null,"https://pim.firesecurityproducts.com/sites/default/files/product_leaflet/pt/act1161wpo-1-pt.pdf"]
["ACT2000",null,"https://pim.firesecurityproducts.com/sites/default/files/product_leaflet/pt/act2000-1-pt.pdf"]
["ACT2000",null,"https://pim.firesecurityproducts.com/sites/default/files/product_leaflet/pt/act2000-1-pt.pdf"]
["ACT407",null,"https://pim.firesecurityproducts.com/sites/default/files/product_leaflet/pt/act407-1-pt.pdf"]
["ACT407E",null,"https://pim.firesecurityproducts.com/sites/default/files/product_leaflet/pt/act407e-1-pt.pdf"]
["ACT408E",null,"https://pim.firesecurityproducts.com/sites/default/files/product_leaflet/pt/act408e-1-pt.pdf"]
["ACT430E",null,"https://pim.firesecurityproducts.com/sites/default/files/product_leaflet/pt/act430e-1-pt.pdf"]
["ACT430E-5",null,"https://pim.firesecurityproducts.com/sites/default/files/product_leaflet/pt/act430e-5-1-pt.pdf"]
["ACT455",null,"https://pim.firesecurityproducts.com/sites/default/files/product_leaflet/pt/act455-1-pt.pdf"]
["ACT457",null,"https://pim.firesecurityproducts.com/sites/default/files/product_leaflet/pt/act457-1-pt.pdf"]
["ACT459",null,"https://pim.firesecurityproducts.com/sites/default/files/product_leaflet/pt/act459-1-pt.pdf"]
["ACT600S",null,"https://pim.firesecurityproducts.com/sites/default/files/product_leaflet/pt/act600s-1-pt.pdf"]
["ACT707",null,"https://pim.firesecurityproducts.com/sites/default/files/product_leaflet/pt/act707-1-pt.pdf"]
["ACT708",null,"https://pim.firesecurityproducts.com/sites/default/files/product_leaflet/pt/act708-1-pt.pdf"]
["ACT725-35",null,"https://pim.firesecurityproducts.com/sites/default/files/product_leaflet/pt/act708-1-pt.pdf"]
["ACT725-36",null,"https://pim.firesecurityproducts.com/sites/default/files/product_leaflet/pt/act725-36-1-pt.pdf"]
["ACT725-37",null,"https://pim.firesecurityproducts.com/sites/default/files/product_leaflet/pt/act725-37-1-pt.pdf"]
["ACT736-35",null,"https://pim.firesecurityproducts.com/sites/default/files/product_leaflet/pt/act736-35-1-pt.pdf"]
["ACT736-36",null,"https://pim.firesecurityproducts.com/sites/default/files/product_leaflet/pt/act736-36-1-pt.pdf"]
["ACT736-37",null,"https://pim.firesecurityproducts.com/sites/default/files/product_leaflet/pt/act736-37-1-pt.pdf"]
["ACT745-36",null,"https://pim.firesecurityproducts.com/sites/default/files/product_leaflet/pt/act745-36-1-pt.pdf"]
["ACT745-37",null,"https://pim.firesecurityproducts.com/sites/default/files/product_leaflet/pt/act745-37-1-pt.pdf"]
["ACT750",null,"https://pim.firesecurityproducts.com/sites/default/files/product_leaflet/pt/act750-1-pt.pdf"]
["ACT750",null,"https://pim.firesecurityproducts.com/sites/default/files/product_leaflet/pt/act750-1-pt.pdf"]
["ACT786-35",null,"https://pim.firesecurityproducts.com/sites/default/files/product_leaflet/pt/act786-35-1-pt.pdf"]
["ACT786-36",null,"https://pim.firesecurityproducts.com/sites/default/files/product_leaflet/pt/act786-36-1-pt.pdf"]
["ACT786-37",null,"https://pim.firesecurityproducts.com/sites/default/files/product_leaflet/pt/act786-37-1-pt.pdf"]
["ACT790-35",null,"https://pim.firesecurityproducts.com/sites/default/files/product_leaflet/pt/act790-35-1-pt.pdf"]
["ACT790-35",null,"https://pim.firesecurityproducts.com/sites/default/files/product_leaflet/pt/act790-35-1-pt.pdf"]
["AD011",null,"https://pim.firesecurityproducts.com/sites/default/files/product_leaflet/pt/ad011-1-pt.pdf"]
["AD011",null,"https://pim.firesecurityproducts.com/sites/default/files/product_leaflet/pt/ad011-1-pt.pdf"]
["AD044",null,"https://pim.firesecurityproducts.com/sites/default/files/product_leaflet/pt/ad044-1-pt.pdf"]
["AD044",null,"https://pim.firesecurityproducts.com/sites/default/files/product_leaflet/pt/ad044-1-pt.pdf"]
["AD1000",null,"https://pim.firesecurityproducts.com/sites/default/files/product_leaflet/pt/ad1000-1-pt.pdf"]
["AD1000X10",null,"https://pim.firesecurityproducts.com/sites/default/files/product_leaflet/pt/ad1000x10-1-pt.pdf"]
["AD105-0100",null,"https://pim.firesecurityproducts.com/sites/default/files/product_leaflet/pt/ad105-0100-1-pt.pdf"]
["AD105-0100",null,"https://pim.firesecurityproducts.com/sites/default/files/product_leaflet/pt/ad105-0100-1-pt.pdf"]
["AD105-0500",null,"https://pim.firesecurityproducts.com/sites/default/files/product_leaflet/pt/ad105-0500-1-pt.pdf"]
["AD105-0500",null,"https://pim.firesecurityproducts.com/sites/default/files/product_leaflet/pt/ad105-0500-1-pt.pdf"]
["AD105-1000",null,"https://pim.firesecurityproducts.com/sites/default/files/product_leaflet/pt/ad105-1000-1-pt.pdf"]
["AD105-1000",null,"https://pim.firesecurityproducts.com/sites/default/files/product_leaflet/pt/ad105-1000-1-pt.pdf"]
["AD105N-0100",null,"https://pim.firesecurityproducts.com/sites/default/files/product_leaflet/pt/ad105n-0100-1-pt.pdf"]
["AD105N-0100",null,"https://pim.firesecurityproducts.com/sites/default/files/product_leaflet/pt/ad105n-0100-1-pt.pdf"]
["AD105N-0500",null,"https://pim.firesecurityproducts.com/sites/default/files/product_leaflet/pt/ad105n-0500-1-pt.pdf"]
["AD105N-0500",null,"https://pim.firesecurityproducts.com/sites/default/files/product_leaflet/pt/ad105n-0500-1-pt.pdf"]
["AD105N-1000",null,"https://pim.firesecurityproducts.com/sites/default/files/product_leaflet/pt/ad105n-1000-1-pt.pdf"]
["AD105N-1000",null,"https://pim.firesecurityproducts.com/sites/default/files/product_leaflet/pt/ad105n-1000-1-pt.pdf"]
["AD105P-0100",null,"https://pim.firesecurityproducts.com/sites/default/files/product_leaflet/pt/ad105p-0100-1-pt.pdf"]
["AD105P-0100",null,"https://pim.firesecurityproducts.com/sites/default/files/product_leaflet/pt/ad105p-0100-1-pt.pdf"]
["AD105P-0500",null,"https://pim.firesecurityproducts.com/sites/default/files/product_leaflet/pt/ad105p-0500-1-pt.pdf"]
["AD105P-0500",null,"https://pim.firesecurityproducts.com/sites/default/files/product_leaflet/pt/ad105p-0500-1-pt.pdf"]
["AD105P-1000",null,"https://pim.firesecurityproducts.com/sites/default/files/product_leaflet/pt/ad105p-1000-1-pt.pdf"]
["AD105SS-0100",null,"https://pim.firesecurityproducts.com/sites/default/files/product_leaflet/pt/ad105ss-0100-1-pt.pdf"]
["AD105SS-0100",null,"https://pim.firesecurityproducts.com/sites/default/files/product_leaflet/pt/ad105ss-0100-1-pt.pdf"]
["AD105SS-0500",null,"https://pim.firesecurityproducts.com/sites/default/files/product_leaflet/pt/ad105ss-0500-1-pt.pdf"]
["AD105SS-0500",null,"https://pim.firesecurityproducts.com/sites/default/files/product_leaflet/pt/ad105ss-0500-1-pt.pdf"]
["AD111",null,"https://pim.firesecurityproducts.com/sites/default/files/product_leaflet/pt/ad111-1-pt.pdf"]
["AD185N-0100",null,"https://pim.firesecurityproducts.com/sites/default/files/product_leaflet/pt/ad185n-0100-1-pt.pdf"]
["AD185N-0100",null,"https://pim.firesecurityproducts.com/sites/default/files/product_leaflet/pt/ad185n-0100-1-pt.pdf"]
["AD185N-0500",null,"https://pim.firesecurityproducts.com/sites/default/files/product_leaflet/pt/ad185n-0500-1-pt.pdf"]
["AD185N-0500",null,"https://pim.firesecurityproducts.com/sites/default/files/product_leaflet/pt/ad185n-0500-1-pt.pdf"]
["AD185N-1000",null,"https://pim.firesecurityproducts.com/sites/default/files/product_leaflet/pt/ad185n-1000-1-pt.pdf"]
["AD185N-1000",null,"https://pim.firesecurityproducts.com/sites/default/files/product_leaflet/pt/ad185n-1000-1-pt.pdf"]
["AD185SS-0100",null,"https://pim.firesecurityproducts.com/sites/default/files/product_leaflet/pt/ad185ss-0100-1-pt.pdf"]
["AD185SS-0100",null,"https://pim.firesecurityproducts.com/sites/default/files/product_leaflet/pt/ad185ss-0100-1-pt.pdf"]
["AD185SS-0500",null,"https://pim.firesecurityproducts.com/sites/default/files/product_leaflet/pt/ad185ss-0500-1-pt.pdf"]
["AD185SS-0500",null,"https://pim.firesecurityproducts.com/sites/default/files/product_leaflet/pt/ad185ss-0500-1-pt.pdf"]
["AD218-0100",null,"https://pim.firesecurityproducts.com/sites/default/files/product_leaflet/pt/ad218-0100-1-pt.pdf"]
["AD218-0100",null,"https://pim.firesecurityproducts.com/sites/default/files/product_leaflet/pt/ad218-0100-1-pt.pdf"]
["AD218-0500",null,"https://pim.firesecurityproducts.com/sites/default/files/product_leaflet/pt/ad218-0500-1-pt.pdf"]
["AD218-0500",null,"https://pim.firesecurityproducts.com/sites/default/files/product_leaflet/pt/ad218-0500-1-pt.pdf"]
["AD218SS-0100",null,"https://pim.firesecurityproducts.com/sites/default/files/product_leaflet/pt/ad218ss-0100-1-pt.pdf"]
["AD218SS-0100",null,"https://pim.firesecurityproducts.com/sites/default/files/product_leaflet/pt/ad218ss-0100-1-pt.pdf"]
["AD218SS-0500",null,"https://pim.firesecurityproducts.com/sites/default/files/product_leaflet/pt/ad218ss-0500-1-pt.pdf"]
["AD218SS-0500",null,"https://pim.firesecurityproducts.com/sites/default/files/product_leaflet/pt/ad218ss-0500-1-pt.pdf"]
["AD600",null,"https://pim.firesecurityproducts.com/sites/default/files/product_leaflet/pt/ad600-1-pt.pdf"]
["AD68-0100",null,"https://pim.firesecurityproducts.com/sites/default/files/product_leaflet/pt/ad68-0100-1-pt.pdf"]
["AD68-0100",null,"https://pim.firesecurityproducts.com/sites/default/files/product_leaflet/pt/ad68-0100-1-pt.pdf"]
["AD68-0500",null,"https://pim.firesecurityproducts.com/sites/default/files/product_leaflet/pt/ad68-0500-1-pt.pdf"]
["AD68-0500",null,"https://pim.firesecurityproducts.com/sites/default/files/product_leaflet/pt/ad68-0500-1-pt.pdf"]
["AD68-1000",null,"https://pim.firesecurityproducts.com/sites/default/files/product_leaflet/pt/ad68-1000-1-pt.pdf"]
["AD68-1000",null,"https://pim.firesecurityproducts.com/sites/default/files/product_leaflet/pt/ad68-1000-1-pt.pdf"]
["AD68N-0100",null,"https://pim.firesecurityproducts.com/sites/default/files/product_leaflet/pt/ad68n-0100-1-pt.pdf"]
["AD68N-0100",null,"https://pim.firesecurityproducts.com/sites/default/files/product_leaflet/pt/ad68n-0100-1-pt.pdf"]
["AD68N-0500",null,"https://pim.firesecurityproducts.com/sites/default/files/product_leaflet/pt/ad68n-0500-1-pt.pdf"]
["AD68N-0500",null,"https://pim.firesecurityproducts.com/sites/default/files/product_leaflet/pt/ad68n-0500-1-pt.pdf"]
["AD68N-1000",null,"https://pim.firesecurityproducts.com/sites/default/files/product_leaflet/pt/ad68n-1000-1-pt.pdf"]
["AD68N-1000",null,"https://pim.firesecurityproducts.com/sites/default/files/product_leaflet/pt/ad68n-1000-1-pt.pdf"]
["AD68P-0100",null,"https://pim.firesecurityproducts.com/sites/default/files/product_leaflet/pt/ad68p-0100-1-pt.pdf"]
["AD68P-0100",null,"https://pim.firesecurityproducts.com/sites/default/files/product_leaflet/pt/ad68p-0100-1-pt.pdf"]
["AD68P-0500",null,"https://pim.firesecurityproducts.com/sites/default/files/product_leaflet/pt/ad68p-0500-1-pt.pdf"]
["AD68P-0500",null,"https://pim.firesecurityproducts.com/sites/default/files/product_leaflet/pt/ad68p-0500-1-pt.pdf"]
["AD68P-1000",null,"https://pim.firesecurityproducts.com/sites/default/files/product_leaflet/pt/ad68p-1000-1-pt.pdf"]
["AD68P-1000",null,"https://pim.firesecurityproducts.com/sites/default/files/product_leaflet/pt/ad68p-1000-1-pt.pdf"]
["AD68SS-0100",null,"https://pim.firesecurityproducts.com/sites/default/files/product_leaflet/pt/ad68ss-0100-1-pt.pdf"]
["AD68SS-0100",null,"https://pim.firesecurityproducts.com/sites/default/files/product_leaflet/pt/ad68ss-0100-1-pt.pdf"]
["AD68SS-0500",null,"https://pim.firesecurityproducts.com/sites/default/files/product_leaflet/pt/ad68ss-0500-1-pt.pdf"]
["AD68SS-0500",null,"https://pim.firesecurityproducts.com/sites/default/files/product_leaflet/pt/ad68ss-0500-1-pt.pdf"]
["AD88-0100",null,"https://pim.firesecurityproducts.com/sites/default/files/product_leaflet/pt/ad88-0100-1-pt.pdf"]
["AD88-0100",null,"https://pim.firesecurityproducts.com/sites/default/files/product_leaflet/pt/ad88-0100-1-pt.pdf"]
["AD88-0500",null,"https://pim.firesecurityproducts.com/sites/default/files/product_leaflet/pt/ad88-0500-1-pt.pdf"]
["AD88-0500",null,"https://pim.firesecurityproducts.com/sites/default/files/product_leaflet/pt/ad88-0500-1-pt.pdf"]
["AD88-1000",null,"https://pim.firesecurityproducts.com/sites/default/files/product_leaflet/pt/ad88-1000-1-pt.pdf"]
["AD88-1000",null,"https://pim.firesecurityproducts.com/sites/default/files/product_leaflet/pt/ad88-1000-1-pt.pdf"]
["AD88N-0100",null,"https://pim.firesecurityproducts.com/sites/default/files/product_leaflet/pt/ad88n-0100-1-pt.pdf"]
["AD88N-0100",null,"https://pim.firesecurityproducts.com/sites/default/files/product_leaflet/pt/ad88n-0100-1-pt.pdf"]
["AD88N-0500",null,"https://pim.firesecurityproducts.com/sites/default/files/product_leaflet/pt/ad88n-0500-1-pt.pdf"]
["AD88N-0500",null,"https://pim.firesecurityproducts.com/sites/default/files/product_leaflet/pt/ad88n-0500-1-pt.pdf"]
["AD88N-1000",null,"https://pim.firesecurityproducts.com/sites/default/files/product_leaflet/pt/ad88n-1000-1-pt.pdf"]
["AD88N-1000",null,"https://pim.firesecurityproducts.com/sites/default/files/product_leaflet/pt/ad88n-1000-1-pt.pdf"]
["AD88P-0100",null,"https://pim.firesecurityproducts.com/sites/default/files/product_leaflet/pt/ad88p-0100-1-pt.pdf"]
["AD88P-0100",null,"https://pim.firesecurityproducts.com/sites/default/files/product_leaflet/pt/ad88p-0100-1-pt.pdf"]
["AD88P-0500",null,"https://pim.firesecurityproducts.com/sites/default/files/product_leaflet/pt/ad88p-0500-1-pt.pdf"]
["AD88P-0500",null,"https://pim.firesecurityproducts.com/sites/default/files/product_leaflet/pt/ad88p-0500-1-pt.pdf"]
["AD88P-1000",null,"https://pim.firesecurityproducts.com/sites/default/files/product_leaflet/pt/ad88p-1000-1-pt.pdf"]
["AD88SS-0100",null,"https://pim.firesecurityproducts.com/sites/default/files/product_leaflet/pt/ad88ss-0100-1-pt.pdf"]
["AD88SS-0100",null,"https://pim.firesecurityproducts.com/sites/default/files/product_leaflet/pt/ad88ss-0100-1-pt.pdf"]
["AD88SS-0500",null,"https://pim.firesecurityproducts.com/sites/default/files/product_leaflet/pt/ad88ss-0500-1-pt.pdf"]
["AD88SS-0500",null,"https://pim.firesecurityproducts.com/sites/default/files/product_leaflet/pt/ad88ss-0500-1-pt.pdf"]
["ADE78-0100",null,"https://pim.firesecurityproducts.com/sites/default/files/product_leaflet/pt/ade78-0100-1-pt.pdf"]
["ADE78-0500",null,"https://pim.firesecurityproducts.com/sites/default/files/product_leaflet/pt/ade78-0500-1-pt.pdf"]
["ADE88-0100",null,"https://pim.firesecurityproducts.com/sites/default/files/product_leaflet/pt/ade88-0100-1-pt.pdf"]
["ADE88-0500",null,"https://pim.firesecurityproducts.com/sites/default/files/product_leaflet/pt/ade88-0500-1-pt.pdf"]
["ADELCU-2",null,"https://pim.firesecurityproducts.com/sites/default/files/product_leaflet/pt/adelcu-2-1-pt.pdf"]
["ADELCU-EOL",null,"https://pim.firesecurityproducts.com/sites/default/files/product_leaflet/pt/adelcu-eol-1-pt.pdf"]
["ADLCU-2",null,"https://pim.firesecurityproducts.com/sites/default/files/product_leaflet/pt/adlcu-2-1-pt.pdf"]
["ADP-FBF",null,"https://pim.firesecurityproducts.com/sites/default/files/product_leaflet/pt/adp-fbf-1-pt.pdf"]
["ADP-N3E-ptPA",null,"https://pim.firesecurityproducts.com/sites/default/files/product_leaflet/pt/adp-n3e-ptpa-1-pt.pdf"]
["ADP-N3E-U",null,"https://pim.firesecurityproducts.com/sites/default/files/product_leaflet/pt/adp-n3e-u-1-pt.pdf"]
["ADP-N3S",null,"https://pim.firesecurityproducts.com/sites/default/files/product_leaflet/pt/adp-n3s-1-pt.pdf"]
["ADP-NB",null,"https://pim.firesecurityproducts.com/sites/default/files/product_leaflet/pt/adp-nb-1-pt.pdf"]
["ADP-ptPA-U",null,"https://pim.firesecurityproducts.com/sites/default/files/product_leaflet/pt/adp-ptpa-u-1-pt.pdf"]
["AF41A",null,"https://pim.firesecurityproducts.com/sites/default/files/product_leaflet/pt/af41a-1-pt.pdf"]
["AI2672",null,"https://pim.firesecurityproducts.com/sites/default/files/product_leaflet/pt/ai2672-1-pt.pdf"]
["AI2672",null,"https://pim.firesecurityproducts.com/sites/default/files/product_leaflet/pt/ai2672-1-pt.pdf"]
["AI671",null,"https://pim.firesecurityproducts.com/sites/default/files/product_leaflet/pt/ai671-1-pt.pdf"]
["AI671",null,"https://pim.firesecurityproducts.com/sites/default/files/product_leaflet/pt/ai671-1-pt.pdf"]
["AI672",null,"https://pim.firesecurityproducts.com/sites/default/files/product_leaflet/pt/ai672-1-pt.pdf"]
["AI672",null,"https://pim.firesecurityproducts.com/sites/default/files/product_leaflet/pt/ai672-1-pt.pdf"]
["AI673",null,"https://pim.firesecurityproducts.com/sites/default/files/product_leaflet/pt/ai673-1-pt.pdf"]
["AI673",null,"https://pim.firesecurityproducts.com/sites/default/files/product_leaflet/pt/ai673-1-pt.pdf"]
["AI952N",null,"https://pim.firesecurityproducts.com/sites/default/files/product_leaflet/pt/ai952n-1-pt.pdf"]
["ALR/24"]
["AMGR2-10",null,"https://pim.firesecurityproducts.com/sites/default/files/product_leaflet/pt/amgr2-10-1-pt.pdf"]
["AMK4SLSA",null,"https://pim.firesecurityproducts.com/sites/default/files/product_leaflet/pt/amk4slsa-1-pt.pdf"]
["ANT-MLTB",null,"https://pim.firesecurityproducts.com/sites/default/files/product_leaflet/pt/ant-mltb-1-pt.pdf"]
["ARITECH_CLOUD_KIT1",null,"https://pim.firesecurityproducts.com/sites/default/files/product_leaflet/pt/aritech_cloud_kit1-1-pt.pdf"]
["AS210N",null,"https://pim.firesecurityproducts.com/sites/default/files/product_leaflet/pt/as210N-1-pt.pdf"]
["AS210N",null,"https://pim.firesecurityproducts.com/sites/default/files/product_leaflet/pt/as210n-1-pt.pdf"]
["AS210N-L",null,"https://pim.firesecurityproducts.com/sites/default/files/product_leaflet/pt/as210n-l-1-pt.pdf"]
["AS2363",null,"https://pim.firesecurityproducts.com/sites/default/files/product_leaflet/pt/as2363-1-pt.pdf"]
["AS2363W",null,"https://pim.firesecurityproducts.com/sites/default/files/product_leaflet/pt/as2363w-1-pt.pdf"]
["AS2363W",null,"https://pim.firesecurityproducts.com/sites/default/files/product_leaflet/pt/as2363w-1-pt.pdf"]
["AS2364",null,"https://pim.firesecurityproducts.com/sites/default/files/product_leaflet/pt/as2364-1-pt.pdf"]
["AS2364",null,"https://pim.firesecurityproducts.com/sites/default/files/product_leaflet/pt/as2364-1-pt.pdf"]
["AS2364W",null,"https://pim.firesecurityproducts.com/sites/default/files/product_leaflet/pt/as2364w-1-pt.pdf"]
["AS2364W",null,"https://pim.firesecurityproducts.com/sites/default/files/product_leaflet/pt/as2364w-1-pt.pdf"]
["AS2367W",null,"https://pim.firesecurityproducts.com/sites/default/files/product_leaflet/pt/as2367w-1-pt.pdf"]
["AS2367WY"]
["AS2368CAP-R",null,"https://pim.firesecurityproducts.com/sites/default/files/product_leaflet/pt/as2368cap-r-1-pt.pdf"]
["AS2368CAP-R",null,"https://pim.firesecurityproducts.com/sites/default/files/product_leaflet/pt/as2368cap-r-1-pt.pdf"]
["AS2368CAP-W",null,"https://pim.firesecurityproducts.com/sites/default/files/product_leaflet/pt/as2368cap-w-1-pt.pdf"]
["AS2368CAP-W",null,"https://pim.firesecurityproducts.com/sites/default/files/product_leaflet/pt/as2368cap-w-1-pt.pdf"]
["AS250",null,"https://pim.firesecurityproducts.com/sites/default/files/product_leaflet/pt/as250-1-pt.pdf"]
["AS250",null,"https://pim.firesecurityproducts.com/sites/default/files/product_leaflet/pt/as250-1-pt.pdf"]
["AS261NF",null,"https://pim.firesecurityproducts.com/sites/default/files/product_leaflet/pt/as261nf-1-pt.pdf"]
["AS262",null,"https://pim.firesecurityproducts.com/sites/default/files/product_leaflet/pt/as362-1-pt.pdf"]
["AS262N",null,"https://pim.firesecurityproducts.com/sites/default/files/product_leaflet/pt/as262n-1-pt.pdf"]
["AS262N",null,"https://pim.firesecurityproducts.com/sites/default/files/product_leaflet/pt/as262n-1-pt.pdf"]
["AS262NF",null,"https://pim.firesecurityproducts.com/sites/default/files/product_leaflet/pt/as262nf-1-pt.pdf"]
["AS270",null,"https://pim.firesecurityproducts.com/sites/default/files/product_leaflet/pt/as270-1-pt.pdf"]
["AS270",null,"https://pim.firesecurityproducts.com/sites/default/files/product_leaflet/pt/as270-1-pt.pdf"]
["AS270-D",null,"https://pim.firesecurityproducts.com/sites/default/files/product_leaflet/pt/as270-d-1-pt.pdf"]
["AS270-D",null,"https://pim.firesecurityproducts.com/sites/default/files/product_leaflet/pt/as270-d-1-pt.pdf"]
["AS270-F",null,"https://pim.firesecurityproducts.com/sites/default/files/product_leaflet/pt/as270-f-1-pt.pdf"]
["AS270-F",null,"https://pim.firesecurityproducts.com/sites/default/files/product_leaflet/pt/as270-f-1-pt.pdf"]
["AS270S1"]
["AS271",null,"https://pim.firesecurityproducts.com/sites/default/files/product_leaflet/pt/as271-1-pt.pdf"]
["AS271",null,"https://pim.firesecurityproducts.com/sites/default/files/product_leaflet/pt/as271-1-pt.pdf"]
["AS271-D",null,"https://pim.firesecurityproducts.com/sites/default/files/product_leaflet/pt/as271-d-1-pt.pdf"]
["AS271-D",null,"https://pim.firesecurityproducts.com/sites/default/files/product_leaflet/pt/as271-d-1-pt.pdf"]
["AS271-F",null,"https://pim.firesecurityproducts.com/sites/default/files/product_leaflet/pt/as271-f-1-pt.pdf"]
["AS271-F",null,"https://pim.firesecurityproducts.com/sites/default/files/product_leaflet/pt/as271-f-1-pt.pdf"]
["AS271S1"]
["AS272",null,"https://pim.firesecurityproducts.com/sites/default/files/product_leaflet/pt/as272-1-pt.pdf"]
["AS272",null,"https://pim.firesecurityproducts.com/sites/default/files/product_leaflet/pt/as272-1-pt.pdf"]
["AS273",null,"https://pim.firesecurityproducts.com/sites/default/files/product_leaflet/pt/as273-1-pt.pdf"]
["AS273",null,"https://pim.firesecurityproducts.com/sites/default/files/product_leaflet/pt/as273-1-pt.pdf"]
["AS273N",null,"https://pim.firesecurityproducts.com/sites/default/files/product_leaflet/pt/as273n-1-pt.pdf"]
["AS280",null,"https://pim.firesecurityproducts.com/sites/default/files/product_leaflet/pt/as280-1-pt.pdf"]
["AS280",null,"https://pim.firesecurityproducts.com/sites/default/files/product_leaflet/pt/as280-1-pt.pdf"]
["AS280G3",null,"https://pim.firesecurityproducts.com/sites/default/files/product_leaflet/pt/as280g3-1-pt.pdf"]
["AS363",null,"https://pim.firesecurityproducts.com/sites/default/files/product_leaflet/pt/as363-1-pt.pdf"]
["AS363",null,"https://pim.firesecurityproducts.com/sites/default/files/product_leaflet/pt/as363-1-pt.pdf"]
["AS363M",null,"https://pim.firesecurityproducts.com/sites/default/files/product_leaflet/pt/as363m-1-pt.pdf"]
["AS363W",null,"https://pim.firesecurityproducts.com/sites/default/files/product_leaflet/pt/as363w-1-pt.pdf"]
["AS363W",null,"https://pim.firesecurityproducts.com/sites/default/files/product_leaflet/pt/as363w-1-pt.pdf"]
["AS364",null,"https://pim.firesecurityproducts.com/sites/default/files/product_leaflet/pt/as364-1-pt.pdf"]
["AS364",null,"https://pim.firesecurityproducts.com/sites/default/files/product_leaflet/pt/as364-1-pt.pdf"]
["AS364M",null,"https://pim.firesecurityproducts.com/sites/default/files/product_leaflet/pt/as364m-1-pt.pdf"]
["AS364M",null,"https://pim.firesecurityproducts.com/sites/default/files/product_leaflet/pt/as364m-1-pt.pdf"]
["AS364W",null,"https://pim.firesecurityproducts.com/sites/default/files/product_leaflet/pt/as364w-1-pt.pdf"]
["AS364W",null,"https://pim.firesecurityproducts.com/sites/default/files/product_leaflet/pt/as364w-1-pt.pdf"]
["AS364WAT",null,"https://pim.firesecurityproducts.com/sites/default/files/product_leaflet/pt/as364wat-1-pt.pdf"]
["AS366"]
["AS366",null,"https://pim.firesecurityproducts.com/sites/default/files/product_leaflet/pt/as366-1-pt.pdf"]
["AS366M",null,"https://pim.firesecurityproducts.com/sites/default/files/product_leaflet/pt/as366m-1-pt.pdf"]
["AS366W",null,"https://pim.firesecurityproducts.com/sites/default/files/product_leaflet/pt/as366w-1-pt.pdf"]
["AS367",null,"https://pim.firesecurityproducts.com/sites/default/files/product_leaflet/pt/as367-1-pt.pdf"]
["AS367W",null,"https://pim.firesecurityproducts.com/sites/default/files/product_leaflet/pt/as367w-1-pt.pdf"]
["AS368",null,"https://pim.firesecurityproducts.com/sites/default/files/product_leaflet/pt/as368-1-pt.pdf"]
["AS368",null,"https://pim.firesecurityproducts.com/sites/default/files/product_leaflet/pt/as368-1-pt.pdf"]
["AS368CAP-R",null,"https://pim.firesecurityproducts.com/sites/default/files/product_leaflet/pt/as368cap-r-1-pt.pdf"]
["AS368CAP-W",null,"https://pim.firesecurityproducts.com/sites/default/files/product_leaflet/pt/as368cap-w-1-pt.pdf"]
["AS368W",null,"https://pim.firesecurityproducts.com/sites/default/files/product_leaflet/pt/as368w-1-pt.pdf"]
["AS36RIM",null,"https://pim.firesecurityproducts.com/sites/default/files/product_leaflet/pt/as36rim-1-pt.pdf"]
["AS36RIM",null,"https://pim.firesecurityproducts.com/sites/default/files/product_leaflet/pt/as36rim-1-pt.pdf"]
["AS36RIM-09",null,"https://pim.firesecurityproducts.com/sites/default/files/product_leaflet/pt/as36rim-09-1-pt.pdf"]
["AS372",null,"https://pim.firesecurityproducts.com/sites/default/files/product_leaflet/pt/as372-1-pt.pdf"]
["AS372",null,"https://pim.firesecurityproducts.com/sites/default/files/product_leaflet/pt/as372-1-pt.pdf"]
["AS374",null,"https://pim.firesecurityproducts.com/sites/default/files/product_leaflet/pt/as374-1-pt.pdf"]
["AS374",null,"https://pim.firesecurityproducts.com/sites/default/files/product_leaflet/pt/as374-1-pt.pdf"]
["AS376",null,"https://pim.firesecurityproducts.com/sites/default/files/product_leaflet/pt/as376-1-pt.pdf"]
["AS376",null,"https://pim.firesecurityproducts.com/sites/default/files/product_leaflet/pt/as376-1-pt.pdf"]
["AS377",null,"https://pim.firesecurityproducts.com/sites/default/files/product_leaflet/pt/as377-1-pt.pdf"]
["AS390TAMPER"]
["AS390TAMPER",null,"https://pim.firesecurityproducts.com/sites/default/files/product_leaflet/pt/as390tamper-1-pt.pdf"]
["AS502"]
["AS503",null,"https://pim.firesecurityproducts.com/sites/default/files/product_leaflet/pt/as503-1-pt.pdf"]
["AS504"]
["AS505",null,"https://pim.firesecurityproducts.com/sites/default/files/product_leaflet/pt/as505-1-pt.pdf"]
["AS505",null,"https://pim.firesecurityproducts.com/sites/default/files/product_leaflet/pt/as505-1-pt.pdf"]
["AS506",null,"https://pim.firesecurityproducts.com/sites/default/files/product_leaflet/pt/as506-1-pt.pdf"]
["AS506",null,"https://pim.firesecurityproducts.com/sites/default/files/product_leaflet/pt/as506-1-pt.pdf"]
["AS507",null,"https://pim.firesecurityproducts.com/sites/default/files/product_leaflet/pt/as507-1-pt.pdf"]
["AS507",null,"https://pim.firesecurityproducts.com/sites/default/files/product_leaflet/pt/as507-1-pt.pdf"]
["AS508",null,"https://pim.firesecurityproducts.com/sites/default/files/product_leaflet/pt/as508-1-pt.pdf"]
["AS509"]
["AS510",null,"https://pim.firesecurityproducts.com/sites/default/files/product_leaflet/pt/as510-1-pt.pdf"]
["AS515",null,"https://pim.firesecurityproducts.com/sites/default/files/product_leaflet/pt/as515-1-pt.pdf"]
["AS522"]
["AS523"]
["AS524"]
["AS525",null,"https://pim.firesecurityproducts.com/sites/default/files/product_leaflet/pt/as525-1-pt.pdf"]
["AS526",null,"https://pim.firesecurityproducts.com/sites/default/files/product_leaflet/pt/as526-1-pt.pdf"]
["AS527",null,"https://pim.firesecurityproducts.com/sites/default/files/product_leaflet/pt/as527-1-pt.pdf"]
["AS527",null,"https://pim.firesecurityproducts.com/sites/default/files/product_leaflet/pt/as527-1-pt.pdf"]
["AS528"]
["AS529"]
["AS580XXL-KIT",null,"https://pim.firesecurityproducts.com/sites/default/files/product_leaflet/pt/as580xxl-kit-1-pt.pdf"]
["AS581XXL",null,"https://pim.firesecurityproducts.com/sites/default/files/product_leaflet/pt/as581xxl-1-pt.pdf"]
["AS582XXL",null,"https://pim.firesecurityproducts.com/sites/default/files/product_leaflet/pt/as582xxl-1-pt.pdf"]
["AS582XXL",null,"https://pim.firesecurityproducts.com/sites/default/files/product_leaflet/pt/as582xxl-1-pt.pdf"]
["AS582XXL-ACTION",null,"https://pim.firesecurityproducts.com/sites/default/files/product_leaflet/pt/as582xxl-action-1-pt.pdf"]
["AS582XXL-AM",null,"https://pim.firesecurityproducts.com/sites/default/files/product_leaflet/pt/as582xxl-am-1-pt.pdf"]
["AS582XXL-BMS",null,"https://pim.firesecurityproducts.com/sites/default/files/product_leaflet/pt/as582xxl-bms-1-pt.pdf"]
["AS582XXL-CLARE",null,"https://pim.firesecurityproducts.com/sites/default/files/product_leaflet/pt/as582xxl-clare-1-pt.pdf"]
["AS582XXL-DFS",null,"https://pim.firesecurityproducts.com/sites/default/files/product_leaflet/pt/as582xxl-dfs-1-pt.pdf"]
["AS582XXL-SAFENET",null,"https://pim.firesecurityproducts.com/sites/default/files/product_leaflet/pt/as582xxl-safenet-1-pt.pdf"]
["AS582XXL-SASTA",null,"https://pim.firesecurityproducts.com/sites/default/files/product_leaflet/pt/as582xxl-sasta-1-pt.pdf"]
["AS582XXL-SMARTZONE",null,"https://pim.firesecurityproducts.com/sites/default/files/product_leaflet/pt/as582xxl-smartzone-1-pt.pdf"]
["AS582XXL-VIP",null,"https://pim.firesecurityproducts.com/sites/default/files/product_leaflet/pt/as582xxl-vip-1-pt.pdf"]
["AS583XXL"]
["AS584XXL"]
["AS585XXL"]
["AS586-6V"]
["AS586XXL",null,"https://pim.firesecurityproducts.com/sites/default/files/product_leaflet/pt/as586xxl-1-pt.pdf"]
["AS586XXL-KIT",null,"https://pim.firesecurityproducts.com/sites/default/files/product_leaflet/pt/as586xxl-kit-1-pt.pdf"]
["AS587-6V"]
["AS587XXL"]
["AS587XXL-KIT",null,"https://pim.firesecurityproducts.com/sites/default/files/product_leaflet/pt/as587xxl-kit-1-pt.pdf"]
["AS588XXL"]
["AS588XXL",null,"https://pim.firesecurityproducts.com/sites/default/files/product_leaflet/pt/as588xxl-1-pt.pdf"]
["AS589XXL"]
["AS589XXL",null,"https://pim.firesecurityproducts.com/sites/default/files/product_leaflet/pt/as589xxl-1-pt.pdf"]
["AS600",null,"https://pim.firesecurityproducts.com/sites/default/files/product_leaflet/pt/as600-1-pt.pdf"]
["AS600",null,"https://pim.firesecurityproducts.com/sites/default/files/product_leaflet/pt/as600-1-pt.pdf"]
["AS600FLASH",null,"https://pim.firesecurityproducts.com/sites/default/files/product_leaflet/pt/as600flash-1-pt.pdf"]
["AS600FLASH",null,"https://pim.firesecurityproducts.com/sites/default/files/product_leaflet/pt/as600flash-1-pt.pdf"]
["AS600S19",null,"https://pim.firesecurityproducts.com/sites/default/files/product_leaflet/pt/as600s19-1-pt.pdf"]
["AS600S19",null,"https://pim.firesecurityproducts.com/sites/default/files/product_leaflet/pt/as600s19-1-pt.pdf"]
["AS610",null,"https://pim.firesecurityproducts.com/sites/default/files/product_leaflet/pt/as610-1-pt.pdf"]
["AS610",null,"https://pim.firesecurityproducts.com/sites/default/files/product_leaflet/pt/as610-1-pt.pdf"]
["AS610DUM",null,"https://pim.firesecurityproducts.com/sites/default/files/product_leaflet/pt/as610dum-1-pt.pdf"]
["AS611",null,"https://pim.firesecurityproducts.com/sites/default/files/product_leaflet/pt/as611-1-pt.pdf"]
["AS611",null,"https://pim.firesecurityproducts.com/sites/default/files/product_leaflet/pt/as611-1-pt.pdf"]
["AS611V",null,"https://pim.firesecurityproducts.com/sites/default/files/product_leaflet/pt/as611v-1-pt.pdf"]
["AS611V",null,"https://pim.firesecurityproducts.com/sites/default/files/product_leaflet/pt/as611v-1-pt.pdf"]
["AS612",null,"https://pim.firesecurityproducts.com/sites/default/files/product_leaflet/pt/as612-1-pt.pdf"]
["AS612",null,"https://pim.firesecurityproducts.com/sites/default/files/product_leaflet/pt/as612-1-pt.pdf"]
["AS614"]
["AS619",null,"https://pim.firesecurityproducts.com/sites/default/files/product_leaflet/pt/as619-1-pt.pdf"]
["AS619",null,"https://pim.firesecurityproducts.com/sites/default/files/product_leaflet/pt/as619-1-pt.pdf"]
["AS620RF",null,"https://pim.firesecurityproducts.com/sites/default/files/product_leaflet/pt/as620rf-1-pt.pdf"]
["AS620RF",null,"https://pim.firesecurityproducts.com/sites/default/files/product_leaflet/pt/as620rf-1-pt.pdf"]
["AS620RF-BP",null,"https://pim.firesecurityproducts.com/sites/default/files/product_leaflet/pt/as620rf-bp-1-pt.pdf"]
["AS620RF-TR",null,"https://pim.firesecurityproducts.com/sites/default/files/product_leaflet/pt/as620rf-tr-1-pt.pdf"]
["AS630",null,"https://pim.firesecurityproducts.com/sites/default/files/product_leaflet/pt/as630-1-pt.pdf"]
["AS630",null,"https://pim.firesecurityproducts.com/sites/default/files/product_leaflet/pt/as630-1-pt.pdf"]
["AS630S1",null,"https://pim.firesecurityproducts.com/sites/default/files/product_leaflet/pt/as630s1-1-pt.pdf"]
["AS631"]
["AS631V",null,"https://pim.firesecurityproducts.com/sites/default/files/product_leaflet/pt/as631v-1-pt.pdf"]
["AS631V",null,"https://pim.firesecurityproducts.com/sites/default/files/product_leaflet/pt/as631v-1-pt.pdf"]
["AS632",null,"https://pim.firesecurityproducts.com/sites/default/files/product_leaflet/pt/as632-1-pt.pdf"]
["AS700",null,"https://pim.firesecurityproducts.com/sites/default/files/product_leaflet/pt/as700-1-pt.pdf"]
["AS87",null,"https://pim.firesecurityproducts.com/sites/default/files/product_leaflet/pt/as87-1-pt.pdf"]
["AS933WRF",null,"https://pim.firesecurityproducts.com/sites/default/files/product_leaflet/pt/as933wrf-1-pt.pdf"]
["AS936ARF",null,"https://pim.firesecurityproducts.com/sites/default/files/product_leaflet/pt/as936arf-1-pt.pdf"]
["AS936ARF",null,"https://pim.firesecurityproducts.com/sites/default/files/product_leaflet/pt/as936arf-1-pt.pdf"]
["AS936RRF",null,"https://pim.firesecurityproducts.com/sites/default/files/product_leaflet/pt/as936rrf-1-pt.pdf"]
["AS936RRF",null,"https://pim.firesecurityproducts.com/sites/default/files/product_leaflet/pt/as936rrf-1-pt.pdf"]
["AS936WRF",null,"https://pim.firesecurityproducts.com/sites/default/files/product_leaflet/pt/as936wrf-1-pt.pdf"]
["AS952CAP-W",null,"https://pim.firesecurityproducts.com/sites/default/files/product_leaflet/pt/as952cap-w-1-pt.pdf"]
["AS952CAP-W",null,"https://pim.firesecurityproducts.com/sites/default/files/product_leaflet/pt/as952cap-w-1-pt.pdf"]
["AS961",null,"https://pim.firesecurityproducts.com/sites/default/files/product_leaflet/pt/as961-1-pt.pdf"]
["AS964I",null,"https://pim.firesecurityproducts.com/sites/default/files/product_leaflet/pt/as964i-1-pt.pdf"]
["AS964I",null,"https://pim.firesecurityproducts.com/sites/default/files/product_leaflet/pt/as964i-1-pt.pdf"]
["AS964WI",null,"https://pim.firesecurityproducts.com/sites/default/files/product_leaflet/pt/as964wi-1-pt.pdf"]
["AS996I",null,"https://pim.firesecurityproducts.com/sites/default/files/product_leaflet/pt/as996i-1-pt.pdf"]
["AS996I",null,"https://pim.firesecurityproducts.com/sites/default/files/product_leaflet/pt/as996i-1-pt.pdf"]
["AS996WI",null,"https://pim.firesecurityproducts.com/sites/default/files/product_leaflet/pt/as996wi-1-pt.pdf"]
["ASC2366",null,"https://pim.firesecurityproducts.com/sites/default/files/product_leaflet/pt/asc2366-1-pt.pdf"]
["ASC2366",null,"https://pim.firesecurityproducts.com/sites/default/files/product_leaflet/pt/asc2366-1-pt.pdf"]
["ASC2367",null,"https://pim.firesecurityproducts.com/sites/default/files/product_leaflet/pt/asc2367-1-pt.pdf"]
["ASC2367",null,"https://pim.firesecurityproducts.com/sites/default/files/product_leaflet/pt/asc2367-1-pt.pdf"]
["ASC2367W",null,"https://pim.firesecurityproducts.com/sites/default/files/product_leaflet/pt/asc2367w-1-pt.pdf"]
["ASC2367W",null,"https://pim.firesecurityproducts.com/sites/default/files/product_leaflet/pt/asc2367w-1-pt.pdf"]
["ASC366",null,"https://pim.firesecurityproducts.com/sites/default/files/product_leaflet/pt/asc366-1-pt.pdf"]
["ASC366",null,"https://pim.firesecurityproducts.com/sites/default/files/product_leaflet/pt/asc366-1-pt.pdf"]
["ASC366W",null,"https://pim.firesecurityproducts.com/sites/default/files/product_leaflet/pt/asc366w-1-pt.pdf"]
["ASC366W",null,"https://pim.firesecurityproducts.com/sites/default/files/product_leaflet/pt/asc366w-1-pt.pdf"]
["ASC367",null,"https://pim.firesecurityproducts.com/sites/default/files/product_leaflet/pt/asc367-1-pt.pdf"]
["ASC367",null,"https://pim.firesecurityproducts.com/sites/default/files/product_leaflet/pt/asc367-1-pt.pdf"]
["ASC367W",null,"https://pim.firesecurityproducts.com/sites/default/files/product_leaflet/pt/asc367w-1-pt.pdf"]
["ASC367W",null,"https://pim.firesecurityproducts.com/sites/default/files/product_leaflet/pt/asc367w-1-pt.pdf"]
["ASFD1",null,"https://pim.firesecurityproducts.com/sites/default/files/product_leaflet/pt/asfd1-1-pt.pdf"]
["ASFD1",null,"https://pim.firesecurityproducts.com/sites/default/files/product_leaflet/pt/asfd1-1-pt.pdf"]
["ASW2366",null,"https://pim.firesecurityproducts.com/sites/default/files/product_leaflet/pt/asw2366-1-pt.pdf"]
["ASW2366",null,"https://pim.firesecurityproducts.com/sites/default/files/product_leaflet/pt/asw2366-1-pt.pdf"]
["ASW2367",null,"https://pim.firesecurityproducts.com/sites/default/files/product_leaflet/pt/asw2367-1-pt.pdf"]
["ASW2367",null,"https://pim.firesecurityproducts.com/sites/default/files/product_leaflet/pt/asw2367-1-pt.pdf"]
["ASW2367W",null,"https://pim.firesecurityproducts.com/sites/default/files/product_leaflet/pt/asw2367w-1-pt.pdf"]
["ASW2367W",null,"https://pim.firesecurityproducts.com/sites/default/files/product_leaflet/pt/asw2367w-1-pt.pdf"]
["ASW366",null,"https://pim.firesecurityproducts.com/sites/default/files/product_leaflet/pt/asw366-1-pt.pdf"]
["ASW366",null,"https://pim.firesecurityproducts.com/sites/default/files/product_leaflet/pt/asw366-1-pt.pdf"]
["ASW366W",null,"https://pim.firesecurityproducts.com/sites/default/files/product_leaflet/pt/asw366w-1-pt.pdf"]
["ASW366W",null,"https://pim.firesecurityproducts.com/sites/default/files/product_leaflet/pt/asw366w-1-pt.pdf"]
["ASW367",null,"https://pim.firesecurityproducts.com/sites/default/files/product_leaflet/pt/asw367-1-pt.pdf"]
["ASW367",null,"https://pim.firesecurityproducts.com/sites/default/files/product_leaflet/pt/asw367-1-pt.pdf"]
["ASW367W",null,"https://pim.firesecurityproducts.com/sites/default/files/product_leaflet/pt/asw367w-1-pt.pdf"]
["ASW367W",null,"https://pim.firesecurityproducts.com/sites/default/files/product_leaflet/pt/asw367w-1-pt.pdf"]
["ASW377",null,"https://pim.firesecurityproducts.com/sites/default/files/product_leaflet/pt/asw377-1-pt.pdf"]
["ASW377",null,"https://pim.firesecurityproducts.com/sites/default/files/product_leaflet/pt/asw377-1-pt.pdf"]
["ASWP-RF",null,"https://pim.firesecurityproducts.com/sites/default/files/product_leaflet/pt/aswp-rf-1-pt.pdf"]
["ATD-6814-PSU",null,"https://pim.firesecurityproducts.com/sites/default/files/product_leaflet/pt/atd-6814-psu-1-pt.pdf"]
["ATD-6814-PSU",null,"https://pim.firesecurityproducts.com/sites/default/files/product_leaflet/pt/atd-6814-psu-1-pt.pdf"]
["ATS PROGRAMMER NO SW",null,"https://pim.firesecurityproducts.com/sites/default/files/product_leaflet/pt/ats programmer no sw-1-pt.pdf"]
["ATS1000A-IP-LP",null,"https://pim.firesecurityproducts.com/sites/default/files/product_leaflet/pt/ats1000a-ip-lp-1-pt.pdf"]
["ATS1000A-IP-MBC",null,"https://pim.firesecurityproducts.com/sites/default/files/product_leaflet/pt/ats1000a-ip-mbc-1-pt.pdf"]
["ATS1000A-IP-MM",null,"https://pim.firesecurityproducts.com/sites/default/files/product_leaflet/pt/ats1000a-ip-mm-1-pt.pdf"]
["ATS1000A-LP",null,"https://pim.firesecurityproducts.com/sites/default/files/product_leaflet/pt/ats1000a-lp-1-pt.pdf"]
["ATS1000A-LP-HK",null,"https://pim.firesecurityproducts.com/sites/default/files/product_leaflet/pt/ats1000a-lp-hk-1-pt.pdf"]
["ATS1000A-LP-RF",null,"https://pim.firesecurityproducts.com/sites/default/files/product_leaflet/pt/ats1000a-lp-rf-1-pt.pdf"]
["ATS1000A-LP-RF-HK",null,"https://pim.firesecurityproducts.com/sites/default/files/product_leaflet/pt/ats1000a-lp-rf-hk-1-pt.pdf"]
["ATS1000A-LP-T1-ASSY",null,"https://pim.firesecurityproducts.com/sites/default/files/product_leaflet/pt/ats1000a-lp-t1-assy-1-pt.pdf"]
["ATS1000A-LP-T1-KIT",null,"https://pim.firesecurityproducts.com/sites/default/files/product_leaflet/pt/ats1000a-lp-t1-kit-1-pt.pdf"]
["ATS1000AMBC",null,"https://pim.firesecurityproducts.com/sites/default/files/product_leaflet/pt/ats1000ambc-1-pt.pdf"]
["ATS1000A-MM",null,"https://pim.firesecurityproducts.com/sites/default/files/product_leaflet/pt/ats1000a-mm-1-pt.pdf"]
["ATS1000A-MM-2RK",null,"https://pim.firesecurityproducts.com/sites/default/files/product_leaflet/pt/ats1000a-mm-2rk-1-pt.pdf"]
["ATS1000A-MM-HK",null,"https://pim.firesecurityproducts.com/sites/default/files/product_leaflet/pt/ats1000a-mm-hk-1-pt.pdf"]
["ATS1000A-MM-HK-GSM",null,"https://pim.firesecurityproducts.com/sites/default/files/product_leaflet/pt/ats1000a-mm-hk-gsm-1-pt.pdf"]
["ATS1000A-MM-MBC",null,"https://pim.firesecurityproducts.com/sites/default/files/product_leaflet/pt/ats1000a-mm-mbc-1-pt.pdf"]
["ATS1000A-MM-NK",null,"https://pim.firesecurityproducts.com/sites/default/files/product_leaflet/pt/ats1000a-mm-nk-1-pt.pdf"]
["ATS1000A-MM-RK",null,"https://pim.firesecurityproducts.com/sites/default/files/product_leaflet/pt/ats1000a-mm-rk-1-pt.pdf"]
["ATS1000A-SM",null,"https://pim.firesecurityproducts.com/sites/default/files/product_leaflet/pt/ats1000a-sm-1-pt.pdf"]
["ATS1000A-SM-HK",null,"https://pim.firesecurityproducts.com/sites/default/files/product_leaflet/pt/ats1000a-sm-hk-1-pt.pdf"]
["ATS1000A-SM-NK",null,"https://pim.firesecurityproducts.com/sites/default/files/product_leaflet/pt/ats1000a-sm-nk-1-pt.pdf"]
["ATS1000A-SM-RK",null,"https://pim.firesecurityproducts.com/sites/default/files/product_leaflet/pt/ats1000a-sm-rk-1-pt.pdf"]
["ATS1105",null,"https://pim.firesecurityproducts.com/sites/default/files/product_leaflet/pt/ats1105-1-pt.pdf"]
["ATS1110",null,"https://pim.firesecurityproducts.com/sites/default/files/product_leaflet/pt/ats1110-1-pt.pdf"]
["ATS1110A",null,"https://pim.firesecurityproducts.com/sites/default/files/product_leaflet/pt/ats1110a-1-pt.pdf"]
["ATS1110A-N",null,"https://pim.firesecurityproducts.com/sites/default/files/product_leaflet/pt/ats1110a-n-1-pt.pdf"]
["ATS1110-N",null,"https://pim.firesecurityproducts.com/sites/default/files/product_leaflet/pt/ats1110-n-1-pt.pdf"]
["ATS1111",null,"https://pim.firesecurityproducts.com/sites/default/files/product_leaflet/pt/ats1111-1-pt.pdf"]
["ATS1115A-N",null,"https://pim.firesecurityproducts.com/sites/default/files/product_leaflet/pt/ats1115a-n-1-pt.pdf"]
["ATS1115AS44-N",null,"https://pim.firesecurityproducts.com/sites/default/files/product_leaflet/pt/ats1115as44-n-1-pt.pdf"]
["ATS1115-N",null,"https://pim.firesecurityproducts.com/sites/default/files/product_leaflet/pt/ats1115-n-1-pt.pdf"]
["ATS1116",null,"https://pim.firesecurityproducts.com/sites/default/files/product_leaflet/pt/ats1116-1-pt.pdf"]
["ATS1135",null,"https://pim.firesecurityproducts.com/sites/default/files/product_leaflet/pt/ats1135-1-pt.pdf"]
["ATS1135BPL",null,"https://pim.firesecurityproducts.com/sites/default/files/product_leaflet/pt/ats1135bpl-1-pt.pdf"]
["ATS1135-EL",null,"https://pim.firesecurityproducts.com/sites/default/files/product_leaflet/pt/ats1135-el-1-pt.pdf"]
["ATS1135S42",null,"https://pim.firesecurityproducts.com/sites/default/files/product_leaflet/pt/ats1135s42-1-pt.pdf"]
["ATS1135S44",null,"https://pim.firesecurityproducts.com/sites/default/files/product_leaflet/pt/ats1135s44-1-pt.pdf"]
["ATS1136",null,"https://pim.firesecurityproducts.com/sites/default/files/product_leaflet/pt/ats1136-1-pt.pdf"]
["ATS1151",null,"https://pim.firesecurityproducts.com/sites/default/files/product_leaflet/pt/ats1151-1-pt.pdf"]
["ATS1151",null,"https://pim.firesecurityproducts.com/sites/default/files/product_leaflet/pt/ats1151-1-pt.pdf"]
["ATS1155",null,"https://pim.firesecurityproducts.com/sites/default/files/product_leaflet/pt/ats1155-1-pt.pdf"]
["ATS1155",null,"https://pim.firesecurityproducts.com/sites/default/files/product_leaflet/pt/ats1155-1-pt.pdf"]
["ATS1156",null,"https://pim.firesecurityproducts.com/sites/default/files/product_leaflet/pt/ats1156-1-pt.pdf"]
["ATS1156",null,"https://pim.firesecurityproducts.com/sites/default/files/product_leaflet/pt/ats1156-1-pt.pdf"]
["ATS1160",null,"https://pim.firesecurityproducts.com/sites/default/files/product_leaflet/pt/ats1160-1-pt.pdf"]
["ATS1160N",null,"https://pim.firesecurityproducts.com/sites/default/files/product_leaflet/pt/ats1160n-1-pt.pdf"]
["ATS1160N",null,"https://pim.firesecurityproducts.com/sites/default/files/product_leaflet/pt/ats1160n-1-pt.pdf"]
["ATS1160S",null,"https://pim.firesecurityproducts.com/sites/default/files/product_leaflet/pt/ats1160s-1-pt.pdf"]
["ATS1160S",null,"https://pim.firesecurityproducts.com/sites/default/files/product_leaflet/pt/ats1160s-1-pt.pdf"]
["ATS1161",null,"https://pim.firesecurityproducts.com/sites/default/files/product_leaflet/pt/ats1161-1-pt.pdf"]
["ATS1161N",null,"https://pim.firesecurityproducts.com/sites/default/files/product_leaflet/pt/ats1161n-1-pt.pdf"]
["ATS1161N",null,"https://pim.firesecurityproducts.com/sites/default/files/product_leaflet/pt/ats1161n-1-pt.pdf"]
["ATS1161S",null,"https://pim.firesecurityproducts.com/sites/default/files/product_leaflet/pt/ats1161s-1-pt.pdf"]
["ATS1161S",null,"https://pim.firesecurityproducts.com/sites/default/files/product_leaflet/pt/ats1161s-1-pt.pdf"]
["ATS1170",null,"https://pim.firesecurityproducts.com/sites/default/files/product_leaflet/pt/ats1170-1-pt.pdf"]
["ATS1170",null,"https://pim.firesecurityproducts.com/sites/default/files/product_leaflet/pt/ats1170-1-pt.pdf"]
["ATS1180",null,"https://pim.firesecurityproducts.com/sites/default/files/product_leaflet/pt/ats1180-1-pt.pdf"]
["ATS1181",null,"https://pim.firesecurityproducts.com/sites/default/files/product_leaflet/pt/ats1181-1-pt.pdf"]
["ATS1182",null,"https://pim.firesecurityproducts.com/sites/default/files/product_leaflet/pt/ats1182-1-pt.pdf"]
["ATS1183",null,"https://pim.firesecurityproducts.com/sites/default/files/product_leaflet/pt/ats1183-1-pt.pdf"]
["ATS1184",null,"https://pim.firesecurityproducts.com/sites/default/files/product_leaflet/pt/ats1184-1-pt.pdf"]
["ATS118X-CVR-LP",null,"https://pim.firesecurityproducts.com/sites/default/files/product_leaflet/pt/ats118x-cvr-lp-1-pt.pdf"]
["ATS118X-CVR-SP",null,"https://pim.firesecurityproducts.com/sites/default/files/product_leaflet/pt/ats118x-cvr-sp-1-pt.pdf"]
["ATS118X-CVR-SQ",null,"https://pim.firesecurityproducts.com/sites/default/files/product_leaflet/pt/ats118x-cvr-sq-1-pt.pdf"]
["ATS1190",null,"https://pim.firesecurityproducts.com/sites/default/files/product_leaflet/pt/ats1190-1-pt.pdf"]
["ATS1190X4",null,"https://pim.firesecurityproducts.com/sites/default/files/product_leaflet/pt/ats1190x4-1-pt.pdf"]
["ATS1192",null,"https://pim.firesecurityproducts.com/sites/default/files/product_leaflet/pt/ats1192-1-pt.pdf"]
["ATS1192",null,"https://pim.firesecurityproducts.com/sites/default/files/product_leaflet/pt/ats1192-1-pt.pdf"]
["ATS1192X4",null,"https://pim.firesecurityproducts.com/sites/default/files/product_leaflet/pt/ats1192x4-1-pt.pdf"]
["ATS1197",null,"https://pim.firesecurityproducts.com/sites/default/files/product_leaflet/pt/ats1197-1-pt.pdf"]
["ATS1201",null,"https://pim.firesecurityproducts.com/sites/default/files/product_leaflet/pt/ats1201-1-pt.pdf"]
["ATS1201E",null,"https://pim.firesecurityproducts.com/sites/default/files/product_leaflet/pt/ats1201e-1-pt.pdf"]
["ATS1201EMBC",null,"https://pim.firesecurityproducts.com/sites/default/files/product_leaflet/pt/ats1201embc-1-pt.pdf"]
["ATS1201MBC",null,"https://pim.firesecurityproducts.com/sites/default/files/product_leaflet/pt/ats1201mbc-1-pt.pdf"]
["ATS1202",null,"https://pim.firesecurityproducts.com/sites/default/files/product_leaflet/pt/ats1202-1-pt.pdf"]
["ATS1202",null,"https://pim.firesecurityproducts.com/sites/default/files/product_leaflet/pt/ats1202-1-pt.pdf"]
["ATS1203",null,"https://pim.firesecurityproducts.com/sites/default/files/product_leaflet/pt/ats1203-1-pt.pdf"]
["ATS1203MBC",null,"https://pim.firesecurityproducts.com/sites/default/files/product_leaflet/pt/ats1203mbc-1-pt.pdf"]
["ATS1204",null,"https://pim.firesecurityproducts.com/sites/default/files/product_leaflet/pt/ats1204-1-pt.pdf"]
["ATS1204E",null,"https://pim.firesecurityproducts.com/sites/default/files/product_leaflet/pt/ats1204e-1-pt.pdf"]
["ATS1204E",null,"https://pim.firesecurityproducts.com/sites/default/files/product_leaflet/pt/ats1204e-1-pt.pdf"]
["ATS1204N",null,"https://pim.firesecurityproducts.com/sites/default/files/product_leaflet/pt/ats1204n-1-pt.pdf"]
["ATS1204N",null,"https://pim.firesecurityproducts.com/sites/default/files/product_leaflet/pt/ats1204n-1-pt.pdf"]
["ATS1210",null,"https://pim.firesecurityproducts.com/sites/default/files/product_leaflet/pt/ats1210-1-pt.pdf"]
["ATS1210E",null,"https://pim.firesecurityproducts.com/sites/default/files/product_leaflet/pt/ats1210e-1-pt.pdf"]
["ATS1210L",null,"https://pim.firesecurityproducts.com/sites/default/files/product_leaflet/pt/ats1210l-1-pt.pdf"]
["ATS1210LE",null,"https://pim.firesecurityproducts.com/sites/default/files/product_leaflet/pt/ats1210le-1-pt.pdf"]
["ATS1210LE",null,"https://pim.firesecurityproducts.com/sites/default/files/product_leaflet/pt/ats1210le-1-pt.pdf"]
["ATS1211",null,"https://pim.firesecurityproducts.com/sites/default/files/product_leaflet/pt/ats1211-1-pt.pdf"]
["ATS1211E",null,"https://pim.firesecurityproducts.com/sites/default/files/product_leaflet/pt/ats1211e-1-pt.pdf"]
["ATS1211E",null,"https://pim.firesecurityproducts.com/sites/default/files/product_leaflet/pt/ats1211e-1-pt.pdf"]
["ATS1220",null,"https://pim.firesecurityproducts.com/sites/default/files/product_leaflet/pt/ats1220-1-pt.pdf"]
["ATS1220",null,"https://pim.firesecurityproducts.com/sites/default/files/product_leaflet/pt/ats1220-1-pt.pdf"]
["ATS1226",null,"https://pim.firesecurityproducts.com/sites/default/files/product_leaflet/pt/ats1226-1-pt.pdf"]
["ATS1226",null,"https://pim.firesecurityproducts.com/sites/default/files/product_leaflet/pt/ats1226-1-pt.pdf"]
["ATS1230",null,"https://pim.firesecurityproducts.com/sites/default/files/product_leaflet/pt/ats1230-1-pt.pdf"]
["ATS1234",null,"https://pim.firesecurityproducts.com/sites/default/files/product_leaflet/pt/ats1234-1-pt.pdf"]
["ATS1235",null,"https://pim.firesecurityproducts.com/sites/default/files/product_leaflet/pt/ats1235-1-pt.pdf"]
["ATS1235",null,"https://pim.firesecurityproducts.com/sites/default/files/product_leaflet/pt/ats1235-1-pt.pdf"]
["ATS1236",null,"https://pim.firesecurityproducts.com/sites/default/files/product_leaflet/pt/ats1236-1-pt.pdf"]
["ATS1238",null,"https://pim.firesecurityproducts.com/sites/default/files/product_leaflet/pt/ats1238-1-pt.pdf"]
["ATS1238",null,"https://pim.firesecurityproducts.com/sites/default/files/product_leaflet/pt/ats1238-1-pt.pdf"]
["ATS1250"]
["ATS1250MBC",null,"https://pim.firesecurityproducts.com/sites/default/files/product_leaflet/pt/ats1250mbc-1-pt.pdf"]
["ATS1250UP",null,"https://pim.firesecurityproducts.com/sites/default/files/product_leaflet/pt/ats1250up-1-pt.pdf"]
["ATS1250UP",null,"https://pim.firesecurityproducts.com/sites/default/files/product_leaflet/pt/ats1250up-1-pt.pdf"]
["ATS1251MBC",null,"https://pim.firesecurityproducts.com/sites/default/files/product_leaflet/pt/ats1251mbc-1-pt.pdf"]
["ATS1252",null,"https://pim.firesecurityproducts.com/sites/default/files/product_leaflet/pt/ats1252-1-pt.pdf"]
["ATS1252MBC"]
["ATS1253",null,"https://pim.firesecurityproducts.com/sites/default/files/product_leaflet/pt/ats1253-1-pt.pdf"]
["ATS1253",null,"https://pim.firesecurityproducts.com/sites/default/files/product_leaflet/pt/ats1253-1-pt.pdf"]
["ATS1254",null,"https://pim.firesecurityproducts.com/sites/default/files/product_leaflet/pt/ats1254-1-pt.pdf"]
["ATS125XUP",null,"https://pim.firesecurityproducts.com/sites/default/files/product_leaflet/pt/ats125xup-1-pt.pdf"]
["ATS125XUP",null,"https://pim.firesecurityproducts.com/sites/default/files/product_leaflet/pt/ats125xup-1-pt.pdf"]
["ATS1260UP",null,"https://pim.firesecurityproducts.com/sites/default/files/product_leaflet/pt/ats1260up-1-pt.pdf"]
["ATS1273",null,"https://pim.firesecurityproducts.com/sites/default/files/product_leaflet/pt/ats1273-1-pt.pdf"]
["ATS1280UP"]
["ATS1281",null,"https://pim.firesecurityproducts.com/sites/default/files/product_leaflet/pt/ats1281-1-pt.pdf"]
["ATS1290",null,"https://pim.firesecurityproducts.com/sites/default/files/product_leaflet/pt/ats1290-1-pt.pdf"]
["ATS1290N",null,"https://pim.firesecurityproducts.com/sites/default/files/product_leaflet/pt/ats1290n-1-pt.pdf"]
["ATS1290N",null,"https://pim.firesecurityproducts.com/sites/default/files/product_leaflet/pt/ats1290n-1-pt.pdf"]
["ATS1330",null,"https://pim.firesecurityproducts.com/sites/default/files/product_leaflet/pt/ats1330-1-pt.pdf"]
["ATS1330",null,"https://pim.firesecurityproducts.com/sites/default/files/product_leaflet/pt/ats1330-1-pt.pdf"]
["ATS1340",null,"https://pim.firesecurityproducts.com/sites/default/files/product_leaflet/pt/ats1340-1-pt.pdf"]
["ATS1340",null,"https://pim.firesecurityproducts.com/sites/default/files/product_leaflet/pt/ats1340-1-pt.pdf"]
["ATS1451",null,"https://pim.firesecurityproducts.com/sites/default/files/product_leaflet/pt/ats1451-1-pt.pdf"]
["ATS1452",null,"https://pim.firesecurityproducts.com/sites/default/files/product_leaflet/pt/ats1452-1-pt.pdf"]
["ATS1453",null,"https://pim.firesecurityproducts.com/sites/default/files/product_leaflet/pt/ats1453-1-pt.pdf"]
["ATS1455",null,"https://pim.firesecurityproducts.com/sites/default/files/product_leaflet/pt/ats1455-1-pt.pdf"]
["ATS1457",null,"https://pim.firesecurityproducts.com/sites/default/files/product_leaflet/pt/ats1457-1-pt.pdf"]
["ATS1458B",null,"https://pim.firesecurityproducts.com/sites/default/files/product_leaflet/pt/ats1458b-1-pt.pdf"]
["ATS1458W",null,"https://pim.firesecurityproducts.com/sites/default/files/product_leaflet/pt/ats1458w-1-pt.pdf"]
["ATS1459",null,"https://pim.firesecurityproducts.com/sites/default/files/product_leaflet/pt/ats1459-1-pt.pdf"]
["ATS1460",null,"https://pim.firesecurityproducts.com/sites/default/files/product_leaflet/pt/ats1460-1-pt.pdf"]
["ATS1471",null,"https://pim.firesecurityproducts.com/sites/default/files/product_leaflet/pt/ats1471-1-pt.pdf"]
["ATS1471-5",null,"https://pim.firesecurityproducts.com/sites/default/files/product_leaflet/pt/ats1471-5-1-pt.pdf"]
["ATS1473",null,"https://pim.firesecurityproducts.com/sites/default/files/product_leaflet/pt/ats1473-1-pt.pdf"]
["ATS1473-5",null,"https://pim.firesecurityproducts.com/sites/default/files/product_leaflet/pt/ats1473-5-1-pt.pdf"]
["ATS1475",null,"https://pim.firesecurityproducts.com/sites/default/files/product_leaflet/pt/ats1475-1-pt.pdf"]
["ATS1475",null,"https://pim.firesecurityproducts.com/sites/default/files/product_leaflet/pt/ats1475-1-pt.pdf"]
["ATS1475X10",null,"https://pim.firesecurityproducts.com/sites/default/files/product_leaflet/pt/ats1475x10-1-pt.pdf"]
["ATS1476",null,"https://pim.firesecurityproducts.com/sites/default/files/product_leaflet/pt/ats1476-1-pt.pdf"]
["ATS1477",null,"https://pim.firesecurityproducts.com/sites/default/files/product_leaflet/pt/ats1477-1-pt.pdf"]
["ATS1477",null,"https://pim.firesecurityproducts.com/sites/default/files/product_leaflet/pt/ats1477-1-pt.pdf"]
["ATS1478"]
["ATS1480",null,"https://pim.firesecurityproducts.com/sites/default/files/product_leaflet/pt/ats1480-1-pt.pdf"]
["ATS1480",null,"https://pim.firesecurityproducts.com/sites/default/files/product_leaflet/pt/ats1480-1-pt.pdf"]
["ATS1481",null,"https://pim.firesecurityproducts.com/sites/default/files/product_leaflet/pt/ats1481-1-pt.pdf"]
["ATS1481",null,"https://pim.firesecurityproducts.com/sites/default/files/product_leaflet/pt/ats1481-1-pt.pdf"]
["ATS1482",null,"https://pim.firesecurityproducts.com/sites/default/files/product_leaflet/pt/ats1482-1-pt.pdf"]
["ATS1482",null,"https://pim.firesecurityproducts.com/sites/default/files/product_leaflet/pt/ats1482-1-pt.pdf"]
["ATS1483",null,"https://pim.firesecurityproducts.com/sites/default/files/product_leaflet/pt/ats1483-1-pt.pdf"]
["ATS1495",null,"https://pim.firesecurityproducts.com/sites/default/files/product_leaflet/pt/ats1495-1-pt.pdf"]
["ATS1497",null,"https://pim.firesecurityproducts.com/sites/default/files/product_leaflet/pt/ats1497-1-pt.pdf"]
["ATS1500A-IP-KIT-07",null,"https://pim.firesecurityproducts.com/sites/default/files/product_leaflet/pt/ats1500a-ip-kit-07-1-pt.pdf"]
["ATS1500A-IP-LP",null,"https://pim.firesecurityproducts.com/sites/default/files/product_leaflet/pt/ats1500a-ip-lp-1-pt.pdf"]
["ATS1500A-IP-LP-HK",null,"https://pim.firesecurityproducts.com/sites/default/files/product_leaflet/pt/ats1500a-ip-lp-hk-1-pt.pdf"]
["ATS1500A-IP-LP-HK",null,"https://pim.firesecurityproducts.com/sites/default/files/product_leaflet/pt/ats1500a-ip-lp-hk-1-pt.pdf"]
["ATS1500A-IP-MBC",null,"https://pim.firesecurityproducts.com/sites/default/files/product_leaflet/pt/ats1500a-ip-mbc-1-pt.pdf"]
["ATS1500A-IP-MBC",null,"https://pim.firesecurityproducts.com/sites/default/files/product_leaflet/pt/ats1500a-ip-mbc-1-pt.pdf"]
["ATS1500A-IP-MM"]
["ATS1500A-IP-MM",null,"https://pim.firesecurityproducts.com/sites/default/files/product_leaflet/pt/ats1500a-ip-mm-1-pt.pdf"]
["ATS1500A-IP-MM-HK",null,"https://pim.firesecurityproducts.com/sites/default/files/product_leaflet/pt/ats1500a-ip-mm-hk-1-pt.pdf"]
["ATS1500A-IP-MM-HK",null,"https://pim.firesecurityproducts.com/sites/default/files/product_leaflet/pt/ats1500a-ip-mm-hk-1-pt.pdf"]
["ATS1500A-IP-MM-HK-4G",null,"https://pim.firesecurityproducts.com/sites/default/files/product_leaflet/pt/ats1500a-ip-mm-hk-4g-1-pt.pdf"]
["ATS1500A-IP-MM-HKG16",null,"https://pim.firesecurityproducts.com/sites/default/files/product_leaflet/pt/ats1500a-ip-mm-hkg16-1-pt.pdf"]
["ATS1500A-IP-MM-HK-G3",null,"https://pim.firesecurityproducts.com/sites/default/files/product_leaflet/pt/ats1500a-ip-mm-hk-g3-1-pt.pdf"]
["ATS1500A-IP-MM-HK-G3",null,"https://pim.firesecurityproducts.com/sites/default/files/product_leaflet/pt/ats1500a-ip-mm-hk-g3-1-pt.pdf"]
["ATS1500A-IP-MM-HKGSM",null,"https://pim.firesecurityproducts.com/sites/default/files/product_leaflet/pt/ats1500a-ip-mm-hkgsm-1-pt.pdf"]
["ATS1500A-IP-MM-HK-PC",null,"https://pim.firesecurityproducts.com/sites/default/files/product_leaflet/pt/ats1500a-ip-mm-hk-pc-1-pt.pdf"]
["ATS1500A-IP-MM-HKS44",null,"https://pim.firesecurityproducts.com/sites/default/files/product_leaflet/pt/ats1500a-ip-mm-hks44-1-pt.pdf"]
["ATS1500A-IP-MM-MK",null,"https://pim.firesecurityproducts.com/sites/default/files/product_leaflet/pt/ats1500a-ip-mm-mk-1-pt.pdf"]
["ATS1500A-IP-MM-NK",null,"https://pim.firesecurityproducts.com/sites/default/files/product_leaflet/pt/ats1500a-ip-mm-nk-1-pt.pdf"]
["ATS1500A-IP-MM-NK",null,"https://pim.firesecurityproducts.com/sites/default/files/product_leaflet/pt/ats1500a-ip-mm-nk-1-pt.pdf"]
["ATS1500A-IP-MM-RF-HK",null,"https://pim.firesecurityproducts.com/sites/default/files/product_leaflet/pt/ats1500a-ip-mm-rf-hk-1-pt.pdf"]
["ATS1500A-IP-MM-RF-HK",null,"https://pim.firesecurityproducts.com/sites/default/files/product_leaflet/pt/ats1500a-ip-mm-rf-hk-1-pt.pdf"]
["ATS1500A-IP-MM-RK",null,"https://pim.firesecurityproducts.com/sites/default/files/product_leaflet/pt/ats1500a-ip-mm-rk-1-pt.pdf"]
["ATS1500A-IP-MM-RK",null,"https://pim.firesecurityproducts.com/sites/default/files/product_leaflet/pt/ats1500a-ip-mm-rk-1-pt.pdf"]
["ATS1500A-IP-MM-RKS44",null,"https://pim.firesecurityproducts.com/sites/default/files/product_leaflet/pt/ats1500a-ip-mm-rks44-1-pt.pdf"]
["ATS1500A-IP-SM"]
["ATS1500A-IP-SM",null,"https://pim.firesecurityproducts.com/sites/default/files/product_leaflet/pt/ats1500a-ip-sm-1-pt.pdf"]
["ATS1500A-IP-SM-HK",null,"https://pim.firesecurityproducts.com/sites/default/files/product_leaflet/pt/ats1500a-ip-sm-hk-1-pt.pdf"]
["ATS1500A-IP-SM-HK",null,"https://pim.firesecurityproducts.com/sites/default/files/product_leaflet/pt/ats1500a-ip-sm-hk-1-pt.pdf"]
["ATS1500A-IP-SM-HKS44",null,"https://pim.firesecurityproducts.com/sites/default/files/product_leaflet/pt/ats1500a-ip-sm-hks44-1-pt.pdf"]
["ATS1500A-IP-SM-MK",null,"https://pim.firesecurityproducts.com/sites/default/files/product_leaflet/pt/ats1500a-ip-sm-mk-1-pt.pdf"]
["ATS1500A-KIT-6-NG",null,"https://pim.firesecurityproducts.com/sites/default/files/product_leaflet/pt/ats1500a-kit-6-ng-1-pt.pdf"]
["ATS1500A-LP"]
["ATS1500A-LP-HK",null,"https://pim.firesecurityproducts.com/sites/default/files/product_leaflet/pt/ats1500a-lp-hk-1-pt.pdf"]
["ATS1500A-MBC",null,"https://pim.firesecurityproducts.com/sites/default/files/product_leaflet/pt/ats1500a-mbc-1-pt.pdf"]
["ATS1500A-MBC",null,"https://pim.firesecurityproducts.com/sites/default/files/product_leaflet/pt/ats1500a-mbc-1-pt.pdf"]
["ATS1500A-MM",null,"https://pim.firesecurityproducts.com/sites/default/files/product_leaflet/pt/ats1500a-mm-1-pt.pdf"]
["ATS1500A-MM-2RK",null,"https://pim.firesecurityproducts.com/sites/default/files/product_leaflet/pt/ats1500a-mm-2rk-1-pt.pdf"]
["ATS1500A-MM-HK",null,"https://pim.firesecurityproducts.com/sites/default/files/product_leaflet/pt/ats1500a-mm-hk-1-pt.pdf"]
["ATS1500A-MM-HK",null,"https://pim.firesecurityproducts.com/sites/default/files/product_leaflet/pt/ats1500a-mm-hk-1-pt.pdf"]
["ATS1500A-MM-HK-G16",null,"https://pim.firesecurityproducts.com/sites/default/files/product_leaflet/pt/ats1500a-mm-hk-g16-1-pt.pdf"]
["ATS1500A-MM-HK-GSM",null,"https://pim.firesecurityproducts.com/sites/default/files/product_leaflet/pt/ats1500a-mm-hk-gsm-1-pt.pdf"]
["ATS1500A-MM-NK",null,"https://pim.firesecurityproducts.com/sites/default/files/product_leaflet/pt/ats1500a-mm-nk-1-pt.pdf"]
["ATS1500A-MM-NK-GSM",null,"https://pim.firesecurityproducts.com/sites/default/files/product_leaflet/pt/ats1500a-mm-nk-gsm-1-pt.pdf"]
["ATS1500A-MM-RK",null,"https://pim.firesecurityproducts.com/sites/default/files/product_leaflet/pt/ats1500a-mm-rk-1-pt.pdf"]
["ATS1500A-SM",null,"https://pim.firesecurityproducts.com/sites/default/files/product_leaflet/pt/ats1500a-sm-1-pt.pdf"]
["ATS1500A-SM-HK",null,"https://pim.firesecurityproducts.com/sites/default/files/product_leaflet/pt/ats1500a-sm-hk-1-pt.pdf"]
["ATS1500A-SM-HK",null,"https://pim.firesecurityproducts.com/sites/default/files/product_leaflet/pt/ats1500a-sm-hk-1-pt.pdf"]
["ATS1500A-SM-HK-S44",null,"https://pim.firesecurityproducts.com/sites/default/files/product_leaflet/pt/ats1500a-sm-hk-s44-1-pt.pdf"]
["ATS1500AV-IP-MBC",null,"https://pim.firesecurityproducts.com/sites/default/files/product_leaflet/pt/ats1500av-ip-mbc-1-pt.pdf"]
["ATS1500AV-IP-MM",null,"https://pim.firesecurityproducts.com/sites/default/files/product_leaflet/pt/ats1500av-ip-mm-1-pt.pdf"]
["ATS1500AV-IP-MM-HK",null,"https://pim.firesecurityproducts.com/sites/default/files/product_leaflet/pt/ats1500av-ip-mm-hk-1-pt.pdf"]
["ATS1510",null,"https://pim.firesecurityproducts.com/sites/default/files/product_leaflet/pt/ats1510-1-pt.pdf"]
["ATS1510",null,"https://pim.firesecurityproducts.com/sites/default/files/product_leaflet/pt/ats1510-1-pt.pdf"]
["ATS1520"]
["ATS1520",null,"https://pim.firesecurityproducts.com/sites/default/files/product_leaflet/pt/ats1520-1-pt.pdf"]
["ATS1521N",null,"https://pim.firesecurityproducts.com/sites/default/files/product_leaflet/pt/ats1521n-1-pt.pdf"]
["ATS1522N",null,"https://pim.firesecurityproducts.com/sites/default/files/product_leaflet/pt/ats1522n-1-pt.pdf"]
["ATS1621",null,"https://pim.firesecurityproducts.com/sites/default/files/product_leaflet/pt/ats1621-1-pt.pdf"]
["ATS1621",null,"https://pim.firesecurityproducts.com/sites/default/files/product_leaflet/pt/ats1621-1-pt.pdf"]
["ATS1622",null,"https://pim.firesecurityproducts.com/sites/default/files/product_leaflet/pt/ats1622-1-pt.pdf"]
["ATS1630",null,"https://pim.firesecurityproducts.com/sites/default/files/product_leaflet/pt/ats1630-1-pt.pdf"]
["ATS1630",null,"https://pim.firesecurityproducts.com/sites/default/files/product_leaflet/pt/ats1630-1-pt.pdf"]
["ATS1631",null,"https://pim.firesecurityproducts.com/sites/default/files/product_leaflet/pt/ats1631-1-pt.pdf"]
["ATS1631",null,"https://pim.firesecurityproducts.com/sites/default/files/product_leaflet/pt/ats1631-1-pt.pdf"]
["ATS1632",null,"https://pim.firesecurityproducts.com/sites/default/files/product_leaflet/pt/ats1632-1-pt.pdf"]
["ATS1633",null,"https://pim.firesecurityproducts.com/sites/default/files/product_leaflet/pt/ats1633-1-pt.pdf"]
["ATS1640",null,"https://pim.firesecurityproducts.com/sites/default/files/product_leaflet/pt/ats1640-1-pt.pdf"]
["ATS1640",null,"https://pim.firesecurityproducts.com/sites/default/files/product_leaflet/pt/ats1640-1-pt.pdf"]
["ATS1641",null,"https://pim.firesecurityproducts.com/sites/default/files/product_leaflet/pt/ats1641-1-pt.pdf"]
["ATS1641",null,"https://pim.firesecurityproducts.com/sites/default/files/product_leaflet/pt/ats1641-1-pt.pdf"]
["ATS1642",null,"https://pim.firesecurityproducts.com/sites/default/files/product_leaflet/pt/ats1642-1-pt.pdf"]
["ATS1642",null,"https://pim.firesecurityproducts.com/sites/default/files/product_leaflet/pt/ats1642-1-pt.pdf"]
["ATS1643",null,"https://pim.firesecurityproducts.com/sites/default/files/product_leaflet/pt/ats1643-1-pt.pdf"]
["ATS1643",null,"https://pim.firesecurityproducts.com/sites/default/files/product_leaflet/pt/ats1643-1-pt.pdf"]
["ATS1644",null,"https://pim.firesecurityproducts.com/sites/default/files/product_leaflet/pt/ats1644-1-pt.pdf"]
["ATS1647",null,"https://pim.firesecurityproducts.com/sites/default/files/product_leaflet/pt/ats1647-1-pt.pdf"]
["ATS1647",null,"https://pim.firesecurityproducts.com/sites/default/files/product_leaflet/pt/ats1647-1-pt.pdf"]
["ATS1650",null,"https://pim.firesecurityproducts.com/sites/default/files/product_leaflet/pt/ats1650-1-pt.pdf"]
["ATS1660",null,"https://pim.firesecurityproducts.com/sites/default/files/product_leaflet/pt/ats1660-1-pt.pdf"]
["ATS1661"]
["ATS1662"]
["ATS1663",null,"https://pim.firesecurityproducts.com/sites/default/files/product_leaflet/pt/ats1663-1-pt.pdf"]
["ATS1664",null,"https://pim.firesecurityproducts.com/sites/default/files/product_leaflet/pt/ats1664-1-pt.pdf"]
["ATS1670",null,"https://pim.firesecurityproducts.com/sites/default/files/product_leaflet/pt/ats1670-1-pt.pdf"]
["ATS1671",null,"https://pim.firesecurityproducts.com/sites/default/files/product_leaflet/pt/ats1671-1-pt.pdf"]
["ATS1671",null,"https://pim.firesecurityproducts.com/sites/default/files/product_leaflet/pt/ats1671-1-pt.pdf"]
["ATS1672",null,"https://pim.firesecurityproducts.com/sites/default/files/product_leaflet/pt/ats1672-1-pt.pdf"]
["ATS1740",null,"https://pim.firesecurityproducts.com/sites/default/files/product_leaflet/pt/ats1740-1-pt.pdf"]
["ATS1740",null,"https://pim.firesecurityproducts.com/sites/default/files/product_leaflet/pt/ats1740-1-pt.pdf"]
["ATS1741",null,"https://pim.firesecurityproducts.com/sites/default/files/product_leaflet/pt/ats1741-1-pt.pdf"]
["ATS1743",null,"https://pim.firesecurityproducts.com/sites/default/files/product_leaflet/pt/ats1743-1-pt.pdf"]
["ATS1743",null,"https://pim.firesecurityproducts.com/sites/default/files/product_leaflet/pt/ats1743-1-pt.pdf"]
["ATS1744",null,"https://pim.firesecurityproducts.com/sites/default/files/product_leaflet/pt/ats1744-1-pt.pdf"]
["ATS1744",null,"https://pim.firesecurityproducts.com/sites/default/files/product_leaflet/pt/ats1744-1-pt.pdf"]
["ATS1745",null,"https://pim.firesecurityproducts.com/sites/default/files/product_leaflet/pt/ats1745-1-pt.pdf"]
["ATS1745",null,"https://pim.firesecurityproducts.com/sites/default/files/product_leaflet/pt/ats1745-1-pt.pdf"]
["ATS1801",null,"https://pim.firesecurityproducts.com/sites/default/files/product_leaflet/pt/ats1801-1-pt.pdf"]
["ATS1801",null,"https://pim.firesecurityproducts.com/sites/default/files/product_leaflet/pt/ats1801-1-pt.pdf"]
["ATS1802"]
["ATS1806"]
["ATS1809",null,"https://pim.firesecurityproducts.com/sites/default/files/product_leaflet/pt/ats1809-1-pt.pdf"]
["ATS1810",null,"https://pim.firesecurityproducts.com/sites/default/files/product_leaflet/pt/ats1810-1-pt.pdf"]
["ATS1810",null,"https://pim.firesecurityproducts.com/sites/default/files/product_leaflet/pt/ats1810-1-pt.pdf"]
["ATS1811",null,"https://pim.firesecurityproducts.com/sites/default/files/product_leaflet/pt/ats1811-1-pt.pdf"]
["ATS1811",null,"https://pim.firesecurityproducts.com/sites/default/files/product_leaflet/pt/ats1811-1-pt.pdf"]
["ATS1814",null,"https://pim.firesecurityproducts.com/sites/default/files/product_leaflet/pt/ats1814-1-pt.pdf"]
["ATS1830",null,"https://pim.firesecurityproducts.com/sites/default/files/product_leaflet/pt/ats1830-1-pt.pdf"]
["ATS1832",null,"https://pim.firesecurityproducts.com/sites/default/files/product_leaflet/pt/ats1832-1-pt.pdf"]
["ATS1840",null,"https://pim.firesecurityproducts.com/sites/default/files/product_leaflet/pt/ats1840-1-pt.pdf"]
["ATS1850"]
["ATS1850",null,"https://pim.firesecurityproducts.com/sites/default/files/product_leaflet/pt/ats1850-1-pt.pdf"]
["ATS1870",null,"https://pim.firesecurityproducts.com/sites/default/files/product_leaflet/pt/ats1870-1-pt.pdf"]
["ATS2000",null,"https://pim.firesecurityproducts.com/sites/default/files/product_leaflet/pt/ats2000-1-pt.pdf"]
["ATS2000A-IP-MBC",null,"https://pim.firesecurityproducts.com/sites/default/files/product_leaflet/pt/ats2000a-ip-mbc-1-pt.pdf"]
["ATS2000A-IP-MM-RK"]
["ATS2000AMBC",null,"https://pim.firesecurityproducts.com/sites/default/files/product_leaflet/pt/ats2000ambc-1-pt.pdf"]
["ATS2000A-MM-HK",null,"https://pim.firesecurityproducts.com/sites/default/files/product_leaflet/pt/ats2000a-mm-hk-1-pt.pdf"]
["ATS2000A-MM-HK-GSM",null,"https://pim.firesecurityproducts.com/sites/default/files/product_leaflet/pt/ats2000a-mm-hk-gsm-1-pt.pdf"]
["ATS2000A-MM-HK-IE",null,"https://pim.firesecurityproducts.com/sites/default/files/product_leaflet/pt/ats2000a-mm-hk-ie-1-pt.pdf"]
["ATS2000A-MM-HK-RD",null,"https://pim.firesecurityproducts.com/sites/default/files/product_leaflet/pt/ats2000a-mm-hk-rd-1-pt.pdf"]
["ATS2000A-MM-NK",null,"https://pim.firesecurityproducts.com/sites/default/files/product_leaflet/pt/ats2000a-mm-nk-1-pt.pdf"]
["ATS2000A-MM-NK-IE",null,"https://pim.firesecurityproducts.com/sites/default/files/product_leaflet/pt/ats2000a-mm-nk-ie-1-pt.pdf"]
["ATS2000A-MM-RK",null,"https://pim.firesecurityproducts.com/sites/default/files/product_leaflet/pt/ats2000a-mm-rk-1-pt.pdf"]
["ATS2001",null,"https://pim.firesecurityproducts.com/sites/default/files/product_leaflet/pt/ats2001-1-pt.pdf"]
["ATS2005",null,"https://pim.firesecurityproducts.com/sites/default/files/product_leaflet/pt/ats2005-1-pt.pdf"]
["ATS2007"]
["ATS2009"]
["ATS2010",null,"https://pim.firesecurityproducts.com/sites/default/files/product_leaflet/pt/ats2010-1-pt.pdf"]
["ATS2011",null,"https://pim.firesecurityproducts.com/sites/default/files/product_leaflet/pt/ats2011-1-pt.pdf"]
["ATS2012"]
["ATS2018",null,"https://pim.firesecurityproducts.com/sites/default/files/product_leaflet/pt/ats2018-1-pt.pdf"]
["ATS2032",null,"https://pim.firesecurityproducts.com/sites/default/files/product_leaflet/pt/ats2032-1-pt.pdf"]
["ATS2099",null,"https://pim.firesecurityproducts.com/sites/default/files/product_leaflet/pt/ats2099-1-pt.pdf"]
["ATS2103E",null,"https://pim.firesecurityproducts.com/sites/default/files/product_leaflet/pt/ats2103e-1-pt.pdf"]
["ATS2104N",null,"https://pim.firesecurityproducts.com/sites/default/files/product_leaflet/pt/ats2104n-1-pt.pdf"]
["ATS2104NMBC"]
["ATS2107E"]
["ATS2109E"]
["ATS2121E",null,"https://pim.firesecurityproducts.com/sites/default/files/product_leaflet/pt/ats2121e-1-pt.pdf"]
["ATS2402E",null,"https://pim.firesecurityproducts.com/sites/default/files/product_leaflet/pt/ats2402e-1-pt.pdf"]
["ATS2604N"]
["ATS2699MBC"]
["ATS3099MBC",null,"https://pim.firesecurityproducts.com/sites/default/files/product_leaflet/pt/ats3099mbc-1-pt.pdf"]
["ATS3104NMBC"]
["ATS3402E",null,"https://pim.firesecurityproducts.com/sites/default/files/product_leaflet/pt/ats3402e-1-pt.pdf"]
["ATS3500A-IP-MBC",null,"https://pim.firesecurityproducts.com/sites/default/files/product_leaflet/pt/ats3500a-ip-mbc-1-pt.pdf"]
["ATS3500A-IP-MBC",null,"https://pim.firesecurityproducts.com/sites/default/files/product_leaflet/pt/ats3500a-ip-mbc-1-pt.pdf"]
["ATS3500A-IP-MM"]
["ATS3500A-IP-MM",null,"https://pim.firesecurityproducts.com/sites/default/files/product_leaflet/pt/ats3500a-ip-mm-1-pt.pdf"]
["ATS3500A-IP-MM-HK",null,"https://pim.firesecurityproducts.com/sites/default/files/product_leaflet/pt/ats3500a-ip-mm-hk-1-pt.pdf"]
["ATS3500A-IP-MM-HK-4G",null,"https://pim.firesecurityproducts.com/sites/default/files/product_leaflet/pt/ats3500a-ip-mm-hk-4g-1-pt.pdf"]
["ATS3500A-IP-MM-HKS44",null,"https://pim.firesecurityproducts.com/sites/default/files/product_leaflet/pt/ats3500a-ip-mm-hks44-1-pt.pdf"]
["ATS3500A-IP-MM-MK",null,"https://pim.firesecurityproducts.com/sites/default/files/product_leaflet/pt/ats3500a-ip-mm-mk-1-pt.pdf"]
["ATS3500A-IP-MM-RKS44",null,"https://pim.firesecurityproducts.com/sites/default/files/product_leaflet/pt/ats3500a-ip-mm-rks44-1-pt.pdf"]
["ATS3500A-MM",null,"https://pim.firesecurityproducts.com/sites/default/files/product_leaflet/pt/ats3500a-mm-1-pt.pdf"]
["ATS3500A-MM-HK",null,"https://pim.firesecurityproducts.com/sites/default/files/product_leaflet/pt/ats3500a-mm-hk-1-pt.pdf"]
["ATS3500A-MM-HK",null,"https://pim.firesecurityproducts.com/sites/default/files/product_leaflet/pt/ats3500a-mm-hk-1-pt.pdf"]
["ATS3500A-MM-HK-GSM",null,"https://pim.firesecurityproducts.com/sites/default/files/product_leaflet/pt/ats3500a-mm-hk-gsm-1-pt.pdf"]
["ATS3500AV-IP-LM",null,"https://pim.firesecurityproducts.com/sites/default/files/product_leaflet/pt/ats3500av-ip-lm-1-pt.pdf"]
["ATS3500AV-IP-MBC",null,"https://pim.firesecurityproducts.com/sites/default/files/product_leaflet/pt/ats3500av-ip-mbc-1-pt.pdf"]
["ATS3500AV-IP-MM",null,"https://pim.firesecurityproducts.com/sites/default/files/product_leaflet/pt/ats3500av-ip-mm-1-pt.pdf"]
["ATS3699EMBC"]
["ATS3699EMBC",null,"https://pim.firesecurityproducts.com/sites/default/files/product_leaflet/pt/ats3699embc-1-pt.pdf"]
["ATS3699MBC",null,"https://pim.firesecurityproducts.com/sites/default/files/product_leaflet/pt/ats3699mbc-1-pt.pdf"]
["ATS3699MBC",null,"https://pim.firesecurityproducts.com/sites/default/files/product_leaflet/pt/ats3699mbc-1-pt.pdf"]
["ATS4000",null,"https://pim.firesecurityproducts.com/sites/default/files/product_leaflet/pt/ats4000-1-pt.pdf"]
["ATS4001",null,"https://pim.firesecurityproducts.com/sites/default/files/product_leaflet/pt/ats4001-1-pt.pdf"]
["ATS4001UP",null,"https://pim.firesecurityproducts.com/sites/default/files/product_leaflet/pt/ats4001up-1-pt.pdf"]
["ATS4001UP",null,"https://pim.firesecurityproducts.com/sites/default/files/product_leaflet/pt/ats4001up-1-pt.pdf"]
["ATS4002UP",null,"https://pim.firesecurityproducts.com/sites/default/files/product_leaflet/pt/ats4002up-1-pt.pdf"]
["ATS4002UP",null,"https://pim.firesecurityproducts.com/sites/default/files/product_leaflet/pt/ats4002up-1-pt.pdf"]
["ATS4003"]
["ATS4003UP",null,"https://pim.firesecurityproducts.com/sites/default/files/product_leaflet/pt/ats4003up-1-pt.pdf"]
["ATS4003UP",null,"https://pim.firesecurityproducts.com/sites/default/files/product_leaflet/pt/ats4003up-1-pt.pdf"]
["ATS4005"]
["ATS4005UP",null,"https://pim.firesecurityproducts.com/sites/default/files/product_leaflet/pt/ats4005up-1-pt.pdf"]
["ATS4006UP",null,"https://pim.firesecurityproducts.com/sites/default/files/product_leaflet/pt/ats4006up-1-pt.pdf"]
["ATS4009"]
["ATS4010UP",null,"https://pim.firesecurityproducts.com/sites/default/files/product_leaflet/pt/ats4010up-1-pt.pdf"]
["ATS4010UP",null,"https://pim.firesecurityproducts.com/sites/default/files/product_leaflet/pt/ats4010up-1-pt.pdf"]
["ATS4011",null,"https://pim.firesecurityproducts.com/sites/default/files/product_leaflet/pt/ats4011-1-pt.pdf"]
["ATS4011UP"]
["ATS4018UP"]
["ATS4021",null,"https://pim.firesecurityproducts.com/sites/default/files/product_leaflet/pt/ats4021-1-pt.pdf"]
["ATS4021EUP",null,"https://pim.firesecurityproducts.com/sites/default/files/product_leaflet/pt/ats4021eup-1-pt.pdf"]
["ATS4021UP",null,"https://pim.firesecurityproducts.com/sites/default/files/product_leaflet/pt/ats4021up-1-pt.pdf"]
["ATS4021UP",null,"https://pim.firesecurityproducts.com/sites/default/files/product_leaflet/pt/ats4021up-1-pt.pdf"]
["ATS4024UP",null,"https://pim.firesecurityproducts.com/sites/default/files/product_leaflet/pt/ats4024up-1-pt.pdf"]
["ATS4028"]
["ATS4028UP",null,"https://pim.firesecurityproducts.com/sites/default/files/product_leaflet/pt/ats4028up-1-pt.pdf"]
["ATS4032"]
["ATS4032UP",null,"https://pim.firesecurityproducts.com/sites/default/files/product_leaflet/pt/ats4032up-1-pt.pdf"]
["ATS4099",null,"https://pim.firesecurityproducts.com/sites/default/files/product_leaflet/pt/ats4099-1-pt.pdf"]
["ATS4099MBC",null,"https://pim.firesecurityproducts.com/sites/default/files/product_leaflet/pt/ats4099mbc-1-pt.pdf"]
["ATS4500",null,"https://pim.firesecurityproducts.com/sites/default/files/product_leaflet/pt/ats4500-1-pt.pdf"]
["ATS4500A-IP-LM"]
["ATS4500A-IP-LM",null,"https://pim.firesecurityproducts.com/sites/default/files/product_leaflet/pt/ats4500a-ip-lm-1-pt.pdf"]
["ATS4500A-IP-LM-HKS44",null,"https://pim.firesecurityproducts.com/sites/default/files/product_leaflet/pt/ats4500a-ip-lm-hks44-1-pt.pdf"]
["ATS4500A-IP-MBC",null,"https://pim.firesecurityproducts.com/sites/default/files/product_leaflet/pt/ats4500a-ip-mbc-1-pt.pdf"]
["ATS4500A-IP-MBC",null,"https://pim.firesecurityproducts.com/sites/default/files/product_leaflet/pt/ats4500a-ip-mbc-1-pt.pdf"]
["ATS4500A-IP-MM",null,"https://pim.firesecurityproducts.com/sites/default/files/product_leaflet/pt/ats4500a-ip-mm-1-pt.pdf"]
["ATS4500AV-IP-LM",null,"https://pim.firesecurityproducts.com/sites/default/files/product_leaflet/pt/ats4500av-ip-lm-1-pt.pdf"]
["ATS4500AV-IP-MBC",null,"https://pim.firesecurityproducts.com/sites/default/files/product_leaflet/pt/ats4500av-ip-mbc-1-pt.pdf"]
["ATS4501",null,"https://pim.firesecurityproducts.com/sites/default/files/product_leaflet/pt/ats4501-1-pt.pdf"]
["ATS4502",null,"https://pim.firesecurityproducts.com/sites/default/files/product_leaflet/pt/ats4502-1-pt.pdf"]
["ATS4503",null,"https://pim.firesecurityproducts.com/sites/default/files/product_leaflet/pt/ats4503-1-pt.pdf"]
["ATS4532",null,"https://pim.firesecurityproducts.com/sites/default/files/product_leaflet/pt/ats4532-1-pt.pdf"]
["ATS4599"]
["ATS4602"]
["ATS4603E",null,"https://pim.firesecurityproducts.com/sites/default/files/product_leaflet/pt/ats4603e-1-pt.pdf"]
["ATS4604N",null,"https://pim.firesecurityproducts.com/sites/default/files/product_leaflet/pt/ats4604n-1-pt.pdf"]
["ATS4604NMBC",null,"https://pim.firesecurityproducts.com/sites/default/files/product_leaflet/pt/ats4604nmbc-1-pt.pdf"]
["ATS4607E"]
["ATS4609E",null,"https://pim.firesecurityproducts.com/sites/default/files/product_leaflet/pt/ats4609e-1-pt.pdf"]
["ATS4621E",null,"https://pim.firesecurityproducts.com/sites/default/files/product_leaflet/pt/ats4621e-1-pt.pdf"]
["ATS4699EMBC"]
["ATS4699MBC"]
["ATS4V04UP",null,"https://pim.firesecurityproducts.com/sites/default/files/product_leaflet/pt/ats4v04up-1-pt.pdf"]
["ATS608",null,"https://pim.firesecurityproducts.com/sites/default/files/product_leaflet/pt/ats608-1-pt.pdf"]
["ATS624",null,"https://pim.firesecurityproducts.com/sites/default/files/product_leaflet/pt/ats624-1-pt.pdf"]
["ATS624",null,"https://pim.firesecurityproducts.com/sites/default/files/product_leaflet/pt/ats624-1-pt.pdf"]
["ATS626",null,"https://pim.firesecurityproducts.com/sites/default/files/product_leaflet/pt/ats626-1-pt.pdf"]
["ATS626",null,"https://pim.firesecurityproducts.com/sites/default/files/product_leaflet/pt/ats626-1-pt.pdf"]
["ATS670",null,"https://pim.firesecurityproducts.com/sites/default/files/product_leaflet/pt/ats670-1-pt.pdf"]
["ATS670",null,"https://pim.firesecurityproducts.com/sites/default/files/product_leaflet/pt/ats670-1-pt.pdf"]
["ATS7072",null,"https://pim.firesecurityproducts.com/sites/default/files/product_leaflet/pt/ats7072-1-pt.pdf"]
["ATS7072",null,"https://pim.firesecurityproducts.com/sites/default/files/product_leaflet/pt/ats7072-1-pt.pdf"]
["ATS7072-Assy",null,"https://pim.firesecurityproducts.com/sites/default/files/product_leaflet/pt/ats7072-assy-1-pt.pdf"]
["ATS7090",null,"https://pim.firesecurityproducts.com/sites/default/files/product_leaflet/pt/ats7090-1-pt.pdf"]
["ATS7090",null,"https://pim.firesecurityproducts.com/sites/default/files/product_leaflet/pt/ats7090-1-pt.pdf"]
["ATS7110"]
["ATS7120",null,"https://pim.firesecurityproducts.com/sites/default/files/product_leaflet/pt/ats7120-1-pt.pdf"]
["ATS7121",null,"https://pim.firesecurityproducts.com/sites/default/files/product_leaflet/pt/ats7121-1-pt.pdf"]
["ATS7200"]
["ATS7200E",null,"https://pim.firesecurityproducts.com/sites/default/files/product_leaflet/pt/ats7200e-1-pt.pdf"]
["ATS7200N",null,"https://pim.firesecurityproducts.com/sites/default/files/product_leaflet/pt/ats7200n-1-pt.pdf"]
["ATS7310",null,"https://pim.firesecurityproducts.com/sites/default/files/product_leaflet/pt/ats7310-1-pt.pdf"]
["ATS7310-PCB",null,"https://pim.firesecurityproducts.com/sites/default/files/product_leaflet/pt/ats7310-pcb-1-pt.pdf"]
["ATS7320",null,"https://pim.firesecurityproducts.com/sites/default/files/product_leaflet/pt/ats7320-1-pt.pdf"]
["ATS7320",null,"https://pim.firesecurityproducts.com/sites/default/files/product_leaflet/pt/ats7320-1-pt.pdf"]
["ATS7320-SIM",null,"https://pim.firesecurityproducts.com/sites/default/files/product_leaflet/pt/ats7320-sim-1-pt.pdf"]
["ATS7340",null,"https://pim.firesecurityproducts.com/sites/default/files/product_leaflet/pt/ats7340-1-pt.pdf"]
["ATS7340-SIM",null,"https://pim.firesecurityproducts.com/sites/default/files/product_leaflet/pt/ats7340-sim-1-pt.pdf"]
["ATS7700",null,"https://pim.firesecurityproducts.com/sites/default/files/product_leaflet/pt/ats7700-1-pt.pdf"]
["ATS7700",null,"https://pim.firesecurityproducts.com/sites/default/files/product_leaflet/pt/ats7700-1-pt.pdf"]
["ATS8000"]
["ATS8000E",null,"https://pim.firesecurityproducts.com/sites/default/files/product_leaflet/pt/ats8000e-1-pt.pdf"]
["ATS8100E",null,"https://pim.firesecurityproducts.com/sites/default/files/product_leaflet/pt/ats8100e-1-pt.pdf"]
["ATS8300"]
["ATS8310"]
["ATS8320"]
["ATS8350",null,"https://pim.firesecurityproducts.com/sites/default/files/product_leaflet/pt/ats8350-1-pt.pdf"]
["ATS8500",null,"https://pim.firesecurityproducts.com/sites/default/files/product_leaflet/pt/ats8500-1-pt.pdf"]
["ATS8500",null,"https://pim.firesecurityproducts.com/sites/default/files/product_leaflet/pt/ats8500-1-pt.pdf"]
["ATS8500-2",null,"https://pim.firesecurityproducts.com/sites/default/files/product_leaflet/pt/ats8500-2-1-pt.pdf"]
["ATS8520",null,"https://pim.firesecurityproducts.com/sites/default/files/product_leaflet/pt/ats8520-1-pt.pdf"]
["ATS8520-2",null,"https://pim.firesecurityproducts.com/sites/default/files/product_leaflet/pt/ats8520-2-1-pt.pdf"]
["ATS8550",null,"https://pim.firesecurityproducts.com/sites/default/files/product_leaflet/pt/ats8550-1-pt.pdf"]
["ATS8550-2",null,"https://pim.firesecurityproducts.com/sites/default/files/product_leaflet/pt/ats8550-2-1-pt.pdf"]
["ATS8551",null,"https://pim.firesecurityproducts.com/sites/default/files/product_leaflet/pt/ats8551-1-pt.pdf"]
["ATS8551",null,"https://pim.firesecurityproducts.com/sites/default/files/product_leaflet/pt/ats8551-1-pt.pdf"]
["ATS8552",null,"https://pim.firesecurityproducts.com/sites/default/files/product_leaflet/pt/ats8552-1-pt.pdf"]
["ATS8553",null,"https://pim.firesecurityproducts.com/sites/default/files/product_leaflet/pt/ats8553-1-pt.pdf"]
["ATS8553",null,"https://pim.firesecurityproducts.com/sites/default/files/product_leaflet/pt/ats8553-1-pt.pdf"]
["ATS8554",null,"https://pim.firesecurityproducts.com/sites/default/files/product_leaflet/pt/ats8554-1-pt.pdf"]
["ATS8554",null,"https://pim.firesecurityproducts.com/sites/default/files/product_leaflet/pt/ats8554-1-pt.pdf"]
["ATS8591",null,"https://pim.firesecurityproducts.com/sites/default/files/product_leaflet/pt/ats8591-1-pt.pdf"]
["ATS8592",null,"https://pim.firesecurityproducts.com/sites/default/files/product_leaflet/pt/ats8592-1-pt.pdf"]
["ATS8593",null,"https://pim.firesecurityproducts.com/sites/default/files/product_leaflet/pt/ats8593-1-pt.pdf"]
["ATS8593",null,"https://pim.firesecurityproducts.com/sites/default/files/product_leaflet/pt/ats8593-1-pt.pdf"]
["ATS8594",null,"https://pim.firesecurityproducts.com/sites/default/files/product_leaflet/pt/ats8594-1-pt.pdf"]
["ATS8600",null,"https://pim.firesecurityproducts.com/sites/default/files/product_leaflet/pt/ats8600-1-pt.pdf"]
["ATS8605",null,"https://pim.firesecurityproducts.com/sites/default/files/product_leaflet/pt/ats8605-1-pt.pdf"]
["DD100PI",null,"https://pim.firesecurityproducts.com/sites/default/files/product_leaflet/pt/dd100pi-1-pt.pdf"]
["DD100PI",null,"https://pim.firesecurityproducts.com/sites/default/files/product_leaflet/pt/dd100pi-1-pt.pdf"]
["DD100PI-D",null,"https://pim.firesecurityproducts.com/sites/default/files/product_leaflet/pt/dd100pi-d-1-pt.pdf"]
["DD1012",null,"https://pim.firesecurityproducts.com/sites/default/files/product_leaflet/pt/dd1012-1-pt.pdf"]
["DD1012-N",null,"https://pim.firesecurityproducts.com/sites/default/files/product_leaflet/pt/dd1012-n-62531-pt.pdf"]
["DD1012AM-N",null,"https://pim.firesecurityproducts.com/sites/default/files/product_leaflet/pt/dd1012am-n-62531-pt.pdf?_=1685293449"]
["DD1012AM",null,"https://pim.firesecurityproducts.com/sites/default/files/product_leaflet/pt/dd1012am-1-pt.pdf"]
["DD1012AM-D",null,"https://pim.firesecurityproducts.com/sites/default/files/product_leaflet/pt/dd1012am-d-1-pt.pdf"]
["DD1012-D",null,"https://pim.firesecurityproducts.com/sites/default/files/product_leaflet/pt/dd1012-d-1-pt.pdf"]
["DD1012-D",null,"https://pim.firesecurityproducts.com/sites/default/files/product_leaflet/pt/dd1012-d-1-pt.pdf"]
["DD1012PI-N",null,"https://pim.firesecurityproducts.com/sites/default/files/product_leaflet/pt/dd1012pi-n-62531-pt.pdf?_=1690542169"]
["DD1012PI",null,"https://pim.firesecurityproducts.com/sites/default/files/product_leaflet/pt/dd1012pi-1-pt.pdf"]
["DD1012RAM",null,"https://pim.firesecurityproducts.com/sites/default/files/product_leaflet/pt/dd1012ram-1-pt.pdf"]
["DD105",null,"https://pim.firesecurityproducts.com/sites/default/files/product_leaflet/pt/dd105-1-pt.pdf"]
["DD105C",null,"https://pim.firesecurityproducts.com/sites/default/files/product_leaflet/pt/dd105c-1-pt.pdf"]
["DD105-D",null,"https://pim.firesecurityproducts.com/sites/default/files/product_leaflet/pt/dd105-d-1-pt.pdf"]
["DD497AM",null,"https://pim.firesecurityproducts.com/sites/default/files/product_leaflet/pt/dd497AM-1-pt.pdf"]
["DD666AM-D",null,"https://pim.firesecurityproducts.com/sites/default/files/product_leaflet/pt/dd666am-d-1-pt.pdf"]
["DD666AM-D",null,"https://pim.firesecurityproducts.com/sites/default/files/product_leaflet/pt/dd666am-d-1-pt.pdf"]
["DD666-D",null,"https://pim.firesecurityproducts.com/sites/default/files/product_leaflet/pt/dd666-d-1-pt.pdf"]
["DD669",null,"https://pim.firesecurityproducts.com/sites/default/files/product_leaflet/pt/dd669-1-pt.pdf"]
["DD669AM",null,"https://pim.firesecurityproducts.com/sites/default/files/product_leaflet/pt/dd669am-1-pt.pdf"]
["DDI602AM-F1",null,"https://pim.firesecurityproducts.com/sites/default/files/product_leaflet/pt/ddi602am-f1-1-pt.pdf"]
["DDI602AM-F1",null,"https://pim.firesecurityproducts.com/sites/default/files/product_leaflet/pt/ddi602am-f1-1-pt.pdf"]
["DDI602AM-F2",null,"https://pim.firesecurityproducts.com/sites/default/files/product_leaflet/pt/ddi602am-f2-1-pt.pdf"]
["DDI602AM-F2",null,"https://pim.firesecurityproducts.com/sites/default/files/product_leaflet/pt/ddi602am-f2-1-pt.pdf"]
["DDI602AM-F3",null,"https://pim.firesecurityproducts.com/sites/default/files/product_leaflet/pt/ddi602am-f3-1-pt.pdf"]
["DDI602AM-F3",null,"https://pim.firesecurityproducts.com/sites/default/files/product_leaflet/pt/ddi602am-f3-1-pt.pdf"]
["DDI602-F1",null,"https://pim.firesecurityproducts.com/sites/default/files/product_leaflet/pt/ddi602-f1-1-pt.pdf"]
["DDI602-F2",null,"https://pim.firesecurityproducts.com/sites/default/files/product_leaflet/pt/ddi602-f2-1-pt.pdf"]
["DDI602-F3",null,"https://pim.firesecurityproducts.com/sites/default/files/product_leaflet/pt/ddi602-f3-1-pt.pdf"]
["DDI602-F3",null,"https://pim.firesecurityproducts.com/sites/default/files/product_leaflet/pt/ddi602-f3-1-pt.pdf"]
["DDI78-EXF1",null,"https://pim.firesecurityproducts.com/sites/default/files/product_leaflet/pt/ddi78-exf1-1-pt.pdf"]
["DDV1016",null,"https://pim.firesecurityproducts.com/sites/default/files/product_leaflet/pt/ddv1016-1-pt.pdf"]
["DDV1016AM",null,"https://pim.firesecurityproducts.com/sites/default/files/product_leaflet/pt/ddv1016am-1-pt.pdf"]
["DDV1016AM-D-N",null,"https://pim.firesecurityproducts.com/sites/default/files/product_leaflet/pt/ddv1016am-d-n-62531-pt.pdf?_=1690542938"]
["DDV1016AM-D",null,"https://pim.firesecurityproducts.com/sites/default/files/product_leaflet/pt/ddv1016am-d-1-pt.pdf"]
["DDV1016AM-D-B-N",null,"https://pim.firesecurityproducts.com/sites/default/files/product_leaflet/pt/ddv1016am-d-b-n-62531-pt.pdf?_=1690196305"]
["DDV1016AM-D-B",null,"https://pim.firesecurityproducts.com/sites/default/files/product_leaflet/pt/ddv1016am-d-b-1-pt.pdf"]
["DDV1016-D",null,"https://pim.firesecurityproducts.com/sites/default/files/product_leaflet/pt/ddv1016-d-1-pt.pdf"]
["DDV1016-D",null,"https://pim.firesecurityproducts.com/sites/default/files/product_leaflet/pt/ddv1016-d-1-pt.pdf"]
["FDD710",null,"https://pim.firesecurityproducts.com/sites/default/files/product_leaflet/pt/fdd710-1-pt.pdf"]
["FDD710",null,"https://pim.firesecurityproducts.com/sites/default/files/product_leaflet/pt/fdd710-1-pt.pdf"]
["FDD710E",null,"https://pim.firesecurityproducts.com/sites/default/files/product_leaflet/pt/fdd710e-1-pt.pdf"]
["FDD710E",null,"https://pim.firesecurityproducts.com/sites/default/files/product_leaflet/pt/fdd710e-1-pt.pdf"]
["FDD710LP",null,"https://pim.firesecurityproducts.com/sites/default/files/product_leaflet/pt/fdd710lp-1-pt.pdf"]
["FDD710LP",null,"https://pim.firesecurityproducts.com/sites/default/files/product_leaflet/pt/fdd710lp-1-pt.pdf"]
["FDD710MB",null,"https://pim.firesecurityproducts.com/sites/default/files/product_leaflet/pt/fdd710mb-1-pt.pdf"]
["FDD710MB",null,"https://pim.firesecurityproducts.com/sites/default/files/product_leaflet/pt/fdd710mb-1-pt.pdf"]
["FDD710XLP",null,"https://pim.firesecurityproducts.com/sites/default/files/product_leaflet/pt/fdd710xlp-1-pt.pdf"]
["FDD710XLP",null,"https://pim.firesecurityproducts.com/sites/default/files/product_leaflet/pt/fdd710xlp-1-pt.pdf"]
["MID-SUB-T100-ADD",null,"https://pim.firesecurityproducts.com/sites/default/files/product_leaflet/pt/mid-sub-t100-add-1-pt.pdf"]
["MID-SUB-T100-ADD01",null,"https://pim.firesecurityproducts.com/sites/default/files/product_leaflet/pt/mid-sub-t100-add01-1-pt.pdf"]
["MID-SUB-T100-ADD02",null,"https://pim.firesecurityproducts.com/sites/default/files/product_leaflet/pt/mid-sub-t100-add02-1-pt.pdf"]
["MID-SUB-T100-ADD03",null,"https://pim.firesecurityproducts.com/sites/default/files/product_leaflet/pt/mid-sub-t100-add03-1-pt.pdf"]
["MID-SUB-T100-ADD04",null,"https://pim.firesecurityproducts.com/sites/default/files/product_leaflet/pt/mid-sub-t100-add04-1-pt.pdf"]
["MID-SUB-T100-ADD05",null,"https://pim.firesecurityproducts.com/sites/default/files/product_leaflet/pt/mid-sub-t100-add05-1-pt.pdf"]
["MID-SUB-T100-ADD06",null,"https://pim.firesecurityproducts.com/sites/default/files/product_leaflet/pt/mid-sub-t100-add06-1-pt.pdf"]
["MID-SUB-T100-ADD07",null,"https://pim.firesecurityproducts.com/sites/default/files/product_leaflet/pt/mid-sub-t100-add07-1-pt.pdf"]
["MID-SUB-T100-ADD08",null,"https://pim.firesecurityproducts.com/sites/default/files/product_leaflet/pt/mid-sub-t100-add08-1-pt.pdf"]
["MID-SUB-T100-ADD09",null,"https://pim.firesecurityproducts.com/sites/default/files/product_leaflet/pt/mid-sub-t100-add09-1-pt.pdf"]
["MID-SUB-T100-ADD10",null,"https://pim.firesecurityproducts.com/sites/default/files/product_leaflet/pt/mid-sub-t100-add10-1-pt.pdf"]
["MID-SUB-T100-ADD11",null,"https://pim.firesecurityproducts.com/sites/default/files/product_leaflet/pt/mid-sub-t100-add11-1-pt.pdf"]
["MLC2-DDM",null,"https://pim.firesecurityproducts.com/sites/default/files/product_leaflet/pt/mlc2-ddm-1-pt.pdf"]
["RF-DD1012-K4",null,"https://pim.firesecurityproducts.com/sites/default/files/product_leaflet/pt/rf-dd1012-k4-1-pt.pdf"]
["RF-DD1012PI-K4",null,"https://pim.firesecurityproducts.com/sites/default/files/product_leaflet/pt/rf-dd1012pi-k4-1-pt.pdf"]
["SLC20-DDM",null,"https://pim.firesecurityproducts.com/sites/default/files/product_leaflet/pt/slc20-ddm-1-pt.pdf"]
["SMA-EX-ICLASS-FDD",null,"https://pim.firesecurityproducts.com/sites/default/files/product_leaflet/pt/sma-ex-iclass-fdd-1-pt.pdf"]
["SMA-EX-ICLASS-FDD",null,"https://pim.firesecurityproducts.com/sites/default/files/product_leaflet/pt/sma-ex-iclass-fdd-1-pt.pdf"]
["SMA-EX-MULTI-FDD",null,"https://pim.firesecurityproducts.com/sites/default/files/product_leaflet/pt/sma-ex-multi-fdd-1-pt.pdf"]
["SMA-EX-MULTI-FDD",null,"https://pim.firesecurityproducts.com/sites/default/files/product_leaflet/pt/sma-ex-multi-fdd-1-pt.pdf"]
["SMA-EX-PROX-FDD",null,"https://pim.firesecurityproducts.com/sites/default/files/product_leaflet/pt/sma-ex-prox-fdd-1-pt.pdf"]
["SMA-EX-PROX-FDD",null,"https://pim.firesecurityproducts.com/sites/default/files/product_leaflet/pt/sma-ex-prox-fdd-1-pt.pdf"]
["TP-ADD-1DIP",null,"https://pim.firesecurityproducts.com/sites/default/files/product_leaflet/pt/tp-add-1dip-1-pt.pdf"]
["TP-ADD-2D-BRD"]
["TP-ADD-2D-BRD",null,"https://pim.firesecurityproducts.com/sites/default/files/product_leaflet/pt/tp-add-2d-brd-1-pt.pdf"]
["TP-ADD-2D-E",null,"https://pim.firesecurityproducts.com/sites/default/files/product_leaflet/pt/tp-add-2d-e-1-pt.pdf"]
["TP-ADD-IO-BRD",null,"https://pim.firesecurityproducts.com/sites/default/files/product_leaflet/pt/tp-add-io-brd-1-pt.pdf"]
["TP-ADD-IO-E",null,"https://pim.firesecurityproducts.com/sites/default/files/product_leaflet/pt/tp-add-io-e-1-pt.pdf"]
["TVN-20XX-HDD-2T",null,"https://pim.firesecurityproducts.com/sites/default/files/product_leaflet/pt/tvn-20xx-hdd-2t-1-pt.pdf"]
["TVN-20XX-HDD-2T",null,"https://pim.firesecurityproducts.com/sites/default/files/product_leaflet/pt/tvn-20xx-hdd-2t-1-pt.pdf"]
["TVN-HDD-4TB",null,"https://pim.firesecurityproducts.com/sites/default/files/product_leaflet/pt/tvn-hdd-4tb-1-pt.pdf"]
["TVN-HDD-4TB",null,"https://pim.firesecurityproducts.com/sites/default/files/product_leaflet/pt/tvn-hdd-4tb-1-pt.pdf"]
["TVN-HDD-6TB",null,"https://pim.firesecurityproducts.com/sites/default/files/product_leaflet/pt/tvn-hdd-6tb-1-pt.pdf"]
["TVN-HDD-6TB",null,"https://pim.firesecurityproducts.com/sites/default/files/product_leaflet/pt/tvn-hdd-6tb-1-pt.pdf"]
["TVN-HDD-6TB-2",null,"https://pim.firesecurityproducts.com/sites/default/files/product_leaflet/pt/tvn-hdd-6tb-2-1-pt.pdf"]
["TVN-HDD-8TB-2",null,"https://pim.firesecurityproducts.com/sites/default/files/product_leaflet/pt/tvn-hdd-8tb-2-1-pt.pdf"]
["TVN-HDD-B",null,"https://pim.firesecurityproducts.com/sites/default/files/product_leaflet/pt/tvn-hdd-b-1-pt.pdf"]
["TVN-HDDR-4TB",null,"https://pim.firesecurityproducts.com/sites/default/files/product_leaflet/pt/tvn-hddr-4tb-1-pt.pdf"]
["TVN-HDDR-4TB",null,"https://pim.firesecurityproducts.com/sites/default/files/product_leaflet/pt/tvn-hddr-4tb-1-pt.pdf"]
["TVN-HDDR-6TB-2",null,"https://pim.firesecurityproducts.com/sites/default/files/product_leaflet/pt/tvn-hddr-6tb-2-1-pt.pdf"]
["TVN-HDDR-8TB-1",null,"https://pim.firesecurityproducts.com/sites/default/files/product_leaflet/pt/tvn-hddr-8tb-1-1-pt.pdf"]

{"sheet":"Tabela","index":26,"n_rows":3374,"n_cols":4,"rows_kept":3374,"cut":false,"hidden":true,"merged":[]}
["SKU","SKU Description","Item Status","PVP"]
["SG-SKYHAWK-10TB","SEAGATE SKYHAWK HDD, 10TB","NPI",878.53]
["SG-SKYHAWK-1TB","SEAGATE SKYHAWK HDD, 1TB","NPI",210.54]
["SG-SKYHAWK-2TB","SEAGATE SKYHAWK HDD, 2TB","NPI",273.7]
["SG-SKYHAWK-4TB","SEAGATE SKYHAWK HDD, 4TB","NPI",354.09]
["SG-SKYHAWK-6TB","SEAGATE SKYHAWK HDD, 6TB","NPI",501.47]
["SG-SKYHAWK-8TB","SEAGATE SKYHAWK HDD, 8TB","NPI",731.15]
["TVN-1204C-1T","TRUVIS. NVR 12, 4 CHANNEL, 1 TB","Mature",434.48]
["TVN-1204C-2T","TRUVIS. NVR 12, 4 CHANNEL, 2 TB","Mature",497.64]
["TVN-1204C-4T","TRUVISION NVR 12, 4 CHANNEL, 4TB","NPI",578.03]
["TVN-1204CS-1T","TRUVIS. NVR 12, 4CH., 4POE, 1TB","Mature",469.89]
["TVN-1204CS-2T","TRUVIS. NVR 12, 4CH., 4POE, 2TB","Mature",534.96]
["TVN-1204CS-4T","TRUVISION NVR 12, 4 CHANNEL, 4POE, 4TB","NPI",615.35]
["TVN-1208-2T","TRUVIS. NVR 12, 8 CHANNEL, 2TB","Mature",559.85]
["TVN-1208-4T","TRUVIS. NVR 12, 8 CHANNEL, 4TB","Mature",640.23]
["TVN-1208-6T","TRUVISION NVR 12, 8 CHANNEL, 6TB","NPI",787.61]
["TVN-1208-8T","TRUVISION NVR 12, 8 CHANNEL, 8TB","NPI",994.32]
["TVN-1208S-2T","TRUVIS. NVR 12, 8CH., 8POE, 2TB","NPI",634.49]
["TVN-1208S-4T","TRUVIS. NVR 12, 8CH., 8POE, 4TB","Mature",714.88]
["TVN-1208S-6T","TRUVISION NVR 12, 8 CHANNEL, 8POE, 6TB","NPI",862.26]
["TVN-1208S-8T","TRUVISION NVR 12, 8 CHANNEL, 8POE, 8TB","NPI",1068.97]
["TVN-1216-2T","TRUVIS. NVR 12, 16 CHANNEL, 2TB","Mature",583.77]
["TVN-1216-4T","TRUVIS. NVR 12, 16 CHANNEL, 4TB","Mature",664.16]
["TVN-1216-6T","TRUVIS. NVR 12, 16 CHANNEL, 6TB","Mature",811.54]
["TVN-1216-8T","TRUVISION NVR 12, 16 CHANNEL, 8TB","NPI",1018.25]
["TVN-1216S-2T","TRUVIS. NVR 12, 16CH., 16POE, 2TB","Mature",821.11]
["TVN-1216S-4T","TRUVIS. NVR 12, 16CH., 16POE, 4TB","Mature",901.49]
["TVN-1216S-6T","TRUVIS. NVR 12, 16CH., 16POE, 6TB","Mature",1048.8699999999999]
["TVN-1216S-8T","TRUVISION NVR 12, 16 CHANNEL, 16POE, 8TB","NPI",1255.58]
["TVN-2308S-10T","TRUVISION NVR 23, 8 CHANNEL, WITH POE PORTS, 10TB (1X 10TB)","NPI",1873.81]
["TVN-2308S-2T","TRUVISION NVR 23, 8 CHANNEL, WITH POE PORTS, 2TB (1x 2TB)","NPI",1268.98]
["TVN-2308S-4T","TRUVISION NVR 23, 8 CHANNEL, WITH POE PORTS, 4TB (1x 4TB)","NPI",1349.37]
["TVN-2308S-6T","TRUVISION NVR 23, 8 CHANNEL, WITH POE PORTS, 6TB (1x 6TB)","NPI",1496.75]
["TVN-2308S-8T","TRUVISION NVR 23, 8 CHANNEL, WITH POE PORTS, 8TB (1x 8TB)","NPI",1726.43]
["TVN-2316-10T","TRUVISION NVR 23, 16 CHANNEL, 10TB (1X 10TB)","NPI",1854.67]
["TVN-2316-12T","TRUVISION NVR 23, 16 CHANNEL, 12TB (2x 6TB)","NPI",1979.08]
["TVN-2316-16T","TRUVISION NVR 23, 16 CHANNEL, 16TB (2x 8TB)","NPI",2438.44]
["TVN-2316-4T","TRUVISION NVR 23, 16 CHANNEL, 4TB (1x 4TB)","NPI",1330.23]
["TVN-2316-6T","TRUVISION NVR 23, 16 CHANNEL, 6TB (1x 6TB)","NPI",1477.61]
["TVN-2316-8T","TRUVISION NVR 23, 16 CHANNEL, 8TB (1x 8TB)","NPI",1707.29]
["TVN-2316P-12T","TRUVISION NVR 23, 16 CHANNEL, 2U, 12TB (3x 4TB)","NPI",2631.75]
["TVN-2316P-16T","TRUVISION NVR 23, 16 CHANNEL, 2U, 16TB (4x 4TB)","NPI",2985.84]
["TVN-2316P-18T","TRUVISION NVR 23, 16 CHANNEL, 2U, 18TB (3x 6TB)","NPI",3073.88]
["TVN-2316P-4T","TRUVISION NVR 23, 16 CHANNEL, 2U, 4TB (1x 4TB)","NPI",1923.57]
["TVN-2316P-6T","TRUVISION NVR 23, 16 CHANNEL, 2U, 6TB (1x 6TB)","NPI",2070.9499999999998]
["TVN-2316P-8T","TRUVISION NVR 23, 16 CHANNEL, 2U, 8TB (4x 2TB)","NPI",2277.66]
["TVN-2316S-10T","TRUVISION NVR 23, 16 CHANNEL, WITH POE PORTS, 10TB (1X 10TB)","NPI",2113.06]
["TVN-2316S-12T","TRUVISION NVR 23, 16 CHANNEL, WITH POE PORTS, 12TB (2x 6TB)","NPI",2237.4699999999998]
["TVN-2316S-16T","TRUVISION NVR 23, 16 CHANNEL, WITH POE PORTS, 16TB (2x 8TB)","NPI",2696.83]
["TVN-2316S-4T","TRUVISION NVR 23, 16 CHANNEL, WITH POE PORTS, 4TB (1x 4TB)","NPI",1588.62]
["TVN-2316S-6T","TRUVISION NVR 23, 16 CHANNEL, WITH POE PORTS, 6TB (1x 6TB)","NPI",1736]
["TVN-2316S-8T","TRUVISION NVR 23, 16 CHANNEL, WITH POE PORTS, 8TB (1 x8TB)","NPI",1965.68]
["TVN-2332-10T","TRUVISION NVR 23, 32 CHANNEL, 10TB (1X 10TB)","NPI",2065.21]
["TVN-2332-12T","TRUVISION NVR 23, 32 CHANNEL, 12TB (2x 6TB)","NPI",2189.62]
["TVN-2332-16T","TRUVISION NVR 23, 32 CHANNEL, 16TB (2x 8TB)","NPI",2648.98]
["TVN-2332-18T","TRUVISION NVR 23, 32 CHANNEL, 18TB (3x 6TB)","NPI",2691.08]
["TVN-2332-20T","TRUVISION NVR 23, 32 CHANNEL, 20TB (2X 10TB)","NPI",2943.73]
["TVN-2332-24T","TRUVISION NVR 23, 32 CHANNEL, 24TB (4x 6TB)","NPI",3192.55]
["TVN-2332-32T","TRUVISION NVR 23, 32 CHANNEL, 32TB (4x 8TB)","NPI",4111.2700000000004]
["TVN-2332-8T","TRUVISION NVR 23, 32 CHANNEL, 8TB (1x 8TB)","NPI",1917.83]
["TVN-2332P-12T","TRUVISION NVR 23, 32 CHANNEL, 2U, 12TB (3x 4TB)","NPI",3359.07]
["TVN-2332P-16T","TRUVISION NVR 23, 32 CHANNEL, 2U, 16TB (4x 4TB)","NPI",3713.16]
["TVN-2332P-18T","TRUVISION NVR 23, 32 CHANNEL, 2U, 18TB (3x 6TB)","NPI",3801.2]
["TVN-2332P-24T","TRUVISION NVR 23, 32 CHANNEL, 2U, 24TB (4x 6TB)","NPI",4302.67]
["TVN-2332P-32T","TRUVISION NVR 23, 32 CHANNEL, 2U, 32TB (4x 8TB)","NPI",5221.3900000000003]
["TVN-2332P-8T","TRUVISION NVR 23, 32 CHANNEL, 2U, 8TB (4x 2TB)","NPI",3004.98]
["TVN-2364P-16T","TRUVISION NVR 23, 64 CHANNEL, 2U, 16TB (4x 4TB)","NPI",3904.56]
["TVN-2364P-18T","TRUVISION NVR 23, 64 CHANNEL, 2U, 18TB (3x 6TB)","NPI",3992.6]
["TVN-2364P-24T","TRUVISION NVR 23, 64 CHANNEL, 2U, 24TB (4x 6TB)","NPI",4494.07]
["TVN-2364P-32T","TRUVISION NVR 23, 64 CHANNEL, 2U, 32TB (4x 8TB)","NPI",5412.79]
["TVN-2364P-36T","TRUVISION NVR 23, 64 CHANNEL, 2U, 36TB (6x 6TB)","NPI",5497.01]
["TVN-2364P-42T","TRUVISION NVR 23, 64 CHANNEL, 2U, 42TB (7x 6TB)","NPI",5998.48]
["TVN-2364P-48T","TRUVISION NVR 23, 64 CHANNEL, 2U, 48TB (8x 6TB)","NPI",6499.94]
["TVN-2364P-64T","TRUVISION NVR 23, 64 CHANNEL, 2U, 64TB (8x 8TB)","NPI",8337.3799999999992]
["TVN-2364P-80T","TRUVISION NVR 23, 64 CHANNEL, 2U, 80TB (8x 10TB)","NPI",9516.41]
["TVR-1804C-1T","TRUVISION DVR 18, HYBRID 4 CHANNEL, 1 TB","PreRelease",545.49]
["TVR-1804C-2T","TRUVISION DVR 18, HYBRID 4 CHANNEL, 2 TB","PreRelease",608.65]
["TVR-1804C-4T","TRUVISION DVR 18, 4 CHANNEL, 4TB","PreRelease",689.04]
["TVR-1808-10T","TRUVISION DVR 18, 8 CHANNEL, 10TB","PreRelease",1452.73]
["TVR-1808-2T","TRUVISION DVR 18, HYBRID 8 CHANNEL, 2 TB","PreRelease",847.9]
["TVR-1808-4T","TRUVISION DVR 18, HYBRID 8 CHANNEL, 4 TB","PreRelease",928.29]
["TVR-1808-6T","TRUVISION DVR 18, 8 CHANNEL, 6TB","PreRelease",1075.67]
["TVR-1808-8T","TRUVISION DVR 18, 8 CHANNEL, 8TB","PreRelease",1282.3800000000001]
["TVR-1816-10T","TRUVISION DVR 18, 16 CHANNEL, 10TB","NPI",1912.09]
["TVR-1816-12T","TRUVISION DVR 18, HYBRID 16 CHANNEL, 12 TB","NPI",2036.5]
["TVR-1816-16T","TRUVISION DVR 18, HYBRID 16 CHANNEL, 16 TB","NPI",2495.86]
["TVR-1816-20T","TRUVISION DVR 18, 16 CHANNEL, 20TB","NPI",2790.61]
["TVR-1816-2T","TRUVISION DVR 18, HYBRID 16 CHANNEL, 8 TB","NPI",1307.26]
["TVR-1816-4T","TRUVISION DVR 18, HYBRID 16 CHANNEL, 4 TB","NPI",1387.65]
["TVR-1816-6T","TRUVISION DVR 18, HYBRID 16 CHANNEL, 6 TB","NPI",1535.03]
["TVR-1816-8T","TRUVISION DVR 18, HYBRID 16 CHANNEL, 8 TB","NPI",1741.74]
["WFA00216","FIRE RETARDANT CABLE 2X1 MM. SQ., PH120 (200 M REEL)","NPI",{"$error":"#N/A"}]
["WFA0022W","FIRE RETARDANT CABLE 2X1MM. SQ. PH30 (200M REEL), WHITE","NPI",{"$error":"#N/A"}]
["WFA0023N","FIRE RETARDANT CABLE 2X1 MM. SQ., PH30, (200 M REEL)","NPI",{"$error":"#N/A"}]
["WFA0023NL","FIRE RETARDANT CABLE 2X1 MM. SQ., PH30 (500 M REEL)","NPI",{"$error":"#N/A"}]
["WFA20216","FIRE RETARDANT CABLE 2X1,5MM. SQ. PH120 (200M REEL)","NPI",{"$error":"#N/A"}]
["WFA2022N","FIRE RETARDANT CABLE 2X1MM. SQ. PH120 (200M REEL), WHITE","NPI",{"$error":"#N/A"}]
["WFA2022W","FIRE RETARDANT CABLE, 2X1,5 MM. SQ, PH30 (200 M REEL)","NPI",{"$error":"#N/A"}]
["EVN1700-MM-HK-G3","KIT WITH EVN1700-MM + ATS1135 + ATS7341","NPI",1127.75]
["20TKS-02-0045FA","READER 13,56MHZ -125KHZ - BLE - KEYPAD - MULLION FORMAT - EV3 - WIEGAND - OSDP - TERMINALS CONNECTOR","NPI",357.92]
["40NKS-02-0045FA","READER 13,56MHZ - 125KHZ - BLE -KEYPAD - STD FORMAT - EV3 - WIAGEND - OSDP - PIGTAIL WIRING","NPI",436.39]
["9-30780-KID-EN","KIDDE MODULASER MIN.DIS","NPI",1865.89]
["9-30781-KID-EN","KIDDE MODULASER STD.DIS","NPI",2099.11]
["9-30782-KID-EN","KIDDE MODULASER CM.DIS","NPI",3604.56]
["9-30783-KID-EN","KIDDE MODULASER DET","NPI",1685.64]
["FHSD8300","EDWARDS MODULASER MIN.DIS","Sell-out",{"$error":"#N/A"}]
["FHSD8300-EN","EDWARDS MODULASER MIN.DIS","NPI",1865.89]
["FHSD8310","EDWARDS MODULASER STD.DIS","Sell-out",{"$error":"#N/A"}]
["FHSD8310-EN","EDWARDS MODULASER STD.DIS","NPI",2099.11]
["FHSD8320","EDWARDS MODULASER CM.DIS","Sell-out",3604.56]
["FHSD8320-EN","EDWARDS MODULASER CM.DIS","NPI",{"$error":"#N/A"}]
["FHSD8330","Edwards ModuLaser Det","Sell-out",1685.64]
["FHSD8330-EN","EDWARDS MODULASER DET","NPI",1685.64]
["KE-AS3115R-CMW","INT ADDR AUD/VIS NOTIF W/ ISO - SND/VIS ALM DEV CEILING MOUNT (RED W/ WHITE FLASH)","NPI",144.88999999999999]
["KE-AS3115R-CMWIP","INT ADDR AUD/VIS NOTIF W/ ISO - WP SND/VIS ALM DEV CEILING MOUNT (RED W/ WHITE FLASH)","NPI",165.66]
["KE-AS3115R-WMW","INT ADDR AUD/VIS NOTIF W/ ISO - SND/VIS ALM DEV WALL MOUNT (RED W/ WHITE FLASH)","NPI",165.66]
["KE-AS3115R-WMWIP","INT ADDR AUD/VIS NOTIF W/ ISO - WP SND/VIS ALM DEV WALL MOUNT (RED W/ WHITE FLASH)","NPI",144.88999999999999]
["KE-IO3001","INT ADDR OUTPUT UNIT W/ EN14637/BS7273 SUPPORT - 1 OUT (WHITE)","Pre-sales",67.62]
["KE-IO3001-M","INT ADDR OUTPUT UNIT - 1 OUT MAINS SWITCH (WHITE)","Pre-sales",87.16]
["KE-IO3044","INT ADDR INPUT/OUTPUT UNIT - 4 IN/4OUT (WHITE)","Pre-sales",113.04]
["KE-IU3010","INT ADDR INPUT UNIT - 1 IN (WHITE)","Pre-sales",70.44]
["KE-IU3010-HS","INT ADDR PRIORITY INPUT UNIT - 1 IN (WHITE)","Pre-sales",106.14]
["KE-IU3110-HS","INT ADDR PRIORITY INPUT UNIT W/ ISO - 1 IN (WHITE)","Pre-sales",107.66]
["6TM008SM","(6 PACK) SMOKE CAPSULE FOR USE WITH TM010","Mature",883.22]
["CB001","CARRYING BAG FOR SMOKE TEST TOOLS","Mature",335.92]
["ET010","FIBRE-GLASS TELESCOPIC POLE 4.5M","Mature",927.36]
["ET011","FIBRE-GLASS EXTENSION POLE 1.2M","Mature",251.39]
["FG010","UNIVERSAL REMOVAL TOOL ON SWING FRAME","Mature",569.57000000000005]
["SC008CO","CO FIRE DETECTOR TEST SPRAY","Mature",49.82]
["SC010","AEROSOL TEST SPRAY FOR SMOKE DETECTORS, HFC FREE","Mature",71.489999999999995]
["TBC100","REPLACEMENT BATTERY CHARGER FOR USE WITH FIRE TEST KITS","Mature",335.83]
["TES3-6PACK","(6 PACK) XTR2 SMOKE CARTRIDGE","NPI",955.31]
["TESTIFIRE-ADAP","XTR2 ADAPTOR FOR ASD FLAT DET","NPI",309.45]
["TESTIFIRE-BP","XTR2 LITHIUM ION BATTERY PACK","NPI",566.77]
["TESTIFIRE-CHAK","XTR2 CHARGER KIT & ACCESSORIES","NPI",566.77]
["TESTIFIRE-GEN-1PK","XTR2 SMOKE GENERATOR","NPI",673.07]
["TESTIFIRE-MEM","XTR2 MEMBRANE 90MM DIA","NPI",43.94]
["TESTIFIRE-MEML","XTR2 MEMBRANE 162MM DIA","NPI",98.86]
["TESTIFIRE-SOP","XTR2 STAND-OFF PLATE","NPI",35.14]
["TESTIFIRE-XTR2","XTR2 SMOKE & HEAT DETECTOR TEST KIT","NPI",4223.6000000000004]
["TESTIFIRE-XTR2-6M","XTR2 SMOKE & HEAT DETECTOR TEST KIT (6M)","NPI",6953.2]
["TESTIFIRE-XTR2-HEAD","XTR2 SMOKE & HEAT DETECTOR TEST HEAD UNIT","NPI",3736.54]
["TH010","HEAT DETECTOR TESTER ON SWING FRAME","Mature",1096.08]
["TH012","BATTERY POWERED HEAT DETECTOR TESTOR","Mature",1838.14]
["TH013BB","REPLACEMENT BATTERY BATON FOR USE WITH FIRE TEST KITS","Mature",304.8]
["TR010","TOUCH SENSITIVE DISP.CUP ON SWING FRAME","Mature",466.83]
["TS806-03","SMOKE & CORDLESS HEAT DETECTOR TEST SET 6.0M","Mature",3992.72]
["TS808","SMOKE TEST KIT FOR 4M","Mature",940.27]
["EVN1700-RETRO-BUNDLE","KIT, EVN1700-MBC + EVNX700-RETRO + ATS1125","NPI",675.72]
["EVN3700-RETRO-BUNDLE","KIT, EVN3700-MBC + EVNX700-RETRO + ATS1125","NPI",1012.26]
["ATS3500A-IP-MM-HK-2","ADVISOR ADVANCED - 128 ZONES - IP - EN3 - MEDIUM METAL HOUSINGATS1135 ADVISOR ADVANCED RESI KEYPAD","NPI",1074.52]
["9-30501","AIRSENSE MINILASER","NPI",{"$error":"#N/A"}]
["9-30501-KID","KIDDE MINILASER","NPI",2488.1999999999998]
["9-30520","MINILASER EXP HOUSING","NPI",191.4]
["9-30521","MINILASER EXP I/O","NPI",239.25]
["FHSD8075","EDWARDS MINILASER","NPI",{"$error":"#N/A"}]
["1-B6782-070","ZENNER BARRIER","Mature",{"$error":"#N/A"}]
["1-B6784-006 HIRE","HIRE OF LHD 1M TEST OVEN (PER DAY)","Mature",{"$error":"#N/A"}]
["1-K82023","KIT JOINTING END OF LINE","Mature",{"$error":"#N/A"}]
["9-30851-7","POWER SUPPLY 24V,1A,7AH,EN54-4","Mature",{"$error":"#N/A"}]
["A1541-100","LHD CABLE ACCESSORRY - J LOCK CLIP STAINLESS STEEL W/SLEEVE","NPI",{"$error":"#N/A"}]
["AAE-0100-RETR","SKU FOR AAE-0100 3-LETTER CODE","NPI",{"$error":"#N/A"}]
["AAE-0500-RETR","SKU FOR AAE-0500 3-LETTER CODE","NPI",{"$error":"#N/A"}]
["ADE68-0100","(100M) DIGITAL EN LHD 68C CABLE","NPI",982.57]
["ADE68-0200","(200M) DIGITAL EN LHD 68C CABLE","NPI",1965.14]
["ADE68-0500","(500M) DIGITAL EN LHD 68C CABLE","NPI",4912.8599999999997]
["ADE68SS-0200","(200M) DIGITAL EN LHD 68C CABLE WITH STAINLESS STEEL BRAID","NPI",3643.65]
["ADE78-0200","(200M) DIGITAL EN LHD 78C CABLE","NPI",1965.14]
["ADE78SS-0200","(200M) DIGITAL EN LHD 78C CABLE WITH STAINLESS STEEL BRAID","NPI",3643.65]
["ADE88-0200","(200M) DIGITAL EN LHD 88C CABLE","NPI",1965.14]
["ADE88SS-0200","(200M) DIGITAL EN LHD 88C CABLE WITH STAINLESS STEEL BRAID","NPI",3643.65]
["AXON2600-BUNDLE-1","AXON2600-MM + 2 X ATS1180M","NPI",1322.52]
["SCORP1001","SCORPION POINT HEAD UNIT & MOUNTING BRACKET","NPI",1093.19]
["SCORP1011","SCORPION POINT SMOKE DETECTOR TESTER","NPI",1384.75]
["SCORP60","SCORPION BATTERY CABLE","NPI",262.62]
["SCORP7000","ENGINEER'S PORTABLE CONTROLLER","NPI",3608.61]
["SCORP8000","SCORPION WALL MOUNTED CONTROLLER","NPI",2213.35]
["SNA-R41-A/BT4-3LA/1","SPECTRE NANO, WIEGAND 32 BITS","NPI",2070.6]
["AAE-0100","(100M) ANALOGUE EN LHD CABLE PVC","Mature",1232.1600000000001]
["AAE-0500","(500M) ANALOGUE EN LHD CABLE PVC","Mature",6028.32]
["AAECU","ANALOGUE EN LHD CONTROL UNIT","Mature",2075.61]
["EVOLIS-K16","EVOLIS-K16","NPI",421.08]
["N-MC-FES80","[10 PACK] INT MCP ACC - FRANG ELE ENG/CAN","PreRelease",{"$error":"#N/A"}]
["N-MC-RES80","[20 PACK] INT MCP ACC - RESET ELE ENG/CAN","PreRelease",{"$error":"#N/A"}]
["WP1236W","9AH BATTERY - LEAD ACID","Pre-sales",{"$error":"#N/A"}]
["6515","15M PIR","NPI",27.38]
["6515AM","15M PIR W/ ANTIMASK","NPI",46.55]
["6515AM-B","15M PIR W/ ANTIMASK - BLACK","NPI",46.55]
["6515-BP2","WALL/CEILING MOUNT BRACKET","NPI",13.14]
["6515-BP3","WALL/CEILING MOUNT BRACKET WITH TAMPER","NPI",16.43]
["6515PI","15M PIR PET FRIENDLY","NPI",30.12]
["6536","360? CEILING MOUNT 10M PIR","NPI",52.02]
["6615","15M DUAL PIR/MW","NPI",46.55]
["6615-B","15M DUAL PIR/MW - BLACK","NPI",46.55]
["6615AM","15M DUAL PIR/MW W/ ANTIMASK","NPI",62.98]
["6615AM-B","15M DUAL PIR/MW W/ ANTIMASK - BLACK","NPI",62.98]
["6630","360? CEILING MOUNT 10M DUAL PIR/MW","NPI",65.709999999999994]
["6630AM","360? CEILING MOUNT 10M DUAL PIR/MW W/ IR ANTIMASK","NPI",84.88]
["EVN1700-MBC","EVERON 1700 MBC FOR REPLACEMENT","NPI",476.62]
["EVN1700-MM","EVERON 1700 PANEL, 48 ZONES, 4 AREAS, MM+, EN GR3","NPI",485.95]
["EVN3700-MBC","EVERON 3700 MBC FOR REPLACEMENT","NPI",833.57]
["EVN3700-MM","EVERON 3700 PANEL, 256 ZONES, 16 AREAS, MM+, EN GR3","NPI",853.47]
["EVN4700-LM","EVERON 4700 PANEL, 1000 ZONES, 64 AREAS, LM, EN GR3","NPI",1343.63]
["EVN4700-MBC","EVERON 4700 MBC FOR REPLACEMENT","NPI",1173.28]
["EVN4700-MM","EVERON 4700 PANEL, 1000 ZONES, 64 AREAS, MM+, EN GR3","NPI",1270.42]
["EVNX700-PSU","EVERON-PSU ,24V 3.2A, POWER SUPPLY FOR AXON PANELS (EVN1700, EVN3700 & EVN4700)","NPI",49.8]
["EVNX700-RETRO","RETROFIT KIT FOR ATSX500 TO EVRON, INCLUDING PSU, CABLES AND BRACKETS","NPI",89.52]
["TVN-1204CS-000","TRUVIS. NVR 12, 4CH., 4POE, 0TB","NPI",261.26]
["TVN-1208-000","TRUVIS. NVR 12, 8 CHANNEL, 0 TB","NPI",286.14]
["TVN-1208S-000","TRUVIS. NVR 12, 8CH., 8POE, 0TB","Mature",360.79]
["TVN-1216-000","TRUVIS. NVR 12, 16 CHANNEL, 0TB","Mature",310.07]
["TVN-1216S-000","TRUVIS. NVR 12, 16CH., 16POE, 0TB","Mature",547.4]
["TVN-2308S-000","TRUVISION NVR 23, 8 CHANNEL, WITH POE PORTS, 0TB","Mature",995.28]
["TVN-2316-000","TRUVISION NVR 23, 16 CHANNEL, 0TB","Mature",976.14]
["TVN-2316P-000","TRUVISION NVR 23, 16 CHANNEL, 2U, 0TB","Mature",1569.48]
["TVN-2316S-000","TRUVISION NVR 23, 16 CHANNEL, WITH POE PORTS, 0TB","Mature",1234.53]
["TVN-2332-000","TRUVISION NVR 23, 32 CHANNEL, 0TB","Mature",1186.68]
["TVN-2332P-000","TRUVISION NVR 23, 32 CHANNEL, 2U, 0TB","Mature",2296.8000000000002]
["TVN-2364P-000","TRUVISION NVR 23, 64 CHANNEL, 2U, 0TB","Mature",2488.1999999999998]
["TVR-1704C-000","TRUVIS. DVR 17, HYBRID, 4 CHANNEL, 0 TB","Sell-out",261.26]
["TVR-1704C-1T","TRUVIS. DVR 17, HYBRID, 4 CHANNEL, 1 TB","Mature",433.52]
["TVR-1704C-2T","TRUVIS. DVR 17, HYBRID, 4 CHANNEL, 2 TB","Mature",456.49]
["TVR-1708-000","TRUVIS. DVR 17, HYBRID, 8 CHANNEL, 0 TB","Sell-out",472.76]
["TVR-1708-2T","TRUVIS. DVR 17, HYBRID, 8 CHANNEL, 2 TB","Mature",667.99]
["TVR-1708-4T","TRUVIS. DVR 17, HYBRID, 8 CHANNEL, 4 TB","Mature",769.43]
["TVR-1716-000","TRUVIS. DVR 17, HYBRID, 16 CHANNEL, 0 TB","Sell-out",845.99]
["TVR-1716-12T","TRUVIS. DVR 17, HYBRID 16 CHANNEL, 12 TB","Sell-out",1707.29]
["TVR-1716-16T","TRUVIS. DVR 17, HYBRID 16 CHANNEL, 16 TB","Sell-out",2013.53]
["TVR-1716-2T","TRUVIS. DVR 17, HYBRID, 16 CHANNEL, 2 TB","Sell-out",1041.22]
["TVR-1716-4T","TRUVIS. DVR 17, HYBRID, 16 CHANNEL, 4 TB","Sell-out",1142.6600000000001]
["TVR-1716-6T","TRUVIS. DVR 17, HYBRID, 16 CHANNEL, 6 TB","Sell-out",1276.6400000000001]
["TVR-1716-8T","TRUVIS. DVR 17, HYBRID 16 CHANNEL, 8 TB","Sell-out",1439.33]
["ATS4500A-IP-LM-HKS49","ATS4500A-IP-LM KIT FOR GERMANY","NPI",{"$error":"#N/A"}]
["SH-21-0200-0001-99","SC SMOKE/HT DETECTOR","Mature",204.26]
["SH-21-BASE-0100","SC SND BASE - RED (10 PACK)","Mature",23.64]
["SH-21-BASE-0200","SC DEVICE / SND BASE ? WHITE (10 PACK)","Mature",23.64]
["SH-22-0200-0001-18","SC SMOKE/HT COMB SND (POL)","Mature",{"$error":"#N/A"}]
["SH-22-0200-0001-99","SC SMOKE/HT COMB SND","Mature",323.45]
["SH-23-0210-0001-99","SC SMOKE/HT COMB SND/VAD RED FLSH","Mature",456.21]
["SH-23-0220-0001-99","SC SMOKE/HT COMB SND/VAD WH FLSH","Mature",456.21]
["SH-31-0100-0001-18","SC SND RED (POL)","Mature",{"$error":"#N/A"}]
["SH-31-0100-0001-99","SC SND RED","Mature",217.9]
["SH-31-0200-0001-99","SC SND WHITE","Mature",217.9]
["SH-32-0110-0001-99","SC SND/WALL VAD RED, RED FLASH","Mature",323.45]
["SH-32-0120-0001-99","SC SND/WALL VAD RED, WHITE FLASH","Mature",323.45]
["SH-32-0210-0001-99","SC SND/WALL VAD WHITE, RED FLASH","Mature",323.45]
["SH-32-0220-0001-99","SC SND/WALL VAD WHITE, WHITE FLASH","Mature",323.45]
["SH-33-0110-0001-99","SC SND/CLNG VAD RED, RED FLASH","Mature",323.45]
["SH-33-0120-0001-99","SC SND/CLNG VAD RED, WHITE FLASH","Mature",323.45]
["SH-33-0210-0001-99","SC SND/CLNG VAD WHITE, RED FLASH","Mature",323.45]
["SH-33-0220-0001-99","SC SND/CLNG VAD WHITE, WHITE FLASH","Mature",323.45]
["SH-41-0200-0001-99","SC DUAL IN / DUAL OUT DEV","Mature",323.45]
["SH-44-0200-0001-99","SC SMARTDOOR WHITE INT","Mature",303.62]
["SH-44-0300-0001-99","SC SMARTDOOR BLACK INT","Mature",303.62]
["SH-51-0100-0001-06","SC FIRE MCP (SWE)","Mature",{"$error":"#N/A"}]
["SH-51-0100-0001-18","SC FIRE MCP (POL)","Mature",{"$error":"#N/A"}]
["SH-51-0100-0001-99","SC FIRE MCP","Mature",204.26]
["SH-51-0300-0001-04","SC FIRE MCP HAUSALARM (GER)","Mature",{"$error":"#N/A"}]
["SH-51-BASE-0100","SC MCP ? BASE RED (10 PACK)","Mature",51.67]
["SH-51-BASE-0300","SC MCP ? BASE BLUE (10 PACK)","Mature",51.67]
["SH-51-KEY-0001","(10-PACK) SC MCP RESET KEYS","Mature",8.93]
["SH-51-TAG-0001","SC MCP SECURITY TAG","Mature",28.6]
["SH-62-0210-0001-99","SC REMOTE INDICATOR","Mature",183.83]
["SH-62-0211-0001-99","SC REMOTE INDICATOR W. FIRE TEXT","Mature",183.83]
["SH-836-000","SC 3.6V LITHIUM BATTERY","Mature",7.17]
["ATS1185","MIFARE READER - BLE - ATS LAN - SLIM FORMAT - EV3","HOLD Sales",333.04]
["ATS1186","MIFARE READER - BLE - PIN - ATS LAN - SLIM FORMAT - EV3","HOLD Sales",455.53]
["ATS1187","MIFARE READER - BLE - ATS LAN - STD FORMAT - EV3","HOLD Sales",346.43]
["ATS1188","MIFARE READER - BLE -PIN - ATS LAN - STD FORMAT - EV3","NPI",476.59]
["2010-2A-F1-MB-A","SPARE PART - EMS (2X-A) - MAIN PCB - 1 L - APOLLO PROTOCOL","Pre-sales",{"$error":"#N/A"}]
["2X-AF1-S-W","ADDR FIRE PNL EMS W/UI, 1L SMALL CABINET","Pre-sales",{"$error":"#N/A"}]
["MLC2-DDM","MULTIMODE SFP MODULE","Mature",173.31]
["ODW-730-F2","FIBER OPTIC MODEM RS-422/485","Mature",1019.78]
["SLC20-DDM","SINGLEMODE SFP MODULE","Mature",479.94]
["140KIT160_AC","KIT 140-160M ANTI-CONDENSATION","NPI",615.02]
["6296","HEAT DETECTOR, WEATHERPROOF IP67, 72?C, CLASS BS","Mature",328.58]
["6297","HEAT DETECTOR, WEATHERPROOF IP67, 87?C, CLASS CS","Mature",385.39]
["70KIT140","EXTENSION KIT 70-140M","Mature",186.13]
["70KIT140_AC","KIT 70-140M ANTI-CONDENSATION","NPI",317.20999999999998]
["ADAPTER","HEAD ADAPTER MOUNT FOR UNISTRUT","Mature",115.45]
["ARC-RX1-JM/BF5-3LA/1","STID READER + KEYPAD HYBRIDE 125KHZ 13,56MHZ WIEGAND 32BITS","NPI",747.24]
["FIREBEAMBLUE","FIREBEAM BLUE COVERS 7-70 m","Mature",758.06]
["FIREBEAMXTRA","FIREBEAM XTRA COVERS 7-70 m","Mature",786.49]
["KE-DBA-IPW","INT ADDR BASE ACC - IP BASE (WHT)","Mature",4.5]
["KE-DBA-RECW","INT ADDR BASE ACC - RECESS BASE (WHT)","Mature",10.91]
["NC-MC-0-G","INT CONV MCP - 0 OHM (GRN)","Mature",22.94]
["NC-MC-0-O","INT CONV MCP - 0 OHM (ORA)","NPI",29.99]
["NC-MC-0-R","INT CONV MCP - 0 OHM (RED)","Mature",21.54]
["NC-MC-0-W","INT CONV MCP - 0 OHM (WHT)","Mature",26.47]
["NC-MC-0-Y","INT CONV MCP - 0 OHM (YEL)","Mature",22.94]
["NC-MC-470-R","INT CONV MCP - 470 OHM (RED)","Mature",21.8]
["NC-MCS99-0-R","INT CONV MCP - EN 0 OHM (RED)","Mature",21.8]
["N-MC-FE","(10 PACK) INT MCP ACC - FRA ELE","Mature",20.329999999999998]
["N-MC-MSS03","(500 X 2 PACK) INT MCP ACC - MTG SCREW UK","NPI",{"$error":"#N/A"}]
["N-MC-RE","INT MCP ACC - RES ELE","Mature",7.04]
["WFA00210N","FIRE RETARDANT CABLE 2 X 1 MM.SQ., PH30, (200 M REEL)","Sell-out",{"$error":"#N/A"}]
["TVR-1816-000","TRUVISION DVR 18, HYBRID 16 CHANNEL, 0 TB","NPI",845.99]
["076800","ZP3 KEYPAD (BLUE)","Mature",{"$error":"#N/A"}]
["1044TW-N","INDUSTRIAL PLASTIC HOUSING/SPDT/WIDE GAP, WHITE","Mature",32.479999999999997]
["1074D-N","1074D RSCD 3/8 DIA FLNG DPDT","Mature",40.450000000000003]
["1076D-G","1 RECESSED STEEL DOOR/DPDT, GRAY","Mature",30.88]
["1076D-N","1 RECESSED STEEL DOOR/DPDT, WHITE","Mature",25.29]
["1078CT-N","3/4 DIA. RECESSED TERMINAL SWITCH STEEL DOOR/CLOSED LOOP, WHITE","Mature",8.3000000000000007]
["1078-G","1 DIA. RECESSED STEEL DOOR/CLOSED LOOP, GRAY","Mature",14.11]
["1078-N","1 DIA. RECESSED STEEL DOOR/CLOSED LOOP, WHITE","Mature",11.78]
["1078W-N","1 DIA. RECESSED STEEL DOOR/CLOSED LOOP/WIDE GAP, WHITE","Mature",11.76]
["1084TW-G","SURFACE TERMINAL/SPDT/WIDE GAP, GRAY","Mature",45.4]
["1085T-N-3K3","SWITCHES,EUROPE ONLY,1085T,BELGIUM W/SPECIAL MARKING 3K3 EOL","Mature",11.75]
["1087T-N","SURFACE TERMINAL/SPDT, WHITE","Mature",13.77]
["1108010","50MTR ANALOGUE BEAM DETECTOR","Mature",{"$error":"#N/A"}]
["1109010","100M ANALOGUE BEAM DETECTOR","Mature",{"$error":"#N/A"}]
["11510-ZT","ZPL1-1 ADD.LABEL 1001-1127","Mature",{"$error":"#N/A"}]
["11520","ZPL1-2 ADD.LABEL 2001-2127","Mature",{"$error":"#N/A"}]
["11530-ZT","ZPL1-3 ADD.LABEL 3001-3127","Mature",{"$error":"#N/A"}]
["11540-ZT","ZPL1-4 ADD.LABEL 4001-4127","Mature",{"$error":"#N/A"}]
["116-BG-21","FACADE STANDALONE IR2 FLAME DET.","Mature",1570.1]
["116-BG-21F","FACADE IR2 FLAME DETECTOR KIT","Mature",1925.61]
["116-BG-DEMOKIT","FACADE DEMO KIT","Mature",1984.85]
["120-2051","(25 PACK) GP2K,BLANK,SC10,26B,LC1","Sell-out",{"$error":"#N/A"}]
["120-3001","MIFARE ISO CARD, NO LOGO PROG","Sell-out",{"$error":"#N/A"}]
["1-21888-K033","TEST WIRE","Mature",85.95]
["1-21888-K063","EXTERNAL FLTER","Mature",407.69]
["1-21888-K064","REPL FOAM ASSY FOR PARTICLE SEPARATOR","Mature",98.55]
["1-21888-K064-P","(6 PACK) FILTER-PACK","Mature",561.66999999999996]
["1-21888-K068","DISCRETE 10MM CAPAILLARY SAMPLE POINT","Mature",1.46]
["1-21888-K074","3/4\" (27MM) RED CAPILLARY KIT -FLUSH","Mature",48.77]
["1-21888-K075","3/4\" (27MM) RED CAPILLARY KIT- CONICAL","Mature",46]
["1-21888-K076","3/4\" (27MM) FLEXIBLE CONNECTOR 1M LONG","Mature",78.2]
["122301","Z-RL3(RIU-02)LED RED \"FIRETEXT","Mature",{"$error":"#N/A"}]
["1-23900-K216","DISCOVERY SOUNDER BEACON BASE","Mature",166.65]
["1-23900-K217","XP95 INTELL OPEN AREA SOUNDER BEACON","Mature",173.65]
["1-23905-K022","SYREX IS-SB INTRINSICALLY SAFE SDR/BEAC","Sell-out",827.68]
["1-23911-K069","FIREBETA XT 3+1 CONTROL PANEL","Mature",1122.8800000000001]
["1-23911-K069DK","FIREBETA XT 3+1 CONTROL PANEL DENMARK","Mature",{"$error":"#N/A"}]
["1-23911-K070","FIREBETA XT ANCILLARY PCB","Mature",425.09]
["1-23911-K071","FIREBETA XT 6 SI","Mature",366.89]
["1-23911-K073","FIREBETA XT 6 SI KEY SW","Mature",400.26]
["1-23911-K075","FIREBETA XT 6 SI KEY SW MAN REL","Mature",433.6]
["1-23911-K085","FIREBETA XT+ 4 ZONE 2 AREA EXT CTRL PA","Mature",2419.69]
["1-23911-K085DK","FIREBETA XT+ (4+2) EXTING PANEL - DANISH","Mature",{"$error":"#N/A"}]
["1-23911-K087","FIREBETA XT+4 ZONE 1 AREA EXT CTRL PANEL","Mature",1901.11]
["1-23911-K087DK","FIREBETA XT+ (4+1) EXTING PANEL - DANISH","Mature",1901.11]
["1-23911-K090","FIREBETA XT+8 ZONE 4 AREA EXT CTRL PANEL","Mature",4402.58]
["1-23911-K109","REPLACEMENT PCB FOR FIREBETA XT (3+1)","Mature",828.91]
["1-23911-K113","REPLACEMENT 4 ZONE PCB FOR FIREBETA XT+","Mature",1343.79]
["1-23911-K114","REPLACEMENT 8 ZONE PCB FOR FIREBETA XT+","Mature",3111.89]
["1-23911-K115","EXTINGUISHING MODULE FOR FIREBETA XT","Mature",1047.6400000000001]
["1-23911-K116","FIREBETA A-XT EXTINGUISHANT CONTROL PANE","Mature",1181.96]
["131601","ZP3 DISPLAY BOARD (CHINESE)","Mature",{"$error":"#N/A"}]
["133011","ZP3U-1L TRAD CHINESE PANEL","Mature",{"$error":"#N/A"}]
["133021","ZP3U-2L TRAD CHINESE PANEL","Mature",{"$error":"#N/A"}]
["133041","ZP3U-4L TRAD CHINESE PANEL","Mature",{"$error":"#N/A"}]
["133101","ZP3U-RDUB1-24 REP PNL(CHINESE)","Mature",{"$error":"#N/A"}]
["13810-ZT","ZP752-2 LINE SOUNDER DRIVER","Mature",{"$error":"#N/A"}]
["140KIT160","EXTENSION KIT 140-160M","Mature",422.51]
["1431BGGMNN","(MOQ 100) HID PROX AND MIFARE CONTACLESS SMART CARD PROGRAMMED WITH 125KHZ AND 13.56 MHZ HID FORMATS. WHITE GLOSS FRONT AND BACK. SEQUENTIAL MATCH INT/EXT ID FOR PROXIMITY, NO SLOT","Mature",11.35]
["1450","RIVELATORE LIQUIDI","Mature",64.099999999999994]
["1-53836-K247EX","AUTO REELER EX STAINLESS STEEL ATEX","Mature",16407.23]
["172101","ZP785-3 FLSH MNT C/P RED ZIT","Sell-out",{"$error":"#N/A"}]
["172201","ZP3-PR2 PANEL PRINTER CHINESE","Mature",{"$error":"#N/A"}]
["177401","ZP755R-2R ROOM SNDR C/W COVER","Mature",{"$error":"#N/A"}]
["177601","ZP755HA-2R OMNI SOUNDER RED","Mature",{"$error":"#N/A"}]
["178001","ZP755HAV-2R HORN SOUNDER/VISUAL INDICATOR (RED)","Mature",{"$error":"#N/A"}]
["178601","ZP755W-2R WEATHERPROOF SOUNDER (RED)","Mature",{"$error":"#N/A"}]
["178701","ZP755WV-2R WEATHERPROOF SOUNDER/VISUAL INDICATOR (RED)","Mature",{"$error":"#N/A"}]
["182101","(15 PACK) ZP3 PIC (SW72001 V3.05) ASSEMBL","Mature",{"$error":"#N/A"}]
["1922-B","1922 THIN MAG FOR 1078","Mature",5.42]
["1-B6782-032","CABLE COLLECTOR RETRACTABLE","Mature",1981.15]
["1-B6782-170","CABLE, COILED, LENGTH 30M","Mature",1140.75]
["1-B6782-189","JCT BOX M20 & M25 GLANDS EEXE (HAWKES)","Mature",409.68]
["1-B6782-190","JCT BOX M20 GLANDS EEXE (HAWKES)","Mature",570.03]
["1-K82024","INLINE JOINTING KIT (PACK OF 10)","Mature",145.44]
["1X-E4-LK-01","CONV FIRE & EVAC PNL COMP - LANG KIT - 4 Z (DUT)","Sell-out",{"$error":"#N/A"}]
["1X-F2","CONV FIRE PNL W/ UI - 2 Z","Sell-out",313.88]
["1X-F2-01","CONVENTIONAL FIRE PANEL WITH USER INTERFACE - 2 ZONE (DUTCH)","Phase-out",{"$error":"#N/A"}]
["1X-F2-04","CONV FIRE PNL W/ UI - 2 Z (GER)","Phase-out",{"$error":"#N/A"}]
["1X-F2-09","CONV FIRE PNL W/ UI - 2 Z (SPA)","Phase-out",295.06]
["1X-F2-10","CONV FIRE PNL W/ UI - 2 Z (ITA)","Phase-out",{"$error":"#N/A"}]
["1X-F2-11","CONVENTIONAL FIRE PANEL WITH USER INTERFACE - 2 ZONE (BELGIAN DUTCH)","Phase-out",{"$error":"#N/A"}]
["1X-F2-18","CONV FIRE PNL W/ UI - 2 Z (POL)","Phase-out",{"$error":"#N/A"}]
["1X-F2-20","CONV FIRE PNL W/ UI - 2 Z (CZE)","Phase-out",{"$error":"#N/A"}]
["1X-F2-21","CONV FIRE PNL W/ UI - 2 Z (POR)","Phase-out",295.06]
["1X-F2-22","CONV FIRE PNL W/ UI - 2 Z (HUN)","Phase-out",{"$error":"#N/A"}]
["1X-F2-32","CONV FIRE PNL W/ UI - 2 Z (FRE/B)","Phase-out",{"$error":"#N/A"}]
["1X-F2-45","CONV FIRE PNL W/ UI - 2 Z (RUM)","Phase-out",{"$error":"#N/A"}]
["1X-F2-99","CONV FIRE PNL W/ UI - 2 Z (ENG INT)","Phase-out",323.56]
["1X-F2-LK-01","CONV FIRE PNL COMP - LANG KIT - 2/4 Z (DUT)","Sell-out",{"$error":"#N/A"}]
["1X-F2-LK-04","CONV FIRE PNL COMP - LANG KIT - 2/4 Z (GER)","Sell-out",{"$error":"#N/A"}]
["1X-F2-LK-05","CONV FIRE PNL COMP - LANG KIT - 2/4 Z (NOR)","Sell-out",{"$error":"#N/A"}]
["1X-F2-LK-09","CONV FIRE PNL COMP - LANG KIT - 2/4 Z (SPA)","Sell-out",29.96]
["1X-F2-LK-10","CONV FIRE PNL COMP - LANG KIT - 2/4 Z (ITA)","Sell-out",{"$error":"#N/A"}]
["1X-F2-LK-11","CONV FIRE PNL COMP - LANG KIT - 2/4 Z (DUT/B)","Sell-out",{"$error":"#N/A"}]
["1X-F2-LK-18","CONV FIRE PNL COMP - LANG KIT - 2/4 Z (POL)","Sell-out",{"$error":"#N/A"}]
["1X-F2-LK-20","CONV FIRE PNL COMP - LANG KIT - 2/4 Z (CZE)","Sell-out",{"$error":"#N/A"}]
["1X-F2-LK-21","CONV FIRE PNL COMP - LANG KIT - 2/4 Z (POR)","Sell-out",30.72]
["1X-F2-LK-22","CONV FIRE PNL COMP - LANG KIT - 2/4 Z (HUN)","Sell-out",{"$error":"#N/A"}]
["1X-F2-LK-27","CONV FIRE PNL COMP - LANG KIT - 2/4 Z (LIT)","Sell-out",{"$error":"#N/A"}]
["1X-F2-LK-28","CONV FIRE PNL COMP - LANG KIT - 2/4 Z (FIN)","Sell-out",{"$error":"#N/A"}]
["1X-F2-LK-32","CONV FIRE PNL COMP - LANG KIT - 2/4 Z (FRE/B)","Sell-out",{"$error":"#N/A"}]
["1X-F2-LK-45","CONV FIRE PNL COMP - LANG KIT - 2/4 Z (ROM)","Sell-out",{"$error":"#N/A"}]
["1X-F2-LK-99","CONV FIRE PNL COMP - LANG KIT - 2/4 Z (ENG INT)","Sell-out",{"$error":"#N/A"}]
["1X-F2-MB","CONV FIRE PNL COMP - MAIN PCB - 2 Z","Sell-out",269.39]
["1X-F2-SC","CONV FIRE PNL W/ UI W/ SCAND KEY - 2 Z","Sell-out",{"$error":"#N/A"}]
["1X-F2-SC-05","CONV FIRE PNL W/ UI W/ SCAND KEY - 2 Z (NOR)","Phase-out",{"$error":"#N/A"}]
["1X-F2-SC-06","CONV FIRE PNL W/ UI W/ SCAND KEY - 2 Z (SWE)","Phase-out",{"$error":"#N/A"}]
["1X-F2-SC-07","CONV FIRE PNL W/ UI W/ SCAND KEY - 2 Z (DAN)","Phase-out",{"$error":"#N/A"}]
["1X-F2-SC-28","CONV FIRE PNL W/ UI W/ SCAND KEY - 2 Z (FIN)","Phase-out",{"$error":"#N/A"}]
["1X-F4","CONV FIRE PNL W/ UI - 4 Z","Sell-out",320.36]
["1X-F4-04","CONV FIRE PNL W/ UI - 4 Z (GER)","Phase-out",{"$error":"#N/A"}]
["1X-F4-09","CONV FIRE PNL W/ UI - 4 Z (SPA)","Phase-out",312.94]
["1X-F4-10","CONV FIRE PNL W/ UI - 4 Z (ITA)","Phase-out",{"$error":"#N/A"}]
["1X-F4-11","CONV FIRE PNL W/ UI - 4 Z (DUT/B)","Phase-out",{"$error":"#N/A"}]
["1X-F4-18","CONV FIRE PNL W/ UI - 4 Z (POL)","Phase-out",{"$error":"#N/A"}]
["1X-F4-20","CONV FIRE PNL W/ UI - 4 Z (CZE)","Phase-out",{"$error":"#N/A"}]
["1X-F4-21","CONV FIRE PNL W/ UI - 4 Z (POR)","Phase-out",312.94]
["1X-F4-22","CONV FIRE PNL W/ UI - 4 Z (HUN)","Phase-out",{"$error":"#N/A"}]
["1X-F4-27","CONV FIRE PNL W/ UI - 4 Z (LIT)","Phase-out",{"$error":"#N/A"}]
["1X-F4-32","CONV FIRE PNL W/ UI - 4 Z (FRE/B)","Phase-out",{"$error":"#N/A"}]
["1X-F4-45","CONV FIRE PNL W/ UI - 4 Z (RUM)","Phase-out",{"$error":"#N/A"}]
["1X-F4-99","CONV FIRE PNL W/ UI - 4 Z (ENG INT)","Phase-out",337.98]
["1X-F4-MB","CONV FIRE PNL COMP - MAIN PCB - 4 Z","Sell-out",293.89]
["1X-F4-SC","CONV FIRE PNL W/ UI W/ SCAND KEY - 4 Z","Sell-out",{"$error":"#N/A"}]
["1X-F4-SC-05","CONV FIRE PNL W/ UI W/ SCAND KEY - 4 Z (NOR)","Phase-out",{"$error":"#N/A"}]
["1X-F4-SC-05-KIT","CONV FIRE PNL SCFB- 4 Z (NOR) - KIT","Phase-out",{"$error":"#N/A"}]
["1X-F4-SC-06","CONV FIRE PNL W/ UI W/ SCAND KEY - 4 Z (SWE)","Phase-out",{"$error":"#N/A"}]
["1X-F4-SC-06-KIT","CONV FIRE PNL SCFB - 4 Z (SWEDISH) - KIT","Phase-out",{"$error":"#N/A"}]
["1X-F4-SC-07","CONV FIRE PNL W/ UI W/ SCAND KEY - 4 Z (DAN)","Phase-out",{"$error":"#N/A"}]
["1X-F4-SC-07-KIT","CONV FIRE PNL SCFB - 4 Z (DAN) - KIT","Phase-out",{"$error":"#N/A"}]
["1X-F4-SC-28","CONV FIRE PNL W/ UI W/ SCAND KEY - 4 Z (FIN)","Phase-out",{"$error":"#N/A"}]
["1X-F4-SC-28-KIT","CONV FIRE PNL SCFB - 4 Z (FIN) - KIT","Phase-out",{"$error":"#N/A"}]
["1X-F8","CONV FIRE PNL W/ UI - 8 Z","Sell-out",439.47]
["1X-F8-04","CONV FIRE PNL W/ UI - 8 Z (GER)","Phase-out",{"$error":"#N/A"}]
["1X-F8-09","CONV FIRE PNL W/ UI - 8 Z (SPA)","Phase-out",367.87]
["1X-F8-10","CONV FIRE PNL W/ UI - 8 Z (ITA)","Phase-out",{"$error":"#N/A"}]
["1X-F8-11","CONV FIRE PNL W/ UI - 8 Z (DUT/B)","Phase-out",{"$error":"#N/A"}]
["1X-F8-21","CONV FIRE PNL W/ UI - 8 Z (POR)","Phase-out",355.43]
["1X-F8-22","CONV FIRE PNL W/ UI - 8 Z (HUN)","Phase-out",{"$error":"#N/A"}]
["1X-F8-27","CONV FIRE PNL W/ UI - 8 Z (LIT)","Phase-out",{"$error":"#N/A"}]
["1X-F8-32","CONV FIRE PNL W/ UI - 8 Z (FRE/B)","Phase-out",{"$error":"#N/A"}]
["1X-F8-45","CONV FIRE PNL W/ UI - 8 Z (RUM)","Phase-out",{"$error":"#N/A"}]
["1X-F8-99","CONV FIRE PNL W/ UI - 8 Z (ENG INT)","Phase-out",423.75]
["1X-F8-LK-01","CONV FIRE PNL COMP - LANG KIT - 8 Z (DUT)","Sell-out",{"$error":"#N/A"}]
["1X-F8-LK-04","CONV FIRE PNL COMP - LANG KIT - 8 Z (GER)","Sell-out",{"$error":"#N/A"}]
["1X-F8-LK-06","CONV FIRE PNL COMP - LANG KIT - 8 Z (SWE)","Sell-out",{"$error":"#N/A"}]
["1X-F8-LK-07","CONV FIRE PNL COMP - LANG KIT - 8 Z (DAN)","Sell-out",{"$error":"#N/A"}]
["1X-F8-LK-09","CONV FIRE PNL COMP - LANG KIT - 8 Z (SPA)","Sell-out",29.96]
["1X-F8-LK-10","CONV FIRE PNL COMP - LANG KIT - 8 Z (ITA)","Sell-out",{"$error":"#N/A"}]
["1X-F8-LK-11","CONV FIRE PNL COMP - LANG KIT - 8 Z (DUT/B)","Sell-out",{"$error":"#N/A"}]
["1X-F8-LK-21","CONV FIRE PNL COMP - LANG KIT - 8 Z (POR)","Sell-out",30.72]
["1X-F8-LK-27","CONV FIRE PNL COMP - LANG KIT - 8 Z (LIT)","Sell-out",{"$error":"#N/A"}]
["1X-F8-LK-32","CONV FIRE PNL COMP - LANG KIT - 8 Z (FRE/B)","Sell-out",{"$error":"#N/A"}]
["1X-F8-LK-45","CONV FIRE PNL COMP - LANG KIT - 8 Z (ROM)","Sell-out",{"$error":"#N/A"}]
["1X-F8-LK-99","CONV FIRE PNL COMP - LANG KIT - 8 Z (ENG INT)","Sell-out",30.72]
["1X-F8-MB","CONV FIRE PNL COMP - MAIN PCB - 8 Z","Sell-out",375.47]
["1X-F8-NL-01","CONV FIRE PNL W/ UI W/ ALM CNTR - 8 Z (DUT)","Phase-out",{"$error":"#N/A"}]
["1X-F8-NL-99","CONV FIRE PNL W/ UI W/ ALM CNTR - 8 Z (ENG INT)","Phase-out",{"$error":"#N/A"}]
["1X-F8-SC","CONV FIRE PNL W/ UI W/ SCAND KEY - 8 Z","Sell-out",{"$error":"#N/A"}]
["1X-F8-SC-06","CONV FIRE PNL W/ UI W/ SCAND KEY - 8 Z (SWE)","Phase-out",{"$error":"#N/A"}]
["1X-F8-SC-07","CONV FIRE PNL W/ UI W/ SCAND KEY - 8 Z (DAN)","Phase-out",{"$error":"#N/A"}]
["1X-X3","CONV FIRE & EXT PNL W/ UI - 3 Z BAS","Sell-out",484.24]
["1X-X3-09","CONV FIRE AND EXT PNL W/ UI - 3 Z BAS (SPA)","Phase-out",515.61]
["1X-X3-11","CONV FIRE AND EXT PNL W/ UI - 3 Z BAS (DUT/B)","Phase-out",{"$error":"#N/A"}]
["1X-X3-19","CONV FIRE & EXT PNL 3 Z (TUR)","Phase-out",{"$error":"#N/A"}]
["1X-X3-21","CONV FIRE AND EXT PNL W/ UI - 3 Z BAS (POR)","Phase-out",515.61]
["1X-X3-32","CONV FIRE AND EXT PNL W/ UI - 3 Z BAS (FRE/B)","Phase-out",{"$error":"#N/A"}]
["1X-X3-36","CONV FIRE AND EXT PNL W/ UI - 3 Z BAS (FRE INT)","Phase-out",{"$error":"#N/A"}]
["1X-X3-99","CONV FIRE AND EXT PL W/ UI - 3 Z BAS (ENG INT)","Phase-out",515.61]
["1X-X3E","Conv Fire & Ext Pnl w/ UI - 3 Z Full Opt","Sell-out",663.38]
["1X-X3E-09","CONV FIRE & EXT PNL W/ UI - 3 Z FULL OPT (SPA)","Phase-out",709.63]
["1X-X3E-11","CONV FIRE & EXT PNL W/ UI - 3 Z FULL OPT (DUT/B)","Phase-out",{"$error":"#N/A"}]
["1X-X3E-99","CONV FIRE & EXT PNL W/ UI - 3 Z FULL OPT (ENG INT)","Phase-out",709.63]
["1X-X3E-MB","Conv Fire & Ext Pnl Comp - Main PCB - 3 Z Full Opt","Sell-out",682.04]
["1X-X3-LK-09","CONV FIRE & EXT PNL COMP - LANG KIT - 3 Z BAS (SPA)","Sell-out",30.72]
["1X-X3-LK-11","CONV FIRE & EXT PNL COMP - LANG KIT - 3 Z BAS (DUT/B)","Sell-out",{"$error":"#N/A"}]
["1X-X3-LK-19","CONV FIRE & EXT LANG KIT (TUR)","Sell-out",{"$error":"#N/A"}]
["1X-X3-LK-21","CONV FIRE & EXT PNL COMP - LANG KIT - 3 Z BAS (POR)","Sell-out",29.96]
["1X-X3-LK-32","CONV FIRE & EXT PNL COMP - LANG KIT - 3 Z BAS (FRE/B)","Sell-out",{"$error":"#N/A"}]
["1X-X3-LK-36","CONV FIRE AND EXT PNL COMP - LANG KIT - 3 Z BAS (FRE INT)","Sell-out",{"$error":"#N/A"}]
["1X-X3-LK-99","CONV FIRE & EXT PNL COMP - LANG KIT - 3 Z BAS (ENG INT)","Sell-out",30.72]
["2000PGGMN","(MOQ 100) ICLASS 2K/2, PRGMD, F-GLOSS, B-GLOSS, MATCH #, NO SLOT","Mature",7.52]
["2001CGGNN","ICLASS CONTACTLESS SMART CARD","Mature",12.83]
["2010-1-NB","CONV FIRE PNL ACC - NETW I/FACE","Mature",345.38]
["2010-1-PS-20","CONVENTIONAL FIRE PANEL COMPONENT - POWER SUPPLY - 2 AMP","Sell-out",110.84]
["2010-1-PS-40","CONVENTIONAL FIRE PANEL COMPONENT - POWER SUPPLY - 4 AMP","Sell-out",184.62]
["2010-1-RB","CONV FIRE PNL ACC - RELAY BOARD - UNSUP","Mature",86.38]
["2010-1-SB","CONV FIRE PNL ACC - RELAY BOARD - SUP","Mature",115.36]
["2010-1X-AE","CONV FIRE & EXT PNL COMP - OP EOL","Mature",17.98]
["2010-2-232-KIT","ADDR FIRE PNL ACC - RS232 KIT","Mature",211.91]
["2010-2-ACC-KIT","ADDR FIRE PNL ACC - ACC KIT","Mature",51.87]
["2010-2A-D-TP","TRANSPARENT FRONT COVER - STANDARD","Mature",{"$error":"#N/A"}]
["2010-2A-D-TP-S","TRANSPARENT FRONT COVER - SMALL","Mature",{"$error":"#N/A"}]
["2010-2A-F1-MB","ADDR FIRE PNL COMP - MAIN PCB - 1 L","Mature",615.27]
["2010-2A-F2-MB","ADDR FIRE PNL COMP - MAIN PCB - 2 L","Mature",919.89]
["2010-2A-FR-MB","ADDR FIRE PNL COMP - MAIN PCB - REP","Mature",{"$error":"#N/A"}]
["2010-2A-LK-01","ADDR FIRE PNL COMP - LANG KIT (DUT)","Mature",{"$error":"#N/A"}]
["2010-2A-LK-05","ADDR FIRE PNL COMP - LANG KIT (NOR)","Mature",{"$error":"#N/A"}]
["2010-2A-LK-06","ADDR FIRE PNL COMP - LANG KIT (SWE)","Mature",{"$error":"#N/A"}]
["2010-2A-LK-07","ADDR FIRE PNL COMP - LANG KIT (DAN)","Mature",{"$error":"#N/A"}]
["2010-2A-LK-09","ADDR FIRE PNL COMP - LANG KIT (SPA)","Mature",39.29]
["2010-2A-LK-10","ADDR FIRE PNL COMP - LANG KIT (ITA)","Mature",{"$error":"#N/A"}]
["2010-2A-LK-11","ADDR FIRE PNL COMP - LANG KIT (FLEM)","Mature",{"$error":"#N/A"}]
["2010-2A-LK-18","ADDR FIRE PNL COMP - LANG KIT (POL)","Mature",{"$error":"#N/A"}]
["2010-2A-LK-19","ADDR FIRE PNL COMP - LANG KIT (TUR)","Mature",{"$error":"#N/A"}]
["2010-2A-LK-21","ADDR FIRE PNL COMP - LANG KIT (POR)","Mature",39.29]
["2010-2A-LK-22","ADDR FIRE PNL COMP - LANG KIT (HUN)","Mature",{"$error":"#N/A"}]
["2010-2A-LK-27","ADDR FIRE PNL COMP - LANG KIT (LIT)","Mature",{"$error":"#N/A"}]
["2010-2A-LK-32","ADDR FIRE PNL COMP - LANG KIT (FRE/B)","Mature",{"$error":"#N/A"}]
["2010-2A-LK-36","ADDR FIRE PNL COMP - LANG KIT (FRE INT)","Mature",{"$error":"#N/A"}]
["2010-2A-LK-45","ADDR FIRE PNL COMP - LANG KIT (RUM)","Mature",{"$error":"#N/A"}]
["2010-2A-LK-46","ADDR FIRE PNL COMP - LANG KIT (GERMAN INT)","Mature",{"$error":"#N/A"}]
["2010-2A-LK-99","ADDR FIRE PNL COMP - LANG KIT (ENG INT)","Mature",39.29]
["2010-2A-PAK-HPL","ADDR FIRE PNL ACC - ARI HIGH POWER LOOP","Mature",340]
["2010-2A-PS-100","ADDR FIRE PNL COMP - PSU - 10A","Mature",{"$error":"#N/A"}]
["2010-2A-PS-60","ADDR FIRE PNL COMP - PSU - 6A","Mature",141.84]
["2010-2A-ZI-20","ADDR FIRE PNL ACC - LED IND - 20 Z","Mature",164.09]
["2010-2A-ZI-24-S","ADDR FIRE PNL ACC - LED IND - 24 Z","Mature",{"$error":"#N/A"}]
["2010-2A-ZI-40","ADDR FIRE PNL ACC - LED IND - 40 Z","Mature",205.02]
["2010-2-DACT","ADDR FIRE PNL ACC - DACT","Sell-out",418.09]
["2010-2F1-MB","ADDR FIRE PNL COMP - MAIN PCB - 1 L","Mature",681.4]
["2010-2F2-MB","ADDR FIRE PNL COMP - MAIN PCB - 2 L","Mature",1002.44]
["2010-2FR-MB","ADDR FIRE PNL COMP - MAIN PCB - REP","Sell-out",878.13]
["2010-2-NB","ADDR FIRE PNL ACC - NETW PCB","Mature",370.76]
["2010-2-OPB-S","ADDR FIRE PNL ACC - OPB SMALL CB","Sell-out",322.2]
["2010-2-PAK-900","ADDR FIRE PNL ACC - LP PROT - 900 SERIES","Mature",672.51]
["2010-2-PAK-NET128","ADDR FIRE PNL ACC - NETW EXP - 32 NODES / 128 LOOPS","Mature",301.01]
["2010-2-PAK-NET256","ADDR FIRE PNL ACC - NETW EXP - 64 NODES / 256 LOOPS","Mature",726.4]
["2010-2-PAK-RMBN","ADDR FIRE PNL ACC-REM MON-BACNET OVER IP","Mature",703.69]
["2010-2-PAK-RMMB","ADDR FIRE PNL ACC-REM MON-MODBUS OVER IP","Mature",703.69]
["2010-2-PAK-RMOH","ADDR FIRE PNL ACC - REM MON - CONTACT ID OVER IP","Mature",143.11000000000001]
["2010-2-PAK-RMSDK","Addr Fire Pnl Acc - Rem Mon - SDK over IP","Mature",529.5]
["2010-2-PCC-CF","ADDR FIRE PNL ACC - PCC - CTRL FUNC","Mature",164.04]
["2010-2-PIB","ADDR FIRE PNL ACC - PERIPH INT PCB","Mature",380.4]
["2010-2-PIB-8I","ADDR FIRE PNL ACC - PERIPH INT PCB 8 IN","Mature",204.36]
["2010-2-PIB-8I8O","ADDR FIRE PNL ACC - PERIPH INT PCB 8 IN / 8 OP","Mature",345.82]
["2010-2-PIB-8O","ADDR FIRE PNL ACC - PERIPH INT PCB 8 OP","Mature",235.76]
["2010-2-PRT","ADDR FIRE PNL ACC - PRT - INTERNAL","Mature",668.2]
["2010-2-PRT-3P","ADDR FIRE PNL ACC - PRT PAPER - 3 ROLS","Mature",62.47]
["2010-2-PS-40N","ADDR FIRE PANEL COMP - UPDATED PSU - 4A","Mature",227.89]
["2010-2T-19","ADDR FIRE PNL ACC - TRIM - 19\" RACK","Mature",322.44]
["2010-2T-19-S","ADDR FIRE PNL ACC - TRIM - 19\" RACK SMALL CAB","Mature",304.73]
["2010-2T-FM","ADDR FIRE PNL ACC - TRIM - FLUSH MNT","Mature",260.29000000000002]
["2010-2T-FM-S","ADDR FIRE PNL ACC - TRIM - FLUSH MNT SMALL CAB","Sell-out",241.98]
["2010-2-UC240-KIT","ADDR FIRE PNL ACC - UC-240(SW) / BOX KIT","Mature",466.24]
["2010-2-ZI-24-1-24","ADDR FIRE PNL ACC - 24 ZONE - ZONE INSERT 1-24","Sell-out",16.309999999999999]
["2010-2-ZI-40-1-20","ADDR FIRE PNL ACC - 40 ZONE - ZONE INSERT 1-20","Sell-out",16.309999999999999]
["2010-C-CEG","FIRE PANEL COMPONENT ??? CABINET CABLE ENTRY GROMMET","Mature",27.31]
["2010-CK","FIRE PNL COMP - KEY & LOCK - CAB","Mature",49.93]
["2010-DL-X","(BOX OF 10) FIRE PNL COMP - DOM LBL - ARITECH","Mature",46.29]
["2010-FS","FIRE PANEL COMPONENT - EN54-13 FAULT SUPERVISION BOARD","Mature",52.73]
["2010-PS-40MC","FIRE PNL COMP - PSU 4A MAINS COVER - 10 PCS","Mature",26.8]
["2010-SK","CONV FIRE PNL COMP - KEY & LOCK (SCAND)","Mature",62.47]
["201301","A51E-1 HIGH VOLTAGE RELAY","Mature",{"$error":"#N/A"}]
["202501-101","A70 CONVENTIONAL INTERFACE","Mature",{"$error":"#N/A"}]
["20-K-05","HID SIGNO 20 SERIES, 0.5 INCH SPACER, BLACK, 20-K-05","Mature",40.549999999999997]
["20-K-10","SIGNO 20/20K READER, 1 INCH SPACER, BLACK","Mature",40.549999999999997]
["20KNKS-00-000000","SIGNO20K, MULLION W/KEYPAD, 13.56MHZ AND 125KHZ, OSDP/WIEGAND, PIGTAIL, MOBILE READY, BLE","Mature",749.34]
["20KTKS-00-000000","SIGNO20K, MULLION W/KEYPAD, 13.56MHZ AND125KHZ, OSDP/WIEGAND, TERMINAL, MOBILE READY, BLE","Mature",704.62]
["20NKS-00-000000","SIGNO20, MULLION, 13.56MHZ AND 125KHZ, OSDP/WIEGAND, PIGTAIL, MOBILE READY, BLE","Mature",371.33]
["20NKS-00-00003F","SIGNO 20,BLK/SLVR,PIG,CRD PFL STD,WIEG,32-B MSB,EM:32-B,LED:RED,SRF:ON,IPM:OFF,VEL:OFF,TAP (REPLACEMENT FOR : 900NTNNEK00342 AND 910NTNNEK00342)","Mature",349.17]
["20NKS-00-00005C","SIGNO 20,BLK/SLVR,PIG,CRD PFL STD,MA ENB,MOB0707,BLE:ON,WIEG,32-B MSB,EM:32-B,LED:RED,FLSH:GRN,BZR,SRF:ON,VEL:OFF,TAP (ONLY FOR CAP GEMINI)","NPI",350.68]
["20NKS-00-0001DC","SIGNO 20,BLK/SLVR,PIG,CRD PFL STD,OSDP,V1,32-B MSB,LED:OFF,FLSH:OFF,NOBZR,SRF:ON,IPM:OFF,VEL:OFF,TAP (REPLACEMENT FOR : 900PTPNEK00340 AND 910PTPNEK00340)","Mature",349.17]
["20NKS-01-000000","SIGNO20, MULLION, SEOS PROFILE , OSDP/WIEGAND, PIGTAIL, MOBILE READY, BLE","Mature",281.32]
["20NKS-02-000000","SIGNO20, MULLION, 13.56MHZ PROFILE , OSDP/WIEGAND, PIGTAIL, MOBILE READY, BLE","Mature",326.32]
["20-S-10","SIGNO 20/20K READER, 1 INCH SPACER, SILVER","Mature",40.549999999999997]
["20TKS-00-000000","SIGNO20, MULLION, 13.56MHZ AND 125KHZ, OSDP/WIEGAND, TERMINAL, MOBILE READY, BLE","Mature",371.33]
["20TKS-01-000000","SIGNO20, MULLION, SEOS PROFILE , OSDP/WIEGAND, TERMINAL, MOBILE READY, BLE","Mature",281.32]
["211","(10 Pack) 400/700/2000 Replacement Chamber","Mature",149.41999999999999]
["2120BGGMNM-C1000","(MOQ 100) 2120BGGMNM  + MC-1000 fee","NPI",17.78]
["2124BGGMNM","(MOQ 100) iCLASS PROX 32K","NPI",20.89]
["2124BGGMNM-C1000","(MOQ 100) 2124BGGMNM + MC-1000 FEE : ICLASS, PROX 32K(16K/16+16K/1),COMP, PROG 125K/ICLASS, F-GL, B-GL, MATCH ICLASS#, NO SLOT, MATCH 125","NPI",21.57]
["2196844","DOORLABELSHEET - MANUAL RELEASE","Mature",12.3]
["2196846","DOORLABELSHEET - EMERGENCY STOP","Mature",12.67]
["2196847","(5 PACK) DOORLABELSHEET - ABORT","Mature",12.67]
["2202AU*-LCXB","2202AU WITH 3FT SPVD ARMRD CABLE WITH 1982 MAGNET","Mature",41.61]
["23701","ZP-PRR PRINTER PAPER (57X50MM)","Mature",{"$error":"#N/A"}]
["2401ST-C","27.6VDC 1A EN54-4 PSU 7AH BATT","Mature",691.34]
["2402ST-E","27.6VDC 2A EN54-4 PSU 17AH BATT","Mature",765.57]
["240315","HME/1021/18/17/11","Mature",94.6]
["240320","HME/5015/11/02/00","Mature",110.88]
["240335","HME/3000/11/01/00","Mature",110.88]
["240345","HME/5015/18/18/11","Mature",94.6]
["240365","HME/9016/18/14/11","Mature",94.6]
["2405ST-65","27.6VDC 2A PSU BUNDLE TO 65AH","Mature",1469.46]
["2405ST-E","27.6VDC 5A EN54-4 PSU17AH BATT","Mature",840.06]
["2405ST-H","27.6VDC 5A EN54-4 PSU 38AH BATT","Mature",1272.06]
["24201","ZP-PRC RIB CAR (EPSON ERC-09 B) RIB-EPF-002-009","Mature",{"$error":"#N/A"}]
["249687","(10 PACK) SCHL-HME/10STK","Mature",79.98]
["2706AP-L","HIGH SECURITY REMOTE TEST ALARM LOOP/SPDT","Mature",308.52]
["2X-AD","ADDR FIRE PNL COMP - DOOR W/ UI","Mature",359.82]
["2X-AD-FB","ADDR FIRE PNL COMP - DOOR W/ UI W/ FB2 CTRL","Mature",{"$error":"#N/A"}]
["2X-AD-S","ADDR FIRE PNL COMP - DOOR W/ UI SMALL CAB","Mature",{"$error":"#N/A"}]
["2X-AD-SCFB","ADDR FIRE PNL COMP - DOOR W/ UI W/ SS3654 FB CTRL (SCD)","Mature",{"$error":"#N/A"}]
["2X-AD-SCFB-S","ADDR FIRE PNL COMP - DOOR W/ UI W/ SS3654 FB CTRL SMALL CAB (SCD)","Mature",{"$error":"#N/A"}]
["2X-AE1","ADDR FIRE & EVAC PNL W/ UI W/ FB CTRL - 1 L","Mature",1018.39]
["2X-AE2","ADDR FIRE & EVAC PNL W/ UI W/ FB CTRL - 2 L","Mature",1435.88]
["2X-AE2-01","ADDR FIRE & EVAC PNL W/ UI W/ FB CTRL - 2 L (DUT)","Mature",{"$error":"#N/A"}]
["2X-AE2-P","ADDR FIRE & EVAC PNL - 2L, W/ BIGGER PSU","Mature",2211.14]
["2X-AER-C","ADDR FIRE & EVAC PNL REP - COMP","Mature",{"$error":"#N/A"}]
["2X-AF1","ADDR FIRE PNL W/ UI - 1 L","Mature",856.79]
["2X-AF1-10","ADDR FIRE PNL W/ UI - 1 L (ITA)","Mature",{"$error":"#N/A"}]
["2X-AF1-19","ADDR FIRE PNL W/ UI - 1 L (TUR)","Mature",{"$error":"#N/A"}]
["2X-AF1-21","ADDR FIRE PNL W/ UI - 1 L (POR)","Mature",891.28]
["2X-AF1-99","ADDR FIRE PNL W/ UI - 1 L (ENG INT)","Mature",{"$error":"#N/A"}]
["2X-AF1-FB","ADDR FIRE PNL W/ UI W/ FB CTRL - 1 L","Mature",{"$error":"#N/A"}]
["2X-AF1-FB-10","ADDR FIRE PNL W/ UI W/ FB CTRL - 1 L (ITA)","NPI",{"$error":"#N/A"}]
["2X-AF1-FB-22","ADDR FIRE PNL W/ UI W/ FB CTRL - 1 L (HUN)","Mature",{"$error":"#N/A"}]
["2X-AF1-FB-45","ADDR FIRE PNL W/ UI W/ FB CTRL - 1 L (RUM)","Mature",{"$error":"#N/A"}]
["2X-AF1-FB-S","ADDR FIRE PNL W/ UI W/ FB CTRL - 1 L SMALL CAB","Mature",919.85]
["2X-AF1-FB-S-10","ADDR FIRE PNL W/ UI W/ FB CTRL- 1 L SMALL CAB (ITA)","NPI",{"$error":"#N/A"}]
["2X-AF1-S","ADDR FIRE PNL W/ UI - 1 L SMALL CAB","Mature",891.9]
["2X-AF1-S-09","ADDR FIRE PNL W/ UI - 1 L SMALL CAB (SPA)","Mature",926.38]
["2X-AF1-S-10","ADDR FIRE PNL W/ UI - 1 L SMALL CAB (ITA)","Mature",{"$error":"#N/A"}]
["2X-AF1-S-21","ADDR FIRE PNL W/ UI - 1 L SMALL CAB (POR)","Mature",926.38]
["2X-AF1-S-99","ADDR FIRE PNL W/ UI - 1 L SMALL CAB (ENG INT)","Mature",{"$error":"#N/A"}]
["2X-AF1-SCFB","ADDRESSABLE FIRE PANEL WITH USER INTERFACE WITH SS3654 FIRE BRIGADE CONTROLS - 1 LOOP (SCANDINAVIA)","Mature",{"$error":"#N/A"}]
["2X-AF1-SCFB-06","ADDR FIRE PNL W/ UI W/ W/ SS3654 FB CTRL - 1 L (SCD SWE)","Mature",{"$error":"#N/A"}]
["2X-AF1-SCFB-S","ADDR FIRE PNL W/ UI W/ SS3654 FB CTRL - 1 L SMALL CAB (SCD)","Mature",{"$error":"#N/A"}]
["2X-AF2","ADDR FIRE PNL W/ UI - 2 L","Mature",1218.8499999999999]
["2X-AF2-09","ADDR FIRE PNL W/ UI - 2 L (SPA)","Mature",1253.3399999999999]
["2X-AF2-10","ADDR FIRE PNL W/ UI - 2 L (ITA)","Mature",{"$error":"#N/A"}]
["2X-AF2-19","ADDR FIRE PNL W/ UI - 2 L (TUR)","Mature",{"$error":"#N/A"}]
["2X-AF2-21","ADDR FIRE PNL W/ UI - 2 L (POR)","Mature",1253.3399999999999]
["2X-AF2-99","ADDR FIRE PNL W/ UI - 2 L (ENG INT)","Mature",{"$error":"#N/A"}]
["2X-AF2-FB","ADDR FIRE PNL W/ UI W/ FB CTRL - 2 L","Mature",1320.25]
["2X-AF2-FB-10","ADDR FIRE PNL W/ UI W/ FB CTRL - 2 L (ITA)","NPI",{"$error":"#N/A"}]
["2X-AF2-FB-11","ADDR FIRE PNL W/ UI W/ FB CTRL - 2 L (DUT/B)","Mature",{"$error":"#N/A"}]
["2X-AF2-FB-32","ADDR FIRE PNL W/ UI W/ FB CTRL - 2 L (FRE/B)","Mature",1354.75]
["2X-AF2-FB-45","ADDR FIRE PNL W/ UI W/ FB CTRL - 2 L (RUM)","Mature",{"$error":"#N/A"}]
["2X-AF2-FB-46","ADDR FIRE PNL W/ UI W/ FB CTRL - 2 L (GER INT)","Mature",{"$error":"#N/A"}]
["2X-AF2-FB-P","ADDR FIRE PNL W/ UI W/ FB CTRL- 2L, W/ BIGGER PSU","Mature",1678.69]
["2X-AF2-FB-P-10","ADDR FIRE PNL W/ UI W/ FB CTRL- 2L, W/ BIGGER PSU (ITA)","NPI",{"$error":"#N/A"}]
["2X-AF2-FB-PRT","ADDR FIRE PNL W/ UI W/ FB CTRL - 2 L W/ PRT","Mature",2307.44]
["2X-AF2-FB-PRT-P","ADDR FIRE PNL W/ UI W/ FB CTRLW/ PRINTER - 2L, W/ BIGGER PSU","Mature",2296.17]
["2X-AF2-FB-P-W-99","ADDR FIRE PNL EMS W/ UI W/ FB CTRL- 2L, W/ BIGGER PSU","NPI",{"$error":"#N/A"}]
["2X-AF2-FB-S","ADDR FIRE PNL W/ UI W/ FB CTRL - 2 L SMALL CAB","Mature",1320.25]
["2X-AF2-FB-S-W-99","ADDR FIRE PNL EMS W/ UI W/ FB CTRL - 2L SMALL CAB","NPI",{"$error":"#N/A"}]
["2X-AF2-FB-W-99","ADDR FIRE PNL EMS W/ UI W/ FB CTRL - 2L CAB","NPI",{"$error":"#N/A"}]
["2X-AF2-P","ADDR FIRE PNL - 2L, W/ BIGGER PSU","Mature",1577.29]
["2X-AF2-PRT","ADDR FIRE PNL W/ UI - 2 L W/ PRT","Mature",1890.1]
["2X-AF2-PRT-P","ADDR FIRE PNL W/ PRINTER - 2L, W/ BIGGER PSU","Mature",2248.54]
["2X-AF2-S","ADDR FIRE PNL W/ UI - 2 L SMALL CAB","Mature",1218.8499999999999]
["2X-AF2-S-09","ADDR FIRE PNL W/ UI - 2 L SMALL CAB (SPA)","Mature",1253.3399999999999]
["2X-AF2-SCFB","ADDR FIRE PNL W/ UI W/ SS3654 FB CTRL - 2 L (SCD)","Mature",{"$error":"#N/A"}]
["2X-AF2-SCFB-06","ADDR FIRE PNL W/ UI W/ W/ SS3654 FB CTRL - 2 L (SCD SWE)","Mature",{"$error":"#N/A"}]
["2X-AF2-SCFB-P","ADDR FIRE PNL SCANDINAVIAN VERSION - 2L, W/ BIGGER PSU","Mature",{"$error":"#N/A"}]
["2X-AF2-SCFB-S","ADDR FIRE PNL W/ UI W/ SS3654 FB CTRL - 2 L SMALL CAB (SCD)","Mature",{"$error":"#N/A"}]
["2X-AFR","ADDR FIRE PNL REP","Mature",1067.6600000000001]
["2X-AFR-19","ADDR FIRE PNL REP (TUR)","Mature",{"$error":"#N/A"}]
["2X-AFR-C","ADDR FIRE PNL REP - COMP","Mature",893.76]
["2X-AFR-C-10","ADDR FIRE PNL REP - COMP (ITA)","Mature",{"$error":"#N/A"}]
["2X-AFR-D-C","ADDR FIRE PNL DELAY UNIT - COMP","Mature",{"$error":"#N/A"}]
["2X-AFR-FB","ADDR FIRE PNL REP W/ FB CTRL","Mature",{"$error":"#N/A"}]
["2X-AFR-FB-C","ADDR FIRE PNL REP W/ FB CTRL - COMP","Mature",{"$error":"#N/A"}]
["2X-AFR-FB-C-10","ADDR FIRE PNL REP W/ FB CTRL - COMP (ITA)","NPI",{"$error":"#N/A"}]
["2X-AFR-FB-C-46","ADDR FIRE PNL REP W/ FB CTRL - COMP (GER INT)","Mature",{"$error":"#N/A"}]
["2X-AFR-FB-S","ADDR FIRE PNL REP W/ FB CTRL SMALL CAB","Mature",{"$error":"#N/A"}]
["2X-AFR-FB-S-10","ADDR FIRE PNL REP W/ FB CTRL SMALL CAB (ITA)","NPI",{"$error":"#N/A"}]
["2X-AFR-FB-S-11","ADDR FIRE PNL REP W/ FB CTRL SMALL CAB (DUT/B)","Mature",{"$error":"#N/A"}]
["2X-AFR-FB-S-32","ADDR FIRE PNL REP W/ FB CTRL SMALL CAB (FRE/B)","Mature",{"$error":"#N/A"}]
["2X-AFR-FB-S-99","ADDR FIRE PNL REP W/ FB CTRL SMALL CAB (ENG INT)","Mature",{"$error":"#N/A"}]
["2X-AFR-S","ADDR FIRE PNL REP SMALL CAB","Mature",1114.1099999999999]
["2X-AFR-S-10","ADDR FIRE PNL REP SMALL CAB (ITA)","Mature",{"$error":"#N/A"}]
["2X-AFR-S-21","ADDR FIRE PNL REP SMALL CAB (POR)","Mature",1148.5999999999999]
["2X-AFR-SCFB-C","ADDR FIRE PNL REP W/ SS3654 FB CTRL - COMP (SCD)","Mature",{"$error":"#N/A"}]
["2X-A-KIT-SA-1L","2X -1L- FIRE PANEL AND 40 ZONES IND -BAT","Mature",{"$error":"#N/A"}]
["2X-A-LB","ADDR FIRE PNL ACC - LOOP EXP PCB - 2 L","Mature",618.26]
["2X-A-LB-W","ADDR FIRE PNL ACC ? EMS LOOP WIRELESS","NPI",557.57000000000005]
["2X-AT-D","SPARE PART - ARIEL TOUCH DOOR","NPI",525.35]
["2X-AT-D-FB","SPARE PART - ARIEL TOUCH DOOR - FIRE BRIGADE","NPI",{"$error":"#N/A"}]
["2X-AT-D-FB-S","SPARE PART - ARIEL TOUCH DOOR - FIRE BRIGADE - SMALL CABINET","NPI",{"$error":"#N/A"}]
["2X-AT-D-S","SPARE PART - ARIEL TOUCH DOOR - SMALL CABINET","NPI",506.83]
["2X-AT-F2","ADDR FIRE PNL TOUCH SCREEN W/ UI - 2 L","Mature",1539.86]
["2X-AT-F2-FB","ADDR FIRE PNL TOUCH SCREEN W/ UI W/ FB CTRL - 2 L SMALL CAB","Mature",1642.75]
["2X-AT-F2-FB-P","ADDR FIRE PNL TOUCH SCREEN W/ UI W/ FB CTRL - 2 L BIG PSU","Mature",2056.98]
["2X-AT-F2-FB-S","ADDR FIRE PNL TOUCH SCREEN W/ UI W/ FB CTRL - 2 L SMALL CAB","Mature",1642.75]
["2X-AT-F2-P","ADDR FIRE PNL TOUCH SCREEN W/ UI - 2 L BIG PSU","Mature",1954.09]
["2X-AT-F2-S","ADDR FIRE PNL TOUCH SCREEN W/ UI - 2 L SMALL CAB","Mature",1539.86]
["2X-AT-FR","ADDR FIRE PNL TOUCH SCREEN REP","Mature",1386.47]
["2X-AT-FR-FB","ADDR FIRE PNL TOUCH SCREEN REP W/ FB CTRL - SMALL CAB","Mature",1623.92]
["2X-AT-FR-FB-S","ADDR FIRE PNL TOUCH SCREEN REP W/ FB CTRL","Mature",1497.53]
["2X-AT-FR-S","ADDR FIRE PNL TOUCH SCREEN REP - SMALL CAB","Mature",1433.58]
["2X-D-FB-S","ADDR FIRE PNL COMP - DOOR W/ UI W/ FB CTRL SMALL CAB","Sell-out",366.37]
["2X-F1","ADDR FIRE PNL W/ UI - 1 L","Sell-out",846.79]
["2X-F1-09","ADDR FIRE PNL W/ UI - 1 L (SPA)","Phase-out",1015.27]
["2X-F1-FB2-46","ADDR FIRE PNL W/ UI W/ FB CTRL - 1 L (GER INT)","Obsolete",{"$error":"#N/A"}]
["2X-F1-FB2-S-46","ADDR FIRE PNL W/ UI W/ FB CTRL - 1 L SMALL CAB (GER INT)","Obsolete",{"$error":"#N/A"}]
["2X-F1-S","ADDR FIRE PNL W/ UI - 1 L SMALL CAB","Sell-out",982.22]
["2X-F2","ADDR FIRE PNL W/ UI - 2 L","Sell-out",1225.58]
["2X-F2-19","ADDR FIRE PNL W/ UI - 2 L (TUR)","Phase-out",{"$error":"#N/A"}]
["2X-F2-FB2-46","ADDR FIRE PNL W/ UI W/ FB CTRL - 2 L (GER INT)","Sell-out",{"$error":"#N/A"}]
["2X-F2-FB2-PRT-46","ADDR FIRE PNL W/ UI W/ FB CTRL - 2 L W/ PRT (GER INT)","Obsolete",{"$error":"#N/A"}]
["2X-F2-FB2-S-46","ADDR FIRE PNL W/ UI W/ FB CTRL - 2 L SMALL CAB (GER INT)","Obsolete",{"$error":"#N/A"}]
["2X-F2-S","ADDR FIRE PNL W/ UI - 2 L SMALL CAB","Sell-out",1225.58]
["2X-F2-S-09","ADDR FIRE PNL W/ UI - 2 L SMALL CAB (SPA)","Phase-out",1441.13]
["2X-FR","ADDR FIRE PNL REP","Sell-out",1073.57]
["2X-FR-19","ADDR FIRE PNL W/ UI - 2 L (TUR)","Phase-out",{"$error":"#N/A"}]
["2X-FR-FB2-46","ADDR FIRE PNL REP W/ FB CTRL (GER INT)","Obsolete",{"$error":"#N/A"}]
["2X-FR-FB2-S-46","ADDR FIRE PNL REP W/ FB CTRL SMALL CAB (GER INT)","Obsolete",{"$error":"#N/A"}]
["2X-LB","ADDR FIRE PNL ACC - LOOP EXP PCB - 2 L","Phase-out",592.95000000000005]
["2X-LK-01","ADDR FIRE PNL COMP - LANG KIT (DUT)","Sell-out",{"$error":"#N/A"}]
["2X-LK-06","ADDR FIRE PNL COMP - LANG KIT (SWE)","Sell-out",{"$error":"#N/A"}]
["2X-LK-09","ADDR FIRE PNL COMP - LANG KIT (SPA)","Sell-out",36.270000000000003]
["2X-LK-10","ADDR FIRE PNL COMP - LANG KIT (ITA)","Sell-out",{"$error":"#N/A"}]
["2X-LK-18","ADDR FIRE PNL COMP - LANG KIT (POL)","Sell-out",{"$error":"#N/A"}]
["2X-LK-19","ADDR FIRE PNL COMP - LANG KIT (TUR)","Sell-out",{"$error":"#N/A"}]
["2X-LK-99","ADDR FIRE PNL COMP - LANG KIT (ENG INT)","Sell-out",{"$error":"#N/A"}]
["2X-UI","ADDR FIRE PNL COMP - UI PCB","Sell-out",333.78]
["2X-ZI-20","ADDR FIRE PNL ACC - LED IND - 20 Z","Sell-out",139.58000000000001]
["2X-ZI-24-S","ADDR FIRE PNL ACC - LED IND - 24 Z","Sell-out",139.58000000000001]
["2X-ZI-40","ADDR FIRE PNL ACC - LED IND - 40 Z","Sell-out",174.4]
["3000-026","ADDITIONAL DETECTOR SET FOR END-TO-END BEAM SMOKE DETECTOR 5-100M, FLAME PROOF","Mature",5584.63]
["3000-115","END-TO-END BEAM SMOKE DETECTOR 5 - 100M, FLAME PROOF","Mature",6662.24]
["3012-N","RECESSED CLIP MOUNT PLUNGER","Mature",16.350000000000001]
["3040-W","SURFACE MOUNT PANIC SWITCH/SPDT - LATCHING LED","Mature",47.71]
["3045-W","SURFACE MOUNT PANIC SWITCH/SPST - NO LED","Mature",41.97]
["310001","USB-MAESTRO DONGLE TO ENABLE FULL MAESTRO OPERATION (USB)","Mature",{"$error":"#N/A"}]
["40-K-10","SIGNO 40/40K READER, 1 INCH SPACER, BLACK","Mature",40.549999999999997]
["40KNKS-00-000000","SIGNO40K, WALL MOUNT W/KEYPAD, 13.56MHZ AND 125KHZ, OSDP/WIEGAND, PIGTAIL, MOBILE READY, BLE","Mature",749.34]
["40KNKS-00-00192X","SIGNO 40K,BLK/SLVR,PIG,CRD PFL STD,BLE:ON,OSDP,V2,32-B MSB,EACH,ASCII,NOPAR,LEN:13,FC:0,EM:32-B,LED:OFF,FLSH:OFF,NOBZR,KBD:RED,KBZR,VIS:ON,SRF:ON,VEL:OFF,TAP","NPI",747.83]
["40NKS-00-000000","SIGNO40, WALL MOUNT, 13.56MHZ AND125KHZ, OSDP/WIEGAND, PIGTAIL, MOBILE READY, BLE","Mature",454.95]
["40NKS-00-00192X","SIGNO 40,BLK/SLVR,PIG,CRD PFL STD,BLEMA,BLEMG,NFCMG,OSDP,V2,32-B MSB,EM:32-B,LED:OFF,FLSH:OFF,NOBZR,SRF:ON,VEL:OFF,TAP","NPI",454.08]
["40NKS-02-000000","SIGNO40, WALL MOUNT, 13.56MHZ PROFILE , OSDP/WIEGAND, PIGTAIL, MOBILE READY, BLE","Mature",401.42]
["40TKS-00-000000","HID SIGNO READER 40, BLACK BODY, SILVER TRIM, TERMINAL, CREDENTIAL PROFILE 00 - STANDARD","Mature",454.95]
["47102","ZP3AB-SCB-R CONTROL BUS RECIVE","Mature",{"$error":"#N/A"}]
["48202","ZP3AB-SCB-D BUS DRIVER EN54","Mature",{"$error":"#N/A"}]
["48501","ZP3AB-NET1 NETWORK INTERFACE","Mature",{"$error":"#N/A"}]
["48601","ZP3AB-RS232 COMMUNICATIONS BOARD RS232","Mature",{"$error":"#N/A"}]
["48701","ZP3AB-MA8 OUTPUT BRD","Mature",{"$error":"#N/A"}]
["48801","ZP3AB-RL8 RELAY BOARD","Mature",{"$error":"#N/A"}]
["49901","ZP3 COMMS BOARD","Mature",{"$error":"#N/A"}]
["5000-007","FIRERAY PRISM PLATE (LONG RANGE)","NPI",184.06]
["5000-008","FIRERAY PRISM PLATE","NPI",175.71]
["5006PGGMN","(MOQ 100) HID CARD - COMPOSITE ICLASS SEOS CONTACTLESS SMART CARD 8 KB MEMORY, PROG., F-GLOSS, B-GLOSS, MATCH. ICLASS NUMBER, NO SLOT, LAM","Mature",7.11]
["51-0003-FG","40VA TRANSFORMER IN CARTON","Mature",55.96]
["5150-M","TWO-WIRE SHOCK SENSOR/10 FT. R","Mature",17.39]
["5150-W","TWO-WIRE SHOCK SENSOR/10 FT. RANGE, WHITE","Mature",16.86]
["5501-M","PROCESSOR FOR MOISTURE SENSOR","Mature",82.99]
["5515-G","SURFACE MOUNT MOISTURE SENSOR","Mature",34.270000000000003]
["5812AES1-W","5812AE BELGIUM LABEL REQ","Mature",60.29]
["5815NT-ART","EUROPEAN,PRIVATE,LABELED,5815NT,SHATTERPRO III","Mature",65.290000000000006]
["5822A-W","SHATTERPRO II RECESS MOUNTS IN","Mature",82.29]
["584503-W","SHATTERPRO 3V","Mature",82.22]
["60019","(2 KEYS = QTY 1) SPARE KEYS FOR PANELS (60019)","Mature",{"$error":"#N/A"}]
["6005-BGB00","PROXPOINT GRAY READER PIGTAIL","Mature",303.77999999999997]
["600TGGNN","(MOQ 100) HID ISO CARD, COMPOSITE, UHF INITIALIZED, WHITE","Mature",11.93]
["60-190-25PKG","(25 PACK) SX-V DWS MAGNET SPACER, BROWN","Mature",23.13]
["6020-100","FIRERAY HUB REFL BM SYST","NPI",1371.91]
["6030-100","FIRERAY HUB REFL BM DET","NPI",1162.6300000000001]
["6295","HEAT DETECTOR, WEATHERPROOF IP67, 57?C, CLASS A2S","Mature",287.02]
["6298","HEAT DETECTOR, WEATHERPROOF IP67, 117?C, CLASS ES","Mature",404.65]
["63601","ZP3-DB1 DISPLAY BRD","Mature",{"$error":"#N/A"}]
["63701","ZP3 50 ZONE LCD BOARD","Mature",{"$error":"#N/A"}]
["63802N","ZP3-CPU PROCESSOR BOARD","Mature",{"$error":"#N/A"}]
["6910P","MINI OUTDOOR PIR","Mature",179.36]
["6930AMP-SB","SWIVEL BRACKET FOR OUTDOOR CURTAIN DETECTOR 6930AMP SERIES","Sell-out",24.83]
["6931P","MINI OUTDOOR MOTION SENSOR, DUAL TECHNOLOGY, 24GHZ","Mature",314.87]
["6932AMP-SB","SWIVEL BRACKET IN WHITE COLOR","Mature",23.45]
["6932AMP-TB","T-BRACKET IN WHITE COLOR","Mature",12.66]
["6941AMP","OUTDOOR CURTAIN DETECTOR, TRIPLE TECHNOLOGY, PIR, RADAR & ACTIVE INFRARED, 24 GHZ","Sell-out",216.37]
["6943AMP","OUTDOOR WIRED DUAL TECHNOLOGY CURTAIN DETECTOR WITH ANTIMASKING 24GHZ","Mature",148.11000000000001]
["69902","ZP3AB-OP24 TRANS OUTPUT BRD","Mature",{"$error":"#N/A"}]
["70002","ZP3 ACCESSORY BOX EN54","Mature",{"$error":"#N/A"}]
["70011.101","ZP3 ACCESSORY CHASSIS ASSEMBLY","Mature",{"$error":"#N/A"}]
["70802","ZP755-COV-R FRONT COV RED","Sell-out",{"$error":"#N/A"}]
["710-KS1022-2-00","SWITCH + KEY FOR KEYLOCK S102-2","Mature",{"$error":"#N/A"}]
["71305N","ZP3-1L 1 LOOP ANALOGUE CONTROL PANEL, RED","Mature",{"$error":"#N/A"}]
["71401N","ZP3-2L 2 LOOP ANALOGUE CONTROL PANEL, ENGLISH","Mature",{"$error":"#N/A"}]
["71403N","ZP3-2L 2 LOOP ANALOGUE CONTROL PANEL, SPANISH","Mature",{"$error":"#N/A"}]
["71405N","ZP3-2L 2 LOOP ANALOGUE CONTROL PANEL, RED","Mature",{"$error":"#N/A"}]
["71501N","ZP3-4L 4 LOOP ANALOGUE CONTROL PANEL, ENGLISH","Mature",{"$error":"#N/A"}]
["71503N","ZP3-4L 4 LOOP ANALOGUE CONTROL PANEL, SPANISH","Mature",{"$error":"#N/A"}]
["71505N","ZP3-4L 4 LOOP ANALOGUE CONTROL PANEL, RED","Mature",{"$error":"#N/A"}]
["71601","ZP3-RDUB1 REPEATER PNL ZITON","Mature",{"$error":"#N/A"}]
["71603","ZP3-RDUB1 REPEATER SPANISH","Mature",{"$error":"#N/A"}]
["722-LAS37B-2-0","CAM LOCK FOR PANELS","Mature",{"$error":"#N/A"}]
["76102","ZP3 FLUSHING COLLAR EN54","Mature",{"$error":"#N/A"}]
["78301","ZP3-AC1 AUXILLARY CHASSIS","Mature",{"$error":"#N/A"}]
["80001-ZT","ZP-ECU-3 EXTINGUISHING CONTROL UNIT","Sell-out",{"$error":"#N/A"}]
["80101-ZT","ZP-ECUS-3 EXTINGUISHING STATUS UNIT","Sell-out",{"$error":"#N/A"}]
["801FPGGAN","(MOQ 100) COMPOSITE MIFARE DESFIRE EV3 8K, PROG SIO COMPATIBILITY, F-GLOSS, B-GLOSS, LASER MATCH #, NO SLOT (MINIMUM ORDER QUANTITY OF 100. ALWAYS ORDER IN MULTIPLES OF 100.)","NPI",9.2100000000000009]
["801FPGGAN-C1000","(MOQ 100) 801FPGGAN + MC-1000 FEE :HID COMPOSITE MIFARE DESFIRE EV3 8K,PROG SIO COMPATIBILITY,F-GLOSS,B-GLOSS,LASER MATCH#,NO SLOT,(MINIMUM ORDER 100.ALWAYS ORDER IN MULTIPLES OF 100),INCLUDING CORPORATE 1000 FEE","NPI",10]
["80301","ZP3-ECM2 Extinguishing Control Main Board","Sell-out",{"$error":"#N/A"}]
["80801N","ZP3-MB2C-230-1L 1 LOOP MAIN BOARD CHASSIS","Mature",{"$error":"#N/A"}]
["80802N","ZP3-MB2C-230-2L 2 LOOP MAIN BOARD CHASSIS","Mature",{"$error":"#N/A"}]
["80803N","ZP3-MB2C-230-4L 4 LOOP MAIN BOARD CHASSIS","Mature",{"$error":"#N/A"}]
["81901","ZP3-RDU-DB1 REAP PNL MAIN BRD","Mature",{"$error":"#N/A"}]
["84301/BLK","ZP7-SB1 SURFACE BASE BLACK","Mature",{"$error":"#N/A"}]
["9-10900","RED ABS TUBE CLASS E 3 MT 26.7MM","Mature",16.600000000000001]
["9-10905","RED ABS 45 DEG.ELBOW 3/4\" \"","Mature",3.08]
["9-10906","RED ABS 90 RADIUS BEND 3/4\" \"","Mature",9.0299999999999994]
["9-10908","RED ABS PLAIN SOCKET 3/4\"","Mature",1.56]
["9-10909","RED ABS TEE 3/4\" \"","Mature",3.14]
["9-10913","BULKHEAD SAMPLING POINT 10 MM","Mature",82.2]
["9-10914","SAMPLING PLUG WHITE 10MM TUBE","Mature",14.23]
["9-10915","RED ABS SOCKET UNION 3/4\" \"","Mature",10.53]
["9-10916","BULKHEAD SAMPLING POINT INLINE ASSEMBLY","Mature",64.41]
["9-10918","DISCREET POINT SAMPLING POINT ASSEMBLY - TEE","Mature",46.05]
["9-10919","PATRESS SAMPLING POINT","Mature",40.840000000000003]
["9-10921","PLAIN CALIBRATED POINT ASSEMBLY","Mature",55.97]
["9-10922","END OF LINE ADAPTOR ASSY.","Mature",20.309999999999999]
["9-10925","IN-LINE SAMPLING POINT ASSEMBLY","Mature",57.38]
["9-10927","RED ABS END CAP 3/4\" \"","Mature",2.12]
["9-10928","PATTRESS POINT ASSEMBLY","Mature",75.319999999999993]
["9-10930","3/4 INCH / 10MM RED CAPILLARY TEE","Mature",20.29]
["9-10931","3/4\"-25MM ADAPTOR RED ABS","Mature",2.12]
["9-10933","HOLE REPAIR SADDLE","Mature",5.51]
["9-10936-25","(25 PACK) PIPE CLIP W. STAND-OFF - RED","Mature",695.09]
["9-10943","SAMPLING POINT STEM ADAPTOR","Mature",40.54]
["9-10944","90DEG PATTRESS SAMPLING POINT","Mature",46.81]
["9-10945","INLINE SAMPLE POINT ASSEMBLY","Mature",76.349999999999994]
["9-10946","3/4\" FEMALE TO 25MM MALE ADAPTOR","Mature",6.27]
["9-10947","RT ANGLE INLINE PATTRESS POINT ASSEMBLY","Mature",68.13]
["9-10950","ABS CEMENT 250ML ( CLEAR )","Mature",27.12]
["9-10951","MEK PIPE CLEANER 500ML","Mature",28.96]
["9-10952","25MM FEMALE TO 3/4\" MALE ADAPTOR","Mature",11.14]
["9-10954","CLIC TOP 28 PIPE CLIP ( 27.8 - 31.2 )","Sell-out",2.17]
["9-10954-100","(100 PACK) PIPE CLIP - RED","Mature",192.13]
["9-10954-25","(25 PACK) PIPE CLIP - RED","Mature",48.05]
["9-10955","TEST POINT SAMPLING POINT ASSEMBLY - TEE","Mature",46.05]
["9-10956","TEST POINT SAMPLING POINT ASSEMBLY - END","Mature",46.05]
["9-10957","ASD COLD STORAGE KIT","NPI",{"$error":"#N/A"}]
["9-10960","SAMPLE POINT LABEL - ROLL OF 100 LABLES","Mature",17.329999999999998]
["9-10963-100","RED 10MM CAPILLARY PIPE 100 METRE","Mature",370.74]
["9-10964-100","NATURAL 10MM CAPILLARY PIPE 100 METRE","Mature",369.04]
["9-10965","25MM REDUCING SLEEVE BLACK","Mature",4.1399999999999997]
["9-10967","PIPE CUTTERS","Mature",174.62]
["9-10974","WATERTRAP","Mature",81.36]
["9-10975","25MM -32MM INTUMESCENT FIRE COLLAR","Mature",92.06]
["9-10976","QUICK RELEASE AIRLINE VALVE","Mature",177.02]
["9-10978","3/4\" LARGE CHECK VALVE","Mature",123.59]
["9-10980","3/4\" LARGE 2 WAY BALL VALVE","Mature",114.44]
["9-30051","WIRE BURN UNIT","Mature",2032.2]
["9-30058","SPARE - HSSD2 FAN","Mature",1040.46]
["9-30072","PKG B AIR FILTER","Mature",64.16]
["9-30250","SENSENET GRAPHIC (CD + DONGLE)","Mature",2712.96]
["9-30419","SERIAL CABLE","Mature",97.82]
["9-30422","HEATER BOX ASSY.","Mature",2321.6]
["9-30430","APOLLO APIC","Mature",542.47]
["9-30436","INPUT/RELAY CARD","Mature",377.29]
["9-30437","ZP-LSI-1 Ziton APIC","Mature",529.11]
["9-30441","EXCELLENCE APIC FOR MODULASER","Mature",313.33]
["9-30441-JUM","EXCELLENCE APIC JUMPER BOARD","Mature",56.67]
["9-30672","AIRSENSE M100 DET (ENGLISH)","Mature",{"$error":"#N/A"}]
["9-30689","SPARE - HSSD2 LOCK & KEY","Mature",318.13]
["9-30690","SPARE - HSSD2 CM MAIN PCB","Mature",3608.68]
["9-30695","SPARE - HSSD2 FLOW SENSOR","Mature",840.68]
["9-30697","SPARE - HSSD2 MAIN PCB","Mature",3608.68]
["9-30698","SPARE - HSSD2 DETECTOR HEAD","Mature",4108.32]
["9-30699N","SPARE - MODULASER & HSSD2 FILTER","Mature",69.81]
["9-30699N-P","(6 PACK) SPARE-MODULASER, HSSD2 FILTER","Mature",384.76]
["9-30730","SPARE - EX EXTERNAL DUST FILTER","Mature",744.46]
["9-30750","SPARE - M25 DETECTOR","Mature",{"$error":"#N/A"}]
["9-30755","STRATOS-MICRA DUST FILTER","Mature",43.98]
["9-30755-P","(6 PACK) MICRA / NANO FILTER PACK","Mature",256.73]
["9-30791-2","SPARE-MODULASER DET COVER-GRAY","Mature",145.91]
["9-30792","SPARE-MODULASER DISPLAY COVER","Mature",211.87]
["9-30793","SPARE-MODULASER MINDISPLAY COVER","Mature",180.93]
["9-30794","SPARE-MODULASER GROMETS 5S & 4L","Mature",45.47]
["9-30795","SPARE-MODULASER PIPE ADPTR-BEND","Mature",67.67]
["9-30796","SPARE-MODULASER PIPE ADPTR-STR","Mature",69.47]
["9-30797","SPARE-MODULASER ACCESSORY KIT","Mature",214.8]
["9-30798-2","MODULASER WIRING HOUSING - GRAY","Mature",461.58]
["99102","A50E-2 A-SERIES MINI RELAY UNIT","Mature",{"$error":"#N/A"}]
["99202","A45E-2 A-SERIES EN MINI INTERFACE","Mature",{"$error":"#N/A"}]
["A1149-100","(100 PACK) LHD CABLE ACCESSORY - BRACKET \"J CLIP\", W/ SLEEVE","Mature",332.36]
["A1365","ANALOGUE LHD INTRINSICALLY SAFE BARRIER KIT FOR USE IN HAZARDOUS AREAS","NPI",{"$error":"#N/A"}]
["A1366","DIMM INTRINSICALLY SAFE BARRIER KIT FOR USE IN HAZARDOUS AREAS","NPI",{"$error":"#N/A"}]
["AA-0100","(100M) ANALOGUE LHD CABLE PVC","Sell-out",1164.01]
["AACU-EOL","ALARMLINE II ANALOGUE LHD PART ? EOL MODULE","Sell-out",163.57]
["AACULP","ANALOGUE LHD CONTROL UNIT - PC PROGRAMMABLE","Sell-out",1662.88]
["AACU-PCC","ALARMLINE II ANALOGUE LHD PC SOFTWARE W/ USB CABLE","Sell-out",173.65]
["AACUSP","ANALOGUE LHD CONTROL UNIT - SELF PROGRAMMABLE","Sell-out",2056.69]
["AAECU-EOL","SPARE ANALOGUE EN LHD EOL UNIT","Mature",287.05]
["AAECU-JUN","ANALOGUE EN LHD JUNCTION BOX","Mature",317.27999999999997]
["AAECU-PCC","ANALOGUE EN LHD CONFIG SW","Mature",172.23]
["AAE-TEST","TEST KIT FOR AAE LHD RANGE","Mature",3825.5]
["AAI-0100","ALARMLINE II ANALOGUE LHD INTERCONNECTING CABLE, 100M","Mature",474.61]
["AAN-0100","(100M) ANALOGUE LHD CABLE NYLON","Sell-out",1400.3]
["AASS-0100","(100M) ANALOGUE LHD CABLE SS & PVC","Sell-out",3675.8]
["AB300","BEACON 12 V WHITE LENS","Mature",37.47]
["AB301","BEACON 12 V AMBER LENS","Mature",37.47]
["AB302","BEACON 12 V BLUE LENS","Mature",37.47]
["AB303","BEACON 12 V RED LENS","Mature",37.47]
["AB304N","LED BEACON, WHITE BASE, RED LENS","NPI",39.229999999999997]
["AB305N","LED BEACON, WHITE BASE, WHITE LENS","NPI",39.229999999999997]
["AB360","AB360-06","Mature",68.66]
["AB360-06","6\" FIRE BELL - SWEDISH","Mature",66.95]
["AB380E","8\" FIRE BELL - OUTDOOR","Mature",221.35]
["AB611","BEACON LENS PC COVER, AMBER","Mature",18.43]
["AB612","BEACON LENS FOR  PC COVER, BLUE","Mature",14.65]
["AB630","BEACON LENS INOX CIVER TRANPERANT","Mature",17]
["AC1300FEPP","AIMANT PORTE PASTIL","Mature",2.12]
["AC9700MAGN","MAGNET SPACER IM9700 LEGRANDE","Mature",0.6]
["AC9700REED","REED SPACER IM9700 LEGRANDE","Mature",1.53]
["ACA001","REQUEST TO EXIT BUTTON","Mature",33.89]
["ACA-B706-100","(100 PACK) LHD CABLE ACCESSORY - BRACKET \"7\", 60MM (2.4\") W/ SLEEVE","Mature",656.44]
["ACA-B706SS-100","(100 PACK) LHD CABLE ACCESSORY - BRACKET \"7\", 60MM (2.4\") (STAINLESS STEEL) W/ SLEEVE","Mature",913.28]
["ACA-BI20-100","(100 PACK) LHD CABLE ACCESSORY - BRACKET \"I\", 200MM (7.9\") W/ SLEEVE","Mature",656.44]
["ACA-BI20SS-100","(100 PACK) LHD CABLE ACCESSORY - BRACKET \"I\", 200MM (7.9\") (STAINLESS STEEL) W/ SLEEVE","Mature",1181.48]
["ACA-BL10-100","(100 PACK) LHD CABLE ACCESSORY - BRACKET \"L\", 100MM (3.9\") DUAL HEIGHT W/ SLEEVE","Mature",391.06]
["ACA-BL10SS-100","(100 PACK) LHD CABLE ACCESSORY - BRACKET \"L\", 100MM (3.9\") DUAL HEIGHT (STAINLESS STEEL) W/ SLEEVE","Mature",549.29]
["ACA-BL20-100","(100 PACK) LHD CABLE ACCESSORY - BRACKET \"L\", 200MM (7.9\") W/ SLEEVE","Mature",863.03]
["ACA-BL20SS-100","(100 PACK) LHD CABLE ACCESSORY - BRACKET \"L\", 200MM (7.9\") (STAINLESS STEEL) W/ SLEEVE","Mature",1276.32]
["ACA-BU06SS-100","(100 PACK) LHD CABLE ACCESSORY - BRACKET \"U\", 60MM (2.4\") (STAINLESS STEEL) W/ SLEEVE","Mature",700.14]
["ACA-BVSS-100","(100 PACK) LHD CABLE ACCESSORY - BRACKET \"V\" (STAINLESS STEEL) W/ SLEEVE","Mature",1193.47]
["ACA-CE03-100","(100 PACK) LHD CABLE ACCESSORY - CLIP \"EDGE\", 3-8MM (2/16\")","Mature",448.86]
["ACA-CE03-100(KIT)","(100 PACK) LHD CABLE ACCESSORY - CLIP \"EDGE\", 3-8MM (2/16\") W/ SLEEVE","Mature",474.48]
["ACA-CE08-100","(100 PACK) LHD CABLE ACCESSORY - CLIP \"EDGE\", 8-14MM (5/16\")","Mature",408.39]
["ACA-CE14-100","(100 PACK) LHD CABLE ACCESSORY - CLIP \"EDGE\", 14-20MM (9/16\")","Mature",328.2]
["ACA-CPSS-100","(100 PACK) LHD CABLE ACCESSORY - CLIP \"P\" (STAINLESS STEEL) W/ SLEEVE","Mature",374.35]
["ACA-CT-025","(25 PACK) LHD CABLE ACCESSORY - CLIP \"T\"","Sell-out",40.94]
["ACA-CT-100","(100 PACK) LHD CABLE ACCESSORY - CLIP \"T\"","Mature",138.83000000000001]
["ACA-JBW","LHD JUNTION BOX, IP65/66 W/ CABLE GLANDS & TERMINALS","Mature",208.38]
["ACA-RS-100","(100 PACK) LHD CABLE ACCESSORY - SILICONE SLEEVE","Mature",109.43]
["ACA-STEEL","TOUCHLESS EXIT BUTTON STEEL","Mature",69.8]
["ACA-STEEL-SLIM","TOUCHLESS EXIT BUTTON STEEL SMLL","Mature",69.8]
["ACA-TOUCH","TOUCHLESS EXIT BUTTON","Mature",72.319999999999993]
["ACA-TOUCH-SLIM","TOUCHLESS EXIT BUTTON SMLL","Mature",72.319999999999993]
["ACA-TW11W-100","(100 PACK) LHD CABLE ACCESSORY - TIE WRAP 110?C (230?F)","Mature",25.72]
["ACA-TW17-100","(100 PACK) LHD CABLE ACCESSORY - TIE WRAP 170?C (338?F)","Mature",536.91]
["ACA-TWSS-100","(100 PACK) LHD CABLE ACCESSORY - TIE WRAP (STAINLESS STEEL)","Mature",277.86]
["ACA-TWT","LHD STAINLESS STEEL TIE WRAP TOOL","Mature",1737.52]
["ACA-WEATHER-S","WEATHER PROTECTION SMALL","Mature",108.41]
["ACA-WEATHER-W","WEATHER PROTECTION WIDE","Mature",108.41]
["ACCIO-8","DOOR CONTROLLER, 8DL, STANDALONE","Sell-out",1345.78]
["ACCIO-8-MBC","DOOR CONTROLLER, 8DL, STANDALONE, SPARE","Sell-out",919.07]
["ACI406N","MIFARE SERIAL READER, 3M CABLE","Mature",229.69]
["ACI407N","MIFARE SERIAL READER WITH KEYPAD, 3M CABLE","Mature",430.78]
["ACI420","OSDP RDR, MF EV1, BLE, Slim","Mature",483.99]
["ACI420-PIN","OSDP RDR , MF EV1 PIN, BLE, Slim","Mature",579.78]
["ACI420-PIN-W","MIFARE EV1 PIN, BLE, VS, WIEGAND","Mature",544.20000000000005]
["ACI420-W","MIFARE EV1, BLE, VS, WIEGAND","Mature",462.58]
["ACI421","OSDP RDR, MF EV1, BLE","Mature",509.68]
["ACI421-MNT-33","ACI421 MOUNT 33 DEG ANGLE","NPI",67.56]
["ACI421-PIN","OSDP RDR, MF EV1 PIN,  BLE","Mature",638.17999999999995]
["ACI421-PIN-W","MIFARE EV1 PIN, BLE, VM, WIEGAND","Mature",619.76]
["ACI421-W","MIFARE EV1, BLE, VM, WIEGAND","Mature",483.99]
["ACI42X-A1-A4","ACI42X - ADDRESS CARD 1-4","Mature",102.8]
["ACI42X-A5-A8","ACI42X - ADDRESS CARD 5-8","Mature",102.8]
["AC-KIT","ANTI-CONDENSATION KIT","NPI",221.95]
["ACL580","KEYPAD, ABS PLASTIC, STANDALONE","Mature",197.58]
["ACL580FI","KEYPAD, STEEL, FLUSH MNT, STANDALONE","Mature",279.27999999999997]
["ACL580WI","KEYPAD, ALUMINUM, STANDALONE","Mature",311.02]
["ACL585","VANDAL-PROOF KEYPAD, ALUMINUM, SLIM, STANDALONE","Mature",243.69]
["ACL800-BC-USB-B","ACL800 BIOMETRIC CAPACITIVE LEARN-IN READER - FINGERPRINT, DESKTOP, USB, EM/CASI PROX/HID PROX/ MIFARE COMPATIBLE","Mature",663.89]
["ACL800FL-CONV-W","ACL800 CONVERTER - RS485 TO TCP/IP, FITTED IN DIN-RAIL HOUSING","Mature",153.72999999999999]
["ACL800-PB-B","ACL800 TOUCH CAPACITIVE PUSH BUTTON - STAND ALONE, SURFACE MOUNT, BLACK","Mature",99.77]
["ACL800-PB-S","ACL800 TOUCH CAPACITIVE PUSH BUTTON - STAND ALONE, SURFACE MOUNT, SILVER","Mature",110.94]
["ACL800SUW-BCMF-S","ACL800 BIOMETRIC CAPACITIVE WITH MIFARE READER - FINGERPRINT, WIEGAND, SURFACE MOUNT, 9500 TEMPLATES, SILVER","Mature",918.61]
["ACL800SUW-BC-S","ACL800 BIOMETRIC CAPACITIVE READER - FINGERPRINT, WIEGAND, SURFACE MOUNT, 9500 TEMPLATES, SILVER","Mature",772.97]
["ACL800SUW-RDMF-B","ACL800 MIFARE READER - WIEGAND, SURFACE MOUNT, BLACK","Mature",156.83000000000001]
["ACL800SUW-RDMF-S","ACL800 MIFARE READER - WIEGAND, SURFACE MOUNT, SILVER","Mature",186.97]
["ACL800SUW-RDPX-B","ACL800 EM/CASI/HID PROX READER - WIEGAND, HID PASS-THROUGH, SURFACE MOUNT, BLACK","Mature",138.02000000000001]
["ACL800SUW-RDPX-S","ACL800 EM/CASI/HID PROX READER - WIEGAND, HID PASS-THROUGH, SURFACE MOUNT, SILVER","Mature",163.13999999999999]
["ACL870SU-BSMF-B","ACL800 BIOMETRIC SWIPE WITH MIFARE READER - FINGERPRINT, STAND ALONE, SURFACE MOUNT, 100 TEMPLATES, BLACK","Sell-out",670.11]
["ACL870SU-PB-S","ACL800 TOUCH CAPACITIVE PUSH BUTTON WITH REMOTE ELECTRONIC, SILVER, SURFACE MOUNT, STAND ALONE OR FOR USE WITH ALL ACL87XSU/FL-BX STANDALONE BIOMETRIC READERS.","Mature",151.22999999999999]
["ACL875SU-B","ACL800 KEYPAD - STAND ALONE, SURFACE MOUNT, BLACK","Mature",170.34]
["ACL875SU-S","ACL800 KEYPAD - STAND ALONE, SURFACE MOUNT, SILVER","Mature",198.93]
["ACT407E","(25 PACK) MIFARE CLASSIC S50 7-BYTE UID","Mature",93.32]
["ACT407E-C","(25 PACK) MIFARE CLASSIC CARD S50 WITH 7-BYTE UID SERIAL NUMBER (CSN) WITH CUSTOM NUMBER PRINTING","NPI",96.35]
["ACT430E-5","(5-PACK) MIFARE CLASSIC S50 7-BYTE UID KEYFOB","Mature",33.01]
["ACT455","(25 PACK) PVC CARD EMPTY EV2","Mature",143.21]
["ACT457","(25 PACK) PEAR FOB EMPTY EV2","Mature",175.9]
["ACT725-37","PROX II CARD SC 37","Mature",5.34]
["ACT736-37","DUO PROXIMITY CARD SC 37","Mature",12.04]
["ACT745-37","PROXKEY III SC 37","Mature",13.4]
["ACT786-37","ISOPROX II CARD SC37","Mature",12.2]
["AD011","EXTERNAL ADDRESSABLE DEVICE INTERFACE","Mature",36.380000000000003]
["AD044","PINPOINT,ARITECHONLY,4I40-ID","Mature",169.69]
["AD1000","PLUG-IN MODULE EV/VE/DD1000","Mature",41.38]
["AD1000X10","(10 PACK) PLUG-IN MODULE EV/VE/DD1000","Mature",411.38]
["AD105-0100","DIGITAL CABLE 105OC PVC - 100M","Mature",1477.19]
["AD105-0500","DIGITAL CABLE 105OC PVC - 500M","Mature",7385.66]
["AD105N-0100","DIGITAL CABLE 105OC NYLON - 100M","Mature",1737.83]
["AD105N-0500","DIGITAL CABLE 105OC NYLON - 500M","Mature",8689.06]
["AD105P-0100","DIGITAL CABLE 105OC POLY - 100M","Mature",1911.57]
["AD105P-0500","DIGITAL CABLE 105OC POLY - 500M","Mature",9557.91]
["AD105SS-0100","DIGITAL CABLE 105OC SS & PVC - 100M","Mature",2389.46]
["AD105SS-0500","DIGITAL CABLE 105OC SS & PVC - 500M","Mature",11947.42]
["AD111","INTERNAL ADDRESSABLE DEVICE INTERFACE","Mature",26.01]
["AD185N-0100","DIGITAL CABLE 185OC NYLON - 100M","Mature",2273.39]
["AD185N-0500","DIGITAL CABLE 185OC NYLON - 500M","Mature",11254.3]
["AD185SS-0100","DIGITAL CABLE 185OC SS & NYLON - 100M","Mature",2813.6]
["AD185SS-0500","DIGITAL CABLE 185OC SS & NYLON - 500M","Mature",14067.98]
["AD218-0100","DIGITAL CABLE 218?C SILICONE - 100M","Mature",1816.84]
["AD218-0500","DIGITAL CABLE 218?C SILICONE - 500M","Mature",10010.99]
["AD218SS-0100","DIGITAL CABLE 218?C SS & SILICONE - 100M","Mature",2452.6999999999998]
["AD600","PLUG-IN MODULE DD600","Mature",45.07]
["AD68-0100","DIGITAL CABLE 68OC PVC - 100M","Mature",944.5]
["AD68-0200","ALARMLINE II DIGITAL LHD CABLE 68?C (155?F) W/ PVC SHEATH - 200M","NPI",1965.84]
["AD68-0500","DIGITAL CABLE 68OC PVC - 500M","Mature",4722.25]
["AD68-1000","DIGITAL CABLE 68OC PVC - 1000M","Mature",9444.4599999999991]
["AD68N-0100","DIGITAL CABLE 68OC NYLON - 100M","Mature",1111.1099999999999]
["AD68N-0200","ALARMLINE II DIGITAL LHD CABLE 68?C (155?F) W/ NYLON SHEATH, 200 M","NPI",2312.48]
["AD68N-0500","DIGITAL CABLE 68OC NYLON - 500M","Mature",5555.55]
["AD68N-1000","DIGITAL CABLE 68OC NYLON - 1000M","Mature",11001.12]
["AD68P-0100","DIGITAL CABLE 68OC POLY - 100M","Mature",1210.0899999999999]
["AD68P-0500","DIGITAL CABLE 68OC POLY - 500M","Mature",6050.63]
["AD68SS-0100","DIGITAL CABLE 68OC SS & PVC - 100M","Mature",1512.7]
["AD68SS-0500","DIGITAL CABLE 68OC SS & PVC - 500M","Mature",7563.3]
["AD88-0100","DIGITAL CABLE 88OC PVC - 100M","Mature",953.86]
["AD88-0500","DIGITAL CABLE 88OC PVC - 500M","Mature",4722.25]
["AD88-1000","DIGITAL CABLE 88OC PVC - 1000M","Mature",9350.9699999999993]
["AD88N-0100","DIGITAL CABLE 88OC NYLON - 100M","Mature",1111.1099999999999]
["AD88N-0500","DIGITAL CABLE 88OC NYLON - 500M","Mature",5500.56]
["AD88N-1000","DIGITAL CABLE 88OC NYLON - 1000M","Mature",11001.12]
["AD88P-0100","DIGITAL CABLE 88OC POLY - 100M","Mature",1210.0899999999999]
["AD88P-0500","DIGITAL CABLE 88OC POLY - 500M","Mature",6050.63]
["AD88SS-0100","DIGITAL CABLE 88OC SS & PVC - 100M","Mature",1512.7]
["AD88SS-0500","DIGITAL CABLE 88OC SS & PVC - 500M","Mature",7563.3]
["ADE78-0100","(100M) DIGITAL EN LHD 78C CABLE","Mature",897.42]
["ADE78-0500","(500M) DIGITAL EN LHD 78C CABLE","Mature",4487.26]
["ADE88-0100","(100M) DIGITAL EN LHD 88C CABLE","Mature",897.42]
["ADE88-0500","(500M) DIGITAL EN LHD 88C CABLE","Mature",4487.26]
["ADELCU-2","DIGITAL EN LHD CONTROL UNIT","Mature",2130.3000000000002]
["ADELCU-EOL","SPARE DIGITAL EN LHD EOL UNIT","Mature",344.49]
["ADLCU-2","ALARMLINE II DIGITAL LHD DUAL ZONE CONTROL UNIT","Mature",1202.8699999999999]
["ADP-ESPA-U","ESPA PAGING INTERFACE MODULE FOR ESPA4.4.4 PROTOCOL","Mature",867.59]
["ADP-FBF","ADP-FBF","Mature",232.33]
["ADP-N3E-U","ADDR FIRE PNL ACC - SYSTEM 3000 - NETW PCB RS485 ISO (MASTER)","Mature",704.63]
["ADP-N3S","ADDR FIRE PNL ACC - SYSTEM 3000 - NETW PCB RS485 ISO (SLAVE)","Mature",928.16]
["ADP-NB","ADP-NB","Mature",697.77]
["ADVISOR_TOUCH_BUNDLE","KIT, ATS1500A-IP-MM + ATS1140","Mature",778.96]
["AI2672","2000 SERIES LOOP POWERED DUAL INDICATOR","Mature",187.26]
["AI671","APOLLO MINIDISC REMOTE INDICATOR (53832-070)","Mature",13.67]
["AI672","REMOTE INDICATOR","Mature",10.09]
["AI673","REMOTE INDICATOR WITH ACOUSTIC","Mature",10.64]
["ANT-MLTB","ANTENNA MULTIB. , RG316 3M SMA-M","Mature",110.1]
["ARC1-R31-B/PH5-2B/1","TTL, SMALL FORMAT, READ ONLY SECURED OF UID & ID, MIFARE? CLASSIC, TTLDESFIRE? EV1/2/3","NPI",340.16]
["ARC1-R33-B/PH5-7BB/1","ARC1S NARROW BLUE RS485 TRANSPARENT MODE FOR EASYREMOTE INTERFACE","NPI",426.23]
["ARC1S-R31-B/BT13LA/1","ARC1S NARROW 13,56MHZ WIEGAND 32BITS","NPI",450.97]
["ARC1S-W33-B/BT17AD/1","ARC1S NARROW BLUE RS485 SSCP","NPI",450.97]
["ARC1-W33-B/PH5-7AD/1","SSCP, SMALL FORMAT, MIFARE? CLASSIC, DESFIRE? EV1/2/3","NPI",436.62]
["ARCS-R31-A/BT1-3LA/1","ARCS STD13,56MHZ WIEGAND 32BITS","NPI",508.37]
["ARCS-R31-B/BT1-3LA/1","WIEGAND, STD FORMAT, KEYPAD, BLE, NFC, MIFARE? CLASSIC, DESFIRE? EV1/2/3","NPI",910.15]
["ARCS-RX1-I/BT2-3LA/1","WIEGAND, STD FORMAT, 13,56MHZ + 125KHZ, BLE, NFC, MIFARE CLASSIC, DESFIRE, EV1/2/3","NPI",452.58]
["ARCS-W33-A/BT1-7AD/1","ARCS STD BLUE RS485 SSCP","NPI",496.27]
["ARCS-W33-D/BT1-7OS/1","OSDP V2, STD FORMAT, BIOMETRIC, BLE, NFC, MIFARE CLASSIC, DESFIRE, EV1/2/3","NPI",1674.77]
["ARCS-WX3-IM/BT2-7OS/1","OSDP V2, STD FORMAT, 13,56MHZ + 125KHZ, BLE, NFC, MIFARE CLASSIC, DESFIRE, EV1/2/3","NPI",793.31]
["ARCT-R33-A/PH5-7BB/1","ARCS STD BLUE RS485 TRANSPARENT MODE FOR EASYREMOTE INTERFACE","NPI",436.62]
["ARC-W33-A/PH5-7AD/1","SSCP, STD FORMAT, MIFARE? CLASSIC, DESFIRE? EV1/2/3","NPI",489.93]
["ARC-W33-AQ/PH5-7AD/1","SSCP, STD FORMAT, QR CODE & BARCODE, MIFARE? CLASSIC, DESFIRE? EV1/2/3","NPI",1168.44]
["ARC-W33-B/PH5-7AD/1","SSCP, STD FORMAT, KEYPAD, MIFARE? CLASSIC, DESFIRE? EV1/2/3","NPI",701.06]
["ARC-W33-D/PH5-7AD/1","SSCP, STD FORMAT, BIO, MIFARE? CLASSIC, DESFIRE? EV1/2/3","NPI",1518.97]
["AS210N","INDOOR SIRENE 2L WHITE ABS","Mature",20.67]
["AS210N-L","INDOOR SIRENE- WHITE- LOUD VERSION","Sell-out",24.86]
["AS2363","2000 SERIESA LOOP POWERED SOUNDER, MULTI TONE, SHALLOW BASE","Mature",141.26]
["AS2363W","2000 SERIESA LOOP POWERED SOUNDER, MULTI TONE, SHALLOW BASE, WHITE","Mature",138.49]
["AS2364","2000 SERIESA LOOP POWERED SOUNDER, MULTI TONE, DEEP BASE","Mature",156.57]
["AS2364W","2000 SERIESA LOOP POWERED SOUNDER, MULTI TONE, DEEP BASE, WHITE","Mature",156.57]
["AS2368CAP-W","LOCKING WHITE CAP FOR AS2368 SERIES BASE SOUNDERS","Sell-out",8.4600000000000009]
["AS250","INDOOR SPEAKER","Mature",22.43]
["AS261NF","NFS 32001  SOUNDER","Mature",86.83]
["AS270","INDOOR SIRENE 1 TONE","Mature",30.17]
["AS270-D","INDOOR SIRENE 1 TONE VDS","Mature",36.99]
["AS270-F","INDOOR SIRENE 1 TONE","Sell-out",44]
["AS271","INDOOR SIRENE 1 TONE WITH FLASH","Mature",49.54]
["AS271-D","INDOOR SIRENE 1 TONE WITH FLASH","Mature",68.34]
["AS271-F","INDOOR SIRENE 1 TONE WITH FLASH","Sell-out",69.56]
["AS272","INDOOR SIRENE 2 TONE","Mature",45.02]
["AS273","INDOOR SIRENE 2 TONE WITH FLASH","Mature",56.22]
["AS280G3","INDOOR SIREN -METAL HOUSING - NFA2P GRADE 3","Mature",134.08000000000001]
["AS363","FIRE SOUNDER, MULTI TONE, SHALLOW BASE","Mature",55.22]
["AS363W","FIRE SOUNDER, MULTI TONE, SHALLOW BASE, WHITE","Mature",58.23]
["AS364","FIRE SOUNDER, MULTI TONE, DEEP BASE","Mature",58.23]
["AS364W","FIRE SOUNDER, MULTI TONE, DEEP BASE, WHITE","Mature",58.23]
["AS366","SOUNDER /W VISUAL INDICATOR, MULTI TONE, SHALLOW BASE","Mature",137.4]
["AS367","SOUNDER /W VISUAL INDICATOR, MULTI TONE, DEEP BASE","Mature",146.55000000000001]
["AS36RIM","SOUNDER BEACON RIM W/ FIRE TEXT","Mature",27.03]
["AS36RIM-09","SOUNDER BEACON RIM W/ FEUGO TEXT","Sell-out",27.28]
["AS376","FIRE SOUNDER, MULTI TONE, HIGH OUTPUT","Mature",244.05]
["AS390TAMPER","TAMP.ASSY PN130133104/110601999","Mature",5.62]
["AS505","OUTDOOR SIREN WITH LENS","Mature",100.97]
["AS506","SA OUTDOOR SIREN WITH RED LENS","Mature",100.97]
["AS507","OUTDOOR SIREN WITH BLUE LENS","Mature",95.33]
["AS508","OUTDOOR SIREN WITH METAL SHIEL","Mature",105.63]
["AS510","SA OUTDOOR SIREN WITH RED LENS, NO BATTERY","Mature",72.540000000000006]
["AS525","SA OUTDOOR SIREN WITH BLUE LEN","Sell-out",107.05]
["AS527","SA OUTDOOR SIREN WITH AMBER LENS","Sell-out",111.39]
["AS582XXL","EXTRA LARGE WHITE COVER FOR AS500XXL","Mature",21.77]
["AS582XXL-SCREEN","AS500XXL WHITE COVER FOR PRINTING","Mature",30.02]
["AS586XXL-KIT","AS586XXL KIT containing 1x AS586XXL siren & 1x BS120N","Mature",103.71]
["AS588XXL","DUMMY OUTDOOR SIREN BASE - BLUE LENS","Mature",19.25]
["AS589XXL","DUMMY OUTDOOR SIREN BASE - RED LENS","Mature",39.47]
["AS600FLASH","BEACON PCB FOR AS293","Mature",14.07]
["AS600S19","RED COVER / AMBER LENS","Mature",63.64]
["AS610","OUTDOOR SIRENE","Mature",136.47999999999999]
["AS610DUM","OUTDOOR SIRENE DUMMY","Mature",54.26]
["AS611V","OUTDOOR SIREN -VDS- RED LENS + BEACON","Mature",196.62]
["AS612","OUTDOOR SIRENE / IMQ","Sell-out",171.64]
["AS619","OUTDOOR SIRENE","Mature",157.35]
["AS620RF-BP","(5 PACK) SPARE BATTERY PACK FOR AS620RF, 7.5 V DC ALKALINE (5X1.5)","Mature",35.19]
["AS620RF-N","DESIGNER STAND-ALONE WIRELESS OUTDOOR SIREN, 868 MHZ (INCL. BATTERY PACK AND TRANSCEIVER)","Mature",443.58]
["AS620RF-RC","2-WAY KEYFOB FOR AS620RF-TR-N, 868 MHZ","NPI",80.040000000000006]
["AS620RF-TR-N","SPARE TRANSCEIVER UNIT FOR AS620RF, 868 MHZ","NPI",117.08]
["AS630","OUTDOOR SIRENE INOX COVER AMBER LENS","Mature",171.2]
["AS631V","OUT SIREN INOX -VDS- RED LENS + BEACON","Mature",233.05]
["AS700G3","OUTDOOR SIREN - NFA2P GRADE 3","Mature",159.83000000000001]
["AS952CAP-W","APOLLO WHITE CAP FOR DB952/995AS SERIES (45681-292)","Mature",7.95]
["AS961","APOLLO SOUNDER CEILING PLATE (45681-311)","Mature",18.87]
["AS964I","APOLLO XP95 INTELLIGENT LOOP POWERED OPEN-AREA SOUNDER (RED) W/ ISOLATOR (55000-001)","Mature",176.79]
["AS964WI","APOLLO XP95 INTELLIGENT LOOP POWERED OPEN-AREA SOUNDER (WHITE) W/ ISOLATOR (55000-002)","Mature",194.58]
["ASC2366","2000 SERIES CEILING MOUNT SOUNDER/BEACON, MULTI TONE, SHALLOW BASE, RED FLASH","Mature",247.72]
["ASC2367","2000 SERIES CEILING MOUNT SOUNDER/BEACON, MULTI TONE, DEEP BASE, RED FLASH","Mature",258.2]
["ASC2367W","2000 SERIES CEILING MOUNT SOUNDER/BEACON, MULTI TONE, DEEP BASE - WHITE, RED FLASH","Mature",258.2]
["ASC366","SOUNDER/BEACON, MULTI TONE, SHALLOW BASE, CEILING MOUNT, RED FLASH","Mature",184.01]
["ASC366W","SOUNDER/BEACON, WHITE, MULTI TONE, SHALLOW BASE, CEILING MOUNT, RED FLASH","Mature",184.01]
["ASC367","SOUNDER/BEACON, MULTI TONE, DEEP BASE, CEILING MOUNT, RED FLASH","Mature",196.27]
["ASFD1","SIRENE ANTI FOAM DETECTOR","Mature",22.34]
["ASW2366","2000 SERIES WALL MOUNT SOUNDER/BEACON, MULTI TONE, SHALLOW BASE, RED FLASH","Mature",247.72]
["ASW2367","2000 SERIES WALL MOUNT SOUNDER/BEACON, MULTI TONE, DEEP BASE, RED FLASH","Mature",258.2]
["ASW2367W","2000 SERIES WALL MOUNT SOUNDER/BEACON, MULTI TONE, DEEP BASE - WHITE, RED FLASH","Mature",258.2]
["ASW366","SOUNDER/BEACON, MULTI TONE, SHALLOW BASE, WALL MOUNT, RED FLASH","Mature",184.01]
["ASW366W","SOUNDER/BEACON, WHITE, MULTI TONE, SHALLOW BASE, WALL MOUNT, RED FLASH","Mature",184.01]
["ASW367","SOUNDER/BEACON, MULTI TONE, DEEP BASE, WALL MOUNT, RED FLASH","Mature",196.27]
["ASW367W","SOUNDER/BEACON, WHITE, MULTI TONE, DEEP BASE, WALL MOUNT, RED FLASH","Mature",196.27]
["ASW377","FIRE SOUNDER/BEACON, LED BEACON, MULTI TONE, HIGH OUTPUT, RED FLASH","Mature",460.16]
["ASWP-RF","WEATHERPROOF MOUNTING KIT FOR WIRELESS NOTIFICATION PRODUCTS","Mature",148.91999999999999]
["ATD-6814-PSU","POWER SUPPLY UNIT FOR EXT LEGEND DOMES, 24VAC, 4 AMPS","Mature",179]
["ATS1110A-N","KEYPAD 2 LINE LCD","Mature",229.4]
["ATS1115A-N","KEYPAD 2 LINE LCD WITH INTEGRATED CARD READER","Mature",293.88]
["ATS1115AS44-N","ATS1115A-N KEYPAD CHUBB","Mature",160.36000000000001]
["ATS1115-N","KEYPAD 2 LINE LCD WITH INTEGRATED CARD READER","Sell-out",272.27999999999997]
["ATS1125","ATS1125, AXON KEYPAD WITH MIFARE, WHITE","Mature",184.64]
["ATS1125-B","ATS1125-B, AXON KEYPAD WITH MIFARE, BLACK","Mature",206.84]
["ATS1125-B-LID","PACK OF 10X BLACK FRONT COVER FOR ATS1125-B","NPI",102.34]
["ATS1125-LID","PACK OF 10X WHITE FRONT COVER FOR ATS1125","NPI",102.34]
["ATS1135","ATS1135 ADVISOR ADVANCED RESI KEYPAD","Mature",165.67]
["ATS1135BPL","(10 PACK) BACK PLATE FOR ATS1135","Mature",295.18]
["ATS1135S42","ATS1135S42 Advisor Advanced Resi Keypad - Delta","Sell-out",184.9]
["ATS1135S44","ATS1135 KEYPAD CHUBB","Mature",173.28]
["ATS1136","ATS1136 MIFARE KEYPAD","Mature",173.66]
["ATS1136S42","ATS1136S42 MIFARE KEYPAD DELTA","Sell-out",182.55]
["ATS1136S44","ATS1136S44 MIFARE KEYPAD CHUBB","Mature",177.34]
["ATS1140","ATS1140, TOUCHSCREEN 7 INCH WITH MIFARE","Mature",543.58000000000004]
["ATS1151","ALUMINIUM 3 LED KEYPAD","Sell-out",546.61]
["ATS1160S","REPLACEMENT STICKER FOR ATS1160 AND ATS1160N","Mature",21.16]
["ATS1161S","REPLACEMENT STICKER FOR ATS1161 AND ATS1161N","Mature",21.16]
["ATS1170","REMOTE ARMING STATION - READER","Mature",126.18]
["ATS1180","SECURE MF EV1 SLIM","Phase-out",309.39]
["ATS1180M","SECURE MF EV1 SLIM BLE","Phase-out",341.05]
["ATS1180W","SECURE MF EV1 SLIM WHITE","Mature",340.35]
["ATS1180W-S","WHITE LABEL ATS1180W","Mature",15.85]
["ATS1181","SECURE MF EV1 PIN SLIM","Phase-out",433.16]
["ATS1181M","SECURE MF EV1 PIN SLIM BLE","Phase-out",465.75]
["ATS1182","SECURE MF EV1 QUATTRO","Sell-out",346.5]
["ATS1184","SECURE MF EV1 QUATTRO","Sell-out",470.27]
["ATS1184-MNT-33","ATS1184 MOUNT 33 DEG ANGLE","Mature",86.29]
["ATS118X-CVR-LP","INST. PLATE 170X80X10MM - COMPATIBLE WITH ATS1160N, ATS1161N, ATS1180, ATS1181","Mature",31.83]
["ATS118X-CVR-SP","INST. PLATE 140X49X10MM - COMPATIBLE WITH ATS1160N, ATS1161N, ATS1180, ATS1181","Mature",30.12]
["ATS118X-CVR-SP-W","WHITE MOUNTING BRACKET FOR ATS1180W","Mature",62.41]
["ATS118X-CVR-SQ","INST. PLATE 86X86X10MM - COMPATIBLE WITH ATS1182, ATS1183, ATS1184","Mature",36.24]
["ATS1190","ATS SMART CARD READER","Mature",332.63]
["ATS1190X4","(4 PACK) ATS SMART CARD READER","Mature",1118]
["ATS1192","INDUSTRIAL 2 CARD READER","Mature",348.45]
["ATS1192X4","(4 PACK) ATS HEAVY DUTY SMART CARD READER","Mature",1180.1099999999999]
["ATS1197","ATS OUTDOOR CARD AND PIN READER","Mature",474.78]
["ATS1201E","8 INPUT EXPANDER 3A PWR SUPPLY SMALL BOX EN GRADE 3 CLASS II","Mature",429.13]
["ATS1201EMBC","Board Only 8-32 Zone DGP 3A PSU EN50131 Grade 3 Class II","Mature",368.62]
["ATS1202","8ZONE INPUT EXPANDER FOR ATS1201","Mature",86.48]
["ATS1204E","8 INPUT EXPANDER 3A PWR SUPPLY LARGE BOX EN GRADE 3 CLASS II","Mature",669.28]
["ATS1204N","8 INPUT EXPANDER 3A PWR SUPPLY LARGE BOX","Mature",669.28]
["ATS1210E","8 -16 ZONE DGP EXPANDER, NO PSU IN SMALL PLASTIC ENCLOSURE EN50131 GRADE 3","Mature",188.91]
["ATS1210LE","8 -16 ZONE DGP EXPANDER, NO PSU IN LARGE PLASTIC ENCLOSURE EN50131 GRADE 3","Mature",226.05]
["ATS1211E","8 -16 ZONE DGP EXPANDER, NO PSU METAL HOUSING EN50131 GRADE 3","Mature",285]
["ATS1220","4-ZONE INPUT EXPANDER, PLASTIC HOUSING","Sell-out",159.99]
["ATS1226","ATS INTELLIGENT DOOR DGP","Mature",422.06]
["ATS1236","WIRELESS DGP WITH DUAL LONA TECHNOLOGY FOR ADVISOR ADVANCED","Mature",183.18]
["ATS1250UP","UPDATE KIT","Mature",33.9]
["ATS125XUP","Update kit for ATS1251/1252/1253 & 1254","Mature",33.770000000000003]
["ATS1290N","ADRESSABLE DGP MODULE","Mature",128.63999999999999]
["ATS1330","POWER DISTRIBUTION BOARD","Mature",47.6]
["ATS1340","DOOR JUNCTION BOX","Mature",144.80000000000001]
["ATS1451","(5 PACK) SECURE ATS SAIL KEYFOB","Mature",90.59]
["ATS1452","(5 PACK) SECURE ATS CLAMSHELL CARD","Mature",82.16]
["ATS1453","(5 PACK) SECURE KEYFOB ROUND","Mature",56.58]
["ATS1455","(10 PACK) SECURE ATS PVC CARD","Mature",87]
["ATS1457","(10 PACK) SECURE ATS PEAR KEYFOB","Mature",101.15]
["ATS1458B","(5 PACK) SECURE ATS SBAND BLACK","Sell-out",96.02]
["ATS1458W","(5 PACK) SECURE ATS SBAND WHITE","Sell-out",96.02]
["ATS1459","(5 PACK) SECURE ATS ULTRA KEYFOB","Mature",104.14]
["ATS1460","(10 PACK) SECURE ATS TAMPER PROOF STICKER","Mature",53.61]
["ATS1471-5","(PACK OF 5) SMART TAG HITAG2","Mature",109.81]
["ATS1473-5","(PACK OF 5) KEY TAG HITAG2","Mature",59.67]
["ATS1475","(10 PACK) HITAG II CARD","Mature",91.79]
["ATS1475X10","(10X10 PACK) SET OF 10 X ATS1475 ATS HIGH QUALITY FIBERTAG","Mature",743.96]
["ATS1476","(10 PACK) HITAG II CARD WITH MAGSTRIPE","Mature",103.75]
["ATS1477","(10 PACK) HITAG II KEYFOB","Mature",105.9]
["ATS1480","SMART CARD PROGRAMMER DEFAULT CARD","Mature",32.93]
["ATS1481","PROGRAMMING CARD, IC","Mature",32.93]
["ATS1482","ATS1160-61 MIFARE ADDRESS CONFIGURATION CARD","Mature",33.25]
["ATS1483","ATS118X TO UNSECURE MODE","Mature",33.25]
["ATS1495","(10-PACK) ISO SECURE MF+HT2","Mature",149.49]
["ATS1497","(10-PACK) KEYFOB SECURE MF+HT2","Mature",185.54]
["ATS1500AIP-HK-G7341","KIT, ATS1500A-IP-MM + ATS1135 + ATS7341","Mature",970.89]
["ATS1500A-IP-KIT-07","ATS1500A-IP-MM + ATS1136 + VE1012 + EMK46ATLSA + AS210N + BS127N-A","Mature",825.25]
["ATS1500A-IP-LP","ADVISOR ADVANCED 32 ZONES IP LARGE POLY HOUSING","Mature",558.41]
["ATS1500A-IP-LP-HK","KIT ATS1500A-IP-LP INCLUDING ATS1135 RESI KEYPAD","Mature",659.56]
["ATS1500A-IP-MBC","ADVISOR ADVANCED - 32 ZONES - IP - EN2 - MBC","Mature",475.94]
["ATS1500A-IP-MM","Advisor Advanced - 32 zones - IP - EN2 - Medium Metal housing","Mature",512.16]
["ATS1500A-IP-MM-HK","KIT ATS1500A-IP-MM INCLUDING ATS1135 RESI KEYPAD","Mature",590.35]
["ATS1500A-IP-MM-HK-4G","KIT ATS1500A-IP-MM + ATS1135  + ATS7340","Mature",970.89]
["ATS1500A-IP-MM-HKG16","KIT ATS1500A-IP-MM + ATS1135  + ATS7340 + ATS1210E","Mature",1084.3399999999999]
["ATS1500A-IP-MM-HK-G3","KIT ATS1500A-IP-MM + ATS1135 + ATS7340 + G3 TAMPER KIT","Mature",1127.76]
["ATS1500A-IP-MM-HKS44","CHUBB KIT ATS1500A-IP-MM + ATS1135S44  + ATS626","Mature",605.49]
["ATS1500A-IP-MM-MK","KIT ATS1500A-IP-MM + ATS1136","Mature",618.11]
["ATS1500A-IP-MM-NK","KIT ATS1500A-IP-MM + ATS1110A-N","Mature",632.83000000000004]
["ATS1500A-IP-MM-RF-HK","KIT ATS1500A-IP-MM INCLUDING ATS1135A KEYPAD + ATS1235 Receiver","Mature",748.86]
["ATS1500A-IP-MM-RK","KIT ATS1500A-IP-MM + ATS1115A-N","Mature",715.72]
["ATS1500A-IP-MM-RKS44","CHUBB KIT ATS1500A-IP-MM + ATS1115AS44 -N + ATS626","Mature",669.04]
["ATS1500A-IP-SM","ADVISOR ADVANCED 32 ZONES  IP  EN2  SMALL METAL HOUSING","Mature",509.89]
["ATS1500A-IP-SM-HK","KIT ATS1500A-IP-SM INCLUDING ATS1135 KEYPAD","Mature",593.65]
["ATS1500A-IP-SM-HKS44","KIT ATS1500A-IP-SM INCLUDING ATS1135S44 KEYPAD","Mature",579.01]
["ATS1500A-IP-SM-MK","KIT ATS1500A-IP-SM + ATS1136","Mature",645.78]
["ATS1500AV-IP-MBC","ADVISOR ADVANCED - 32 ZONES - IP - VDS - MBC","Mature",388.85]
["ATS1500AV-IP-MM","ADVISOR ADVANCED - 32 ZONES - IP - VDS - Medium Metal housing","Mature",549.54999999999995]
["ATS1500AV-IP-MM-HK","KIT ATS1500AV-IP-MM (VDS) INCLUDING ATS1135 RESI KEYPAD","Mature",635.98]
["ATS1520","TWO WAY AUDIO CONTROLLER","Mature",262.31]
["ATS1521N","ATS Advanced 2 Way Audio Satellite","Mature",207.09]
["ATS1522N","ATS Advanced 2 Way Audio Auxiliary Satellite","Sell-out",119.16]
["ATS1621","PROGRAMMER WITH EURO PLUG ADAPTOR","Sell-out",409.21]
["ATS1630","RS232 PROGRAMMING CABLE","Mature",41.17]
["ATS1631","OUTPUT CONNECTOR","Mature",13.7]
["ATS1640","SMALL HOUSING ATS","Mature",148.41999999999999]
["ATS1641","MTL HSG ASSY ATS2000/3000","Mature",123.3]
["ATS1642","LARGE HOUSING ATS","Mature",313.39999999999998]
["ATS1643","STEEL INPUT EXPANDER HOUSING","Mature",101.84]
["ATS1647","ATS MEDIM PLASTIC BOX","Mature",34.549999999999997]
["ATS1700-MBC","AXON 1700 MBC FOR REPLACEMENT","Sell-out",465.02]
["ATS1740","DATA BUS ISOLATOR/REPEATER","Mature",175.47]
["ATS1743","DATA BUS TO FIBER OPTIC MODULE","Mature",526.42999999999995]
["ATS1744","QUADRUPLE DATA BUS ISOLATOR","Mature",199.37]
["ATS1745","INTERFACE - ATS IP LAN ADAPTER","Mature",235.04]
["ATS1810","4 WAY RELAY BOARD","Mature",96.07]
["ATS1811","8 WAY RELAY BOARD","Mature",182.54]
["ATS1840","FUSE BOARD","Mature",93.36]
["ATS1870","DUAL FREQUENCY USB CARD READER FOR READING CARD DATA","Mature",435.95]
["ATS3500A-IP-MBC","ADVISOR ADVANCED - 128 ZONES - IP - EN3 - MBC","Mature",816.43]
["ATS3500A-IP-MM","Advisor Advanced - 128 zones - IP - EN3 - Medium Metal housing","Mature",860.83]
["ATS3500A-IP-MM-HK","ADVISOR ADVANCED - 128 ZONES - IP - EN3 - MEDIUM METAL HOUSINGATS1135 ADVISOR ADVANCED RESI KEYPAD","Sell-out",1058.6500000000001]
["ATS3500A-IP-MM-HKS44","CHUBB KIT ATS3500A-IP-MM + ATS1135S44 + ATS626 + ATS7700","Mature",1032.75]
["ATS3500A-IP-MM-MK","KIT ATS3500A-IP-MM + ATS1136","Mature",1062.97]
["ATS3500A-IP-MM-RKS44","Chubb Kit ATS3500A-IP-MM + ATS1115AS44-N  + ATS626 + ATS7700","Mature",1108.83]
["ATS3500A-MM","Advisor Advanced - 128 zones - non IP - EN3 - Medium Metal housing + ATS7700","Sell-out",722.42]
["ATS3500AV-IP-LM","ADVISOR ADVANCED - 128 ZONES - IP - VDS - LARGE METAL HOUSING","Mature",1203.04]
["ATS3500AV-IP-MBC","ADVISOR ADVANCED - 128 ZONES - IP - VDS - MBC","Mature",747.27]
["ATS3500AV-IP-MM","ADVISOR ADVANCED - 128 ZONES - IP - VDS - Medium Metal housing","Mature",866.67]
["ATS3700-MBC","AXON 3700 MBC FOR REPLACEMENT","Sell-out",813.25]
["ATS4002UP","UPDATE KIT","Sell-out",50.14]
["ATS4500A-IP-LM","Advisor Advanced - 512 zones - IP - EN3 - Large Metal housing + ATS670","Mature",1290.6300000000001]
["ATS4500A-IP-LM-HKS44","ATS4500A-IP-LM KIT FOR CHUBB","Mature",1537.02]
["ATS4500A-IP-MBC","ADVISOR ADVANCED - 512 ZONES - IP - EN3 - MBC","Mature",1162.81]
["ATS4500A-IP-MM","ADVISOR ADVANCED - 512 ZONES - IP- EN3 - EXTENDED MEDIUM METAL HOUSING + ATS670","Mature",1208.8900000000001]
["ATS4500AV-IP-LM","Advisor Advanced - 512 zones - IP - VDS - Large Metal housing + ATS670","Mature",1312.47]
["ATS4500AV-IP-MBC","ADVISOR ADVANCED - 512 ZONES - IP - VDS - MBC","Mature",1126.1300000000001]
["ATS4700-MBC","AXON 4700 MBC FOR REPLACEMENT","Sell-out",1173.29]
["ATS608","8 WAY INPUT EXPANDER PLUG-ON ADVISOR ADVANCED","Mature",98.22]
["ATS624","4 RELAY PLUG ON EXPANDER FOR ADVISOR ADVANCED","Mature",114.94]
["ATS626","16 WAY OUTPUT EXPANDER PLUG-ON ADVISOR ADVANCED","Mature",111.55]
["ATS670","SECOND RS485 LAN EXTENSION MODULE FOR ATSX500A","Mature",142.16999999999999]
["ATS7072","KIT REMOTE ATS1238 EXPANDER","Mature",155.87]
["ATS7090","MI INTERFACE BOARD WW1","Mature",140.83000000000001]
["ATS7200E","Voice Module No Ack","Mature",142.74]
["ATS7340","4G COMMUNICATOR FOR ATS","Mature",405.52]
["ATS7341","4G COMMUNICATOR FOR ATS","Mature",384.11]
["ATS7341-SIM","4G COMMUNICATOR FOR ATS - W/SIM","Mature",316.93]
["ATS7700","PSTN PLUG ON DIALLER FOR ADVISOR ADVANCED","Mature",114.81]
["ATS8500-2","STANDALONE DOWNLOADER ADVISOR ADVANCED IN USB SUPPORT","Mature",396.75]
["ATS8520-2","USER MANAGEMENT TOOL IN USB SUPPORT","Mature",373.66]
["ATS8550-2","ADVISOR CONFIGURATOR MULTI CLIENT REMOTE SERVICE SOLUTION IN USB SUPPORT","Mature",40.79]
["ATS8551","BASIC - MULTI CLIENT SW - INTRO PACK LICENSE KEY","Mature",1428.02]
["ATS8552","INTERMEDIATE - MULTI CLIENT SW - MID-SIZE PACK LICENSE KEY","Mature",7140.01]
["ATS8553","ADVANCED - MULTI CLIENT SW - FULL PACK LICENSE KEY","Mature",42839.96]
["ATS8600","ADVISOR MANAGEMENT STARTER EDITION FOR 2 DEVICES","Mature",1690.49]
["ATS8605","UPGRADE OF ATS8600","Mature",556.15]
["ATS8610","ADVISOR MANAGEMENT BUSINESS EDITION FOR 25 DEVIVES","Mature",7203]
["ATS8611","ADVISOR MANAGEMENT STARTER TO BUSINESS UPGRADE","Mature",5370.49]
["ATS8640","UPGRADE OF ATS8610","Mature",556.15]
["ATS8641","ADDITIONAL DRIVER  INTRUSION (ADVISOR ADVANCED)","Mature",685.05]
["ATS8643","ADDITIONAL DRIVER  VIDEO","Mature",713.59]
["ATS8644","ADDITIONAL DRIVER  FIRE FP1200/ FP2000","Mature",713.59]
["ATS8645","ADDITIONAL DRIVER  FIRE: 2010-2 PLATFORM (KILSEN, ZITON, ARITECH)","Mature",713.59]
["ATS8646","ADDITIONAL DRIVER  FIRE ZP3","NPI",706.53]
["ATS8647","ADDITIONAL DRIVER - INTRUSION (FLEXZONE)","Mature",811.11]
["ATS8648","ADDITIONAL DRIVER  INTRUSION / ACCESS (VEREX)","Mature",117.31]
["ATS8649","ADDITIONAL DRIVER  MODULASER","NPI",646.88]
["ATS8651","ADDITIONAL DRIVER  INTRUSION (ADVISOR ADVANCED)","Mature",685.05]
["ATS8652","ADDITIONAL DRIVER  INTRUSION / ACCESS (ADVISOR MASTER)","Mature",941.9]
["ATS8653","GUARDALL PX DRIVER","NPI",706.53]
["ATS8654","ADDITIONAL DRIVER EST-VES/EST-ENT-VES","NPI",923.96]
["ATS8655","ADDITIONAL DRIVER ACCIO","Mature",923.96]
["ATS8656","ADDITIONAL DRIVER INTRUSION EVERON","Mature",924.26]
["ATS8657","AXON2600 DRIVER FOR ATS86X0","NPI",657.61]
["ATS8661","ACTIVE DIRECTORY DRIVER (BASIC)","Mature",94.63]
["ATS8681-STD","ATS8610/8640 TO C4 STANDARD","Mature",5978.61]
["ATS8690","ADVISOR MANAGEMENT STARTER EDITION ANNUAL UPGRADE","Mature",1152.8599999999999]
["ATS8691","ADVISOR MANAGEMENT BUSINESS EDITION ANNUAL UPGRADE","Mature",4913.6400000000003]
["ATS8692","SERVICE UPGRADE OF ATS8640","Mature",5269.7]
["ATS8693","SERVICE UPGRADE ATS8605","Mature",1432.16]
["ATS8694","ATS8600 ANNUAL MAINTENANCE CONTRACT","Mature",765.66]
["ATS8695","ATS8610 ANNUAL MAINTENANCE CONTRACT","Mature",3281.27]
["ATS8696","ATS8605 ANNUAL MAINTENANCE CONTRACT","Mature",1276.5]
["ATS8697","ATS8640 ANNUAL MAINTENANCE CONTRACT","Mature",4375.7299999999996]
["ATS-LENS-100","PACK OF 100 X ATS1135 DISPLAY LENS","Mature",608.66999999999996]
["ATS-METAL-STUDS","PACK OF 100 METAL STUDS AND SCREWS FOR ATS ACCESSORIES","Mature",75.97]
["ATS-MM-TK","ATS ADVANCED TAMPER KIT (SBSC) for MEDIUM METAL HOUSING","Mature",73.55]
["ATS PROGRAMMER NO SW","SECURE CARD PROGRAMMER","Mature",977.18]
["ATS-SPACERS-HIGH","(25 PACK) ATS SPACERS HIGH","Mature",9.66]
["ATSX700-PSU","ATSX700-PSU ,24V 3.2A, POWER SUPPLY FOR AXON PANELS (ATS1700, ATS3700 AND ATS4700)","Sell-out",49.81]
["ATSX700-RETRO","RETROFIT KIT FOR ATSX500 TO ATSX700 (AXON) INCLUDING PSU, CABLES AND BRACKETS","Sell-out",89.51]
["AXP95-LABELS-1","XP95 DETECTOR LOOP1","Mature",{"$error":"#N/A"}]
["AXP95-LABELS-2","XP95 DETECTOR LOOP2","Mature",{"$error":"#N/A"}]
["AXP95-LABELS-3","XP95 DETECTOR LABELS","Mature",{"$error":"#N/A"}]
["AXP95-LABELS-4","XP95 DETECTOR LABELS","Mature",{"$error":"#N/A"}]
["BATT-BOX-65-BLACK","EXTERNAL BLACK BATTERY BO","Mature",577.72]
["BC4007BC1","JUNCTION BOX OVP 000012-02","Mature",4.3499999999999996]
["BC4010BC1","JUNCTION BOX OVP 000012-03","Mature",6.02]
["BF365IM/AST","ISOLASIE-EENHEID VOOR BF365SC/AST","Mature",108.37]
["BF365SC/AST","LUSGEVOERDE ALARMGEVERKAART","Mature",552.88]
["BI_PLEXIGLASS","PLEXI SIGN FOR MCP X5","Mature",{"$error":"#N/A"}]
["BS111N","BATTERY 6V 10AH","Mature",28.21]
["BS120N","BATTERY 12 V 0,8 AH","Mature",30.57]
["BS121N","BATTERY 12 V 1,2 AH","Mature",16.309999999999999]
["BS122NS","LEAD ACID BATTERY 12V 2.3AH , VDS APPROVED","Mature",22.53]
["BS123N","BATTERY 12 V 3,2 AH","Mature",32.26]
["BS127N","BATTERY 12 V 7.2 AH (for FIRE only, use BS127N-A for all other business)","Mature",28.49]
["BS127N-A","SEALED LEAD-ACID BATTERY - 12V 7.2AH","Mature",28.77]
["BS129N","BATTERY 12 V 26 AH","Mature",106.8]
["BS129NS3","BATTERY 12 V 26 AH","Mature",114.66]
["BS131N","BATTERY 12 V 18 AH","Mature",82.78]
["BS132NS","LEAD ACID BATTERY 12V 45AH, VDS APPROVED","Mature",173.22]
["BS133N","BATTERY 12 V 65 AH","Mature",316.35000000000002]
["BS134N","SEALED LEAD ACID BATTERY - 12 V - 36 AH","Mature",139.12]
["BS36V","3.6V 1/2 AA LITH. BATTERY","Mature",6.12]
["C4 ADVANCED","C4 ADVANCED EDITION","NPI",20933.28]
["C4DRV-2010-2","C4 DRIVER - UTC-2010-2","NPI",673.47]
["C4DRV-ACCIO","C4 DRIVER - ACCIO","NPI",1239.1600000000001]
["C4DRV-ACC-LARGE","C4 DRIVER - LARGE ACCESS SYSTEM","NPI",1525.49]
["C4DRV-ACC-SMALL","C4 DRIVER - SMALL ACCESS SYSTEM","NPI",73.510000000000005]
["C4DRV-ATS ADV UTC","C4 DRIVER - UTC-ADV ADVANCED","NPI",673.47]
["C4DRV-AUTOMATION","C4 DRIVER - BUILDING AUTOMATION","NPI",1459.15]
["C4DRV-CCTV-IP","C4 DRIVER - CCTV IP CAMERA","NPI",119.45]
["C4DRV-DVMRE","C4 DRIVER - DVMRE","NPI",856.33]
["C4DRV-EST-VES","C4 DRIVER - EST-VES/EST-ENT-VES","NPI",1346.9]
["C4DRV-FIRE-LARGE","C4 DRIVER - LARGE FIRE SYSTEM","NPI",1459.15]
["C4DRV-FP2000","C4 DRIVER - FP2000","NPI",1346.91]
["C4DRV-GUARDALLPX","C4 DRIVER - GUARDALL PX","NPI",743.84]
["C4DRV-INTR-LARGE","C4 DRIVER - LARGE INTRUSION SYSTEM","NPI",1525.49]
["C4DRV-INTR-SMALL","C4 DRIVER - SMALL INTRUSION SYSTEM","NPI",473.74]
["C4DRV-MASTER GAMA","C4 DRIVER - GAMANET ADV MASTER","NPI",1346.91]
["C4DRV-MASTER UTC","C4 DRIVER - UTC-ADV MASTER","NPI",890.3]
["C4DRV-MODBUS","C4 DRIVER FOR MODBUS PROTOCOL","NPI",157.56]
["C4DRV-MODULASER","C4 DRIVER - MODULASER","NPI",1257.1400000000001]
["C4DRV-OTHER","C4 DRIVER - OTHER DEVICES","NPI",1508.75]
["C4DRV-PERIMETER","C4 DRIVER - PERIMETER DETECTION SYSTEM","NPI",1102.1199999999999]
["C4DRV-PUBL ANN SYST","C4 DRIVER - PUBLIC ANNOUNCEMENT SYSTEM","NPI",1508.75]
["C4DRV-SCHRACK","C4DRV - SCHRACK FIRE PANELS","NPI",3.71]
["C4DRV-TRUPORTAL","C4 DRIVER - TRUPORTAL","NPI",81.760000000000005]
["C4DRV-TRUVISION","C4 DRIVER - TRUVISION","NPI",673.47]
["C4DRV-VEREX","C4 DRIVER - VEREX","NPI",81.760000000000005]
["C4DRV-VIDEO MATRIX","C4 DRIVER - VIDEO MATRIX","NPI",815.02]
["C4DRV-VIDEO RECORDER","C4 DRIVER - VIDEO RECORDER","NPI",788.24]
["C4DRV-ZP3","C4 DRIVER - ZP3","NPI",1346.91]
["C4 STANDARD","C4 STANDARD EDITION","NPI",5508.75]
["C4STDADV","UPGRADE FROM C4 STANDARD TO C4 ADVANCED","NPI",15670.67]
["C4-SVC-CD","C4 CUSTOM DEVELOPMENT PROVIDED BY GAMANET (HOURLY RATE)","NPI",362.03]
["C4-SVC-PMS","C4 PROJECT MANAGEMENT SERVICES PROVIDED BY GAMANET (WEEKLY RATE)","NPI",20170.78]
["C-9104","CONV. ULTRAVIOLET FLAME DETECTOR /WO BASE","Mature",291.75]
["C-9302","AC CONTROL RELAY MODULE FOR POWER SWITCHING","Mature",76.33]
["C-9314P","PASSIVE REMOTE INDICATOR FOR I/C-9102, I/C-9103, DI/C-9101, DI/C-9102 & DI/C-9103","Mature",17.170000000000002]
["C-9403","CONV. SOUNDER/VISUAL INDICATOR /W 2 TONES","Mature",123.71]
["C-9404","CONV. SOUNDER - 2 TONES","Mature",52.96]
["C-9602LW-LPG","CONVENTIONAL GAS DETECTOR, LPG","Mature",128.65]
["C-9602LW-NG","CONV. NATURAL GAS DETECTOR, 220VAC /W LOCAL BUZZER ALARM & RELAY OUTPUT","Mature",125.48]
["CAB2000","RS232 CABLE - FP1200/FP2000 FIRE PANELS","Mature",115.33]
["CALYPSO II-R","CALYPSO-II-R STANDALONE SMOKE DETECTOR ALARM","Sell-out",90.05]
["CDC-2DWIF","CDC 2 DOOR WIEGAND INTERFACE","Mature",299.23]
["CDC4","4-8 DL NETWORK ACCESS CONTROLLER","Mature",1534.51]
["CDC4-EN","4-8 DL NW ACC CONTR EN APPR","Mature",1849.01]
["CDC4-EN-MBC","4-8 DL NW ACC CONTR EN APPR MBC","Mature",1317.56]
["CDC4-MBC","4-8 DL NETWORK ACCESS CONTROLLER MBC","Mature",1067.54]
["CH9335BC1","SHOCKDET. BECUWE","Mature",80.63]
["CH9433BC1","GS611 M00103-01","Mature",54.72]
["CI_PLEXIGLASS","PLEXI SIGN ALLARME INCENDIO X6","Mature",{"$error":"#N/A"}]
["CP-132EL-I","RS485 INTERFACE CARD FOR PC CONNECTION TO ZP3 NETWORK - PCI EXPRESS","Mature",{"$error":"#N/A"}]
["CP-132UL-I-V2","RS485 INTERFACE CARD FOR PC CONNECTION TO ZP3 NETWORK","Mature",{"$error":"#N/A"}]
["CP2005","RELAY UNIT","Mature",79.75]
["CR255","ELECTRONIC DELAY UNIT","Mature",41.61]
["CRR","WALL-MOUNTED RADIO LINK ALARM","Sell-out",140.08000000000001]
["CUSSO-PROJECT","CUSTOMS SOLUTIONS : PROJECT MODE","NPI",2.06]
["CUSSO-TIME","CUSTOMS SOLUTIONS : TIME MODE","NPI",2.06]
["D-92FC","MCP ANTI-TAMPER TRANSPARENT PROTECTION COVER FOR DI-9204, DC-9204, DI-M9204 & DC-M9204","Mature",5.43]
["D-92WPB","IP66 WEATHERPROOF BOX FOR DI-9204, DC-9204, DI-M9204 & DC-M9204, IP66","Mature",165.63]
["DB-01","INNOVATION STANDARD DETECTOR BASE FOR DIGITAL DETECTORS & INNOVATION DETECTORS USING EOLR","Mature",5.78]
["DB-01-B","INNOVATION STANDARD ADDR. & CONV. DETECTOR BASE (BLACK)","Mature",7.64]
["DB-01D","INNOVATION STANDARD DETECTOR BASE /W DIODE FOR INNOVATION DETECTOR USING DP-9907 AEOL","Mature",16.420000000000002]
["DB100","DETECTOR BASE","Mature",14.27]
["DB2002","4 TERMINAL AA BASE, 10CM","Mature",5.94]
["DB2004","DEEP BASE FOR ANALOGUE ADDRESSABLE SENSORS","Mature",12.11]
["DB2016","2000 SERIES ISOLATOR BASE","Mature",21.58]
["DB2368IAS-W","2000 SERIES BASE SOUNDER WITH ISOLATOR - WHITE","Mature",201.4]
["DB650","APOLLO SERIES 65 STANDARD RELAY BASE (45681-245)","Sell-out",44.77]
["DB650R","APOLLO SERIES 65 STANDARD DUAL RELAY BASE (45681-246)","Sell-out",56.34]
["DB702","6 TERMINAL AA BASE, 10CM","Mature",4.26]
["DB806","APOLLO SERIES 60/65/XP95/DISCOVERY CONDUIT BOX (45681-204)","Mature",6.94]
["DB860","APOLLO SERIES 60/65 CONVENTIONAL STANDARD BASE (45681-200)","Mature",7.62]
["DB860D","APOLLO SERIES 60/65 CONVENTIONAL DIODE BASE (45681-201)","Phase-out",18.36]
["DB861","APOLLO SERIES 60 BACK PLATE FOR INGRESS PROTECTION (45681-233)","Sell-out",6.39]
["DB950","APOLLO XP95/DISCOVERY MOUNTING BASE (45681-210)","Mature",7.3]
["DB952IAS","APOLLO XP95 85/92DB INTEGRATED BASE SOUNDER W/ ISOLATOR (45681-277)","Mature",174.78]
["DB952IAS-DIN","APOLLO XP95 85/92DB INTEGRATED BASE SOUNDER W/ ISOLATOR (DIN TONE) (45681-300)","Mature",169.69]
["DB961","APOLLO XP95 MOUNTING BASE W/ ISOLATOR (45681-284)","Mature",22.65]
["DB992IVAS","APOLLO DISCOVERY MOUNTING BASE W/ SOUNDER/VISUAL INDICATOR AND ISOLATOR (45681-393)","Mature",242.46]
["DB995IVAS","APOLLO DISCOVERY MOUNTING BASE W/ SOUNDER/VAD AND ISOLATOR (45681-700)","Mature",317.58999999999997]
["DC101","STANDARD GAP SURF. 4 WIRES","Mature",11.31]
["DC101B","ARITECH,MAC,SURFACE MOUNT,8\" SUPERVISED LOOP WIRE WITH SPECIAL PACKAGING","Mature",11.31]
["DC101R4.7","DC101,W/2,4.7K,RES,IN,SER & PAR,SFT,SPVD","Mature",14.98]
["DC101S60","DC101 WITH 6 METER CABLE","Mature",15.44]
["DC102","DC102 ARITECH (FORMERLY 1085T-N4)","Mature",8.9]
["DC102B","ARITECH,MAC,SURFACE MOUNT,BROWN","Mature",8.18]
["DC102R4.7","CONTACT WITH 4.7K RES (WHITE)","Mature",11.31]
["DC103","BIASED HIGH SEC. SURF 4 WIRE","Mature",51.22]
["DC104","BIASED HIGH SEC. SCREWS","Mature",61.56]
["DC105","COMBINATION FLUSH-SURF. MNT.","Mature",12.48]
["DC105S8","DC105 NEW VERSION, CONTACT","Mature",19.13]
["DC106","STANDARD GAP FLUSH","Mature",13.34]
["DC106R4.7","1072 ARITECH DC106 W/TWO  4.7K RES'S, 1/SER, 1/PAR8FT VDS SPV LP SPL PKG","Mature",18.420000000000002]
["DC106S9","DC106 WITH 3M FLYING LEEDS","Mature",13.94]
["DC107","LONG GAP FLUSH","Mature",22.56]
["DC1076","CONTACT","Mature",80.069999999999993]
["DC1076-6M","CONTACT 6M CABLE","Mature",87.37]
["DC107R4.7","1078C ARITECH DC107 W/TWO 4.7K RES'S, 1/SER,1PAR  8FT VDS SPV LP, SPC PKG","Mature",23.46]
["DC107S60","CONTACT WITH 6 METER VDS CABLE","Mature",20.37]
["DC108","OVERHEAD DOORCONTACT","Mature",48.67]
["DC108R4.7","2202A ARITECH W/4.7K RES SER, 8FT ARM CBL, SUP LOOP","Mature",44.51]
["DC109","INDUSTRIAL DOOR CONTACT","Mature",65.3]
["DC110","BIASED FLOOR MOUNT CONTACT","Mature",100.93]
["DC111","BALANCED TRIPLE BIASED OV.CON","Mature",220.94]
["DC113","PLUNGER SWITCH F.VERTICAL MOU","Mature",26.71]
["DC114","ADJUSTABLE PLUNGER SWITCH","Mature",26.54]
["DC115","OVERHEAD CONT. 5 WIRE","Mature",95.02]
["DC116","SURFACE MOUNT CONTACT","Mature",16.34]
["DC118","OVERHEAD CONTACT 4 WIRE","Mature",67.41]
["DC120","CONTACT DC120 1125W-N1","Mature",18.850000000000001]
["DC120-10M","DC120 WITH 10M CABLE AND 1 PAIR","NPI",26.42]
["DC120S60","1125W N1 ARITECH W/6 METERS(20FT)VDS CBL","Mature",28.8]
["DC121","CONTACT","Mature",11.58]
["DC121S60","CONTACT 6 METERS VdS CABLE","Mature",25.81]
["DC123","1087T N6 ARITECH DC123","Mature",14.85]
["DC124","CONTACT","Mature",25.81]
["DC127","CONTACT","Mature",15.44]
["DC128","FLUSH MOUNT CONTACT, EN GRADE 3, WHITE","Mature",31.71]
["DC128R4.7","FLUSH MOUNT CONTACT, EN GRADE 3, WHITE 4K7 EOL RESISTOR","Mature",35.159999999999997]
["DC128S60","FLUSH MOUNT CONTACT, EN GRADE 3, WHITE, 6M CABLE","Mature",37.46]
["DC134","CONTACT","Mature",13.07]
["DC137","CONTACT","Mature",11.89]
["DC138","FLUSH MOUNT CONTACT STEEL DOOR, EN GRADE 3, WHITE","Mature",34.56]
["DC138R4.7","FLUSH MOUNT CONTACT STEEL DOOR, EN GRADE 3, WHITE, 4K7 EOL RESISTOR","Mature",38]
["DC138S60","FLUSH MOUNT CONTACT STEEL DOOR, EN GRADE 3, WHITE, 6M CABLE","Mature",40.36]
["DC140","OVERHEAD DOORCONTACT","Mature",65.3]
["DC141","CONTACT","Mature",18.989999999999998]
["DC142","CONTACT","Mature",19.329999999999998]
["DC143","ARITECH,1047TH-N4","Mature",45.06]
["DC148","SURFACE MOUNT CONTACT, EN GRADE 3, WHITE","Mature",38.64]
["DC148R4.7","SURFACE MOUNT CONTACT, EN GRADE 3, WHITE, 4K7 EOL RESISTOR","Mature",42.07]
["DC148S60","SURFACE MOUNT CONTACT, EN GRADE 3, WHITE, CABLE 6M","Mature",44.41]
["DC1901","HOUSING DC101","Mature",1.78]
["DC1906","(1 PLATE = QTY 1) SPACER FOR DC101/103 WHITE","Mature",0.92]
["DC1906B","(1 PLATE = QTY 1) SPACER FOR DC101/103 BROWN","Mature",2.33]
["DC1906T","(1 PLATE = QTY 1) SPACER FOR DC103/104 WHITE","Mature",2.39]
["DC1912","L BRACKET","Mature",5.62]
["DC193","L BRACKET FOR DC102","Mature",9.5]
["DC301","3555 ARITECH DC301       W/BLNK HSG W/SPL PKG","Mature",103.53]
["DC408","FLOOR MOUNT CONTACT GARAGE DOOR, EN GRADE 3, GREY","Mature",89.31]
["DC408R4.7","FLOOR MOUNT CONTACT GARAGE DOOR, EN GRADE 3, GREY, 4K7 EOL RESISTOR","Mature",92.77]
["DC418","EN GRADE IV SURFACE MOUNTED MAGNETIC CONTACT","Mature",268.16000000000003]
["DC428","EN GRADE IV ROLLER SHUTTER MAGNETIC CONTACT","Mature",339.92]
["DC501","1005 ARITECH DC501 W/2    METERS (7FT) VDS SPV LP SPL PKG NAT","Mature",17.829999999999998]
["DC555","DC555 W/6FT VDS CBL, SPVD LOOP","Mature",14.85]
["DC888","1078CW WITH 6FT VDS CBL SPVD","Mature",20.62]
["DC-9101E","INNOVATION CONV. MULTI SENSOR","Mature",43.89]
["DC-9101E-B","INNOVATION CONV. OPTICAL/HEAT DETECTOR W/ FLASHING LED W/ REMOTE INDICATOR OUTPUT (BLACK)","Mature",58.45]
["DC-9102E","INNOVATION CONV. OPTICAL DETECTOR","Mature",40.18]
["DC-9103E","INNOVATIVE CONV. DUAL HEAT DETECTOR A1R, A1S, BS","Mature",33.68]
["DC-9105E","CONVENTIONAL REFLECTIVE BEAM DETECTOR","Mature",408.74]
["DC-9204E","INNOVATION CONV. INDOOR MCP, RESETTABLE /W SURFACE MOUNT BACK BOX","Mature",27.29]
["DC-9503E","LOOP ISOLATOR","Mature",83.65]
["DC-9504E","INNOVATION BASE MOUNTED ISOLATOR FOR \"D\" SERIES DETECTORS","Mature",41.69]
["DCD-1E-IS(WHT)","CONVENTIONAL I.S. HEAT DETECTOR EEX1A11CT5 55C","Mature",180.61]
["DD666AM-D","20 M CEILING MOUNT DUAL/AM MOTION SENSOR NO/NC ALARM OUTPUT, VDS","Mature",287.85000000000002]
["DD669","20 M CEILING MOUNT DUAL MOTION SENSOR","Mature",205.4]
["DD669AM","20 M CEILING MOUNT DUAL/AM MOTION SENSOR","Mature",260.7]
["DDI602AM-F1","OUTDOOR DUAL TECHNOLOGY/AM - 10.525 GHZ","Mature",427.3]
["DDI602AM-F2","OUTDOOR DUAL TECHNOLOGY/AM -  10.587 GHZ","Mature",427.3]
["DDI602-F1","OUTDOOR DUAL TECHNOLOGY DETECTOR 10.525 GHZ 10/20/30M - 33/66/98FT SELECTABLE - BEL-NLD-ISR-ESP-PRT-USA","Mature",339.95]
["DDI602-F2","OUTDOOR DUAL TECHNOLOGY DETECTOR 10.587 GHZ 10/20/30M - 33/66/98FT SELECTABLE - GRC-ITA-UAE-GBR","Mature",339.95]
["DDI602-F3","OUTDOOR DUAL TECHNOLOGY DETECTOR 9.9 GHZ 10/20/30M - 33/66/98FT SELECTABLE - DEU-AUT-CZE-FRA-POL","Sell-out",339.95]
["DDI78-EXF1","(MOQ 10) ATEX CERTIFIED OUTDOOR MOTION SENSORS","Mature",6154.51]
["DDI78-EXF4","(MOQ 10) ATEX CERTIFIED OUTDOOR MOTION SENSOR 10.525GHZ","NPI",6154.51]
["DDV1016AM","16M 50FT DUAL VECTOR 9C AM","Sell-out",160.84]
["DDV1016AM-D","16M 50FT DUAL VECTOR 9C AM VDS","Sell-out",193.04]
["DDV1016AM-D-B-N","16 M, DUAL TECHNOLOGY MOTION SENSOR VECTOR, ANTI-MASK, VDS APPROVED, BLACK","Mature",202.68]
["DDV1016AM-D-N","16 M, DUAL TECHNOLOGY MOTION SENSOR VECTOR, ANTI-MASK, VDS APPROVED","Mature",193.05]
["DDV1016AM-N","16 M, DUAL TECHNOLOGY MOTION SENSOR VECTOR, ANTI-MASK","Mature",160.84]
["DEF-KEY","DONGLE KEY, ROHS COMPLIED","Mature",2095.5]
["DEF-KEY-TIMER","DONGLE KEY, WITH TIMER FUNCTION, ROHS COMPLIED","Mature",2305.04]
["DF104","FLEXZONE-4 PROCESSOR IN NEMA 4 ALUMINUM ENCLOSURE. ","Mature",6208.45]
["DF160","FLEXZONE-60 PROCESSOR IN NEMA 4 ALUMINUM ENCLOSURE.","Mature",8795.24]
["DF205","ULTRALINK LINK EXTENSION CABLE, 58 CM (23 IN)","Mature",172.51]
["DF215","FLEXZONE SENSOR CABLE, 150M ROLL","Mature",3276.67]
["DF230","FLEXZONE ARMORED SENSOR CABLE 150M","NPI",6213.37]
["DF300","RUGGED CONTROLLER","NPI",11926.48]
["DF400","ULTRALINK PROCESSOR MODULE WITH 8/8 RELAY OUTPUTS/INPUTS. DIN-RAIL MOUNT","Mature",2724.82]
["DF410","WIRELESS GATE SENSOR MODULE, BATTERY-POWERED, GRAY ENCLOSURE","Mature",1552.11]
["DF432","ULTRALINK EXPANSION MODULE, 32 RELAY","Mature",3120.64]
["DF502","MININ NETWORK INTERFACE UNIT (USB TO RS-422 & SMFO). DIN RAIL MOUNT","Mature",1806.75]
["DF648","POWER SUPPLY FOR ?LTRALINK I/O MODULE, 48V","Mature",362.18]
["DF800","FLEXZONE CABLE SPLICE KIT","Mature",207]
["DF801","FLEXZONE CABLE TERMINATOR","Mature",310.44]
["DF860","(1000 PACK) PLASTIC TIEWRAP FOR MICROPHONIC CABLE","Mature",275.99]
["DF861","FLEXPS ENCLOSURE POLE-MOUNTING KIT","Mature",318.55]
["DF950-CM","CD UCM (UNIVERSAL CONFIGURATION MODULE) SOFTWARE  \\FLEXPS/PI PRODUCT DOCUMENTATION  INTERFACE CABLE","Mature",310.44]
["DF955-C1","MULTI-MODE FIBER OPTIC (MMFO) COMM CARD FOR FENCE PROTECTION NETWORK OPTION","Mature",1478.21]
["DF955-C2","EIA-422 COPPER COMM CARD FOR FENCE PROTECTION NETWORK OPTION","Mature",1552.11]
["DF955-C3","COMM CARD, SINGLE-MODE FIBER OPTIC (SMFO), G2 SILVER","Mature",1552.11]
["DF955-C4","ETHERNET CARD, 10/100BASE-TX ON RJ45, POE, G2 SILVER","Mature",1552.11]
["DF955-C5","RECEIVER CARD FOR WIRELESS GATE SENSOR","Mature",2463.69]
["DF955-C6","FLEXZONE RELAY OUTPUT CARD","Mature",800.43]
["DF955-SW","CD NETWORK MANAGER SW FOR FENCE PROTECTION","Mature",2356.7399999999998]
["DF955-U","FENCE PROTECTION SILVER NETWORK INTERFACE UNIT (SNIU) - WITHOUT PSU","Mature",5902.25]
["DF955-U-SM","FENCE PROTECTION SILVER NETWORK INTERFACE UNIT SM FIBRE","NPI",7116.94]
["DG1","DETECTAGAS? 250ML","NPI",25.17]
["DG2","DETECTAGAS? 400ML UNIVERSAL CO ALARM","NPI",28.79]
["DH1","DETECTAHEAD?","NPI",386.93]
["DHX75AC","EMPTY HOUSING MULTI PURPOSE, PN 60-928","Mature",55.49]
["DI601","OUTDOOR PIR 10/20/30M - 33/66/98FT SELECTABLE","Mature",198.31]
["DI601AM","OUTDOOR PIR/AM","Mature",283.08]
["DI601-WT","WALK TESTER FOR DI601 AND DDI602 SERIES","Mature",138.37]
["DI-9101E","INNOVATION INTELLIGENT MULTI SENSOR","Mature",86.46]
["DI-9102E","INNOVATION INTELLIGENT OPTICAL SMOKE DETECTOR","Mature",69.14]
["DI-9103E","INNOVATION INTELLIGENT DUAL HEAT DETECTOR","Mature",64.08]
["DI-9204E","INNOVATION INTELLIGENT ADDR. INDOOR MCP, RESETABLE /W SURFACE MOUNT BACK BOX","Mature",88.17]
["DI-9300E","DIGITAL SINGLE INPUT MODULE","Mature",69.88]
["DI-9301E","DIGITAL SINGLE INPUT AND OUTPUT MODULE","Mature",110.38]
["DI-9305E","DIGITAL SINGLE RISER OUTPUT MODULE","Mature",139.82]
["DI-9319E","DIGITAL ZONE MONITOR UNIT","Mature",128.06]
["DI-9405","ADDRESSABLE SOUNDER BASE","Mature",89.2]
["DI-9406","DI SERIES ADDRESSABLE SOUNDER / VISIBLE INDICATOR BASE","Mature",126.33]
["DM100A","ADRESSABLE CALL POINT","Mature",137.58000000000001]
["DM2010G","ADDRESSABLE MCP, GREEN, 2000 SERIES, SURFACE MOUNTA WITH GLASS, EVACUATION","Sell-out",108.23]
["DM2080BI-N","2000 SERIES ADDRESSABLE MCP W/ ISOLATOR - BLUE - HAUSALARM","Mature",164.02]
["DM2080I-N","2000 SERIES ADDRESSABLE MCP W/ ISOLATOR - RED","Mature",168.96]
["DM3000","INT ADDR MCP - ARI (RED)","Sell-out",63.64]
["DM3010G","INT ADDR MCP - GRN","Sell-out",68.760000000000005]
["DM3010R-IP","INT ADDR MCP - WP RED","Sell-out",229.06]
["DM3010RS06","INT ADDR MCP - SWE RED","Sell-out",{"$error":"#N/A"}]
["DM3010RS18-IP","INT ADDR MCP - WP POL RED","Sell-out",{"$error":"#N/A"}]
["DM3010YS99","INT ADDR MCP - ENG YEL","Sell-out",70.5]
["DM3110R","INT ADDR MCP W/ ISO - RED","Sell-out",{"$error":"#N/A"}]
["DM3110R-KIT","INT ADDR MCP W/ ISO - (RED) W/ BACK BOX","Phase-out",{"$error":"#N/A"}]
["DM700B03-KITR","MCP BLUE, EXTINGUISHING HOLD, PUSH BUTTON , SURFACE MOUNT WITH PROTECTION COVER - ENGLISH","Sell-out",64.930000000000007]
["DM700K-N","MCP RED, 2-POS. KEYSWITCH, SURFACE MOUNT","Sell-out",76.739999999999995]
["DM700KY-N","MCP YELLOW, 2-POS. KEYSWITCH, SURFACE MOUNT","Sell-out",78.239999999999995]
["DM715","(10 PACK) EN54 UNIVERSAL GLASS NO LOGO","Sell-out",24.18]
["DM788GR","SURFACE MOUNT.BOX WITHOUT CONNECTORS, GREEN","Sell-out",7.92]
["DM796","KEYGAURD WITH MICROSWITCH","Sell-out",104.6]
["DM797","(4 PACK) REPLACEMENT SET WINDOW","Sell-out",58.77]
["DM880B","CALL POINT","Mature",76.95]
["DM966","(10 PACK) BREAK GLASS FOR PUSH-BUTTON ACTIVATED MANUAL CALL POINTS","Mature",29.42]
["DM980BI-N","980 SERIES ADDRESSABLE MANUAL CALL POINT WITH ISOLATOR - BLUE PLASTIC HOUSING","Mature",149.78]
["DM980I-N","980 SERIES ADDRESSABLE MANUAL CALL POINT WITH ISOLATOR - RED PLASTIC HOUSING","Mature",149.78]
["DMA100CAP","(5 PACK) ENVELOP OF COVER/FLAP FOR CALL POINT WITH THEIR SECURITY NAIL","Mature",54.18]
["DMN700E100","MCP RED, 100 OHM AND FREE CONTACT, OUTDOOR, SURFACE MOUNT WITH RESETABLE ELEMENT","Sell-out",198.03]
["DMN700E-IS","MCP RED, 560 OHM AND FREE CONTACT, INTRINSICALLY SAFE, OUTDOOR, SURFACE MOUNT WITH GLASS","Sell-out",238.28]
["DMN700-SW","MCP RED, FREE CONTACT, FLUSH MOUNT WITH GLASS","Sell-out",21.46]
["DMN700W03-KITR","MCP WHITE, EXTINGUISHING ABORT, FREE CONTACT, SURFACE MOUNT, RESETABLE WITH PROTECTION COVER - ENGLISH","Sell-out",40.64]
["DMN700W09-KITR","MCP WHITE, PARO DE EXTINCION, FREE CONTACT, SURFACE MOUNT, RESETABLE WITH PROTECTION COVER - SPANISH","Sell-out",41.04]
["DMN702G","MCP GREEN, DOUBLE POLE FREE CONTACT, SURFACE MOUNT WITH GLASS","Sell-out",79.66]
["DMN782","HINGED COVER","Sell-out",5.99]
["DMN78206","SWEDISH HINGE COVER","Sell-out",5.99]
["DMN787","SURFACE MOUNTING BOX WITH EARTH CONNECTOR - RED","Sell-out",8.7200000000000006]
["DMN787Y","SURFACE MOUNTING BOX WITH EARTH CONNECTOR - YELLOW","Sell-out",9.56]
["DMN800","MCP RESETABLE ELEMENT","Sell-out",2.93]
["DMN960IE","APOLLO DISCOVERY MANUAL CALL POINT WATERPROOF W/ ISOLATOR - RED (SURFACE MOUNT) (58100-951)","Mature",451.72]
["DMN960Y","APOLLO DISCOVERY MANUAL CALL POINT - YELLOW - W/ BACK BOX AND RESETTABLE ELEMENT (58100-927)","Mature",146.22]
["DMN990I","APOLLO DISCOVERY MANUAL CALL POINT W/ ISOLATOR - RED - W/ BACK BOX AND GLASS (58100-908)","Mature",108.83]
["DP1","DETECTAPOLE? 6.4M TELESCOPIC POLE","NPI",753.77]
["DP121IAT","ADRESSABLE OPTICAL AND THERMIC SMOKE DETECTOR 12V","Mature",131.99]
["DP122I","CONVENTIONAL OPTICAL SMOKE DETECTOR 12V","Mature",101.7]
["DP122IA","OPTICAL DETECTOR, ADDRESSABLE FOR FP512A","Mature",131.99]
["DP2061N","DP2061N ANALOGUE OPTICAL DETECTOR","Mature",62.53]
["DP2061N-ISOKIT","(10 PACK) DP2061N OPT W/ DB2016 ISO BASE","Sell-out",891.45]
["DP2061T","ANALOGUE MULTI-SENSOR OPTICAL/HEAT","Mature",87.25]
["DP2061T-ISOKIT","(10 PACK) DP2061T MUL W/ DB2016 ISO BASE","Sell-out",1152.1199999999999]
["DP2CAP-ICT","(10 PACK) 2000/700 SERIES INSECT PROTECTION CAP","Sell-out",224.59]
["DP652","APOLLO SERIES 65 CONVENTIONAL OPTICAL SMOKE DETECTOR (55000-317)","Sell-out",59.3]
["DP652L","APOLLO SERIES 65 CONVENTIONAL OPTICAL SMOKE DETECTOR, FLASHING LED (55000-316)","Sell-out",71.25]
["DP721I","700 SER OPT CONV DETECTOR, REM O/P","Sell-out",32.85]
["DP721R","700 SER OPT CONV DET, C/O RELAY O/P","Sell-out",61.27]
["DP721RT","700 SER MULTI CONV DET, C/O RELAY O/P","Sell-out",64.760000000000005]
["DP721RTA","700 SER MULTI CONV DET, C/O REL AUTO RESET","Mature",60]
["DP721T","700 SER MULTI CONV DETECTOR","Sell-out",59.4]
["DP-9907","ACTIVE EOL FOR THE DC CONVENTIONAL SERIES DEVICES","Mature",34.53]
["DP991","APOLLO DISCOVERY OPTICAL DETECTOR (58000-600)","Mature",90.73]
["DP991T","APOLLO DISCOVERY MULTI-SENSOR (58000-700)","Mature",105.55]
["DR1","DETECTAREACH","Mature",36.58]
["DS1","DETECTASMOKE? 250ML NON FLAMM","NPI",49.74]
["DS2R","DETECTASMOKE - REPLACEMENT CANS FOR DR1 (NON FLAMMABLE)","NPI",52.98]
["DT114","TEMPERTURE DETECTOR, CONVENTIONAL FOR FP108","Mature",119.64]
["DT114IA","TEMPERATURE DETECTOR, ADDRESSSABLE FOR FP512A8","Mature",131.99]
["DT2063N","2000 SERIES ADDRESSABLE HEAT DETECTOR W/ DUAL LED & REMOTE OUTPUT","Mature",67.33]
["DT2063N-ISOKIT","(10 PACK) DT2063N TMP W/ DB2016 ISO BASE","Sell-out",899.03]
["DT657","APOLLO SERIES 65 CONVENTIONAL HEAT DETECTOR CS 90?C (55000-137)","Sell-out",37.479999999999997]
["DT657L","APOLLO SERIES 65 CONVENTIONAL HEAT DETECTOR CS 90?C, FLASHING LED (55000-136)","Mature",51.1]
["DT713-5","700 SERIES CONVENTIONAL HEAT DETECTOR, 57??C CLASS A2","Sell-out",19.23]
["DT713-5R","700 SERIES CONVENTIONAL HEAT DETECTOR, 57??C CLASS A2, C/O RELAY","Sell-out",58.73]
["DT713-7","700 SERIES CONVENTIONAL HEAT DETECTOR, 70??C CLASS B","Sell-out",28.67]
["DT992","APOLLO DISCOVERY HEAT DETECTOR (58000-400)","Mature",87.27]
["DZ-03","STANDARD DETECTOR BASE FOR C-9102, C-9103, I-9102, I-9103","Mature",4.55]
["E/IP","POLARITY INVERSION INTERFACE","Mature",175.79]
["EMK46ATLSA","SURF/FLUSH MOUNT MAGNET","Mature",11.75]
["EMK46ATLSA4","SURF/FLUSH MOUNT MAGNET","Mature",13.94]
["EMK46ATLSA4B","SURF/FLUSH MOUNT MAGNET","Mature",13.94]
["EMK46ATLSA6","SURF/FLUSH MOUNT MAGNET","Mature",16.03]
["EMK48ATLSA6","SURF/FLUSH MOUNT MAGNET","Mature",19.13]
["EOL-ACT","ACTIVE END-OF-LINE RESISTOR","Mature",29.47]
["EOL-ACT2","(2 PACK) ACTIVE END-OF-LINE RESISTOR","Mature",56.07]
["EOL-ACT4","(4 PACK) ACTIVE END-OF-LINE RESISTOR","Mature",112.02]
["EOL-ACT8","(8 PACK) ACTIVE END-OF-LINE RESISTOR","Mature",224.02]
["EPR-FP2FS","(12 PACK) 512K FEP EPROM FOR 1200/2000 SERIES FIRE PANELS","Mature",356.05]
["ES007","JUNCTION BOX OVP 000012-02","Mature",5.19]
["ES010","JUNCTION BOX WHITE, 8+2 TERMINALS","Mature",6.31]
["ES011","JUNCTION BOX 9+2 CONNECTIONS","Mature",17.850000000000001]
["ES022","JUNCTION BOX 20+2 CONNECTIONS","Mature",19.97]
["ES058W","JUNCT.BOX WHITE 5+2 TERMINALS","Mature",2.98]
["ES059W","JUNCT. BOX WHITE 8+2 TERMINALS","Mature",3.14]
["ES060W","JUNCT.BOX WHITE 22+2 TERMINALS","Mature",11.56]
["ES070W","8-WAY JUNC.BOX REED TAMP BEIGE","Mature",16.420000000000002]
["ES071W","16WAY JUNC BOX REED TAMP BEIGE","Mature",22.21]
["ES081","DOOR LOOP","Mature",10.38]
["ES10DAW","JUNCTION BOX WHITE","Mature",22.83]
["ES15DAW","JUNCTION BOX WHITE","Sell-out",31.13]
["ES20DAW","JUNCTION BOX WHITE","Mature",38.29]
["ES2X-F1-S","Addr Fire Pnl w/ UI - 1 L Small Cab","Mature",{"$error":"#N/A"}]
["ESFF746","Dual IR Flame Detector electronic module (Spare Part for FF746)","Mature",{"$error":"#N/A"}]
["ESS2641O2","OXYGEN DETECTOR 0-25 VOL. ATEX Z1 C2","Mature",{"$error":"#N/A"}]
["ESTR010","TOUCH SENSITIVE DISP.CUP ON SWING FRAME","Mature",{"$error":"#N/A"}]
["EV1012AM","PIR/AM, DSP, 12M, 9C","Mature",89.04]
["EV1116","PIR, DSP, 16M, 11C","Mature",58.65]
["EV1116AM","PIR/AM, DSP, 16M,11C","Mature",114.85]
["EV666-D","PIR DETECTOR CL MNT FORM C","Mature",198.17]
["EV669","PIR DETECTOR CL MNT","Mature",162.16]
["EVERON-1700-STEP-UP","KIT, EVN1700-MBC +EVNX700-RETRO","NPI",487.99]
["EVERON-3700-STEP-UP","KIT, EVN3700-MBC +EVNX700-RETRO","NPI",902.75]
["EVERON-4700-STEP-UP","KIT, EVN4700-MBC +EVNX700-RETRO","NPI",1262.79]
["EVERON-STARTER","KIT, EVN1700-MM + ATS1125","NPI",698.91]
["EVERON-TOUCH","KIT, EVN1700-MM + ATS1140","NPI",926.76]
["F3051-0100","ANALOGUE LHD CABLE W/ NYLON SHEATH, 100M","NPI",1533.13]
["F3051-0500","ANALOGUE LHD CABLE W/ NYLON SHEATH, 500M","NPI",7665.63]
["F3052-0100","ANALOGUE LHD CABLE W/ PVC SHEATH & STAINLESS STEEL BRAID, 100M","NPI",4024.36]
["F3052-0500","ANALOGUE LHD CABLE W/ PVC SHEATH & STAINLESS STEEL BRAID, 500M","NPI",20121.8]
["FA350WY","LED BEACON, WHITE SHALLOW BASE, YELLOW LENS","Mature",63.13]
["FA360B","2J XENON BEACON, RED SHALLOW BASE, BLUE LENS","Sell-out",71.94]
["FA500EN","POWER SUPPLY 24V 5A EN54-4 EN12101-10","Mature",418.96]
["FAC350","LED BEACON, RED SHALLOW BASE, CEILING MOUNT, RED FLASH","Mature",118.99]
["FAC355","LED BEACON, RED DEEP BASE, CEILING MOUNT, RED FLASH","Mature",122.48]
["FAT2002","INDICATING TABLET","Mature",1509.56]
["FAT3000","FAT3000","Mature",1590.94]
["FAT3000-GRAFIK","FAT3000-GRAFIK","Mature",1646.78]
["FAT-RS232","FAT-RS232","Mature",212.13]
["FAT-RS422","ADAPTOR","Mature",136.07]
["FAT-RS485-M","FAT-RS485-M","Mature",558.21]
["FAT-RS485-S","FAT-RS485-S","Mature",558.21]
["FAW350","LED BEACON, RED SHALLOW BASE, WALL MOUNT, RED FLASH","Mature",118.99]
["FAW355","LED BEACON, RED DEEP BASE, WALL MOUNT, RED FLASH","Mature",122.48]
["FAW355WC","LED BEACON, WHITE DEEP BASE, WALL MOUNT, CLEAR FLASH","Mature",116.65]
["FB_BRACKET","ADJUSTABLE BRACKET FOR FIREBEAM","NPI",217.6]
["FBF2001","CONTROL PANEL","Mature",548.96]
["FBF3000","FBF3000","Mature",614.1]
["FC-000-HUB","FIRECELL HUB PROGRAMMING LEAD","NPI",163.99]
["FC-171-001","W/LESS WHITE SDR BASE ONLY","Mature",338.33]
["FC-171-002","W/LESS RED SDR BASE ONLY","Mature",338.33]
["FC-172-001","WHITE SDR ONLY","Mature",81.180000000000007]
["FC-172-002","RED SDR ONLY","Mature",81.180000000000007]
["FC-173-002","RED SDR VID HEAD ONLY","Mature",149.82]
["FC-179-002","FIRECELL SDR WEATHER RESISTANT KIT","NPI",122.99]
["FC-200-002","W/LESS RED MCP C/W PROTECTIVE LID","Sell-out",277.64]
["FC-200-003","W/LESS RED MCP (APOLLO FRONT) C/W PROTECTIVE LID","Mature",277.64]
["FC2011-L","HOST CPU REPLACEMENT PART FOR LEGACY FP2000/1200 SYSTEMS","Mature",1771.65]
["FC2012","HOST CPU BOARD FOR 1200/2000 SYSTEMS (SMT)","Mature",1771.65]
["FC-315-CA1","WHITE C/MOUNT SDR VAD HEAD ONLY","NPI",167.95]
["FC-315-CA2","RED C/MOUNT SDR VAD ONLY","Mature",176.87]
["FC-315-WA1","WHITE W/MOUNT SDR VAD HEAD ONLY","Mature",176.87]
["FC-315-WA2","RED W/MOUNT SDR VAD ONLY","Mature",176.87]
["FC-323-CA2","RED C/MOUNT BEACON HEAD ONLY","NPI",135.07]
["FC-323-WA1","WHITE W/MOUNT VAD HEAD ONLY","Mature",141.83000000000001]
["FC-323-WA2","RED W/MOUNT BEACON ONLY","Mature",135.07]
["FC-555-001-V3","W/LESS 230VAC RCC - V3","NPI",459.09]
["FC-555-024-V3","W/LESS 24VDC RCC - V3","NPI",383.16]
["FC-555-331-V3","W/LESS 230VAC RCC W/ REMOTE AERIAL FACILITY - V3","NPI",520.88]
["FC-60-1000","FIRECELL UNIVERSAL PSU (FOR RCC)","NPI",204.99]
["FC-60-2000","WIRELESS DOOR CONTROLLER (BLACK)","Mature",330.13]
["FC-60-2010","WIRELESS DOOR CONTROLLER (WHITE)","Mature",330.13]
["FC-610-001","W/LESS DUAL INPUT / OUTPUT UNIT","Mature",457.42]
["FC-620-001","FUSION AUXILIARY RELAY MODULE","Mature",222.71]
["FC-7325","POLE MOUNTING KIT","NPI",71.760000000000005]
["FC-7329","UHF DIPOLE UNITY GAIN EXTERNAL AERIAL C/W 5M","NPI",307.48]
["FC-868-D03","W/RESISTANT VERTICALLY MOUNTED DIPOLE AERIAL C/W 3M COAX","NPI",512.47]
["FC-868-SE2","FIRECELL W/LESS SURVEY KIT","NPI",1363.38]
["FCX-170-001","W/LESS DETECTOR BASE ONLY","Mature",222.82]
["FCX-174-001","MULTISENSOR SMOKE DETECTOR SENSOR ONLY","Mature",80.010000000000005]
["FCX-175-001","CLASS A1R HEAT DETECTOR ONLY","Mature",61.29]
["FCX-176-001","CLASS CS HEAT DETECTOR ONLY","Mature",61.29]
["FCX-177-001","OPTICAL SMOKE DETECTOR ONLY","Mature",61.29]
["FCX-178-001","FUSION WIRELESS REMOTE INDICATOR MODULE","Mature",287.62]
["FCX-191-000","W/LESS SDR / DETECTOR BASE ONLY","Mature",444.18]
["FCX-191-200","W/LESS SDR / RED VISUAL INDICATOR & DETECTOR BASE ONLY","Mature",531.64]
["FCX-500-444-V3","W/LESS HUB -4 LOOP W/ REMOTE AERIAL FACILITY - V3","NPI",551.9]
["FCX-532-001","FUSION RADIO LOOP MODULE","Mature",596.4]
["FD001R","FIRERAY ONE MOTORISED","Mature",855.37]
["FD2705R","2000 SERIES AA REFLECTIVE BEAM DETECTOR - 50M","Mature",1205.42]
["FD2710R","2000 SERIES AA REFLECTIVE BEAM DETECTOR - 100M","Mature",1522.92]
["FD310","END-TO-END BEAM DETECTOR - 5 TO 120 M","Mature",1463.67]
["FD310H","ADDITIONAL HEAD PAIR FOR FD310","Mature",1343.39]
["FD-CH001R","ANTI-CONDENSATION HEATER FOR FIRERAY ONE REFLECTIVE BEAM DETECTORS","Mature",577.09]
["FDD710","DUCT HOUSING FOR STANDARD DETECTOR,  SINGLE PIPE UNIVERSAL, EXCL. BASE & DETECTOR","Mature",213.76]
["FDD710E","PROTECTION COVER FOR FDD710","Mature",475.16]
["FDD710LP","VENTURI PIPE 1,5M KIT WITH GASKET","Mature",71.819999999999993]
["FDD710LP-PIPE","VENTURI PIPE 1,5M WITHOUT GASKET","Mature",67.44]
["FDD710MB","MOUNTING BRACKET KIT WITH GASKET","Mature",55.4]
["FDD710MB-BRACKET","MOUNTING BRACKET WITHOUT GASKET","Mature",49.37]
["FDD710XLP-GASKET","GASKET FOR 2.8M EXTENSION PIPE FOR FDD710","Mature",12.31]
["FDD710XLP-PIPE","2.8M EXTENSION PIPE FOR FDD710","Sell-out",{"$error":"#N/A"}]
["FD-LRK","LONG-RANGE REFLECTOR KIT FOR FIRERAY ONE REFLECTIVE BEAM DETECTORS","Mature",204.57]
["FD-MB001R","Mounting/Adjustment Bracket for FD001R/FD310 Beam Detectors & 5000-008/5000-007 Prism Plates (1170-000)","Mature",255.19]
["FD-MB10","MOUNTING BRACKET FOR USE WITH FD700, FD900, FD2700 AND FDR-EZ SERIES","Sell-out",260.76]
["FD-MB50","MOUNTING BRACKET FOR USE WITH FD310 HEADS","Sell-out",271.38]
["FD-MBP1","MNT BRACKET PRISM CEILING WHITE","Mature",671.3]
["FD-PC001R","PROTECTIVE CAGE FOR FIRERAY ONE REFLECTIVE BEAM DETECTORS","Mature",129.55000000000001]
["FE110US","ECO LINE MAG 150KGS, SURFACE MOUNT, UNMONITORED","Mature",128.02000000000001]
["FE110ZL","ECO LINE, Z & L BRACKET SET 150KGS","Mature",45.74]
["FE130GB","ECO LINE GLASS DOOR BRACKET FOR 300KGS MAGNET","Mature",36.56]
["FE130L","ECO LINE, L BRACKET 300KGS","Mature",45.74]
["FE130MD","ECO LINE DOUBLE MAG 2 X 300KGS, SURFACE MOUNT, MONITORED","Mature",341.37]
["FE130MM","ECO LINE MAG 300KGS, MORTICE MOUNT, MONITORED","Mature",137.16]
["FE130MS","ECO LINE MAG 300KGS, MONITORED, SURFACE MOUNT","Mature",161.57]
["FE130ZL","ECO LINE, Z & L BRACKET SET 300KGS","Mature",64.040000000000006]
["FE160L","ECO LINE, L BRACKET 600KGS","Mature",51.82]
["FE160MS","ECO LINE STANDARD MAG 600KGS, SURFACE MOUNT, MONITORED","Mature",207.28]
["FE160ZL","ECO LINE, Z & L BRACKET SET 600KGS","Mature",82.29]
["FE225-150","UNIVERSAL BRACKET WALL OR FLOOR MONTING - 150MM","Mature",71.56]
["FE225-300","UNIVERSAL BRACKET WALL OR FLOOR MONTING - 300MM","Mature",84.87]
["FE230","DOOR HOLDER, SURFACE MOUNT, 400N, WITH RELEASE BUTTON","Mature",69.84]
["FE235","DOOR HOLDER, SQUARE BASE, 400N","Mature",73.459999999999994]
["FE240","DOOR HOLDER, FLUSH MOUNTING, 400N","Mature",74.58]
["FE245","DOOR HOLDER, WALL MOUNT, 400N, WITH RELEASE BUTTON","Mature",106.33]
["FE250","DOOR HOLDER, FLOOR MOUNTING, 400N, WITH RELEASE BUTTON","Mature",131.84]
["FE260-175","DOOR HOLDER, UNIVERSAL ADJUSTABLE TUBE, 400N, WITH RELEASE BUTTON, 175MM","Mature",129.52000000000001]
["FE260-325","DOOR HOLDER, UNIVERSAL ADJUSTABLE TUBE, 400N, WITH RELEASE BUTTON, 325MM","Mature",137.37]
["FE260-475","DOOR HOLDER, UNIVERSAL ADJUSTABLE TUBE, 400N, WITH RELEASE BUTTON, 475MM","Mature",148.78]
["FE290","DOOR HOLDER, SURFACE MOUNT, 400N, MAINS POWERED","Mature",101.33]
["FE310","MAGNETIC LOCK 12 VDC","Mature",182.87]
["FE31Z","BRACKET Z","Mature",70.16]
["FE321","MAGNETIC LOCK 12-24VDC","Mature",219.48]
["FE323-N","MAGNETIC LOCK 2430N, MEGALED AND RELAY","Mature",250.08]
["FE323N-LB","L-BRACKET FE323-N","Mature",52.84]
["FE323N-ZB","Z-BRACKET FE323-N","Mature",96.36]
["FE32A","SURF. ARMATURE HSG","Mature",94.49]
["FE32L","BRACKET L, FOR FE421/423","Mature",51.82]
["FE32Z","BRACKET Z","Mature",94.49]
["FE371-N","MAGNETIC LOCK 5400N, MEGALED AND RELAY","Mature",288.35000000000002]
["FE372","MAGNETIC LOCK 12-24VDC","Mature",393.21]
["FE37A","SURF.ARMATURE HSG","Mature",112.79]
["FE37L","BRACKET L","Mature",54.88]
["FE37Z","BRACKET Z","Mature",106.68]
["FE525","SOCKET 90?","Mature",44.16]
["FE527","STANDARD ANCHORPLATE","Mature",25.27]
["FE529","ANCHORPLATE, SWIVEL - 120 DEGREE","Mature",32.770000000000003]
["FE535","DOOR HOLDER, STEEL SQUARE BASE, VDS MAGNET","Mature",114.87]
["FE543","DOOR HOLDER, REINFORCED PLASTIC BOX, VDS MAGNET","Mature",116.11]
["FE550","DOOR-MAGNET FLOORMOUNT","Mature",188.28]
["FE560","UNIVERSAL DOOR-MAGNET, ADJUSTABLE","Mature",193.71]
["FE570","UNIVERSAL DOOR-MAGNET, ADJUSTABLE","Mature",250.53]
["FE581","DOOR HOLDER, STEEL SQUARE BASE, IP65, VDS MAGNET","Mature",129.75]
["FE590","DOOR-MAGNET WALLMOUNT EX-PROOF","Mature",3353.64]
["FE630","DOOR HOLDER, SURFACE MOUNT, 850N","Mature",111]
["FEP2000N","FEP PCB FP2000","Mature",492.32]
["FF703N","TEST TORCH UNIT FF TT2","Mature",4659.3999999999996]
["FF705","UNIVERSAL SWIVEL MOUNT","Sell-out",351.46]
["FF742N","TALENTUM FLAME DET IR2","Mature",2455.6]
["FF746N","TALENTUM FLAME DET IR2(EXD)","Mature",3359.03]
["FF747N","TALENTUM FLAME DET IR2 (IS)","NPI",2798.22]
["FF751N","TALENTUM FLAME DET UV/IR2","Mature",3233.21]
["FF756N","TALENTUM FLAME DET UV/IR2(EXD)","NPI",4422.71]
["FF762N","TALENTUM FLAME DET IR3","Mature",2946.71]
["FF766N","TALENTUM FLAME DET IR3 (EX D)","Mature",4420.0600000000004]
["FF767N","TALENTUM FLAME DET IR3 (IS)","NPI",3359.03]
["FF-AP1N","FLAME DET AIR PURGE ADAPTER","Mature",996.65]
["FF-AP2N","FLAME DET AIR PURGE ADAPTER(EXD)","Mature",1385.25]
["FHSD8015-99","EDWARDS LS10 DET (ENGLISH)","Mature",1892.42]
["FHSD8025-01","EDWARDS LS25 DET (DUTCH)","Mature",{"$error":"#N/A"}]
["FHSD8025-02","LASERSENSE 25 - FRENCH","Mature",{"$error":"#N/A"}]
["FHSD8025-04","EDWARDS LS25 DET (GERMAN)","Mature",{"$error":"#N/A"}]
["FHSD8025-09","EDWARDS LS25 DET (SPANISH)","Mature",2928.07]
["FHSD8025-10","LASERSENSE 25 - ITALIAN","Mature",{"$error":"#N/A"}]
["FHSD8025-18","LASERSENSE 25 - POLISH","Mature",{"$error":"#N/A"}]
["FHSD8025-21","EDWARDS LS25 DET (PORTUGUESE)","Mature",2928.07]
["FHSD8025-99","EDWARDS LS25 DET (ENGLISH)","Mature",2928.07]
["FHSD8100-01","EDWARDS LS100 DET (DUTCH)","Mature",{"$error":"#N/A"}]
["FHSD8100-02","EDWARDS LS100 DET (FRENCH)","Mature",{"$error":"#N/A"}]
["FHSD8100-04","EDWARDS LS100 DET (GERMAN)","Mature",{"$error":"#N/A"}]
["FHSD8100-09","EDWARDS LS100 DET (SPANISH)","Mature",3947.84]
["FHSD8100-10","EDWARDS LS100 DET (ITALIAN)","Mature",{"$error":"#N/A"}]
["FHSD8100-18","LASERSENSE 100 - POLISH","Mature",{"$error":"#N/A"}]
["FHSD8100-21","EDWARDS LS100 DET (PORTUGUESE)","Mature",3947.84]
["FHSD8100-99","EDWARDS LS100 DET (ENGLISH)","Mature",3947.84]
["FHSD8200-10","EDWARDS LSHSSD2 DET (ITALIAN)","Sell-out",{"$error":"#N/A"}]
["FHSD8200-99","EDWARDS LSHSSD2 DET (ENGLISH)","Sell-out",{"$error":"#N/A"}]
["FHSD8210-99","EDWARDS LSHSSD2 MDT (ENGLISH)","Sell-out",{"$error":"#N/A"}]
["FHSD8300-ULF","EDWARDS MODULASER MIN. DIS","Mature",{"$error":"#N/A"}]
["FHSD8310-ULF","EDWARDS MODULASER STD. DIS","Mature",{"$error":"#N/A"}]
["FHSD8320-ULF","EDWARDS MODULASER CMD. DIS","Mature",{"$error":"#N/A"}]
["FHSD8330-ULF","EDWARDS MODULASER DET","Mature",{"$error":"#N/A"}]
["FIBS-A3-S2","FIBS-A3-S2","Mature",3231.63]
["FIBS-A4-S2","FIBS-A4-S2","Mature",3231.63]
["FP108","CONVENTIONAL 8 LOOPS CONTROL PANEL WITH BUILT IN EVACUATION AND 3 CMSI FUNCTIONS  - 12V BATTERIES INCLUDED","Mature",1915.59]
["FP108-REP","REPEATER FOR KARA 8 UP OR BALTIC 512 - POWER AND COMMUNICATION ON A SINGLE PAIR WIRE","Mature",276.79000000000002]
["FP2864C-01","AA FIRE PANEL 2-8 LP 16-64 ZN, NETHERLANDS","Mature",{"$error":"#N/A"}]
["FP2864C-10","AA FIRE PANEL 2-8 LP 16-64 ZN, ITALY","Mature",{"$error":"#N/A"}]
["FP2864C-11","AA FIRE PANEL 2-8 LP 16-64 ZN, BELGIUM-DUTCH","Mature",{"$error":"#N/A"}]
["FP2864C-18","AA FIRE PANEL 2-8 LP 16-64 ZN, POLAND","Mature",{"$error":"#N/A"}]
["FP2864C-18-4L-KIT","KIT FP2000 4 LP 16-64 ZN, 200 DET, PL","Mature",{"$error":"#N/A"}]
["FP2864C-20","AA FIRE PANEL 2-8 LP 16-64 ZN, CZECH","Mature",{"$error":"#N/A"}]
["FP2864C-21","AA FIRE PANEL 2-8 LP 16-64 ZN, PORTUGAL","Mature",3944.34]
["FP2864C-27","AA FIRE PANEL 2-8 LP 16-64 ZN, LITHUANIA","Mature",{"$error":"#N/A"}]
["FP2864C-32","AA FIRE PANEL 2-8 LP 16-64 ZN, BELGIUM-FRENCH","Mature",{"$error":"#N/A"}]
["FP2864C-99","AA FIRE PANEL 2-8 LP 16-64 ZN, ENGLISH","Mature",3944.34]
["FP2864C-99A-4L-KIT","KIT FP2000 4 LP 16-64 ZN, 200 APP DET, ENG","Mature",{"$error":"#N/A"}]
["FP2864C-99A-8L-KIT","KIT FP2000 8 LP 16-64 ZN, 400 APP DET, ENG","Mature",{"$error":"#N/A"}]
["FP2CHST-FEP","CABLE HARNESS FP1200/2000C HOST TO FEP","Mature",91.18]
["FP2FP-KEY","FIRE PANEL LOCK AND KEY FOR FP700/1200/2000 SERIES CONTROL PANELS","Mature",44.51]
["FP2KB-KEY","KEYBOARD LOCK AND KEY FOR FP700/1200/2000 SERIES CONTROL PANELS","Mature",19.73]
["FP512A","ADRESSABLE CONTROL PANEL WITH 4 CLOSED LOOPS AND 512 POINTS CAPACITY, INCLUDES AN EVACUATION UNIT + 3 CMSI FUNCTIONS - 12V BATTERIES INCLUDED","Mature",3288.52]
["FRG2064C-21","GLOBAL REPEATER WITH UP TO 64 INDICATORS, PORTUGAL","Mature",3579.15]
["FRG2064C-27","GLOBAL REPEATER WITH UP TO 64 INDICATORS, LITHUANIA","Mature",{"$error":"#N/A"}]
["FRG2064C-99","GLOBAL REPEATER 16-64 ZN 230V, ENGLISH","Mature",3669.38]
["FRGO-050120","DTC1250E DUAL-SIDE PRINTER: BASE MODEL (NA) + ETHERNET* WITH INTERNAL PRINT SERVER","NPI",5608.44]
["FRGO-050128","DTC1250E DUAL-SIDE PRINTER: BASE MODEL (NA) + ISO MAGNETIC STRIPE ENCODER + HID PROX, ICLASS (SE), MIFARE/DESFIRE, AND SEOS SMART CARD ENCODER (OMNIKEY 5127-USB ONLY) *NOT A DROP IN REPLACEMENT FOR OMNIKEY 5121 OR 5125.","NPI",6992.08]
["FRGO-055100","PRINTER HARDWARE","NPI",7718.83]
["FRGO-084900","HDP6600 STANDARD CLEAR FILM ? APPROX. 1,500 IMAGES","NPI",278.05]
["FRGO-44261","DTC1250E ECO REFILL CARTRIDGE (CARTRIDGE ONLY)","Mature",57.61]
["FRGO-45000","YMCKO CARTRIDGE W/CLEANING ROLLER: FULL-COLOR RIBBON WITH RESIN BLACK AND CLEAR OVERLAY PANEL A?? 250 IMAGES","Mature",170.77]
["FRGO-45010","DTC1250E : YMCKOK CARTRIDGE WITH CLEANING ROLLER: FULL-COLOR RIBBON WITH RESIN BLACK AND CLEAR OVERLAY PANEL - 200 IMAGES.","NPI",405.81]
["FRGO-45015","DTC1250E - ECO - YMCKO REFILL RIBBON W/ CLEANING ROLLER (NA) - 250 IMAGES","Mature",158.19999999999999]
["FRGO-45200","YMCKO: FULL-COLOR RIBBON WITH RESIN BLACK AND CLEAR OVERLAY PANEL A?? 500 IMAGES","Mature",326.08999999999997]
["FRGO-47435","DTC4500E - DUAL-SIDE PRINTING MODULE","Mature",1793.85]
["FRGO-50000","DTC1250E - BASE MODEL, USB PRINTER, SINGLE-SIDED LAMINATION MODULE","Mature",3487.74]
["FRGO-50020","DTC1250E - BASE MODEL + ETHERNET (& USB) WITH INTERNAL PRINT SERVER (NA), SINGLE-SIDED LAMINATION MODULE","Mature",4324.04]
["FRGO-55000","DTC4500E BASE MODEL, USB AND ETHERNET (& USB)  PRINTER - WITHOUT LOCKING HOPPERS, SINGLE-SIDED LAMINATION MODULE, DUAL-INPUT CARD HOPPER","Mature",5637.74]
["FRGO-55008","DTC4500E - BASE MODEL, USB AND ETHERNET* PRINTER WITH THREE YEAR PRINTER WARRANTY - WITHOUT LOCKING HOPPERS, EMBEDDED ENCODER, ICLASS SE, ICLASS, MIFARE/DESFIRE, AND HID PROX ENCODER (OMNIKEY 5127)","Mature",7343.66]
["FRGO-86177","CLEANING KIT - 4 CLEANING SWABS, 10 CLEANING CARDS","Mature",136.47999999999999]
["FRGO-86511","HID ASURE ID 7 SOLO (DIGITAL DELIVERY)","NPI",487.05]
["FRGO-86512","HID ASURE ID 7 EXPRESS (DIGITAL DELIVERY)","NPI",1656.31]
["FRGO-86513","HID ASURE ID 7 ENTERPRISE (DIGITAL DELIVERY)","NPI",3407.67]
["FRGO-86514","HID ASURE ID 7 EXCHANGE (DIGITAL DELIVERY)","NPI",5554.36]
["FRL700","LCD REPEATER LON 700","Sell-out",1165.49]
["GBX2000","GALVANIC BARRIER FOR CONVENTIONAL IS DEVICES","Mature",747.71]
["GRP25L","PANN.OTT.ACUST.ALED","Mature",100.16]
["GRP25L-AIP65","PANN.OTT.ACUST.ALED","Mature",{"$error":"#N/A"}]
["GRP26-01","ILLUMINATED WARNING SIGN - DUTCH","Mature",135.41]
["GRP26-02","ILLUMINATED WARNING SIGN - FRENCH","Mature",143.59]
["GRP26-03","ILLUMINATED WARNING SIGN - ENGLISH","Mature",139.46]
["GRP26-09","ILLUMINATED WARNING SIGN - SPANISH","Mature",136.76]
["GRP26-21","ILLUMINATED WARNING SIGN - PORTUGUESE","Mature",139.46]
["GS300","PASSIVE GLASSBREAK DETECTOR - 2 M","Mature",34.57]
["GS301","PASSIVE GLASSBREAK DETECTOR - 6 M","Mature",39.950000000000003]
["GS320","PASSIVE GLASSBREAK DETECTOR WITH RELAY OUTPUT -2 M","Mature",57.06]
["GS330","RELAY INTERFACE FOR EXPANDING GLASSBREAK DETECTOR LINES","Mature",99.05]
["GS331","GLASSBREAK DETECTOR TESTER","Mature",355.92]
["GS600","MINITEC SENSOR WHITE 2M","Mature",48.28]
["GS610","SHOCK SENSOR WHITE","Mature",54.37]
["GS611A","SHOCK SENSOR","Mature",65.67]
["GS612","SHOCK SENSOR WHITE","Mature",45.2]
["GS612B","SHOCK SENSOR BROWN","Mature",46.07]
["GS613","SHOCK SENSOR W/REED WHITE","Mature",54.22]
["GS613B","SHOCK SENSOR W/REED BROWN","Mature",55.2]
["GS614","ANALYSER SMALL","Mature",68.69]
["GS615","ANALYSER","Mature",74.47]
["GS615A","ANALYSER","Mature",105.45]
["GS620A","SHOCK SENSOR","Mature",73.95]
["GS620BN","SHOCKDET. STANDALONE","Mature",69.290000000000006]
["GS620N","SHOCKDET-STANDALONE DUAL LOOP","Mature",65.97]
["GS625","SHOCK SENSOR","Mature",72.38]
["GS625B","SHOCKDET. STANDALONE BROWN","Mature",72.38]
["GS710","SHOCK SENSOR WHITE","Mature",51.9]
["GS710B","SHOCK SENSOR BROWN","Mature",51.9]
["GS711","SHOCK SENSOR WHITE W/REED","Mature",63.37]
["GS711B","SHOCK SENSOR BROWN W/REED","Mature",63.84]
["GS903N","SHATTERPRO NEW VERSION","Mature",99.52]
["GS905","TEST UNIT","Mature",208.04]
["GS913N","5822A ARITECH SPII","Mature",125.89]
["GS930","ACOUSTIC GLASS BREAK, NEW SP3","Mature",79.02]
["GS960","ACOUSTIC GLASS BREAK SENSORS, EN GRADE II","Mature",126.17]
["GS960AM","ACOUSTIC GLASS BREAK SENSORS, AM, EN GRADE III","Mature",175.1]
["GS960-RB","EOL RESISTOR PCB FOR GS960 SERIES","Mature",10.17]
["GS960-TR","TESTER/CALIBRATION TOOL GS960 SERIES","Mature",338.45]
["GST102A","CONV. CIE, 2 ZONE","Mature",344.76]
["GST104A","CONV. CIE, 4 ZONE","Mature",401.24]
["GST108A","CONV. CIE, 8 ZONE","Mature",528.58000000000004]
["GST116A","CONV. CIE, 16 ZONE","Mature",730.01]
["GST200N-1","GST200 ADDR 1 LOOP PANEL (ENGLISH)","Mature",1006.4]
["GST200N-2","GST200 ADDR 2 LOOP PANEL (ENGLISH)","Mature",1437.66]
["GST200N-FR","GST200-FR ADDR 1 LOOP PANEL (FRENCH)","Mature",1020.93]
["GST200N-PT","GST200-PT ADDR 1 LOOP PANEL (PORTUGUESE)","Mature",1006.4]
["GST200N-SP","GST200-SP ADDR 1 LOOP PANEL (SPANISH)","Mature",981.68]
["GST200N-TK","GST200-TK ADDR 1 LOOP PANEL (TURKISH)","Mature",1020.93]
["GST301","CONV. EXT. CONTROL PANEL, 2+1 DETECTION ZONES, INTEGRATED PSU /W BATTERY CHARGER, EXCL. BATTERIES","Mature",720.5]
["GST852RP","LCD REPEATER PANEL FOR GST100, GST200, GST200-2, GST5000W, GST5000F, GST5000 & GST-IFP8","Mature",723.79]
["GST8903","INTELLIGENT GRAPHIC REPEATER PANEL /WO FACIA & CASE (100 LED'S FIRE OR FAULT)","Mature",370.76]
["GST-GMC3.0","GRAPHIC MONITOR CENTER","Mature",2095.5]
["GST-MBX22","MODULE BOX","Mature",240.22]
["GST-MBX29","MODULE BOX","Mature",336.33]
["GST-NRP00","NETWORK REPEATER- ENGLISH","Mature",748.68]
["GST-NRP00-HU","NETWORK REPEATER--HUNGARIAN","Mature",{"$error":"#N/A"}]
["GST-NRP00-PT","NETWORK REPEATER- PORTUGUESE","Mature",748.68]
["GST-RP16","CONV. REPEATER PANEL, 16 ZONES, FOR GST101, GST102A, GST104A, GST108A & GST116A PANELS","Mature",333.69]
["HB191","PANICBUTTON ALU SINGLE ACTION","Mature",18.11]
["HB191KEY","KEY ONLY FOR HB191/194","Mature",2.57]
["HB194","PANICBUTTON WHITE D.ACTION","Mature",20.82]
["HB304","3040N1 CONTACT","Mature",46.71]
["HDIS2000N","DISPLAY PANEL BOARD FC2011","Mature",318.56]
["I-9105R REFLECTOR","REFLECTOR MIRRORS SPARES","Mature",28.32]
["I-9403","INTELLIGENT SOUNDER/VISUAL INDICATOR, 24VDC","Mature",126.56]
["I-9404","INTELLIGENT ADDR. SOUNDER, 24VDC","Mature",109.55]
["II950I","APOLLO XP95 MINI SWITCH MONITOR W/ ISOLATOR (55000-760)","Mature",153.28]
["II952ND","APOLLO SWITCH MONITOR UNIT - DIN RAIL MOUNT (SA4700-300)","Obsolete",{"$error":"#N/A"}]
["II954NI","APOLLO TWIN SWITCH MONITOR UNIT (SA6700-100)","Mature",253.82]
["IM1340FENF02BC","MAG CT PL FL 2","Mature",6.04]
["IM1340TINF02BC","MAG CT PL FL 4 W 000016-01","Mature",6.81]
["IM1340TINF05BC","MAG CT PL FL 4 W 000016-01","Mature",20.21]
["IM1440FENF02BC","MAG CT PL SF 4 W 000013-01","Mature",5.38]
["IM1440FENF05BC","MAG CT PL SF 4 W 000013-01","Mature",6.59]
["IM1640PAG","MAG CT PLAS SF C/W CBL","Mature",22.62]
["IM1640PAG01JB","SURFACE MNT CONTACT 1M AMOURED CABLE  INCL JUNCT BOX","Mature",26.46]
["IM1640PAG-G3","SURFACE MOUNT CONTACT, ARMORED CABLE, EN GRADE 3 & NFA2P 3 SHIELDS","Mature",50.15]
["IM1640PSG","MAG CT PLAS SF W/O CBL","Mature",20.260000000000002]
["IM1640PSG-G3","SURFACE MOUNT CONTACT, SUPERVISED CABLE, EN GRADE 3 & NFA2P 3 SHIELDS","Mature",48.75]
["IM1740FENF*81","MAG CT MT HD 4 W 000024-01","Mature",34.31]
["IM1740FENF*81-G3","OVERHEAD DOOR CONTACT, 1M ARMOURED CABLE, NFA2P GRADE III","Mature",91.55]
["IM1820TINF*8","MAG CT PL SF 2 W SINGLE","Mature",5.95]
["IM1920TINF*8","MAG CT PL SF 2 W DOUBLE","Mature",9.11]
["IM9700FENFBB","M.C. IM9700 A VIS. FERRILE","Mature",8.98]
["IM9700FENFBB-G3","SURFACE MOUNT MAGNETIC CONTACT, TERMINAL, NFA2P GRADE III","Mature",46.16]
["IMT4LED","LED CONTROLLING MODULE FOR 64 LED","Mature",300.19]
["IMT4LED24","LED STRIPE MODULE FOR 24 LED FOR INSTALING IN A CASE","Mature",178.71]
["IMT4LED32","LED STRIPE MODULE FOR 32 LED FOR INSTALING IN A CASE","Mature",234.9]
["IMT4OUT","IMT4OUT - IMT4 OUTPUT CARD FOR 16 OUTPUTS","Mature",710.71]
["IMT4PROC","IMT4PROC - SLAVE PROCESSOR MODULE FOR CONTROLLING IMT4 LED CARDS","Mature",416.62]
["IMT4REL","IMT4REL - IMT4 RELAIS CARD FOR 16 RELAIS","Mature",820.98]
["IMT4UBEX","IMT4UBEX - IMT4 POWER SUPPLY ENHANCEMENT FROM 2 IMT4REL NEEDED","Mature",150.13999999999999]
["INT-R33F-PH5-3LA","EASY REMOTE INTERFACE FOR READER RS485 TRANSPARENT MODE","NPI",358.2]
["IO2034NC","2000 SERIES IO UNIT 4 IN / 4 OUT","Mature",112.49]
["IO950ND","APOLLO IO UNIT - DIN RAIL MOUNT (SA4700-302)","Mature",242.69]
["IO950NI","APOLLO IO UNIT (SA4700-102)","Mature",217.82]
["IO952NI","APOLLO TWIN IO UNIT (SA4700-104)","Mature",304.98]
["IO954N","APOLLO MAINS SWITCHING IO UNIT (SA4700-103)","Mature",325.41000000000003]
["IRIS200-4","IRIS TOUCH 200 WITH 4 G","Mature",620.13]
["IRIS240-4","IRIS TOUCH 200 WITH IP+ 4 G","Mature",876.25]
["IRIS-4-EXT1","12 INPUT EXT BOARD TDA14XX-4","Mature",63.94]
["ISM-95","ISOLATOR MODULE","Mature",46.19]
["IU2050NC","2000 SERIES IO UNIT 1 IN","Mature",69.489999999999995]
["IU2055NC","2000 SERIES IO UNIT ZMU","Mature",88.55]
["IU2080NC","2000 SERIES IO UNIT 1 OUT (SUPERVISED)","Mature",116.07]
["IU987-25PK","(25 PACK) APOLLO XPERT CARD X25 (NON-ADDRESSED) (45682-800)","Mature",32.28]
["K1450CO","MAINTENANCE KIT FOR CARBON MONOXIDE DETECTOR, 4-20MA 0-300 PPM","Mature",268.52999999999997]
["K1455GP","MAINTENANCE KIT FOR LPG DETECTOR 4-20 MA, 0-100% LEL","Mature",268.52999999999997]
["K1455VB","MAINTENANCE KIT FOR PETROL VAPOUR DETECTOR 4-20 MA, 0-100% LEL","Mature",268.52999999999997]
["KA150","KEYSWITCH LATCH 3K incl 3 keys","Mature",108.39]
["KA150SN","KEYSWITCH KA150 SPECIAL NUMBER incl 3 keys","Mature",124.96]
["KA157","KEYSWITCH PULSE 3K incl 3 keys","Mature",125.65]
["KA178","KEYSWITCH W. HOUS.","Mature",101.68]
["KA901","(1 KEY = QTY 1) CODED KEY","Mature",30.5]
["KA-FP-06","(5 PACK) SWEDISH KEY SET SPARE PART","Mature",140.87]
["KAL455","ADDRESSABLE MCP, RED, 400 SERIES, SURFACE MOUNT WITH GLASS","Sell-out",171.11]
["KAL455E","ADDRESSABLE MCP, RED, 400 SERIES, SURFACE MOUNT WITH GLASS, IP67","Sell-out",471.52]
["KAL455MCB","PCB FOR KAL455 CALLPOINTS","Sell-out",{"$error":"#N/A"}]
["KAL51A","CABLE 2 X 1.5 MM TWISTED RED-BLACK WITH SHIELD (HALOGEN FREE) 100 M","Mature",234.94]
["KAL51B","CABLE 2 X 2 X 1.5 MM TWISTED RED-BLACK WITH SHIELD (HALOGEN FREE) 100 M","Mature",515.59]
["KAL710","KAL710 ADDRESSABLE ZONE MONITOR UNIT - 1 ZONE","Sell-out",258.88]
["KAL714C","KAL714C ADDRESSABLE ZONE MONITOR UNIT - 4 ZONES","Sell-out",426.47]
["KAL730","KAL730 ADDRESSABLE OUTPUT MODULE - 1 OUTPUT","Sell-out",273.45]
["KAL734C","KAL734C ADDRESSABLE RELAY OUTPUT MODULE - 4 OUTPUTS","Sell-out",367.71]
["KAL740","KAL740 ADDRESSABLE MONITORED-RELAY OUTPUT MODULE","Sell-out",257.57]
["KAL760","KAL760 ADDRESSABLE INPUT MODULE - I INPUT","Sell-out",277.33999999999997]
["KAL775","KAL775 LOOP ISOLATION MODULE","Sell-out",294.94]
["KAL790","KAL790 ADDRESSABLE FIRE DOOR CONTROLLER","Sell-out",193.45]
["KE-DB3010B","INT ADDR DET ACC - BASE (BLK)","Mature",12.58]
["KE-DB3010W","INT ADDR DET ACC - BASE (WHT)","Mature",4.88]
["KE-DBA-ADPW-ARI","INT ADDR BASE ACC - ARITECH ADAPTER (WHITE)","NPI",14.7]
["KE-DBA-ADPW-KIL","INT ADDR BASE ACC - KILSEN ADAPTER (WHITE)","NPI",14.7]
["KE-DBA-ADPW-ZIT","INT ADDR BASE ACC - ZITON ADAPTER (WHITE)","NPI",14.7]
["KE-DBA-AUXW","INT ADDR BASE ACC - DEEP BASE (WHT)","Mature",5.21]
["KE-DBA-CAPW","INT ADDR BASE ACC - CAP (WHT)","Mature",5.7]
["KE-DBA-LABW-L1S","INT ADDR DET ACC - LABEL (L1S)","Mature",6.34]
["KE-DBA-LABW-L2S","INT ADDR DET ACC - LABEL (L2S)","Mature",6.34]
["KE-DBA-LABW-L3S","INT ADDR DET ACC - LABEL (L3S)","Mature",6.34]
["KE-DBA-LABW-L4S","INT ADDR DET ACC - LABEL (L4S)","Mature",6.34]
["KE-DBA-LABW-S","INT ADDR DET ACC - LABEL (S)","Mature",6.34]
["KE-DBA-SKTW","INT ADDR BASE ACC - TRIM SKIRT (WHT)","Mature",6.05]
["KE-DBA-TAGW","(10 Pack) Intelligent Addressable Base Accessory - Address Tag (White)","Mature",19.329999999999998]
["KE-DM3010G","INT ADDR MCP - GRN","Sell-out",70.14]
["KE-DM3010G-IP","INT ADDR MCP - WP GRN","Sell-out",233.63]
["KE-DM3010OS99","INT ADDR MCP - ORA","Sell-out",65.040000000000006]
["KE-DM3010R","INT ADDR MCP - RED","Mature",62.94]
["KE-DM3010R-IP","INT ADDR MCP - WP RED","Mature",233.63]
["KE-DM3010R-KIT","INT ADDR MCP - (RED) W/ BACK BOX","Mature",64.25]
["KE-DM3010R-KITF","INT ADDR MCP - (RED) W/ BACK BOX & FLIP COVER","NPI",70.05]
["KE-DM3010RS06","INT ADDR MCP - SWE RED","Mature",{"$error":"#N/A"}]
["KE-DM3010RS27","INT ADDR MCP - ENG RED","Sell-out",{"$error":"#N/A"}]
["KE-DM3010RS27-IP","INT ADDR MCP - WP ENG RED","Sell-out",{"$error":"#N/A"}]
["KE-DM3010RSCH","INT ADDR MCP - CHUBB RED","Sell-out",{"$error":"#N/A"}]
["KE-DM3010US99","INT ADDR MCP - BLU","Sell-out",{"$error":"#N/A"}]
["KE-DM3010W","INT ADDR MCP - WHT","Sell-out",65.040000000000006]
["KE-DM3010WS99","INT ADDR MCP - EN WHT","Sell-out",{"$error":"#N/A"}]
["KE-DM3010YS02","INT ADDR MCP - FR YEL","Sell-out",{"$error":"#N/A"}]
["KE-DM3010YS99","INT ADDR MCP - ENG YEL","Sell-out",71.92]
["KE-DM3110G","INT ADDR MCP W/ ISO - GRN","Mature",71.41]
["KE-DM3110G-IP","INT ADDR MCP W/ ISO - WP GRN","Mature",219.29]
["KE-DM3110OS99","INT ADDR MCP W/ ISO - ORA","Mature",{"$error":"#N/A"}]
["KE-DM3110R","INT ADDR MCP W/ ISO - RED","Mature",73.349999999999994]
["KE-DM3110R-IP","INT ADDR MCP W/ ISO - WP RED","Mature",242.48]
["KE-DM3110R-KIT","INT ADDR MCP W/ ISO - (RED) W/ BACK BOX","Mature",67.38]
["KE-DM3110R-KITF","INT ADDR MCP W/ ISO - (RED) W/ BACK BOX & FLIP COVER","NPI",78.33]
["KE-DM3110RS06","INT ADDR MCP W/ ISO - SWE RED","Mature",{"$error":"#N/A"}]
["KE-DM3110RS18","INT ADDR MCP W/ ISO - POL RED","Mature",{"$error":"#N/A"}]
["KE-DM3110RS18-IP","INT ADDR MCP W/ ISO - WP POL RED","Mature",{"$error":"#N/A"}]
["KE-DM3110RS27","INT ADDR MCP W/ ISO - RED","Sell-out",{"$error":"#N/A"}]
["KE-DM3110RS27-IP","INT ADDR MCP W/ ISO - WP ENG RED","Sell-out",{"$error":"#N/A"}]
["KE-DM3110RSCH","INT ADDR MCP W/ ISO - CHUBB RED","Sell-out",{"$error":"#N/A"}]
["KE-DM3110RSCL","INT ADDR MCP W/ ISO - CLYMAC RED","Mature",73.02]
["KE-DM3110US99","INT ADDR MCP W/ ISO - BLU","Mature",{"$error":"#N/A"}]
["KE-DM3110W","INT ADDR MCP W/ ISO - WHT","Mature",73.02]
["KE-DM3110YS02","INT ADDR MCP W/ ISO - FR YEL","Mature",{"$error":"#N/A"}]
["KE-DM3110YS99","INT ADDR MCP W/ ISO - ENG YEL","Mature",{"$error":"#N/A"}]
["KE-DP3020W","INT ADDR PNT DET - DUAL OPT (WHT)","Mature",42.48]
["KE-DP3021B","INT ADDR PNT DET - DUAL OPT/HT (BLK)","Mature",73.31]
["KE-DP3021W","INT ADDR PNT DET - DUAL OPT/HT (WHT)","Mature",53.51]
["KE-DP3120W","INT ADDR PNT DET W/ ISO - DUAL OPT (WHT)","Mature",53.12]
["KE-DP3120W-SN","INT ADDR PT DET W/ ISO - OPT W/ SND (WHT)","NPI",102.99]
["KE-DP3120W-SNV","INT ADDR PT DET W/ ISO - OPT W/ SND & VAD (WHT W/ RED FL)","NPI",119.05]
["KE-DP3121B","INT ADDR PNT DET W/ ISO - DUAL OPT/HT (BLK)","Mature",83.95]
["KE-DP3121B-SNV","INT ADDR PT DET W/ ISO - DUAL OPT/HEAT W/ SND VAD (BCK W/ RED FL)","NPI",139.49]
["KE-DP3121W","INT ADDR PNT DET W/ ISO - DUAL OPT/HT (WHT)","Mature",64.150000000000006]
["KE-DP3121W-SN","INT ADDR PT DET W/ ISO - DUAL OPT/HEAT W/ SND (WHT)","NPI",102.99]
["KE-DP3121W-SNV","INT ADDR PT DET W/ ISO - DUAL OPT/HEAT W/ SND & VAD (WHT W/ RED FL)","NPI",135.05000000000001]
["KE-DT3001W-HAB","INT ADDR PNT DET - CAT A/B HT (WHT)","Mature",43.7]
["KE-DT3101W-HAB","INT ADDR PNT DET W/ ISO - CAT A/B HT (WHT)","Mature",54.34]
["KE-IO3101","INT ADDR OUT UNIT W/ ISO - 1 OUT (WHT)","Mature",69.13]
["KE-IO3101-M","INT ADDR OUT UNIT W/ ISO - 1 OUT MAINS SWITCHING (WHT)","Mature",88.67]
["KE-IO3122","INT ADDR IN/OUT UNIT W/ ISO - 2 IN/OUT (WHT)","Mature",87.85]
["KE-IO3144","INT ADDR IN/OUT UNIT W/ ISO - 4 IN/OUT (WHT)","Mature",114.56]
["KE-IU3110","INT ADDR IN UNIT W/ ISO - 1 IN (WHT)","Mature",71.94]
["KE-IU3111-ZME","INT ADDR IN/OUT UNIT W/ ISO - 1 ZONE MON EXT POWER (WHT)","Mature",105.81]
["KE-VA","EXCELLENCE DETECTOR CLEANING TOOL","NPI",5.25]
["KFP-AF1","ADDR FIRE PNL W/ UI - 1 L","Sell-out",1341.18]
["KFP-AF1-09","ADDR FIRE PNL W/ UI - 1 L (SPA)","Mature",1650.12]
["KFP-AF1-10","ADDR FIRE PNL W/ UI - 1 L (ITA)","Mature",{"$error":"#N/A"}]
["KFP-AF1-21","ADDR FIRE PNL W/ UI - 1 L (POR)","Mature",1650.12]
["KFP-AF1-99","ADDR FIRE PNL W/ UI - 1 L (ENG INT)","Mature",1529.58]
["KFP-AF1-FB2","ADDR FIRE PNL W/ UI W/ FB CTRL - 1 L","Sell-out",1761.29]
["KFP-AF1-FB2-22","ADDR FIRE PNL W/ UI W/ FB CTRL - 1 L (HUN)","Mature",{"$error":"#N/A"}]
["KFP-AF1-FB2-36","ADDR FIRE PNL W/ UI W/ FB CTRL - 1 L (FRE INT)","Mature",1793.93]
["KFP-AF1-FB2-44","ADDR FIRE PNL W/ UI W/ FB CTRL - 1 L (SER)","Mature",{"$error":"#N/A"}]
["KFP-AF1-FB2-S","ADDR FIRE PNL W/ UI W/ FB CTRL - 1 L SMALL CAB","Sell-out",1577.02]
["KFP-AF1-S","ADDR FIRE PNL W/ UI - 1 L SMALL CAB","Sell-out",1459.27]
["KFP-AF1-S-09","ADDR FIRE PNL W/ UI - 1 L SMALL CAB (SPA)","Phase-out",1650.12]
["KFP-AF1-S-10","ADDR FIRE PNL W/ UI - 1 L SMALL CAB (ITA)","Mature",{"$error":"#N/A"}]
["KFP-AF1-S-19","ADDR FIRE PNL W/ UI - 1 L SMALL CAB (TUR)","Mature",{"$error":"#N/A"}]
["KFP-AF1-S-21","ADDR FIRE PNL W/ UI - 1 L SMALL CAB (POR)","Mature",1650.12]
["KFP-AF1-S-99","ADDR FIRE PNL W/ UI - 1 L SMALL CAB (ENG INT)","Mature",1529.58]
["KFP-AF2","ADDR FIRE PNL W/ UI - 2 L","Sell-out",2016.62]
["KFP-AF2-09","ADDR FIRE PNL W/ UI - 2 L (SPA)","Mature",2342.06]
["KFP-AF2-10","ADDR FIRE PNL W/ UI - 2 L (ITA)","Mature",{"$error":"#N/A"}]
["KFP-AF2-19","ADDR FIRE PNL W/ UI - 2 L (TUR)","Mature",{"$error":"#N/A"}]
["KFP-AF2-21","ADDR FIRE PNL W/ UI - 2 L (POR)","Mature",2342.06]
["KFP-AF2-99","ADDR FIRE PNL W/ UI - 2 L (ENG INT)","Mature",2185]
["KFP-AF2-S","ADDR FIRE PNL W/ UI - 2 L SMALL CAB","Sell-out",2016.62]
["KFP-AF2-S-09","ADDR FIRE PNL W/ UI - 2 L SMALL CAB (SPA)","Mature",2342.06]
["KFP-AF2-S-10","ADDR FIRE PNL W/ UI - 2 L SMALL CAB (ITA)","Mature",{"$error":"#N/A"}]
["KFP-AF2-S-21","ADDR FIRE PNL W/ UI - 2 L SMALL CAB (POR)","Mature",2403.56]
["KFP-AFR","ADDR FIRE PNL REP","Sell-out",1725.67]
["KFP-AFR-C","ADDR FIRE PNL REP - COMP","Sell-out",1614.36]
["KFP-AFR-C-09","ADDR FIRE PNL REP - COMP (SPA)","Mature",1614.36]
["KFP-AFR-C-10","ADDR FIRE PNL REP - COMP (ITA)","Mature",{"$error":"#N/A"}]
["KFP-AFR-C-19","ADDR FIRE PNL REP - COMP (TUR)","Mature",{"$error":"#N/A"}]
["KFP-AFR-C-21","ADDR FIRE PNL REP - COMP (POR)","Mature",1574.6]
["KFP-AFR-C-99","ADDR FIRE PNL REP - COMP  (ENG INT)","Mature",1574.6]
["KFP-AFR-FB2-C","ADDR FIRE PNL REP W/ FB CTRL - COMP","Sell-out",1722.4]
["KFP-AFR-S","ADDR FIRE PNL REP SMALL CAB","Sell-out",1725.67]
["KFP-AFR-S-09","ADDR FIRE PNL REP SMALL CAB (SPA)","Mature",2157.84]
["KFP-AFR-S-10","ADDR FIRE PNL REP SMALL CAB (ITA)","Mature",{"$error":"#N/A"}]
["KFP-AFR-S-21","ADDR FIRE PNL REP SMALL CAB (POR)","Mature",2102.59]
["KFP-AFR-SCFB","ADDR FIRE PNL REP W/ SS3654 FB CTRL (SCD)","Sell-out",{"$error":"#N/A"}]
["KFP-A-LB","ADDR FIRE PNL ACC - LOOP EXP PCB - 2 L","Sell-out",931.19]
["KFP-A-LK-06","ADDR FIRE PNL COMP - LANG KIT (SWE)","Sell-out",{"$error":"#N/A"}]
["KFP-A-LK-09","ADDR FIRE PNL COMP - LANG KIT (SPA)","Sell-out",52.36]
["KFP-A-LK-10","ADDR FIRE PNL COMP - LANG KIT (ITA)","Sell-out",{"$error":"#N/A"}]
["KFP-A-LK-11","ADDR FIRE PNL COMP - LANG KIT (FLEM)","Sell-out",{"$error":"#N/A"}]
["KFP-A-LK-19","ADDR FIRE PNL COMP - LANG KIT (TUR)","Sell-out",{"$error":"#N/A"}]
["KFP-A-LK-20","ADDR FIRE PNL COMP - LANG KIT (CZE)","Sell-out",{"$error":"#N/A"}]
["KFP-A-LK-21","ADDR FIRE PNL COMP - LANG KIT (POR)","Sell-out",52.36]
["KFP-A-LK-22","ADDR FIRE PNL COMP - LANG KIT (HUN)","Sell-out",{"$error":"#N/A"}]
["KFP-A-LK-32","ADDR FIRE PNL COMP - LANG KIT (FRE/B)","Sell-out",{"$error":"#N/A"}]
["KFP-A-LK-36","ADDR FIRE PNL COMP - LANG KIT (FRE INT)","Sell-out",38.380000000000003]
["KFP-A-LK-44","ADDR FIRE PNL COMP - LANG KIT (SER)","Sell-out",{"$error":"#N/A"}]
["KFP-A-LK-45","ADDR FIRE PNL COMP - LANG KIT (RUM)","Sell-out",{"$error":"#N/A"}]
["KFP-A-LK-99","ADDR FIRE PNL COMP - LANG KIT (ENG INT)","Sell-out",52.36]
["KFP-A-UI","ADDR FIRE PNL COMP - UI PCB","Sell-out",537.4]
["KFP-A-ZI-24-S","ADDR FIRE PNL ACC - LED IND - 24 Z","Sell-out",238.53]
["KFP-CF2","CONV FIRE PNL W/ UI - 2 Z","Phase-out",376.84]
["KFP-CF2-09","CONV FIRE PNL W/ UI - 2 Z (SPA)","Phase-out",283.60000000000002]
["KFP-CF2-10","CONV FIRE PNL W/ UI - 2 Z (ITA)","Phase-out",{"$error":"#N/A"}]
["KFP-CF2-20","CONV FIRE PNL W/ UI - 2 Z (CZE)","Phase-out",{"$error":"#N/A"}]
["KFP-CF2-21","CONV FIRE PNL W/ UI - 2 Z (POR)","Phase-out",283.60000000000002]
["KFP-CF2-36","CONV FIRE PNL W/ UI - 2 Z (FRE INT)","Phase-out",362.53]
["KFP-CF2-99","CONV FIRE PNL W/ UI - 2 Z (ENG INT)","Phase-out",396.69]
["KFP-CF2-LK-06","CONV FIRE PNL COMP - LANG KIT - 2/4 Z (SWE)","Phase-out",{"$error":"#N/A"}]
["KFP-CF2-LK-09","CONV FIRE PNL COMP - LANG KIT - 2/4 Z (SPA)","Phase-out",33.200000000000003]
["KFP-CF2-LK-10","CONV FIRE PNL COMP - LANG KIT - 2/4 Z (ITA)","Phase-out",{"$error":"#N/A"}]
["KFP-CF2-LK-20","CONV FIRE PNL COMP - LANG KIT - 2/4 Z (CZE)","Phase-out",{"$error":"#N/A"}]
["KFP-CF2-LK-21","CONV FIRE PNL COMP - LANG KIT - 2/4 Z (POR)","Phase-out",{"$error":"#N/A"}]
["KFP-CF2-LK-32","CONV FIRE PNL COMP - LANG KIT - 2/4 Z (FRE/B)","Phase-out",{"$error":"#N/A"}]
["KFP-CF2-LK-99","CONV FIRE PNL COMP - LANG KIT - 2/4 Z (ENG INT)","Phase-out",33.93]
["KFP-CF2-MB","CONV FIRE PNL COMP - MAIN PCB - 2 Z","Sell-out",291]
["KFP-CF4","CONV FIRE PNL W/ UI - 4 Z","Sell-out",417.27]
["KFP-CF4-09","CONV FIRE PNL W/ UI - 4 Z (SPA)","Phase-out",302.48]
["KFP-CF4-10","CONV FIRE PNL W/ UI - 4 Z (ITA)","Phase-out",{"$error":"#N/A"}]
["KFP-CF4-20","CONV FIRE PNL W/ UI - 4 Z (CZE)","Phase-out",{"$error":"#N/A"}]
["KFP-CF4-21","CONV FIRE PNL W/ UI - 4 Z (POR)","Phase-out",302.48]
["KFP-CF4-36","CONV FIRE PNL W/ UI - 4 Z (FRE INT)","Phase-out",483.13]
["KFP-CF4-99","CONV FIRE PNL W/ UI - 4 Z (ENG INT)","Phase-out",452.18]
["KFP-CF4-MB","CONV FIRE PNL COMP - MAIN PCB - 4 Z","Sell-out",317.45999999999998]
["KFP-CF4-SC-06","CONV FIRE PNL W/ UI W/ SCAND KEY - 4 Z (SWE)","Phase-out",{"$error":"#N/A"}]
["KFP-CF8","CONV FIRE PNL W/ UI - 8 Z","Phase-out",527.92999999999995]
["KFP-CF8-09","CONV FIRE PNL W/ UI - 8 Z (SPA)","Phase-out",453.74]
["KFP-CF8-10","CONV FIRE PNL W/ UI - 8 Z (ITA)","Phase-out",{"$error":"#N/A"}]
["KFP-CF8-21","CONV FIRE PNL W/ UI - 8 Z (POR)","Phase-out",449.11]
["KFP-CF8-99","CONV FIRE PNL W/ UI - 8 Z (ENG INT)","Phase-out",498.44]
["KFP-CF8-LK-06","CONV FIRE PNL COMP - LANG KIT - 8 Z (SWE)","Phase-out",{"$error":"#N/A"}]
["KFP-CF8-LK-09","CONV FIRE PNL COMP - LANG KIT - 8 Z (SPA)","Phase-out",34.799999999999997]
["KFP-CF8-LK-10","CONV FIRE PNL COMP - LANG KIT - 8 Z (ITA)","Phase-out",{"$error":"#N/A"}]
["KFP-CF8-LK-11","CONV FIRE PNL COMP - LANG KIT - 8 Z (DUT/B)","Phase-out",{"$error":"#N/A"}]
["KFP-CF8-LK-21","CONV FIRE PNL COMP - LANG KIT - 8 Z (POR)","Phase-out",34.799999999999997]
["KFP-CF8-LK-32","CONV FIRE PNL COMP - LANG KIT - 8 Z (FRE/B)","Phase-out",{"$error":"#N/A"}]
["KFP-CF8-LK-99","CONV FIRE PNL COMP - LANG KIT - 8 Z (ENG INT)","Phase-out",33.93]
["KFP-CF8-MB","CONV FIRE PNL COMP - MAIN PCB - 8 Z","Sell-out",405.57]
["KFP-CX3","CONV FIRE & EXT PNL W/ UI - 3 Z BAS","Sell-out",529.80999999999995]
["KFP-CX3-09","CONV FIRE AND EXT PNL W/ UI - 3 Z BAS (SPA)","Phase-out",606.49]
["KFP-CX3-10","CONV FIRE AND EXT PNL W/ UI - 3 Z BAS (ITA)","Phase-out",{"$error":"#N/A"}]
["KFP-CX3-99","CONV FIRE AND EXT PNL W/ UI - 3 Z BAS (ENG INT)","Phase-out",606.49]
["KFP-CX3E-MB","Conv Fire & Ext Pnl Comp - Main PCB - 3 Z Full Opt","Sell-out",772.53]
["KFP-CX3-LK-09","CONV FIRE & EXT PNL COMP - LANG KIT - 3 Z BAS (SPA)","Phase-out",34.799999999999997]
["KFP-CX3-LK-10","CONV FIRE & EXT PNL COMP - LANG KIT - 3 Z BAS (ITA)","Phase-out",{"$error":"#N/A"}]
["KFP-CX3-LK-99","CONV FIRE & EXT PNL COMP - LANG KIT - 3 Z BAS (ENG INT)","Sell-out",33.93]
["KFX-UHF-11","WALL MOUNTING BRACKET + OMNIDIRECTIONAL MAST, FOR SPECTRE READER","NPI",418.18]
["KIT-SECARD-BT-BIO","TOOL KIT FOR CONFIGURATION : BLE, NFC, MIFARE CLASSIC, DESFIRE, EV1/2/3 WITH SOFTWARE SECARD AND PRINT FINGER RECORDER","NPI",2675.12]
["KL710","RATE-OF-RISE TEMPERATURE DETECTOR","Sell-out",22.58]
["KL710A","ANALOGUE RATE-OF-RISE TEMPERATURE SENSOR","Sell-out",105.18]
["KL731","CONVENTIONAL OPTICAL DETECTOR","Sell-out",33.450000000000003]
["KL731A","ANALOGUE PHOTO-ELECTRIC SENSOR","Sell-out",113]
["KL731B","CONVENTIONAL OPTICAL DETECTOR - BLACK","Sell-out",60.58]
["KL735A","ANALOGUE DUAL SENSOR OPTICAL/HEAT","Sell-out",135.12]
["KL838","KEYLOCK LESS CYL.","Mature",199.76]
["KM301","CO DETECTION CONTROL PANEL - 1 ZONE","Mature",552.30999999999995]
["KM302","CO DETECTION CONTROL PANEL - 2 ZONES","Mature",741.37]
["KM303","CO DETECTION CONTROL PANEL - 3 ZONES","Mature",1011.43]
["KM304","CO DETECTION CONTROL PANEL - 4 ZONES","Mature",1114.03]
["KMD300","CO DETECTOR","Mature",89.95]
["KP2000","KEYPAD FP/FR1200/2000","Mature",92.95]
["KTP-12DCU","SWITCHING POWER SUPPLY,1A 12VDC,EUROPEAN POWER CORD","Mature",36.119999999999997]
["KX097ET","GAS DETECTOR SENSOR KIT - ETHYL ALCOL","Mature",{"$error":"#N/A"}]
["KX097GP","GAS DETECTOR SENSOR KIT - LPG","Mature",382.5]
["KX097H2","GAS DETECTOR SENSOR KIT - HYDROGEN","Mature",382.5]
["KX097IB","GAS DETECTOR SENSOR KIT - ISO BUTANE","Mature",382.5]
["KX097ME","GAS DETECTOR SENSOR KIT - METHANE","Mature",382.5]
["KX641O2","SPARE PART FOR SMART3 O2 25%VOL.","Mature",697.25]
["KZ700","Universal Base for KL700 Series Conventional Detectors","Sell-out",7.33]
["KZ700B","BLACK CONNECTION BASE FOR K700-DX300 AND DX1500 SERIES DETECTORS","Sell-out",8.26]
["KZ705","5 CONTACT BASE","Sell-out",10.66]
["KZ715I","KILSEN ISOLATOR BASE","Sell-out",46.91]
["KZD705","5 CONTACT DEEP BASE FOR KL700A AND KMD300 DEVICES","Mature",9.27]
["LAGP1224-M","LARES-M LPG FLAMMABLE GAS DETECTORS, STANDALONE VERSION, 12-24VDC.","Mature",{"$error":"#N/A"}]
["LAME1224-M","LARES-M METHANE FLAMMABLE GAS DETECTORS, STANDALONE VERSION, 12-24VDC.","Mature",{"$error":"#N/A"}]
["LC1502","1200/2000 2-LOOP EXTENSION CARD WITH ON BOARD SUPPLY","Mature",283.08999999999997]
["LC200","SINGLE LOOP CARD FOR GST-200/200-2 & M200, CAPACITY 242 DEVICES","Mature",431.25]
["LCD1200","LCD DISPLAY FOR FP1200, FP12XXC AND FP28XXXC PANELS","Mature",524.48]
["LCD2000","REPLACEMENT LCD FOR AN FP2XXX PANEL","Mature",524.48]
["LD10","EMPTY BOX","Mature",6.94]
["LON2000","LON DEVICE DRIVER FOR FP1200/2000LON DEVICE DRIVER FOR FP1200/2000","Sell-out",125.16]
["LSM1","SPEAKER MODULE LSM 1 HAS A 4 CM SMALL LOUDSPEAKER","NPI",559.91]
["MAESTRO","MAESTRO  GRAPHICS PACKAGEMAESTRO  GRAPHICS PACKAGE","Mature",{"$error":"#N/A"}]
["MBC390","PC BOARD ASSYPC BOARD ASSY","Mature",93.12]
["MBCKM301","REPLACEMENT PCB FOR KM301REPLACEMENT PCB FOR KM301","Mature",372.16]
["MBCKM302","REPLACEMENT PCB FOR KM302REPLACEMENT PCB FOR KM302","Mature",619.41999999999996]
["MBCKM303","REPLACEMENT PCB FOR KM303REPLACEMENT PCB FOR KM303","Mature",636.21]
["MBCKM304","REPLACEMENT PCB FOR KM304REPLACEMENT PCB FOR KM304","Mature",977.14]
["MID-SUB-FEE-W","APPLE WALLET ANNUAL FEES FOR MOBILE CREDENTIAL","NPI",6.83]
["MID-SUB-T050","ESSENTIALS, 1-YEAR USER LICENSE, HID ORIGO MOBILE IDENTITIES","Mature",6.17]
["MID-SUB-T050-ADD","ESSENTIALS, ADD-ON USER LICENSE, HID ORIGO MOBILE IDENTITIES","NPI",5.78]
["MID-SUB-T050-ADD01","ESSENTIALS, PARTIAL YEAR ADD TO SUBSCRIPTION OF 1 MONTH TO ALIGN TO NEXT ANNUAL RENEWAL. MUST HAVE CURRENT VIRTUAL CREDENTIAL SUBSCRIPTION.","NPI",0.48]
["MID-SUB-T050-ADD02","ESSENTIALS, PARTIAL YEAR ADD TO SUBSCRIPTION OF 2 MONTHS TO ALIGN TO NEXT ANNUAL RENEWAL. MUST HAVE CURRENT VIRTUAL CREDENTIAL SUBSCRIPTION.","NPI",0.97]
["MID-SUB-T050-ADD03","ESSENTIALS, PARTIAL YEAR ADD TO SUBSCRIPTION OF 3 MONTHS TO ALIGN TO NEXT ANNUAL RENEWAL. MUST HAVE CURRENT VIRTUAL CREDENTIAL SUBSCRIPTION.","NPI",1.46]
["MID-SUB-T050-ADD04","ESSENTIALS, PARTIAL YEAR ADD TO SUBSCRIPTION OF 4 MONTHS TO ALIGN TO NEXT ANNUAL RENEWAL. MUST HAVE CURRENT VIRTUAL CREDENTIAL SUBSCRIPTION.","NPI",1.94]
["MID-SUB-T050-ADD05","ESSENTIALS, PARTIAL YEAR ADD TO SUBSCRIPTION OF 5 MONTHS TO ALIGN TO NEXT ANNUAL RENEWAL. MUST HAVE CURRENT VIRTUAL CREDENTIAL SUBSCRIPTION.","NPI",2.42]
["MID-SUB-T050-ADD06","ESSENTIALS, PARTIAL YEAR ADD TO SUBSCRIPTION OF 6 MONTHS TO ALIGN TO NEXT ANNUAL RENEWAL. MUST HAVE CURRENT VIRTUAL CREDENTIAL SUBSCRIPTION.","NPI",2.91]
["MID-SUB-T050-ADD07","ESSENTIALS, PARTIAL YEAR ADD TO SUBSCRIPTION OF 7 MONTHS TO ALIGN TO NEXT ANNUAL RENEWAL. MUST HAVE CURRENT VIRTUAL CREDENTIAL SUBSCRIPTION.","NPI",3.4]
["MID-SUB-T050-ADD08","ESSENTIALS, PARTIAL YEAR ADD TO SUBSCRIPTION OF 8 MONTHS TO ALIGN TO NEXT ANNUAL RENEWAL. MUST HAVE CURRENT VIRTUAL CREDENTIAL SUBSCRIPTION.","NPI",3.88]
["MID-SUB-T050-ADD09","ESSENTIALS, PARTIAL YEAR ADD TO SUBSCRIPTION OF 9 MONTHS TO ALIGN TO NEXT ANNUAL RENEWAL. MUST HAVE CURRENT VIRTUAL CREDENTIAL SUBSCRIPTION.","NPI",4.3600000000000003]
["MID-SUB-T050-ADD10","ESSENTIALS, PARTIAL YEAR ADD TO SUBSCRIPTION OF 10 MONTHS TO ALIGN TO NEXT ANNUAL RENEWAL. MUST HAVE CURRENT VIRTUAL CREDENTIAL SUBSCRIPTION.","NPI",4.8499999999999996]
["MID-SUB-T050-ADD11","ESSENTIALS, PARTIAL YEAR ADD TO SUBSCRIPTION OF 11 MONTHS TO ALIGN TO NEXT ANNUAL RENEWAL. MUST HAVE CURRENT VIRTUAL CREDENTIAL SUBSCRIPTION.","NPI",5.33]
["MID-SUB-T100","HID ORIGO MOBILE IDENTITIES, 1-YEAR USER LICENSE, MID-SUB-T100","NPI",8.68]
["MID-SUB-T100-ADD","T100 MOBILE ACCESS SUBSCRIPTION TOP UP ? This is the ADD-ON USER LICENSE subscription to align to next annual renewal","NPI",8.68]
["MID-SUB-T100-ADD01","(MOQ 20) MOBILE CREDENTIAL ADDITIONAL USER LICENSES ? 1 MONTH Partial year add to align to next annual renewal","NPI",0.73]
["MID-SUB-T100-ADD02","(MOQ 20) MOBILE CREDENTIAL ADDITIONAL USER LICENSES ? 2 MONTHS Partial year add to align to next annual renewal","NPI",1.43]
["MID-SUB-T100-ADD03","(MOQ 20) MOBILE CREDENTIAL ADDITIONAL USER LICENSES ? 3 MONTHS Partial year add to align to next annual renewal","NPI",2.16]
["MID-SUB-T100-ADD04","(MOQ 20) MOBILE CREDENTIAL ADDITIONAL USER LICENSES ? 4 MONTHS Partial year add to align to next annual renewal","NPI",2.91]
["MID-SUB-T100-ADD05","(MOQ 20) MOBILE CREDENTIAL ADDITIONAL USER LICENSES ? 5 MONTHS Partial year add to align to next annual renewal","NPI",3.6]
["MID-SUB-T100-ADD06","(MOQ 20) MOBILE CREDENTIAL ADDITIONAL USER LICENSES ? 6 MONTHS Partial year add to align to next annual renewal","NPI",4.34]
["MID-SUB-T100-ADD07","(MOQ 20) MOBILE CREDENTIAL ADDITIONAL USER LICENSES ? 7 MONTHS Partial year add to align to next annual renewal","NPI",5.08]
["MID-SUB-T100-ADD08","(MOQ 20) MOBILE CREDENTIAL ADDITIONAL USER LICENSES ? 8 MONTHS Partial year add to align to next annual renewal","NPI",5.76]
["MID-SUB-T100-ADD09","(MOQ 20) MOBILE CREDENTIAL ADDITIONAL USER LICENSES ? 9 MONTHS Partial year add to align to next annual renewal","NPI",8.0500000000000007]
["MID-SUB-T100-ADD10","(MOQ 20) MOBILE CREDENTIAL ADDITIONAL USER LICENSES ? 10 MONTHS Partial year add to align to next annual renewal","NPI",7.59]
["MID-SUB-T100-ADD11","(MOQ 20) MOBILE CREDENTIAL ADDITIONAL USER LICENSES ? 11 MONTHS Partial year add to align to next annual renewal","NPI",7.96]
["MID-SUB-T200","HID, ORIGO MOBILE, 1 USER, ACTIVATION APPLE WALLET, 1 AN","NPI",5.83]
["MID-SUB-T200-ADD","HID, T200 MOBILE ACCESS SUBSCRIPTION TOP UP, ADDO-ON USER LICENSE SUBSCRIPTION TO ALIGN TO NEXT ANNUAL RENEWAL","NPI",5.84]
["MID-SUB-T200-ADD01","HID, (MOQ XX) WALLET MOBIL CREDENTIAL ADDITIONAL USER LICENSE, 1 MONTH PARTIAL YEAR ADD TO ALIGN TO NEXT ANNUAL RENEWAL","NPI",2.0099999999999998]
["MID-SUB-T200-ADD02","HID, (MOQ XX) WALLET MOBIL CREDENTIAL ADDITIONAL USER LICENSE, 2 MONTHS PARTIAL YEAR ADD TO ALIGN TO NEXT ANNUAL RENEWAL","NPI",2.0099999999999998]
["MID-SUB-T200-ADD03","HID, (MOQ XX) WALLET MOBIL CREDENTIAL ADDITIONAL USER LICENSE, 3 MONTHS PARTIAL YEAR ADD TO ALIGN TO NEXT ANNUAL RENEWAL","NPI",2.0099999999999998]
["MID-SUB-T200-ADD04","HID, (MOQ XX) WALLET MOBIL CREDENTIAL ADDITIONAL USER LICENSE, 4 MONTHS PARTIAL YEAR ADD TO ALIGN TO NEXT ANNUAL RENEWAL","NPI",2.0099999999999998]
["MID-SUB-T200-ADD05","HID, (MOQ XX) WALLET MOBIL CREDENTIAL ADDITIONAL USER LICENSE, 5 MONTHS PARTIAL YEAR ADD TO ALIGN TO NEXT ANNUAL RENEWAL","NPI",2.62]
["MID-SUB-T200-ADD06","HID, (MOQ XX) WALLET MOBIL CREDENTIAL ADDITIONAL USER LICENSE, 6 MONTHS PARTIAL YEAR ADD TO ALIGN TO NEXT ANNUAL RENEWAL","NPI",3.02]
["MID-SUB-T200-ADD07","HID, (MOQ XX) WALLET MOBIL CREDENTIAL ADDITIONAL USER LICENSE, 7 MONTHS PARTIAL YEAR ADD TO ALIGN TO NEXT ANNUAL RENEWAL","NPI",3.43]
["MID-SUB-T200-ADD08","HID, (MOQ XX) WALLET MOBIL CREDENTIAL ADDITIONAL USER LICENSE, 8 MONTHS PARTIAL YEAR ADD TO ALIGN TO NEXT ANNUAL RENEWAL","NPI",4.0199999999999996]
["MID-SUB-T200-ADD09","HID, (MOQ XX) WALLET MOBIL CREDENTIAL ADDITIONAL USER LICENSE, 9 MONTHS PARTIAL YEAR ADD TO ALIGN TO NEXT ANNUAL RENEWAL","NPI",4.42]
["MID-SUB-T200-ADD10","HID, (MOQ XX) WALLET MOBIL CREDENTIAL ADDITIONAL USER LICENSE, 10 MONTHS PARTIAL YEAR ADD TO ALIGN TO NEXT ANNUAL RENEWAL","NPI",5.03]
["MID-SUB-T200-ADD11","HID, (MOQ XX) WALLET MOBIL CREDENTIAL ADDITIONAL USER LICENSE, 11 MONTHS PARTIAL YEAR ADD TO ALIGN TO NEXT ANNUAL RENEWAL","NPI",5.44]
["MINIFLOW-34-110-4010","FLUSSIMETRO 34-58 LT. MISCELE RE","Mature",564.15]
["MM101","CONTACT FLUSH WHITE 5 SCREWS","Mature",2.98]
["MM102","CONTACT SURFACE WHITE 5 SCREWS","Mature",2.98]
["MM102B","CONTACT SURFACE 5 SCREWS BROWN","Mature",2.98]
["MM106","OVERHEAD CONTACT ALU 4 WIRESOVERHEAD CONTACT ALU 4 WIRES","Mature",28.08]
["MM108","CONTACT SURFACE ALU 4 WIRES","Mature",28.22]
["MM110","CONTACT, RECESS MOUNT","Sell-out",9.9]
["MM115","CONTACT SURF. WHITE","Mature",9.51]
["MM201","SURF. MNT CONT. NFA2PSURF. MNT CONT. NFA2P","Mature",11.13]
["MM201-G3","SURFACE MOUNT MAGNETIC CONTACT, TERMINAL, NFA2P GRADE III","Mature",46.13]
["MM340","CONTACT","Mature",8.4700000000000006]
["MM340-G3","RECESSED MAGNETIC CONTACT, 2M CABLE, NFA2P GRADE III","Mature",32.51]
["MM440","CONTACT","Mature",8.4700000000000006]
["MM740","CONTACT","Mature",51.38]
["MM740-G3","OVERHEAD DOOR CONTACT, 1M ARMOURED CABLE, NFA2P GRADE III","Mature",91.55]
["MX-12FAM","DUAL ZONE OUTDOOR PIR DETECTOR, 12 M, 180?, ANTI-MASKING","Sell-out",350.13]
["NC2011","RS485 ARNET NETWORK CARDRS485 ARNET NETWORK CARD","Mature",394.44]
["NC2051","FIBRE OPTIC ARNET NETWORK CARDFIBRE OPTIC ARNET NETWORK CARD","Mature",702.66]
["NC-BA-SM-W","CONV BSE ACC - SURF MNT (WHT)","NPI",1.96]
["NC-DB2R-W","CONV DET ACC - DBL REL BSE (WHT)","NPI",30.34]
["NC-DB-B","CONV DET ACC - BSE (BLK)","NPI",6.2]
["NC-DBD-W","CONV DET ACC - DIODE BSE (WHT)","NPI",13.17]
["NC-DBO","CONV BEAM DET - REFL","NPI",580.32000000000005]
["NC-DBR-B","CONV DET ACC - REL BSE (BCK)","NPI",16.21]
["NC-DBR-W","CONV DET ACC - REL BSE (WHT)","NPI",24.12]
["NC-DB-W","CONV DET ACC - BSE (WHT)","NPI",4.5599999999999996]
["NC-DPH-W","CONV PNT DET - CAT A/B HT (WHT)","NPI",16.54]
["NC-DPM-B","CONV PNT DET - OPT/HT (BLK)","NPI",45.71]
["NC-DPM-W","CONV PNT DET - OPT/HT (WHT)","NPI",21.85]
["NC-DPO-B","CONV POINT DET - OPT (BCK)","NPI",31.64]
["NC-DPO-W","CONV PNT DET - OPT (WHT)","NPI",17.2]
["NC-D-PT","CONV DEV PROG","NPI",228.57]
["NC-MC-0-U","INT CONV MCP - 0 OHM (BLUE)","Mature",24.32]
["NC-MC-100-R","INT CONV MCP - 100 OHM (RED)","Mature",22.71]
["NC-MC-100-RKIT","INT CONVL MCP (SURFACE MNT) - 100? (RED)","Mature",26.25]
["NC-MC-470-O","INT CONV MCP - 470 OHM (ORA)","NPI",29.99]
["NC-MC-560-R","INT CONV MCP - 560 OHM (RED)","Mature",22.24]
["NC-MC-560-U","INT CONV MCP - 560 OHM (BLUE)","Mature",24.13]
["NC-MC-IP-0-G","INT CONV WP MCP - 0 OHM (GRN)","Mature",160.38]
["NC-MC-IP-100-R","INT CONV WP MCP - 100 OHM (RED)","Mature",96.04]
["NC-MC-IP-560-R","INT CONV WP MCP - 560 OHM (RED)","Mature",96.04]
["NC-MCS01-0-R","INT CONV MCP - NL 0 OHM (RED)","Mature",27.03]
["NC-MCS06-560-R","INT CONV MCP - SWE 560 OHM (RED)","Mature",28.15]
["NC-MCS06-560-RKIT","INT CONV MCP KIT - SWE 560? (RED)","Mature",27.81]
["NC-MCS09-0-W","INT CONV MCP - ES 0 OHM (WHT)","Sell-out",27.03]
["NC-MCS09-0-Y","INT CONV MCP - ES 0 OHM (YEL)","Sell-out",28.38]
["NC-MCS18-560-R","INT CONV MCP - POL 560 OHM (RED)","Sell-out",22.1]
["NC-MCS22-0-O","INT CONV MCP - HU 0 OHM (ORA)","Mature",26.88]
["NC-MCS99-0-W","INT CONV MCP - EN 0 OHM (WHT)","Mature",27.03]
["NC-MCS99-0-Y","INT CONV MCP - EN 0 OHM (YEL)","Mature",27.03]
["NC-PD-F2","SPARE PARTS- SMALL DOOR 2/4Z","NPI",64.39]
["NC-PD-F8","SPARE PARTS- DOOR 8Z","NPI",79.95]
["NC-PF2","CONV FIRE PNL W/UI -2Z","NPI",317.45999999999998]
["NC-PF2-MB","SPARE PARTS- MAIN BOARD F2","NPI",262.81]
["NC-PF2-SC","CONV FIRE PNL W/UI SC - 2Z","NPI",336.67]
["NC-PF4","CONV FIRE PNL W/ UI - 4Z","NPI",330.69]
["NC-PF4-MB","SPARE PARTS- MAIN BOARD F4","NPI",286.7]
["NC-PF4-SC","CONV FIRE PNL W/UI SC - 4Z","NPI",336.67]
["NC-PF8","CONV FIRE PNL W/ UI - 8Z","NPI",410.05]
["NC-PF8-MB","SPARE PARTS- MAIN BOARD F8","NPI",366.28]
["NC-PF8-SC","CONV FIRE PNL W/UI SC - 8Z","NPI",475.95]
["NC-PX3","CONV FIRE & EXT PNL W/ UI - 3 Z BAS","NPI",449.92]
["NC-PX3E","CONV FIRE & EXT PNL W/ UI - 3 Z FULL OPT","NPI",616.37]
["NC-PX3E-MB","SPARE PARTS- MAIN BOARD X3E","NPI",665.38]
["NC-PX3E-SC","CONV FIRE & EXT PNL W/ UI SC- 3 Z FULL OPT","NPI",724.33]
["NC-PX3-LK-06","CONVENTIONAL EXTINGUISHING PANEL LANGUAGE KIT - SWEDISH","NPI",29.97]
["NC-PX3-LK-09","CONVENTIONAL EXTINGUISHING PANEL LANGUAGE KIT - SPANISH","NPI",29.97]
["NC-PX3-LK-10","CONVENTIONAL EXTINGUISHING PANEL LANGUAGE KIT - ITALIAN","NPI",29.23]
["NC-PX3-LK-21","CONVENTIONAL EXTINGUISHING PANEL LANGUAGE KIT - PORTUGUESE","NPI",29.97]
["NC-PX3-LK-36","CONVENTIONAL EXTINGUISHING PANEL LANGUAGE KIT - FRENCH","NPI",29.97]
["NC-PX3-LK-45","CONVENTIONAL EXTINGUISHING PANEL LANGUAGE KIT - ROMANIAN","NPI",29.23]
["NC-PX3-LK-99","CONVENTIONAL EXTINGUISHING PANEL LANGUAGE KIT - ENGLISH","NPI",29.97]
["NC-PX3-MB","SPARE PARTS- MAIN BOARD X3","NPI",414]
["NE2011","RS485 EXTENSION CARDRS485 EXTENSION CARD","Mature",83.28]
["NE2051","FIBRE OPTIC EXTENSION CARDFIBRE OPTIC EXTENSION CARD","Mature",329.72]
["N-IO-MBX-1","DIN RAIL MODULE BOX (WHT)","Mature",152.19]
["N-IO-MBX-2","DIN RAIL MODULE BOX (WHT)","Mature",213.06]
["N-IO-SBX-1G","DIN RAIL SINGLE MODULE BOX - SMALL (GREY)","NPI",44.08]
["N-IO-SBX-2G","DIN RAIL SINGLE MODULE BOX - LARGE (GREY)","NPI",57.83]
["N-MC-AFM-G","INT MCP ACC - FLUSH MNT ADAPT (GREEN)","Mature",14.91]
["N-MC-AFMG-R","INT MCP ACC - FLUSH MNT ADAPT W/ GRIPS (RED)","NPI",12.33]
["N-MC-AFM-R","INT MCP ACC - FLUSH MNT ADAPT (RED)","Mature",14.91]
["N-MC-AFM-Y","INT MCP ACC - FLUSH MNT ADAPT (YELLOW)","Mature",14.91]
["N-MC-BB-G","INT MCP ACC - BACK BOX (GRN)","Mature",7.26]
["N-MC-BB-O","INT MCP ACC - BACK BOX (ORANGE)","Mature",7.26]
["N-MC-BB-R","INT MCP ACC - BACK BOX (RED)","Mature",5.01]
["N-MC-BB-U","INT MCP ACC - BACK BOX (BLUE)","Mature",7.26]
["N-MC-BB-W","INT MCP ACC - BACK BOX (WHT)","Mature",7.26]
["N-MC-BB-Y","INT MCP ACC - BACK BOX (YEL)","Mature",7.26]
["N-MC-BS","(5 PACK) INT MCP ACC - BREAKABLE SEAL","Mature",14.5]
["N-MC-CG","(10 X 100 PACK) INT MCP ACC - CABLE GLAND","NPI",341.3]
["N-MC-FC","INT MCP ACC - FLIP COVER","Mature",4.66]
["N-MC-FCP","(10 PACK) INTELLIGENT MANUAL CALL POINT ACCESSORY - FLIP COVER","Mature",45.4]
["N-MC-FCS06","INT MCP ACC - SE FLIP COVER","Mature",4.66]
["N-MC-K","(10 PACK) INT MCP ACC - TST KEY","Sell-out",8.3000000000000007]
["N-MC-KM","(10 PACK) INT MCP ACC - METAL TST KEY","Mature",19.920000000000002]
["N-MC-PC","(20 PACK) INT MCP ACC - CONNECTOR","Mature",98.73]
["N-MC-RES99","INT MCP ACC - RES ELE","Mature",5.47]
["N-MC-S-G","INT MCP ACC - SKIRT (GREEN)","Sell-out",10.33]
["N-MC-S-R","INT MCP ACC - TRIM SKIRT (RED)","Mature",10.33]
["NOVALIS-CONNECT-K15","KIT ATS1500A-IP-MM DELTA FRANCE + ATS1135S42","Mature",450.42]
["NOVALIS-CONNECT-T2","Advisor Advanced - ATS1500A-IP-MM - Delta","Sell-out",423.32]
["NOVALIS-CONNECT-T3","Advisor Advanced - ATS3500A-IP-MM - Delta","Sell-out",673.84]
["NOVALIS-CONNECT-T3+","Advisor Advanced - ATS4500A-IP-LM - Delta","Sell-out",994.58]
["NOVALIS-UP","UPDATE KIT NOVALIS IDSUPDATE KIT NOVALIS IDS","Mature",34.450000000000003]
["NP-25","DEVICE SUSPENSION BRACKET, 25 CM","Mature",48.51]
["NPORT5230","RS232/RS485 TO TCP/IP CONVERTERRS232/RS485 TO TCP/IP CONVERTER","Mature",1104.1099999999999]
["NRM9105","NON-REFLECTIVE MASK FOR 9105 REFELECTIVE BEAM DETECTOR","Mature",8.99]
["OH-NETREC-100","OH NETWORK REC. LIC. SOFT., 100","Mature",1798.04]
["OH-NETREC-1000","OH NETWORK REC. LIC. SOFT., 1000","Mature",3592.1]
["OH-NETREC-SOFTWARE","OH NETWORK REC. LIC. SOFT., 10000","Mature",8324.7800000000007]
["OR2000","OPTICAL REFLECTOR FOR BEAM DETECTORS","Mature",104.44]
["P-9901A","PANEL PRINTER FOR GST200-2","Mature",381.45]
["P-9910B","PORTABLE PROGRAMMING TOOL","Mature",291.55]
["P-9930","RS232 COMMS. BOARD OF GST200 & GST200-2 FOR COMMISSIONING & GMC CONNECTION","Mature",215.91]
["P-9930MODBUS","MODBUS RS232 COMMS. CARD FOR GST200-2 (BMS SYSTEM INTERFACE)","Mature",265.89]
["P-9930TCP/IP","TCPIP - RS232 COMMS. BOARD FOR GST200, GST200-2, GST200N","Mature",227.28]
["P-9940A","RS485 NETWORK CARD FOR GST200 & GST200-2 FOR GST CONTROL PANELS OR GST-NRP01, CLASS A, 1500M","Mature",352.98]
["P-9960","CAN NETWORK CARD FOR GST200-2","Mature",370.76]
["P-9960A","CAN NETWORK CARD FOR GST200-2 (CLASS A)","Mature",443.38]
["PA25/3L","REMOTE LED INDICATOR, LOW POWER","Mature",14.29]
["PB10","- 180 AIR BEAM TOWER (SINGLE SIDED) INCLUDING INSTALLATION KIT.","Mature",368.84]
["PB103","HEATER","Mature",212.2]
["PB15","1.5M - 180 AIR BEAM TOWER (SINGLE SIDED) INCLUDING INSTALLATION KIT","Mature",494.68]
["PB17","SPARE PILLAR COVER (SHIELD) 1.5 M","Mature",219.52]
["PB20","2M - 180 AIR BEAM TOWER (SINGLE SIDED) INCLUDING INSTALLATION KIT","Mature",629.07000000000005]
["PB21","2M - 360 AIR BEAM TOWER (DOUBLE SIDED) INCLUDING INSTALLATION KIT","Mature",866.46]
["PB30","3M - 180 AIR BEAM TOWER (SINGLE SIDED) INCLUDING INSTALLATION KIT","Mature",913.27]
["PB32","SPARE PILLAR COVER (SHIELD) 3M","Mature",456.66]
["PB501","AIR BEAM SET","Mature",344.63]
["PB50-AC180","ANTI CLIMB TOP TAMPER FOR 180M TOWERS","Mature",76.09]
["PB50-EB-COVER","EXTENSION BRACKET FOR PB COVER","NPI",58.57]
["PB50-EB-TOWER","EXTENSION BRACKET FOR PB TOWER","NPI",68.33]
["PB50-FB","FLOOR BRACKET FOR CONCRETE (DIFFICULT GROUNDS) FOR 180 AND 360 BEAM TOWERS","Mature",117.08]
["PB50H-N","12/24V HEATER FOR BEAM TOWER","Mature",58.96]
["PB50-T","THERMOSTAT FOR BEAM TOWER","Mature",61.48]
["PB50-TOP180","SPARE STANDARD PLASTIC TOP FOR 180 BEAM TOWERS","Mature",40.99]
["PB50-WB","WALL BRACKET FOR 180 BEAM TOWER","Mature",70.25]
["PB511","AIR BEAM SET","Mature",366.21]
["PB51-N","BRACKET KIT INCLUDING MOUNTING PLATES (2 UNITS) FOR PB BEAMS","Mature",21.07]
["PB521","AIR BEAM SET","Mature",393.51]
["PB601","QUAD AIR BEAM 50M","Mature",594.12]
["PB611","QUAD AIR BEAM 100M","Mature",666.16]
["PB611M","OUTDOOR AIR QUAD BEAM (4 LINES), 100 M, WITHOUT HOUSING FOR PILLAR MOUNT","Mature",633.28]
["PB621","QUAD AIR BEAM 200M","Mature",758.17]
["PCVALVOLA","FLOW REGULATOR","Mature",140.69999999999999]
["PG700N","KILSEN KL700A/KL700 DEVICE PROGRAMMER AND CALIBRATION UNIT","Sell-out",869.71]
["PIRCAM-KIT","PIRCAM KIT: ATS1500A-IP-LP+ATS1135+ATS1238+2XTX-2344-03-1-N","Sell-out",1523.58]
["PIRCAM-U-KIT","UPGRADE KIT: ATS1238, TX-2344-03-1-N","Mature",566.49]
["PM700BAT","EXTERNAL BATTERY BOX FOR USE WITH PM705C","Mature",345.73]
["PM811N-G2","POWER SUPPLY SWITCH MODE 13.8VDC-1A  EN GR.2  ","Mature",178.57]
["PM812N-G2","POWER SUPPLY SWITCH MODE 13.8VDC-1.5A  EN GR.2  ","Mature",206.82]
["PM812N-G3","POWER SUPPLY SWITCH MODE 13.8VDC-1.5A  EN GR.3","Mature",261.11]
["PM841","POWER SUPPLY SWITCH MODE 12VDC-1A","Mature",108.85]
["PM842","POWER SUPPLY SWITCH MODE 12VDC-2A","Mature",142.13999999999999]
["PM844-A","POWER SUPPLY SWITCH MODE 12VDC-4A HIGH SPEC","Mature",325.81]
["PM861","POWER SUPPLY SWITCH MODE 24V-1A","Mature",204.38]
["PM862","POWER SUPPLY SWITCH MODE 24V-2A","Mature",272.47000000000003]
["PM863","POWER SUPPLY SWITCH MODE 24V-3A","Mature",342.07]
["PM865","POWER SUPPLY SWITCH MODE 24V-5A","Mature",459.03]
["PRXL-GGNNN00","(MOQ 100) PROXLITE, ISO THICKNESS, COMPOSITE, GLOSSY FRONT, GLOSSY BACK, NO SLOT PUNCH, NO EXTERNAL ID, NO PRINTING FRONT, NO PRINTING BACK; MINIMUM ORDER QUANTITY 100, ORDER ONLY IN MULTIPLES OF 25","Mature",8.77]
["PS1200N","FP1200C/FP2000C PSU PCB","Mature",407.96]
["PS2000N","PSU FP12XXC/FP2XXXC","Mature",407.32]
["PSB-0009","FA350 SONOS LED BCN 17-60 VDC RED/RED STS (SHALLOW BASE)","Sell-out",54.98]
["PSB-0017","FA355 SONOS LED BCN 17-60 VDC RED/RED DTS (DEEP BASE)","Sell-out",61.11]
["PSB-0221","SONOS BEACON RED DC RED SB","NPI",46.17]
["PSB-0226","SONOS BEACON RED DC RED DB","NPI",49.27]
["PSU24-5","INTELLIGENT PSU, 24VDC 5A /W DISPLAY, EXCL. BATTERIES","Mature",1056.3699999999999]
["PSU-3.5A","UNIVERSAL 12VDC, 3.5A POWER SUPPLY","Mature",47.01]
["PSU-5.0A","UNIVERSAL 12VDC, 5.0A POWER SUPPLY","Mature",65.72]
["R1125-N","ORDER IN MULTIPLES OF 10, 3/8 DIA. RECESSED STUBBY (CLOSED LOOP) W/.375\" DIA RARE EARTH MAGNET, WHITE","Mature",5.98]
["R1125T-N","CONTACT 3/8 DIA. RECESSED TERMINAL SWITCH STUBBY (CLOSED LOOP) W/.375\" DIA RARE EARTH MAGNET, WHITE","Mature",8.15]
["R1125TW-N","3/8 DIA RECESSED TERMINAL SWITCH STUBBY (CLOSED LOOP) W/WIDE GAP RARE EARTH MAGNET, WHITE","Mature",7.99]
["R5815NT-ART","EUROPEAN,PRIVATE,LABELED,R5815NT","Mature",87.68]
["RB102A","RELAY BOARD FOR GST102A, FOR ZONAL FAULT & FIRE ALARM SIGNAL OUTPUT","Mature",58.32]
["RB104A","RELAY BOARD FOR GST104A, FOR ZONAL FAULT & FIRE ALARM SIGNAL OUTPUT","Mature",91.29]
["RB108A","RELAY BOARD FOR GST108A, FOR ZONAL FAULT & FIRE ALARM SIGNAL OUTPUT","Mature",163.58000000000001]
["RB116A","RELAY BOARD FOR GST116A, FOR ZONAL FAULT & FIRE ALARM SIGNAL OUTPUT","Mature",365.03]
["RB2016","16 WAY RELAY CARD FOR FP1200/2000","Sell-out",402.65]
["RC213","RELAY CARD","Mature",18.25]
["RD3000S33","MICROPHONE NFA2P APPROVED","Mature",104.81]
["RDRSEU908K00000","HID ICLASS SE U90, SE E, NO PROX, UHF, 865-868 MHZ, STD, WIEGAND, TERM, BLK, STD 1 SECURITY","Mature",1949.58]
["REFLECTOR","SINGLE REFLECTOR","NPI",61.61]
["RF6933-N","OUTDOOR WIRELESS DUAL CURTAIN DETECTOR 24 GHZ","Mature",178.1]
["RF-DC101BBM-K4","SINGLE LARGE MAGNET, MAHOGANY (RF-DC101B-K4)","Mature",9.2100000000000009]
["RF-DC101BM-K4","SINGLE LARGE MAGNET, WHITE (RF-DC101-K4)","Mature",9.2100000000000009]
["RF-DC101BSM-K4","(10 PACK) SPACER HOUSING MAGNET, MAHOGANY (RF-DC101B-K4)","Mature",13.25]
["RF-DC101BSR-K4","(10 PACK) SPACER HOUSING SENSOR, MAHOGANY (RF-DC101B-K4)","Mature",22.03]
["RF-DC101SM-K4","(10 PACK) SPACER HOUSING MAGNET, WHITE (RF-DC101-K4)","Mature",13.25]
["RF-DC101SR-K4","(10 PACK) SPACER HOUSING SENSOR, WHITE (RF-DC101-K4)","Mature",22.03]
["RG213/10","10 METRES OF RG213 CABLE C/W BNC CONNECTOR","NPI",71.760000000000005]
["RG213/30","30 METRES OF RG213 CABLE C/W BNC CONNECTOR","NPI",184.49]
["RIB82","CALIBRATION GAS BOTTLE 10PPM H2S BALANCED IN N2","Mature",386.75]
["RK100-N","BOLT CONTACT","Mature",32.03]
["RK100N-S60","BOLT CONTACT, 6M CABLE, IP65","Mature",40.65]
["S1450CO","CO DETECTOR 4-20MA 0-300 PPM","Mature",425.59]
["S1455GP","SMART3 NC IP55 GPL 0-100%LEL","Mature",436.12]
["S1455ME","SMART3 NC IP55 CH4 0-100%LEL","Mature",423.43]
["S1455VB","PETROLPETROL VAPOURS GAS DETECTOR        VAPOURS GAS DETECTOR       ","Mature",436.12]
["S2014GP","PATROL CATALIX GPL/LPG 12-24VDC","Sell-out",249.4]
["S2016CO","PATROL CO DETECT 12-24VDC","Mature",223.94]
["S2096GP","SMART3G-C3 EXN LPG 0-100%LEL","Mature",627.30999999999995]
["S2096ME","SMART3G-C3 EXN CH4 0-100%LEL","Mature",627.30999999999995]
["S2096VB","SMART3G-C3 EXN PETROL 0-100%LEL","Mature",627.30999999999995]
["S2097AT","SMART 3G-C2 EXD ACETONE 4-20MA 0","Mature",829.61]
["S2097BU","SMART 3G-C2 EXD BUTANO/BUTANE 4-20MA 0-100%LEL","Mature",829.61]
["S2097EN","SMART 3G-C2 EXD ETANO/ETHANE 4-20 MA 0-100 % LEL","Mature",829.61]
["S2097GP","SMART 3G-C2 EXD LPG 0-100%LEL","Mature",829.61]
["S2097H2","SMART3G-C2 EXD H2 0-100%LEL","Mature",829.61]
["S2097IB","SMART3G-C2 EXD ISOBUTANE 100%LEL","Mature",829.61]
["S2097ME","SMART 3G-C2 EXD CH4 0-100%LEL","Mature",829.61]
["S2097MT","SMART3G-C2 EXD ALC. METILICO/MET","Mature",829.61]
["S2130CO","SMART3G-C3 EXN CO 0-500PPM","Mature",878.24]
["S2130EL","SMART3G-C3 EXN C2H4 0-200 PPM","Mature",866.73]
["S2131CO","CO GAS DETECTOR, ELECTROCHEMICAL, 4-20mA,0:5000ppm, ZONE1,","Mature",1310.48]
["S2133AM","SMART3G-C2 EXD NH3 0-200PPM","Mature",1266.3900000000001]
["S2135AM","AMMONIA (NH3) GAS DETECTOR","Mature",1762.29]
["S2137HS","SMART3G-C2 EXD H2S 0-50 PPM","Mature",935.75]
["S2151AC","SMART3G-C2 EXD C2H2 100%LEL","Mature",675.43]
["S2155AM","SMART3G-C2 EXD NH3 0-100%LEL","Mature",878.24]
["S2398CO","CO DETECTOR FOR CAR PARKS RS485 SERIAL OUTPUTS. EN50545-1 APPROVED. RANGE 0-300 PPM.","Mature",429.35]
["S2399ND","NO2 DETECTOR FOR CAR PARKS, RS485 SERIAL OUTPUTS. EN50545-1 APPROVED. RANGE 0-30 PPM.","Mature",572.41999999999996]
["S2400CO-ND","CO & NO2 DETECTOR FOR CAR PARKS, RS485 SERIAL OUTPUT. EN50545-1 APPROVED. RANGE 0-300 PPM CO AND 0-30 PPM NO2.","Mature",715.56]
["S2400CO-VB","CO & PV DETECTOR FOR CAR PARKS, RS485 SERIAL OUTPUT. EN50545-1 APPROVED. RANGE 0-300 PPM CO AND 0-100%LEL PETROL VAPOURS. SUPPLIED WITH REMOTE SENSOR HEAD WITH 150CM CABLE.","Mature",678.42]
["S2401CO2","CO2 DETECTOR 4-20MA 0-5000 PPM","Mature",1049.95]
["S2624ME","SMART3G-C2 IR EXD CH4 4-20MA 0-1","Mature",1410.31]
["S2640O2","OXYGEN DETECTOR 0-25 VOL. ATEX Z2 C3","Mature",929.69]
["S2641O2","OXYGEN DETECTOR 0-25 VOL. ATEX Z1 C2","Mature",1162.07]
["S2649CO2","CARBON DIOXIDE (CO2) GAS DETECTOR","Mature",1359.51]
["S2650CO2","CO2 INFRARED GAS DETECTOR, FOR ZONE 2, CATEGORY 3 AREAS, 4-20MA 0-5%VOL.","Mature",1410.65]
["S3014CL","SMART3G-C2 EXI CL2 0-20PPM","Mature",1708.61]
["S3225AM","SMART3G-C2 EXD NH3 0-100PPM","Mature",1286.5]
["S3229AM","SMART3G-C2 EXD NH3 0-5000PPM","Mature",1286.5]
["S3926HN","HYDROGENE CYANIDE (HCN), 0-30 PPM , 4-20 MA ATEX Z1 C2","Mature",1901.16]
["S3942R32","R32 DETECTOR, FOR ZONE 2, CATEGORY 3 AREAS, 0-2000 PPM, 4-20MA","Mature",2182.0300000000002]
["S700","Surface Mount Supplement for Kilsen 700 Series Bases","Sell-out",2.5099999999999998]
["SB13","COVER SPARE PART SB2XX","Mature",127.93]
["SB14","COVER SPARE PART SB4XX","Mature",154.57]
["SB15","AIR PILLAR 150CM","Mature",605.38]
["SB17","AIR TOWER SPARE COVER 1.50M","Mature",362.03]
["SB18","ANTI-CLIMBING DETECTOR FOR SB PILLARS","Mature",649.07000000000005]
["SB20","AIR PILLAR 200CM","Mature",667.77]
["SB21","ACC FOR 360 DEGREE 200 CM PILLAR","Mature",474.34]
["SB2100-N","AIR STAND ALONE TWIN BEAM, 100M RANGE","Mature",592.91999999999996]
["SB22","AIR TOWER SPARE COVER 2.00M","Mature",380.68]
["SB25","AIR PILLAR 250CM","Mature",786.43]
["SB250-N","AIR STAND ALONE TWIN BEAM, 50M RANGE","Mature",527.37]
["SB26","ACC FOR 360 DEGREE 250 CM PILLAR","Mature",514.91]
["SB27","AIR TOWER SPARE COVER 2.50M","Mature",471.2]
["SB30","AIR PILLAR 300CM","Mature",948.64]
["SB31","ACC FOR 360 DEGREE 300 CM PILLAR","Mature",615.17999999999995]
["SB32","AIR TOWER SPARE COVER 3.00M","Mature",555.46]
["SB4100-N","AIR STAND ALONE QUAD BEAM, 100M RANGE","Mature",958.04]
["SB4200-N","AIR STAND ALONE QUAD BEAM, 200M RANGE","Mature",1120.31]
["SB450-N","AIR STAND ALONE QUAD BEAM, 50M RANGE","Mature",814.45]
["SB52","POWER SUPPLY 230VAC TO 12VDC AND 12VAC + BAT BACK UP","Mature",327.68]
["SB53","SOCKET FOR AIR PILLARS","Mature",349.52]
["SC-13-1100-0001-99","SC IWZM 230VAC (ENG)","Mature",{"$error":"#N/A"}]
["SC-13-2100-0001-99","SC IWZM 24VDC (ENG)","Mature",{"$error":"#N/A"}]
["SC2202SAAAB01","MAG CT MT 4 W","Mature",31.48]
["SD2000","SOUNDER BOARD FP2000","Mature",276.22000000000003]
["SDPRO-SC01","SDPRO-VS-2 WIRELESS SUITCASE + 3X TX-2810-03-4 + BS127N-A + ATS1184","NPI",2928.42]
["SDPRO-SC02","SDPRO-VS-2 WIRELESS SUITCASE, WITHOUT ACCESSORIES","NPI",2221.69]
["SHORT_RM","SHORT RANGE MASK 7-20M","NPI",20.68]
["SIB09","GAS CYLINDER CH4 50%LEL 2,20VOL","Mature",172.61]
["SIB19","GAS CYLINDER H2 50%LEL 2 VOL","Mature",140.69999999999999]
["SIB/AMMONIACA","CARTUCCIA  PR AMMONIACA","Mature",718.18]
["SIB/BUTANO","CARTUCCIA  PROVA BUTANO","Mature",172.61]
["SIB/CO","CARTUCCIA  PROVA CO","Mature",172.61]
["SIB/IDROGENO","CARTUCCIA  PROVA IDROG.","Mature",172.61]
["SIB/METANO","CARTUCCIA  PROVA METANO","Mature",172.61]
["SIB/OSSIGENO","CARTUCCIA  PROVA OSSIG.","Mature",172.61]
["SIR001A","OUTDOOR SIRENE SENTROL","Sell-out",126.19]
["SK08A","STAND ALONE, LOOP POWERED SOUNDER","Sell-out",209.34]
["SLA-R41-A/U04-3LA/1","SPECTRE READER WIEGAND 32 BITS 13,56MHZ","NPI",3659.06]
["SLA-W43-A/U04-7OS/1","SPECTRE READER OSDP 13,56MHZ","NPI",3659.06]
["SMA-EX-LIC-FFD","MA SIGMA EXTREME - LICENSE TO ENABLE THE FFD (=FAKE FINGER DETECTION) - 293759879","NPI",376.77]
["SMA-ICLASS-WR","MA SIGMA ICLASS WR:293638856","Mature",2249.46]
["SMA-L-BIO","MA SIGMA LITE BIO:293678615","Mature",1121.2]
["SMA-L-MULTI","MA SIGMA LITE MULTI:293678636","Mature",1256.42]
["SMA-LP-MULTI","MA SIGMA LITE PLUS MULTI:293678660","Mature",1597.15]
["SMA-LRNG-ADMIN","IDEMIA \"LEARNING PLATFORM\" TO BECOME IDEMIA CERTIFIED \"ADMINISTRATOR\"","NPI",1684.91]
["SMA-LRNG-CONSUL","IDEMIA \"LEARNING PLATFORM\" TO BECOME CERTIFIED \"CONSULTANT\"","NPI",842.45]
["SMA-LRNG-PROF","IDEMIA \"LEARNING PLATFORM\" TO BECOME IDEMIA CERTIFIED \"PROFESSIONAL\"","NPI",1684.91]
["SMA-MM-LIC10","IDEMIA ANNUAL CONTRACT SUPPORT FOR 10 READERS","NPI",1317.79]
["SMA-MM-LIC25","IDEMIA ANNUAL CONTRACT SUPPORT FOR 25 READERS","NPI",2450.11]
["SMA-MM-LIGHT","MORPHOMANAGER SW LIGHT, 1MM, 1 SM-MSO-1300, 1 MSO DONGLE VERIF","Mature",1158.3699999999999]
["SMA-MWC-DB-100K","MORPHOWAVE? XP - UPGRADE DB SIZE FROM 40K TO 100K USERS","NPI",2667.71]
["SMA-MWC-SP-MD","MORPHOWAVE? SP - 10K USERS - MIFARE/MIFARE DESFIRE EV1","NPI",4477.83]
["SMA-MWC-SP-MDPI","MORPHOWAVE? SP - 10K USERS - DESFIRE EV1/PROX/ICLASS/SEOS","NPI",5363.55]
["SMA-MWC-SP-MDPI-M","MORPHOWAVE? SP - 10K USERS - DESFIRE EV1/PROX/ICLASS/SEOS + HID MOBILE","NPI",5764.25]
["SMA-VP-DB-40K","IDEMIA VISIONPASS DATABASE UPGRADE TO 40K FOR MD/MDPI FACIAL RECOGNITION READER","NPI",1013.44]
["SMA-VP-MDPI","IDEMIA VISIONPASS MDPI","Mature",7156.09]
["SMA-VP-SP-AC-LM","IDEMIA VISIONPASS SP LOWER MOUNTING BRACKET","NPI",128.88]
["SMA-VP-SP-AC-MNT","IDEMIA VISIONPASS SP METAL MOUNT","NPI",822.94]
["SMA-VP-SP-AC-SPACER","IDEMIA VISIONPASS SP SPACER","NPI",128.88]
["SMA-VP-SP-AC-VISOR","IDEMIA VISIONPASS SP VISOR","NPI",128.88]
["SMA-VP-SP-MD","IDEMIA VISIONPASS SP MD FACIAL RECOGNITION WITH MIFARE/DESFIRE. 12-24 VDC @ 3 A OR POE+, 36 MONTHS WARRANTY","NPI",2697.51]
["SMA-VP-SP-MDI","IDEMIA VISIONPASS SP MDI FACIAL RECOGNITION WITH HID ICLASS/ICLASS SEOS. 12-24 VDC @ 3 A OR POE+, 36 MONTHS WARRANTY","NPI",3137.39]
["SMB-DIN1","SM BOX C/W DIN FOR A MODULES","Mature",25.84]
["SMB-DIN2","SM BOX C/W DIN FOR A MODULES","Mature",{"$error":"#N/A"}]
["SM-MSO-1300V3","MORPHOSMART MINI OPTIC FINGERPRINT SENSOR V3 - 14X22 OPTICAL SENSOR RED CASING (REPLACEMENT FOR SM-MSO-1300)","Mature",407.62]
["SM-MSO-330","MORPHOSMART 500 PPI OPTICAL FINGERPRINT SENSOR FAP #30 (METAL HOUSING, USB) (REPLACEMENT FOR SM-MSO-300)","NPI",1189.8]
["SOC-E-IS(WHT)","CONVENTIONAL I.S. PHOTOELECTRIC SMOKE DETECTOR","Mature",199.85]
["SP1083600","SPERRELEMENT EASYLOCK","Mature",453.29]
["SP8320","MOTORISCHES SPERRELEMENT","Mature",337.71]
["SP8320B","SWITCH FOR SP8320","Mature",20.73]
["SP8323","AUFBAUGEHAUSE ZUM SPERRELEMENT FUR WANDMONTAGE","Mature",181.93]
["SP83231","COUNTER PART FOR SP8320","Mature",93.66]
["SP9300F","FOIL SP9300","Sell-out",7.71]
["SP9311","FRAME","Sell-out",10.3]
["SP9315","TRANSPONDER SP9300","Sell-out",31.41]
["SPB-2P","PLUG-IN BASE, PW","Mature",{"$error":"#N/A"}]
["SPB-2R","PLUG IN BASE RED","Mature",{"$error":"#N/A"}]
["SPM1","SOUND MODULE CAN PLAY BACK UP TO 10 DIFFERENT MP3/WAV SOUND FILES","NPI",2025.1]
["ST801","HIGH TEMPERATURE HEAT PROBE (LOCKABLE)","Mature",230.58]
["ST802","HIGH TEMPERATURE HEAT PROBE (NON-LOCKABLE)","Mature",222.29]
["STG/8REL","8 RELAY BOARD TO BE CONNECTED TO STG/OUT16-S","Mature",403.83]
["STGD/AD2","ADAPTER G-GD TYPE 2","Mature",87.24]
["STG/IN8PK","8 INPUT CARD (MULTISCAN++ PK)","Mature",385.95]
["STG/IN8-S","8 INPUT REMOTE MODULE FOR MUTLISCAN++S1 UP TO 256 INPUTS, 4-20 MA","Mature",484.59]
["STG/IPBOX","IP65 BOX PL4+D/RTU TYPE B06523","Mature",204.34]
["STG/OUT16-S","16 OUTPUT REMOTE MODULE FOR MULTISCAN++S1 OPEN COLLECTOR UP TO 256 OUTPUTS","Mature",484.59]
["STMTS/8PLUS","MULTISCAN 8+ GAS PANEL","Mature",2191.0700000000002]
["STMTS/PK","MULTISCAN++PK VERSION 19\" 6U","Mature",4502.75]
["STMTS/PK-128B","MULTISCAN++PK 128 PLASTIC BOX","Mature",4845.93]
["STMTS/PK-16B","MULTISCAN++PK 16 PLASTIC BOX","Mature",3230.58]
["STMTS/PK-32B","MULTISCAN++PK 32 PLASTIC BOX","Mature",4038.26]
["STMTS/PK-64B","MULTISCAN++PK 64 PLASTIC BOX","Mature",4361.3100000000004]
["STMTS/S1-128B","MULTISCAN++S1 128 PLASTIC BOX","Mature",4845.93]
["STMTS/S1-16B","MULTISCAN++S1 16 PLASTIC BOX","Mature",3230.57]
["STMTS/S1-256B","MULTISCAN++ S1 256 PLASTIC BOX","Mature",5330.5]
["STMTS/S1-32B","MULTISCAN++S1 32 PLASTIC BOX","Mature",4038.26]
["STMTS/S1-64B","MULTISCAN++S1 64 PLASTIC BOX","Mature",4361.3100000000004]
["STPL4+","PL4 GAS CONTROL PANEL, 4-8 INPUT 4-20MA, 5 RELAY OUTPUT, 230V, IP65","Mature",1292.24]
["STPL4+D","PL4+D 4-12 INPUT VERSION DINRAIL","Mature",1216.57]
["STPL4/ESP","4 ZONE EXPANSION MODULE","Mature",514.6]
["STS3REL","SCHEDA 3 RELE'","Mature",98.14]
["STS/CKD","TASTIERA PER CALIBRA","Mature",412.49]
["STS/CKD-PK","CALIBRATION KEYPAD SMART-P & SMS","Mature",295.89999999999998]
["STS/IDI","SCHEDA IDI RS485 PER SMART3 / SM","Mature",64.62]
["STSX4PLUS","SENTOX4+ GAS CONTROL UNIT","Mature",888.4]
["STX2401-C","24V 1.2A+0.3A EN54-4 APPROVED POWER SUPPLY","Mature",291.05]
["STX2402-E","24V 2A+0.7A EN54-4 APPROVED POWER SUPPLY","Mature",334.37]
["STX2405-E","24V 5A+0.85A EN54-4 APPROVED POWER SUPPLY","Mature",368.64]
["STX2410-E","EN 54-4 APPROVED, 24V 10A + 0.7A INTELLIGENT POWER SUPPLY","Mature",595.85]
["SW-CUCDC4","CDC4 DRIVER FOR C4","NPI",415.21]
["TCA-0066","DUAL GALVANIC ISO IS EEX IA IIC","Mature",1635.5]
["TCC-0001","EX IS SOUNDER 24VDC RED","Mature",375.89]
["TCC-0003","EX IS BEACON 24V RED LED LENS","Mature",470.49]
["TCC-0007","IS SOUNDER/BEACON 24V AMBER LENS","Mature",583.33000000000004]
["TDA1440-4-ENC2","KIT INCLUDING THE TDA1440-4 WITH THE T-ENC2 ENCLOSURE","Sell-out",847.44]
["T-ENC2","EN54 METAL ENCLOSURE FOR TDA14XX","Phase-out",137.1]
["TLTA-W75B-943P_S","CHIP UHF GEN2 PRGRAMMABLE, WITH TAG HOLDER - BROADBAND - MODE EPC CIPHERED - VERSION 4","NPI",15.97]
["TM008SM","REPLACEMENT SMOKE CAPSULE FOR USE WITH TM010","Sell-out",918.53]
["TM0XXR","REPLACEMENT RUBBER RIM FOR TM0XX","Mature",215.07]
["TM-135500","(50 PACK) MARKTAG OUTDOOR (HEAVY-DUTY-SPEED), 2.4 GHZ, PRICE IS FOR 50 PCS IN 1 BOX","NPI",108.22]
["TP-CP-ISO-25PK","(25 PACK) TRUPORTAL CREDENTIAL - CLASSIC ISO CARDS - PROXIMITY (EM) - NO MAGSTRIPE GLOSS/GLOSS","Mature",106.21]
["TR010R","REPLACEMENT RUBBER RIM FOR TR010","Mature",320.73]
["UF-1","DETECTOR MOUNTING BRACKET FOR ELEVATED FLOORS","Mature",97.22]
["UM1D","PANIC BUTTON","Mature",52.72]
["UM1D50","PANIC BUTTON","Mature",48.11]
["UM2DLED","PANIC BUTTON","Mature",69.67]
["VE1012AM","PIR/AM, V2E, 12M, 9C","Mature",95.71]
["VE1016AM","PIR/AM, V2E, 16M, 9C","Mature",123.56]
["VE1120AM","PIR/AM, V2E, 20M, 11C","Mature",151.44999999999999]
["VE1120AM-D","20M VECTOR PIR 11C AM VDS","Mature",181.16]
["VE735","60M, 11CURTAIN, NC RELAY PIR WITH MEM - V2E TECH","Mature",175.38]
["VE735AM","60M, AM-PIR, 11CURTAIN, NC RELAY,   WITH MEM - V2E TECH","Mature",238.97]
["VE736AM","60M AM-PIR, 11 CURT., CHANGE OVER.","Mature",290.73]
["VM600P","MOUNTING PLATE","Mature",15.69]
["VM600PS10","MOUNTING PLATE, IMQ","Mature",15.69]
["VM602P","RECESS MOUNTING PLATE","Mature",196.22]
["VM603P","WEATHER PROTECTION BOX","Mature",141.72999999999999]
["VM611P","FLOOR MOUNT BOX","Mature",217.2]
["VM651P","MOVABLE MNT. PLATE DAY/NIGHT","Mature",136.57]
["VM652P","KEY-HOLE PROTECT.KIT","Mature",117.93]
["VM653P","SPACER FOR VM652","Mature",18.93]
["VM654P","ARMED CABLE KIT","Mature",46.53]
["VM655P","METAL JUNCTION BOX","Mature",118.78]
["VM704P","WELDING PLATE FOR VV600 AND VV700 SERIES OF SEISMIC DETECTORS","Mature",27.12]
["VP04-UNI","PANNELLO OTTICO ACUSTICO VP04","Mature",96.16]
["VRS122000EBA","100-253VAC INPUT 12VDC 2A MODULE POWER SUPPLY WITH EU PLUG (AND UK ADAPTER)","Mature",56.66]
["VT612-N","TESTER UNIT FOR VV600 SERIES","NPI",280.14999999999998]
["VT705P","SELFCONTAINED TEST TRANSMITTER","Mature",38]
["VTX+XA","TEST AND CALIBRATION BAG","Mature",476.34]
["VV600-PLUS","SEISMIC DETECTOR REDESIGN","Mature",201.69]
["VV600PS1","VAULT SEISMIC DET. ANPI","Mature",211.8]
["VV600S3PLUS","VAULT SEISMIC DET. NFA2P","Mature",201.69]
["VV601-PLUS","VAULT SEISMIC DETECTOR, TNO","Mature",211.76]
["VV602-PLUS","NIGHT SAFE - ATM DETECTOR","Mature",201.69]
["VV602PS1","ADT SEISMIC DET. ANPI","Mature",211.76]
["VV602S3PLUS","SEISMIC DET. NFA2P","Mature",201.73]
["VV605-PLUS","ATM SEISMIC DETECTOR FOR LIGHT WEIGHT MATERIAL","Mature",223.56]
["VV620-PLUS","SEISM. DET. FORM C RELAY","Mature",223.56]
["VV622-PLUS","NIGHT SAFE - ATM DETECTOR, FORM C","Mature",223.56]
["VV700NF","PROGRAM. SEISMIC DETECTOR INCL. FORM A RELAY, NFA2P","Sell-out",382.42]
["VV700RA","Programmable seismic detector, form A relay","Sell-out",291.33]
["VV700RC","Programmable seismic detector, form C relay","Sell-out",305.89999999999998]
["VVI770","RELAY BOARD PLUG IN FORM C","Sell-out",77.55]
["VVK700","CONFIG.KIT VVI740+SCM700","Sell-out",107.07]
["VVM300","MOUNTING PLATE","Mature",15.29]
["VVM302","RECESS MOUNTING BOX","Mature",196.22]
["VVM303","WEATHER PROTECTION BOX","Sell-out",121.69]
["VVM351","MOVEABLE MOUNTING KIT","Mature",122.22]
["VVM352","KEYHOLE PROTECTION KIT","Mature",83.55]
["VVM353","SPACER FOR VVM 352","Mature",14.28]
["VVM354","ARMOURED CABLE KIT","Mature",44.43]
["VVS300AF","VAULT SEISMIC DET. NFA2P","Mature",197.25]
["VVS300-PLUS","VAULT SEISMIC DETECTOR NEW COV","Mature",197.23]
["VVS302AF","ATM SEISMIC DET. NFA2P","Mature",197.25]
["VVS302-PLUS","ATM SEISMIC DETECTOR NEW COVER","Mature",197.23]
["W72321","LOW PROFILE WALL BRACKET LPB2","Sell-out",9.52]
["W72977","CEILING MOUNT BRACKET (CMB1)","Sell-out",12.88]
["W73820","(2 PACK) PROXIMITY FOB PACK","Mature",24.93]
["W76320","WINDGUARD 50 PRO BLACK","Mature",198.28]
["W76321","WINDGUARD 100 PRO BLACK","Mature",290.11]
["W76322","DOORGUARD 150 PRO BLACK","Mature",392.89]
["W76323","DOORGUARD 200 PRO BLACK","Mature",514.08000000000004]
["W76555","PQ15/100","Sell-out",38.590000000000003]
["W76556","PQ15/1900","Sell-out",34.56]
["W76558","PQ15-AM/100","Sell-out",60.2]
["W76559","PQ15-AM/1900","Sell-out",63.56]
["W76561","DT15/100","Sell-out",60.2]
["W76562","DT15/1900","Sell-out",61.66]
["W76567","DT15+/100","Sell-out",69.17]
["W76568","DT15+/1900","Sell-out",71.13]
["W76570","DT15-AM/100","Sell-out",93.52]
["W76571","DT15-AM/1900","Sell-out",95.86]
["W76653","TT EX30 EXTERIOR DETECTOR (IT)","Sell-out",352.97]
["W76656","TT EX30 EXTERIOR DETECTOR (FR).","Sell-out",352.97]
["W76735","TT EX30 AM","Sell-out",369.98]
["WB1-HF","BELDEN CABLE - LOW SMOKE HALOGEN FREE - 500M","Mature",812.99]
["WC104W","SH COM CAB WH. 2X0.75(2X7/0.2)","Sell-out",98.98]
["WC106W","SH COM CAB WH 2X0.75(4X7/0.2)","Sell-out",117.87]
["WC108W","SH COM CAB WH 2X0.75(6X7/0.2) -100m","Sell-out",138.49]
["WC108W-HF","SHIELDED COMPOSITE 2 + 6 CABLE - HALOGEN FREE - 100 M ROLLS","Sell-out",138.51]
["WC112W","SH COM CAB WH 2X0.75(10X7/0.2)","Mature",191.24]
["WC114W","SH COM CAB WH 2X0.75(12X7/0.2)","Sell-out",586.76]
["WCAT52","CABLE REEL OF 500M","Sell-out",857.55]
["WCAT52-100","2 PAIRS, FTP LAN CABLE, CATEGORY 5E (ENHANCED), REELS OF 100 M","Sell-out",150.33000000000001]
["WFA00210W","FIRE RETARDANT CABLE 2 X 1MM.SQ. - PH30 - 100/100V - WHITE (200M REEL)","Mature",320.44]
["WFA00215","FIRE RETARDANT CABLE 2 X 1,5MM.SQ. - PH30 - 100/100V (200M REEL)","Mature",457.8]
["WFA20210N","FIRE RETARDANT CABLE 2 X 1MM.SQ. - PH120, (200M REEL)","NPI",399.47]
["WFA20210W","FIRE RETARDANT CABLE 2 X 1MM.SQ. - PH120 - 0,6/1KV - WHITE (200M REEL)","Mature",531.37]
["WFA20215","FIRE RETARDANT CABLE 2 X 1,5MM.SQ. - PH30/120 - 0,6/1KV (200M REEL)","Mature",680.13]
["WFA40210","CABLE 2X1 WITH SHIELD RED 200M","Mature",392.11]
["WFA40215","CABLE 2X1,5 WITH SHIELD RED 200M","Mature",528.69000000000005]
["WFA40215V","CABLE 2X1,5 W/O SHIELD VIO. 200M","Mature",472.91]
["WFA40225","CABLE 2X2,5 WITH SHIELD RED 200M","Mature",830.6]
["WFA40250","CABLE 2X0,5 WITH SHIELD RED 200M","Mature",266.66000000000003]
["WN104W","SEC. CABLE WHITE 4X7/0,2 MM","Sell-out",47.76]
["WN106W","SEC. CABLE WHITE 6X7/0,2 MM","Sell-out",70.22]
["WN108W","SEC. CABLE WHITE 8X7/0,2 MM","Sell-out",92.36]
["WS104W","SH. CABLE WHITE 4X7/0,2 MM","Sell-out",60.06]
["WS106W","SH. CABLE WHITE 6X7/0,2 MM","Sell-out",76.86]
["WS108W","SH. CABLE WHITE 8X7/0,2 MM","Sell-out",134.94999999999999]
["WS108W-HF-N","8 CORE SHIELDED CABLE - HALOGEN FREE- CPR CLASS CCA - 500M ROLLS","Sell-out",553.14]
["WS4110FN","CABLE 10 X 0,22","Mature",0.94]
["WS4112FN","CABLE 12 X 0,22","Mature",1.08]
["WSHLDMT-CLR","(10 PACK) HID U90 ACCESSORY - Windshield Mount, suction cup, adhesive for ID 1 style credential, Clear (Qty 10)","Mature",138.52000000000001]
["XF24/12","TRANSFO 24/12V DC","Mature",39.36]
["XLANGKCD","X LANGUAGE KIT CD","Sell-out",8.6300000000000008]
["YBN-R/4IS(WHT)","CONVENTIONAL I.S. DETECTOR BASE","Mature",25.18]
["Z-AUXD-2P","Z-AUXD-2P DEEP BASE MOUNTING (POLAR WHITE)","Mature",{"$error":"#N/A"}]
["ZCC868","ZCC868 CONFIGURATION CABLE & SOFTWARE FOR 868 MHZ CONTROLLERS","Mature",{"$error":"#N/A"}]
["ZCR868-C","ZCR868-C CONVENTIONAL WIRELESS COMMUNICATOR","Sell-out",{"$error":"#N/A"}]
["ZE2016","16 ZONE EXTENSION CARD","Mature",189.89]
["ZE2064","64 ZONE EXTENSION CARD","Mature",281.35000000000002]
["ZMCAP/123","CALIBRATION ADAPTER","Mature",199.06]
["ZP1-F2","NV FIRE PNL W/ UI - 2 Z","Sell-out",{"$error":"#N/A"}]
["ZP1-F2-03","CONV FIRE PNL W/ UI - 2 Z (ENG UK)","Phase-out",{"$error":"#N/A"}]
["ZP1-F2-09","CONV FIRE PNL W/ UI - 2 Z (SPA)","Phase-out",{"$error":"#N/A"}]
["ZP1-F2-99","CONV FIRE PNL W/ UI - 2 Z (ENG INT)","Phase-out",{"$error":"#N/A"}]
["ZP1-F2-LK-03","CONV FIRE PNL COMP - LANG KIT - 2/4 Z (ENG UK)","Sell-out",{"$error":"#N/A"}]
["ZP1-F2-LK-09","CONV FIRE PNL COMP - LANG KIT - 2/4 Z (SPA)","Sell-out",{"$error":"#N/A"}]
["ZP1-F2-LK-99","CONV FIRE PNL COMP - LANG KIT - 2/4 Z (ENG INT)","Sell-out",{"$error":"#N/A"}]
["ZP1-F4","CONV FIRE PNL W/ UI - 4 Z","Sell-out",{"$error":"#N/A"}]
["ZP1-F4-03","CONV FIRE PNL W/ UI - 4 Z (ENG UK)","Phase-out",{"$error":"#N/A"}]
["ZP1-F4-09","CONV FIRE PNL W/ UI - 4 Z (SPA)","Phase-out",{"$error":"#N/A"}]
["ZP1-F4-99","CONV FIRE PNL W/ UI - 4 Z (ENG INT)","Phase-out",{"$error":"#N/A"}]
["ZP1-F4-MB","CONV FIRE PNL COMP - MAIN PCB - 4 Z","Sell-out",{"$error":"#N/A"}]
["ZP1-F8","CONV FIRE PNL W/ UI - 8 Z","Sell-out",{"$error":"#N/A"}]
["ZP1-F8-09","CONV FIRE PNL W/ UI - 8 Z (SPA)","Phase-out",{"$error":"#N/A"}]
["ZP1-F8-99","CONV FIRE PNL W/ UI - 8 Z (ENG INT)","Phase-out",{"$error":"#N/A"}]
["ZP1-F8-LK-09","CONV FIRE PNL COMP - LANG KIT - 8 Z (SPA)","Sell-out",{"$error":"#N/A"}]
["ZP1-F8-LK-99","CONV FIRE PNL COMP - LANG KIT - 8 Z (ENG INT)","Sell-out",{"$error":"#N/A"}]
["ZP1-F8-MB","CONV FIRE PNL COMP - MAIN PCB - 8 Z","Sell-out",{"$error":"#N/A"}]
["ZP1-X3","CONV FIRE AND EXT PNL W/ UI - 3 Z BAS","Sell-out",{"$error":"#N/A"}]
["ZP1-X3-09","CONV FIRE AND EXT PNL W/ UI - 3 Z BAS (SPA)","Phase-out",{"$error":"#N/A"}]
["ZP1-X3-99","CONV FIRE AND EXT PNL W/ UI - 3 Z BAS (ENG INT)","Phase-out",{"$error":"#N/A"}]
["ZP1-X3E","CONV FIRE & EXT PNL W/ UI - 3 Z FULL OPT","Sell-out",{"$error":"#N/A"}]
["ZP1-X3E-09","CONV FIRE & EXT PNL W/ UI - 3 Z FULL OPT (SPA)","Phase-out",{"$error":"#N/A"}]
["ZP1-X3E-99","CONV FIRE & EXT PNL W/ UI - 3 Z FULL OPT (ENG INT)","Phase-out",{"$error":"#N/A"}]
["ZP1-X3E-MB","CONV FIRE & EXT PNL COMP - MAIN PCB - 3 Z NETW","Sell-out",{"$error":"#N/A"}]
["ZP1-X3-LK-09","CONV FIRE AND EXT PNL COMP - LANG KIT - 3 Z BAS (SPA)","Sell-out",{"$error":"#N/A"}]
["ZP1-X3-LK-99","CONV FIRE AND EXT PNL COMP - LANG KIT - 3 Z BAS (ENG INT)","Sell-out",{"$error":"#N/A"}]
["ZP2-AD","ADDR FIRE PNL COMP - DOOR W/ UI","Mature",{"$error":"#N/A"}]
["ZP2-AD-FB","ADDR FIRE PNL COMP - DOOR W/ UI W/ FB CTRL","Mature",{"$error":"#N/A"}]
["ZP2-AD-FB-PRT","ADDR FIRE PNL COMP - DOOR W/ UI W/ FB CTRL W/ PRT OPT","Mature",{"$error":"#N/A"}]
["ZP2-AD-S","ADDR FIRE PNL COMP - DOOR W/ UI SMALL CAB","Mature",{"$error":"#N/A"}]
["ZP2-AE1","ADDR FIRE & EVAC PNL W/ UI W/ FB CTRL - 1 L","Mature",{"$error":"#N/A"}]
["ZP2-AE2","ADDR FIRE & EVAC PNL W/ UI W/ FB CTRL - 2 L","Mature",{"$error":"#N/A"}]
["ZP2-AF1","ADDR FIRE PNL W/ UI - 1 L","Mature",{"$error":"#N/A"}]
["ZP2-AF1-09","ADDR FIRE PNL W/ UI - 1 L (SPA)","Mature",{"$error":"#N/A"}]
["ZP2-AF1-19","ADDR FIRE PNL W/ UI - 1 L (TUR)","Mature",{"$error":"#N/A"}]
["ZP2-AF1-99","ADDR FIRE PNL W/ UI - 1 L (ENG INT)","Mature",{"$error":"#N/A"}]
["ZP2-AF1-FB","ADDR FIRE PNL W/ UI W/ FB CTRL - 1 L","Mature",{"$error":"#N/A"}]
["ZP2-AF1-FB-S","ADDR FIRE PNL W/ UI W/ FB CTRL - 1 L SMALL CAB","Mature",{"$error":"#N/A"}]
["ZP2-AF1-FB-S-99","ADDR FIRE PNL W/ UI W/ FB CTRL - 1 L SMALL CAB (ENG INT)","Mature",{"$error":"#N/A"}]
["ZP2-AF1-S","ADDR FIRE PNL W/ UI - 1 L SMALL CAB","Mature",{"$error":"#N/A"}]
["ZP2-AF1-S-19","ADDR FIRE PNL W/ UI - 1 L SMALL CAB (TUR)","Mature",{"$error":"#N/A"}]
["ZP2-AF1-S-99","ADDR FIRE PNL W/ UI - 1 L SMALL CAB (ENG INT)","Mature",{"$error":"#N/A"}]
["ZP2-AF2","ADDR FIRE PNL W/ UI - 2 L","Mature",{"$error":"#N/A"}]
["ZP2-AF2-09","ADDR FIRE PNL W/ UI - 2 L (SPA)","Mature",{"$error":"#N/A"}]
["ZP2-AF2-19","ADDR FIRE PNL W/ UI - 2 L (TUR)","Mature",{"$error":"#N/A"}]
["ZP2-AF2-99","ADDR FIRE PNL W/ UI - 2 L (ENG INT)","Mature",{"$error":"#N/A"}]
["ZP2-AF2-FB","ADDR FIRE PNL W/ UI W/ FB CTRL - 2 L","Mature",{"$error":"#N/A"}]
["ZP2-AF2-FB-P","ADDR FIRE PNL W/ UI W/ FB CTRL- 2L, W/ BIGGER PSU","Mature",{"$error":"#N/A"}]
["ZP2-AF2-FB-PRT","ADDR FIRE PNL W/ UI W/ FB CTRL - 2 L W/ PRT","Mature",{"$error":"#N/A"}]
["ZP2-AF2-FB-PRT-P","ADDR FIRE PNL W/ UI W/ FB CTRLW/ PRINTER - 2L, W/ BIGGER PSU","Mature",{"$error":"#N/A"}]
["ZP2-AF2-FB-S","ADDR FIRE PNL W/ UI W/ FB CTRL - 2 L SMALL CAB","Mature",{"$error":"#N/A"}]
["ZP2-AF2-K","ADDR FIRE PNL W/ UI - 2 L W/ KEYSWICH","Mature",{"$error":"#N/A"}]
["ZP2-AF2-P","ADDR FIRE PNL - 2L, W/ BIGGER PSU","Mature",{"$error":"#N/A"}]
["ZP2-AF2-PRT","ADDR FIRE PNL W/ UI - 2 L W/ PRT","Mature",{"$error":"#N/A"}]
["ZP2-AF2-PRT-99","ADDR FIRE PNL W/ UI - 2 L W/ PRT (ENG INT)","Mature",{"$error":"#N/A"}]
["ZP2-AF2-PRT-P","ADDR FIRE PNL W/ PRINTER - 2L, W/ BIGGER PSU","Mature",{"$error":"#N/A"}]
["ZP2-AF2-S","ADDR FIRE PNL W/ UI - 2 L SMALL CAB","Mature",{"$error":"#N/A"}]
["ZP2-AF2-S-99","ADDR FIRE PNL W/ UI - 2 L SMALL CAB (ENG INT)","Mature",{"$error":"#N/A"}]
["ZP2-AFR","ADDR FIRE PNL REP","Mature",{"$error":"#N/A"}]
["ZP2-AFR-99","ADDR FIRE PNL REP (ENG INT)","Mature",{"$error":"#N/A"}]
["ZP2-AFR-C","ADDR FIRE PNL REP - COMP","Mature",{"$error":"#N/A"}]
["ZP2-AFR-C-99","ADDR FIRE PNL REP - COMP (ENG INT)","Mature",{"$error":"#N/A"}]
["ZP2-AFR-FB","ADDR FIRE PNL REP W/ FB CTRL","Mature",{"$error":"#N/A"}]
["ZP2-AFR-FB-C","ADDR FIRE PNL REP W/ FB CTRL - COMP","Mature",{"$error":"#N/A"}]
["ZP2-AFR-FB-S","ADDR FIRE PNL REP W/ FB CTRL SMALL CAB","Mature",{"$error":"#N/A"}]
["ZP2-AFR-S","ADDR FIRE PNL REP SMALL CAB","Mature",{"$error":"#N/A"}]
["ZP2-AFR-S-99","ADDR FIRE PNL REP SMALL CAB (ENG INT)","Mature",{"$error":"#N/A"}]
["ZP2-A-LB","ADDR FIRE PNL ACC - LOOP EXP PCB - 2 L","Mature",{"$error":"#N/A"}]
["ZP2-D-E","Addr Fire and Evac Pnl Comp - Door w/o UI","Mature",{"$error":"#N/A"}]
["ZP2-D-FB2","ADDR FIRE PNL COMP - DOOR W/O UI W/O FB CTRL","Mature",{"$error":"#N/A"}]
["ZP2-D-FB2-PRT","ADDR FIRE PNL COMP - DOOR W/O UI W/O FB CTRL W/O PRT OPT","Mature",{"$error":"#N/A"}]
["ZP2-D-FB2-S","ADDR FIRE PNL COMP - DOOR W/O UI W/O FB CTRL SMALL CAB","Mature",{"$error":"#N/A"}]
["ZP2-D-FB2-TP","ADDR FIRE PNL COMP - TRANSL PROT","Mature",{"$error":"#N/A"}]
["ZP2-D-FB2-TP-S","ADDR FIRE PNL COMP - TRANSL PROT SMALL CAB","Mature",{"$error":"#N/A"}]
["ZP2-D-S","ADDR FIRE PNL COMP - DOOR W/O UI SMALL CAB","Mature",{"$error":"#N/A"}]
["ZP2-D-SCFB","Addr Fire Pnl Comp - Door w/o UI w/o SS3654 FB ctrl (Scd)","Mature",{"$error":"#N/A"}]
["ZP2-D-SCFB-S","Addr Fire Pnl Comp - Door w/o UI w/o SS3654 FB ctrl Small Cab (Scd)","Mature",{"$error":"#N/A"}]
["ZP2-F1","ADDR FIRE PNL W/ UI - 1 L","Sell-out",{"$error":"#N/A"}]
["ZP2-F1-99","ADDR FIRE PNL W/ UI - 1 L (ENG INT)","Phase-out",{"$error":"#N/A"}]
["ZP2-F1-S-99","ADDR FIRE PNL W/ UI - 1 L SMALL CAB (ENG INT)","Phase-out",{"$error":"#N/A"}]
["ZP2-F2-FB2","ADDR FIRE PNL W/ UI W/ FB CTRL - 2 L","Sell-out",{"$error":"#N/A"}]
["ZP2-F2-FB2-99","ADDR FIRE PNL W/ UI W/ FB CTRL - 2 L (ENG INT)","Phase-out",{"$error":"#N/A"}]
["ZP2-F2-S","ADDR FIRE PNL W/ UI - 2 L SMALL CAB","Sell-out",{"$error":"#N/A"}]
["ZP2-F2-S-99","ADDR FIRE PNL W/ UI - 2 L SMALL CAB (ENG INT)","Phase-out",{"$error":"#N/A"}]
["ZP2-FR-S","ADDR FIRE PNL REP SMALL CAB","Sell-out",{"$error":"#N/A"}]
["ZP2-FR-S-99","ADDR FIRE PNL REP SMALL CAB (ENG INT)","Phase-out",{"$error":"#N/A"}]
["ZP2-LB","ADDR FIRE PNL ACC - LOOP EXP PCB - 2 L","Sell-out",{"$error":"#N/A"}]
["ZP2-LK-99","ADDR FIRE PNL COMP - LANG KIT (ENG INT)","Sell-out",{"$error":"#N/A"}]
["ZP2-UI","ADDR FIRE PNL COMP - UI PCB","Sell-out",{"$error":"#N/A"}]
["ZP2-UI-FB2","ADDR FIRE PNL COMP - UI PCB W/ FB2 CTRL","Mature",{"$error":"#N/A"}]
["ZP2-UI-SCFB","Addr Fire Pnl Comp - UI PCB (Scd)","Mature",{"$error":"#N/A"}]
["ZP2-ZI-20","ADDR FIRE PNL ACC - LED IND - 20 Z","Mature",{"$error":"#N/A"}]
["ZP2-ZI-24-S","ADDR FIRE PNL ACC - LED IND - 24 Z","Mature",{"$error":"#N/A"}]
["ZP2-ZI-40","ADDR FIRE PNL ACC - LED IND - 40 Z","Mature",{"$error":"#N/A"}]
["ZP3AB-NLM3","ZP3AB-NLM3 CLASS-A NETWORK LOOP MODULE","Mature",{"$error":"#N/A"}]
["ZP3-KEY-N","REPLACEMENT KEYSET FOR ZP3 PANEL","Mature",{"$error":"#N/A"}]
["ZP3-MB2C-230-1L-CN","ZP3-MCB2C-230-1L-CN BOARD & CHASSIS (FOR CHINESE PANEL ONLY)","Mature",{"$error":"#N/A"}]
["ZP3-MB2C-230-4L-CN","ZP3-MCB2C-230-4L-CN BOARD & CHASSIS (FOR CHINESE PANEL ONLY)","Mature",{"$error":"#N/A"}]
["ZP3-PK01","ZP3 PROGRAMMER KIT (FLASH PROGRAMMER COMPLETE WITH CD AND USB CABLE)","Sell-out",{"$error":"#N/A"}]
["ZP-68260","(1 KEY = QTY 1) COMMON KEYSWITCH KEYS (007)","Sell-out",{"$error":"#N/A"}]
["ZP720-3P","ADDR. HEAT DET. PW","Mature",{"$error":"#N/A"}]
["ZP730-2P","ADDR. OPT. DET. PW","Mature",{"$error":"#N/A"}]
["ZP732-2P","ADDR. DUAL OPT. HEAT DET. PW","Mature",{"$error":"#N/A"}]
["ZP755B-2P","ADDR. BASE SNDR. PW","Mature",{"$error":"#N/A"}]
["ZP755BV-4P","BASE SNDR. W/ VISUAL IND. PW","Mature",{"$error":"#N/A"}]
["ZP755-COV-P","ZP7 BASE SNDR. COVER PW","Mature",{"$error":"#N/A"}]
["ZP755HA-2P","HORN SNDR. PW","Mature",{"$error":"#N/A"}]
["ZP755HAV-2P","HORN SNDR. W/ VISUAL IND. PW","Mature",{"$error":"#N/A"}]
["ZP755V-P","ADDR. VISUAL IND. PW","Mature",{"$error":"#N/A"}]
["ZP785-3S30","ZP785-3 FLUSH MOUNT ADDRESSABLE CALL POINT COMPLETE WITH EN54 MARKING (RED) / CHUBB","Sell-out",{"$error":"#N/A"}]
["ZP785KS-N","ZP785 ADDRESSABLE MCP RED, 2-POS. KEYSWITCH, SURFACE MOUNT","Sell-out",{"$error":"#N/A"}]
["ZP7-IB2-P","ZP7-IB2-P INTELLIGENT ISOLATOR BASE FOR ZP7 & ZX8 SERIES DETECTORS (POLAR WHITE)","Mature",{"$error":"#N/A"}]
["ZP7-RB1-P","RECESS MNT. BASE PW","Sell-out",{"$error":"#N/A"}]
["ZP7-SB1-P","SURFACE MNT. BASE PW","Mature",{"$error":"#N/A"}]
["ZP7-SBB-P","SURFACE MNT. VISUAL IND BASE PW","Mature",{"$error":"#N/A"}]
["ZP886G","INT ADDR MCP - GREEN","Sell-out",{"$error":"#N/A"}]
["ZP886R","INT ADDR MCP - RED","Mature",{"$error":"#N/A"}]
["ZP886R-KITF","INT ADDR MCP - (RED) W/ BACK BOX & FLIP COVER","NPI",{"$error":"#N/A"}]
["ZP886R-RMKIT","INT ADDR RECESS MOUNT MCP - (RED)","NPI",{"$error":"#N/A"}]
["ZP886R-S27","INT ADDR MCP - ENG RED","Sell-out",{"$error":"#N/A"}]
["ZP886R-S30","INT ADDR MCP - CHUBB RED","Mature",{"$error":"#N/A"}]
["ZP886R-SCL","INT ADDR MCP - CLYMAC RED","Mature",{"$error":"#N/A"}]
["ZP886R-TSKIT","INT ADDR RECESS MOUNT MCP WITH SKIRT - (RED)","NPI",{"$error":"#N/A"}]
["ZP888R","INT ADDR MCP - WP RED","Mature",{"$error":"#N/A"}]
["ZPA2002","ZPA2002","Mature",{"$error":"#N/A"}]
["ZP PLANNER","ZP-PLW PLANNER, ZP3 CONFIGURATION SOFTWARE COMPLETE WITH MANUAL","Mature",{"$error":"#N/A"}]
["ZPR868","ZITON PROTOCOL 868MHZ - RADIO LOOP MODULE (RLM)","Mature",{"$error":"#N/A"}]
["ZPR868-C","ZPR868-C ZITON PROTOCOL 868MHZ - RADIO CLUSTER COMMUNICATOR (RCC), 24VDC","Mature",{"$error":"#N/A"}]
["ZPR868-CM","ZPR868-CM ZITON PROTOCOL 868MHZ - RADIO CLUSTER COMMUNICATOR (RCC), MAINS POWERED","Mature",{"$error":"#N/A"}]
["ZPR868-H","ZPR868-H ZITON PROTOCOL 868MHZ - RADIO LOOP MODULE (HUB) - 4 LOOP","Mature",{"$error":"#N/A"}]
["ZPW766R","ZPW766R WALL MOUNT SOUNDER/VAD (RED BODY, RED FLASH)","Sell-out",{"$error":"#N/A"}]
["ZR401-3P","ZR401-3P RADIO DETECTOR BASE FOR ZX432-2 COMPLETE W/ BATTERY PACK (POLAR WHITE)","Mature",{"$error":"#N/A"}]
["ZR401-3PA","ZR401-3PA RADIO DETECTOR SOUNDER BASE FOR ZX432-2 COMPLETE W/ BATTERY PACK (POLAR WHITE)","Mature",{"$error":"#N/A"}]
["ZR401-3PAV","ZR401-3PAV RADIO DETECTOR SOUNDER BASE WITH VISUAL INDICATOR FOR ZX432-2 COMPLETE W/ BATTERY PACK (POLAR WHITE)","Mature",{"$error":"#N/A"}]
["ZR401H-P","RADIO BASE HOUSING PW","Sell-out",{"$error":"#N/A"}]
["ZR432-2P","ZX432-2P RADIO DUAL OPTICAL/HEAT DETECTOR /W ZR401-3 BASE & BATTERY PACK (POLAR WHITE)","Mature",{"$error":"#N/A"}]
["ZR432-2PA","ZR432-2PA RADIO DUAL OPTICAL/HEAT DETECTOR /W RADIO SOUNDER BASE","Mature",{"$error":"#N/A"}]
["ZR432-2PAV","ZR432-2PAV RADIO DUAL OPTICAL/HEAT DETECTOR /W RADIO SOUNDER BASE & RED VISUAL INDICATOR","Mature",{"$error":"#N/A"}]
["ZR451-3","ZR451-3 RADIO INPUT/OUTPUT UNIT COMPLETE WITH BATTERY PACK","Mature",{"$error":"#N/A"}]
["ZR455-3R","FC-172-002  Sounder w/ ZRB455-R Wireless Base & Battery Pack (RED)","Mature",{"$error":"#N/A"}]
["ZR455-3W","FC-172-001 Sounder w/ ZRB455-W Wireless Base & Battery Pack (WHITE)","Mature",{"$error":"#N/A"}]
["ZR455V-3RR","FC-173-002 SND/VID w/ ZRB455-R Wireless Base &Batt (RED w/ RED Lens)","Mature",{"$error":"#N/A"}]
["ZR485-3","ZR485-3 RADIO CALL POINT COMPLETE WITH BATTERY PACK (RED)","Mature",{"$error":"#N/A"}]
["ZR4-RL","WIRELESS REMOTE INDICATOR /W ZR401-RL BASE & BATT.","Mature",{"$error":"#N/A"}]
["ZR4ST-3","ZR4ST-3 PORTABLE RADIO SURVEY KIT","Mature",{"$error":"#N/A"}]
["ZRB455-3R","ZITON WIRELESS SOUNDER BASE ONLY (RED)","Mature",{"$error":"#N/A"}]
["ZRB455-3W","ZITON WIRELESS SOUNDER SOUNDER BASE ONLY (WHITE)","Mature",{"$error":"#N/A"}]
["ZRC466-3C","FC-315-CA2 Sounder/VAD, Ceiling Mount /w ZRB455-R Wireless Base & Battery Pack (RED w/ CLEAR Flash)","Mature",{"$error":"#N/A"}]
["Z-RL4","Z-RL4(RIU-01)LED NO TEXT","Sell-out",{"$error":"#N/A"}]
["ZRW460-3WC","FC-323-WA1 Wall Mount VAD w/ ZRB455-W Wireless Base & Battery Pack (WHITE w/ CLEAR Flash)","Mature",{"$error":"#N/A"}]
["ZRW466-3C","FC-315-WA2 Wall Mount Sounder/VAD w/ ZRB455-R Wireless Base & Battery Pack (RED w/ CLEAR Flash)","Mature",{"$error":"#N/A"}]
["ZRW466-3WC","FC-315-WA1 Wall Mount Sounder/VAD w/ ZRB455-W Wireless Base & Battery Pack (WHITE w/ CLEAR Flash)","Mature",{"$error":"#N/A"}]
["ZX432-2P","WIRELESS OPT. HEAT HEAD PW","Mature",{"$error":"#N/A"}]
["ZX832-3B","ZX832-3B ADDRESSABLE OPTICAL/HEAT MULTISENSOR (BLACK)","Mature",{"$error":"#N/A"}]
["ZX832-3P","ZX832-3P ADDRESSABLE OPTICAL/HEAT MULTISENSOR (POLAR WHITE)","Mature",{"$error":"#N/A"}]
["ATS1180-STK","(10 PACK) LEXAN FOR ATS1180(M)","NPI",178.96]
["ATS1181-STK","(10 PACK) LEXAN FOR ATS1181(M)","NPI",178.96]
["ATS1182-STK","(10 PACK) LEXAN FOR ATS1182","NPI",178.96]
["DC118-5M","OVERHEAD CONTACT 4 WIRE, 5M ARMORED CABLE","NPI",76.56]
["TVGP-P02-0401-PTZ-G","TRUVISION 4MP IP PTZ CAMERA, H.265+, 300M IR, 25X ZOOM, SUPER LOW LIGHT, IP67, IK10, NEMA 4X, HI-POE/36VDC","NPI",2063.29]
["TVGP-P02-0402-PTZ-G","TRUVISION 4MP IP PTZ CAMERA, H.265+, 400M IR, 42X ZOOM, SUPER LOW LIGHT, IP67, IK10, NEMA 4X, HI-POE/36VDC","NPI",2771.47]
["TVP-CMB-02","TRUVISION PTZ CORNER MOUNT BRACKET","NPI",109.48]
["TVP-PMB-02","TRUVISION PTZ POLE MOUNT BRACKET","NPI",90.72]
["TVP-PMB-03","TRUVISION PTZ PENDANT MOUNT BRACKET","NPI",44.21]
["TVP-WMB-01","TRUVISION PTZ WALL MOUNT BRACKET","NPI",76.180000000000007]
["811FPPGGNNN","(MOQ 100) DESFIRE EV3 8K/PROX,DESFIRE PROG SIO COMPATIBILITY, PROX PROG, F-GLOSS, B-GLOSS, NO DESFIRE #, NO SLOT, NO PROX #","NPI",13.97]
["NC-BA-PD","(10 PACK) CONV BASE ACC - PRESENCE DETECTION","NPI",95.49]
["WCAT52-BC-CCA-100","2 PAIRS - FTP LAN CABLE - CATEGORY 5E (ENHANCED) - BARE COOPER - CCA - 100M ROLLS","NPI",{"$error":"#N/A"}]
["WCAT52-BC-ECA-100","2 PAIRS - FTP LAN CABLE - CATEGORY 5E (ENHANCED) - BARE COOPER - ECA - 100M ROLLS","NPI",{"$error":"#N/A"}]
["WCAT52-BC-ECA-500","2 PAIRS - FTP LAN CABLE - CATEGORY 5E (ENHANCED) - BARE COOPER - ECA - 500M ROLLS","NPI",{"$error":"#N/A"}]
["WN106W-TC-ECA-100","SECURITY CABLE 6 X 7 / 0.2 MM, WHITE - TINNED COOPER - ECA - 100M ROLLS","NPI",{"$error":"#N/A"}]
["WN108W-TC-ECA-100","SECURITY CABLE 8 X 7 / 0.2 MM, WHITE - TINNED COOPER - ECA - 100M ROLLS","NPI",{"$error":"#N/A"}]
["SH-14-3201-0001-99","EXCELLENCE WIRELESS GATEWAY - LP (ENG)","Mature",501.74]
["DDI602AM-F4","OUTDOOR DUAL/AM TECHNOLOGY DETECTOR 9.35 GHZ","NPI",418.92]
["DDI602-F4","OUTDOOR DUAL TECHNOLOGY DETECTOR 9.35 GHZ","NPI",333.28]
["ES3402-16P-2S","16-PORT GIGABIT LITE-MANAGED SWITCH POE-AT WITH 2X 1000X SFP UPLINKS","NPI",534.01]
["ES3402-8P-2S","8-PORT GIGABIT LITE-MANAGED SWITCH POE-AT WITH 2X 1000X SFP UPLINKS","HOLD Total",{"$error":"#N/A"}]
["MC352-1P-1S","INDUSTRIAL IP67 MEDIA CONVERTER 1000BASE-X SFP TO 10/100/1000BASE-T 802.3AT POE","PreRelease",212.45]
["NS3503-8P-2X","8-PORT GIGABIT MANAGED SWITCH, 4X POE 802.3AT, 4X POE 802.3BT WITH 2-PORT 10G SPF","NPI",744.55]
["POE353-EX-2P","INDUSTRIAL IP67 POE EXTENDER 1-PORT POE 802.3BT TO 2-PORT 802.3AT/BT","PreRelease",244.99]
["S35-RJ","SFP-PORT GIGABIT MINI GBIC TRANSCEIVER MODULE COPPER ? 100M (-40 TO 85 DEGREES C)","HOLD Total",{"$error":"#N/A"}]
["WFA0022N","FIRE RETARDANT CABLE 2 X 1 MM.SQ., PH30, (200 M REEL)","NPI",312.22000000000003]
["WFA0022NL","FIRE RETARDANT CABLE 2 X 1 MM.SQ., PH30, (500 M REEL)","NPI",780.56]
["EVERON-PCAM","12M PIR SENSOR WITH BUILT-IN COLOUR CAMERA","NPI",239.25]
["2010-2A-F1-MB-Z","SPARE PART - ZP2-A ADDR COMP - MAIN PCB - 1 L - ZITON PROTOCOL","NPI",{"$error":"#N/A"}]
["2010-2A-F2-MB-Z","SPARE PART - ZP2-A ADDR COMP - MAIN PCB - 2 L - ZITON PROTOCOL","NPI",{"$error":"#N/A"}]
["S2097AE","SMART3G-C2 EXD ETHYL ACETATE/ACETATO ETILE 4-20MA,0-100%LEL","Mature",2097.5300000000002]
["TVN-HDD-B","TRUVISION HDD BRACKET KIT (FOR 4 HDDS)","Mature",24.11]
["KE-AS3001W","INT ADDR VIS NOTIF - VIS IND DEV (WHT W/ RED FLASH)","PreRelease",60.83]
["KE-AS3005W-CM","INT ADDR VIS NOTIF - VIS ALM DEV CEILING MOUNT (WHT W/ RED FLASH)","NPI",89.59]
["KE-AS3005W-WM","INT ADDR VIS NOTIF - VIS ALM DEV WALL MOUNT (WHT W/ RED FLASH)","NPI",89.59]
["KE-AS3010R","INT ADDR AUD NOTIF - SND (RED)","NPI",87.55]
["KE-AS3010R-IP","INT ADDR AUD NOTIF - WP SND (RED)","NPI",108.27]
["KE-AS3010W","INT ADDR AUD NOTIF - SND (WHT)","NPI",96.2]
["KE-AS3010W-IP","INT ADDR AUD NOTIF - WP SND (WHT)","NPI",116.96]
["KE-AS3011R","INT ADDR AUD/VIS NOTIF - SND/VIS IND DEV (RED W/ RED FLASH)","NPI",98.99]
["KE-AS3011R-IP","INT ADDR AUD/VIS NOTIF - WP SND/VIS IND DEV (RED W/ RED FLASH)","NPI",119.76]
["KE-AS3011W","INT ADDR AUD/VIS NOTIF - SND/VIS IND DEV (WHT W/ RED FLASH)","NPI",107.64]
["KE-AS3015R-CM","INT ADDR AUD/VIS NOTIF - SND/VIS ALM DEV CEILING MOUNT (RED W/ RED FLASH)","NPI",127.76]
["KE-AS3015R-CMIP","INT ADDR AUD/VIS NOTIF - WP SND/VIS ALM DEV CEILING MOUNT (RED W/ RED FLASH)","NPI",148.53]
["KE-AS3015R-WM","INT ADDR AUD/VIS NOTIF - SND/VIS ALM DEV WALL MOUNT (RED W/ RED FLASH)","NPI",127.76]
["KE-AS3015R-WMIP","INT ADDR AUD/VIS NOTIF - WP SND/VIS ALM DEV WALL MOUNT (RED W/ RED FLASH)","NPI",148.53]
["KE-AS3015W-CM","INT ADDR AUD/VIS NOTIF - SND/VIS ALM DEV CEILING MOUNT (WHT W/ RED FLASH)","NPI",136.41]
["KE-AS3015W-CMIP","INT ADDR AUD/VIS NOTIF - WP SND/VIS ALM DEV CEILING MOUNT (WHT W/ RED FLASH)","NPI",157.18]
["KE-AS3015W-WM","INT ADDR AUD/VIS NOTIF - SND/VIS ALM DEV WALL MOUNT (WHT W/ RED FLASH)","NPI",136.41]
["KE-AS3015W-WMIP","INT ADDR AUD/VIS NOTIF - WP SND/VIS ALM DEV WALL MOUNT (WHT W/ RED FLASH)","NPI",157.18]
["KE-AS3101W","INT ADDR VIS NOTIF W/ ISO - VIS IND DEV (WHT W/ RED FLASH)","PreRelease",77.94]
["KE-AS3105W-CM","INT ADDR VIS NOTIF W/ ISO - VIS ALM DEV CEILING MOUNT (WHT W/ RED FLASH)","NPI",106.71]
["KE-AS3105W-WM","INT ADDR VIS NOTIF W/ ISO - VIS ALM DEV WALL MOUNT (WHT W/ RED FLASH)","NPI",106.71]
["KE-AS3110R","INT ADDR AUD NOTIF W/ ISO - SND (RED)","NPI",104.68]
["KE-AS3110R-IP","INT ADDR AUD NOTIF W/ ISO - WP SND (RED)","NPI",125.44]
["KE-AS3110W","INT ADDR AUD NOTIF W/ ISO - SND (WHT)","NPI",113.33]
["KE-AS3110W-IP","INT ADDR AUD NOTIF W/ ISO - WP SND (WHT)","NPI",134.09]
["KE-AS3111R","INT ADDR AUD/VIS NOTIF W/ ISO - SND/VIS IND DEV (RED W/ RED FLASH)","NPI",116.12]
["KE-AS3111R-IP","INT ADDR AUD/VIS NOTIF W/ ISO - WP SND/VIS IND DEV (RED W/ RED FLASH)","NPI",136.88999999999999]
["KE-AS3111W","INT ADDR AUD/VIS NOTIF W/ ISO - SND/VIS IND DEV (WHT W/ RED FLASH)","NPI",124.77]
["KE-AS3115R-CM","INT ADDR AUD/VIS NOTIF W/ ISO - SND/VIS ALM DEV CEILING MOUNT (RED W/ RED FLASH)","NPI",144.88999999999999]
["KE-AS3115R-CMIP","INT ADDR AUD/VIS NOTIF W/ ISO - WP SND/VIS ALM DEV CEILING MOUNT (RED W/ RED FLASH)","NPI",165.66]
["KE-AS3115R-WM","INT ADDR AUD/VIS NOTIF W/ ISO - SND/VIS ALM DEV WALL MOUNT (RED W/ RED FLASH)","NPI",144.88999999999999]
["KE-AS3115R-WMIP","INT ADDR AUD/VIS NOTIF W/ ISO - WP SND/VIS ALM DEV WALL MOUNT (RED W/ RED FLASH)","NPI",165.66]
["KE-AS3115W-CM","INT ADDR AUD/VIS NOTIF W/ ISO - SND/VIS ALM DEV CEILING MOUNT (WHT W/ RED FLASH)","NPI",153.54]
["KE-AS3115W-CMIP","INT ADDR AUD/VIS NOTIF W/ ISO - WP SND/VIS ALM DEV CEILING MOUNT (WHT W/ RED FLASH)","NPI",174.31]
["KE-AS3115W-WM","INT ADDR AUD/VIS NOTIF W/ ISO - SND/VIS ALM DEV WALL MOUNT (WHT W/ RED FLASH)","NPI",153.54]
["KE-AS3115W-WMIP","INT ADDR AUD/VIS NOTIF W/ ISO - WP SND/VIS ALM DEV WALL MOUNT (WHT W/ RED FLASH)","NPI",174.31]
["KE-ASA-AUXR","INT ADDR NOTIFICATION ACC - DEEP BASE (RED)","NPI",14.07]
["KE-ASA-AUXW","INT ADDR NOTIFICATION ACC - DEEP BASE (WHITE)","NPI",14.07]
["TVB-6113","TRUVISION HD-TVI ANALOG BULLET CAMERA, SMART HYBRID LIGHT, 2MP, 2.8-12MM LENS, 60M IR AND WHITE LIGHT, 12VDC, IP67","NPI",183.65]
["TVD-6112","TRUVISION HD-TVI ANALOG DOME CAMERA, SMART HYBRID LIGHT, 2MP, 2.8MM LENS, 40M IR AND WHITE LIGHT, 12VDC, IP67, IK10","NPI",96.66]
["TVD-6113","TRUVISION HD-TVI ANALOG DOME CAMERA, SMART HYBRID LIGHT, 2MP, 2.8-12MM LENS, 60M IR AND WHITE LIGHT, 12VDC, IP67, IK10","NPI",191.38]
["ZP7-AIO","KIT] A45E-2, A50E-2 W/ SMB-DIN2 ENCLOSURE","Mature",{"$error":"#N/A"}]
["AXON2600-MM","DOORS CONTROLLERS FROM 2 TO 6 DOORS","Mature",890.01]
["AAE-0200","ALARMLINE II ANALOGUE EN PVC CABLE- 200M","NPI",2709.49]
["DAVIEW 10DF","DAVANTIS VIDEO ANALYSIS SYSTEM FOR 10 IP CHANNELS DFUSION WITH DEEP LEARNING - RACK","NPI",{"$error":"#N/A"}]
["DAVIEW 11DF","DAVANTIS VIDEO ANALYSIS SYSTEM FOR 11 IP CHANNELS DFUSION WITH DEEP LEARNING - RACK","NPI",{"$error":"#N/A"}]
["DAVIEW 12DF","DAVANTIS VIDEO ANALYSIS SYSTEM FOR 12 IP CHANNELS DFUSION WITH DEEP LEARNING - RACK","NPI",{"$error":"#N/A"}]
["DAVIEW 13DF","DAVANTIS VIDEO ANALYSIS SYSTEM FOR 13 IP CHANNELS DFUSION WITH DEEP LEARNING - RACK","NPI",19513.59]
["DAVIEW 14DF","DAVANTIS VIDEO ANALYSIS SYSTEM FOR 14 IP CHANNELS DFUSION WITH DEEP LEARNING - RACK","NPI",{"$error":"#N/A"}]
["DAVIEW 15DF","DAVANTIS VIDEO ANALYSIS SYSTEM FOR 15 IP CHANNELS DFUSION WITH DEEP LEARNING - RACK","NPI",{"$error":"#N/A"}]
["DAVIEW 16DF","DAVANTIS VIDEO ANALYSIS SYSTEM FOR 16 IP CHANNELS DFUSION WITH DEEP LEARNING - RACK","NPI",{"$error":"#N/A"}]
["DAVIEW 17DF","DAVANTIS VIDEO ANALYSIS SYSTEM FOR 17 IP CHANNELS DFUSION WITH DEEP LEARNING - RACK","NPI",{"$error":"#N/A"}]
["DAVIEW 18DF","DAVANTIS VIDEO ANALYSIS SYSTEM FOR 18 IP CHANNELS DFUSION WITH DEEP LEARNING - RACK","NPI",27018.81]
["DAVIEW 19DF","DAVANTIS VIDEO ANALYSIS SYSTEM FOR 19 IP CHANNELS DFUSION WITH DEEP LEARNING - RACK","NPI",{"$error":"#N/A"}]
["DAVIEW 20DF","DAVANTIS VIDEO ANALYSIS SYSTEM FOR 20 IP CHANNELS DFUSION WITH DEEP LEARNING - RACK","NPI",{"$error":"#N/A"}]
["DAVIEW 21DF","DAVANTIS VIDEO ANALYSIS SYSTEM FOR 21 IP CHANNELS DFUSION WITH DEEP LEARNING - RACK","NPI",{"$error":"#N/A"}]
["DAVIEW 22DF","DAVANTIS VIDEO ANALYSIS SYSTEM FOR 22 IP CHANNELS DFUSION WITH DEEP LEARNING - RACK","NPI",{"$error":"#N/A"}]
["DAVIEW 23DF","DAVANTIS VIDEO ANALYSIS SYSTEM FOR 23 IP CHANNELS DFUSION WITH DEEP LEARNING - RACK","NPI",{"$error":"#N/A"}]
["DAVIEW 24DF","DAVANTIS VIDEO ANALYSIS SYSTEM FOR 24 IP CHANNELS DFUSION WITH DEEP LEARNING - RACK","NPI",{"$error":"#N/A"}]
["DAVIEW 25DF","DAVANTIS VIDEO ANALYSIS SYSTEM FOR 25 IP CHANNELS DFUSION WITH DEEP LEARNING - RACK","NPI",{"$error":"#N/A"}]
["DAVIEW 26DF","DAVANTIS VIDEO ANALYSIS SYSTEM FOR 26 IP CHANNELS DFUSION WITH DEEP LEARNING - RACK","NPI",{"$error":"#N/A"}]
["DAVIEW 27DF","DAVANTIS VIDEO ANALYSIS SYSTEM FOR 27 IP CHANNELS DFUSION WITH DEEP LEARNING - RACK","NPI",{"$error":"#N/A"}]
["DAVIEW 28DF","DAVANTIS VIDEO ANALYSIS SYSTEM FOR 28 IP CHANNELS DFUSION WITH DEEP LEARNING - RACK","NPI",{"$error":"#N/A"}]
["DAVIEW 29DF","DAVANTIS VIDEO ANALYSIS SYSTEM FOR 29 IP CHANNELS DFUSION WITH DEEP LEARNING - RACK","NPI",{"$error":"#N/A"}]
["DAVIEW 2DF","DAVANTIS VIDEO ANALYSIS SYSTEM FOR 2 IP CHANNELS DFUSION WITH DEEP LEARNING - RACK","NPI",{"$error":"#N/A"}]
["DAVIEW 30DF","DAVANTIS VIDEO ANALYSIS SYSTEM FOR 30 IP CHANNELS DFUSION WITH DEEP LEARNING - RACK","NPI",{"$error":"#N/A"}]
["DAVIEW 31DF","DAVANTIS VIDEO ANALYSIS SYSTEM FOR 31 IP CHANNELS DFUSION WITH DEEP LEARNING - RACK","NPI",{"$error":"#N/A"}]
["DAVIEW 32DF","DAVANTIS VIDEO ANALYSIS SYSTEM FOR 32 IP CHANNELS DFUSION WITH DEEP LEARNING - RACK","NPI",{"$error":"#N/A"}]
["DAVIEW 3DF","DAVANTIS VIDEO ANALYSIS SYSTEM FOR 3 IP CHANNELS DFUSION WITH DEEP LEARNING - RACK","NPI",{"$error":"#N/A"}]
["DAVIEW 4DF","DAVANTIS VIDEO ANALYSIS SYSTEM FOR 4 IP CHANNELS DFUSION WITH DEEP LEARNING - RACK","NPI",{"$error":"#N/A"}]
["DAVIEW 4DF MINI RELE","DFUSION MINI 4-CHANNEL IP VIDEO ANALYSIS SYSTEM. INCLUDES RELAY MODULE WITH 4 OUTPUTS AND 8 INPUTS.","NPI",{"$error":"#N/A"}]
["DAVIEW 5DF","DAVANTIS VIDEO ANALYSIS SYSTEM FOR 5 IP CHANNELS DFUSION WITH DEEP LEARNING - RACK","NPI",{"$error":"#N/A"}]
["DAVIEW 6DF","DAVANTIS VIDEO ANALYSIS SYSTEM FOR 6 IP CHANNELS DFUSION WITH DEEP LEARNING - RACK","NPI",{"$error":"#N/A"}]
["DAVIEW 6DF MINI RELE","DFUSION MINI 6-CHANNEL IP VIDEO ANALYSIS SYSTEM. INCLUDES RELAY MODULE WITH 6 OUTPUTS AND 8 INPUTS.","NPI",{"$error":"#N/A"}]
["DAVIEW 7DF","DAVANTIS VIDEO ANALYSIS SYSTEM FOR 7 IP CHANNELS DFUSION WITH DEEP LEARNING - RACK","NPI",{"$error":"#N/A"}]
["DAVIEW 8DF","DAVANTIS VIDEO ANALYSIS SYSTEM FOR 8 IP CHANNELS DFUSION WITH DEEP LEARNING - RACK","NPI",12008.38]
["DAVIEW 9DF","DAVANTIS VIDEO ANALYSIS SYSTEM FOR 9 IP CHANNELS DFUSION WITH DEEP LEARNING - RACK","NPI",13509.39]
["RI4","INTERNAL RELAY MODULE WITH 4 NC / NO OUTPUTS. COMPATIBLE WITH DAVIEW AND DFUSION","NPI",350.22]
["RI8","INTERNAL RELAY MODULE WITH 8 NC / NO OUTPUTS. COMPATIBLE WITH DAVIEW AND DFUSION","NPI",465.31]
["ARCS-R35-H/BT1-5AQ/1","ARCS USB TABLE READER - CABLE INCLUDED - KEYPAD EMULATION- QWERT1 CONFIGURATION","NPI",687.32]
["ARCS-W33-B/BT1-7OS/1","OSDP V2, STD FORMAT, KEYPAD, BLE, NFC, MIFARE CLASSIC, DESFIRE, EV1/2/3","NPI",892.31]
["CAB-SPECTRE-3M","CABLE OF 3 METERS FOR SPECTRE READER","NPI",154.75]
["CCTW890_AP","(MOQ 200) BADGE - 13,56 MHZ - MIFARE? DESFIRE? EV3 8K - BLANC","NPI",5.88]
["KFX-UHF-10","WALL/MAST MOUNTING BRACKET","NPI",409.98]
["KITULTR1SV3-ETSI","KIT FOR CONFIGURATION OF SPECTRE READER AND CODING OF THE TAG (CABLE INCLUDED) + SOFTWARE ULTR1S V3","NPI",1493.21]
["SHIELD-ARC1-B","SHIELD-ARC1-B - BOUCLIER EQUIPE POUR LECTEUR ETROIT ARCHITECT? ONE & ARCHITECT? ONE BLUE - JOINT ADHESIF + VIS INVIOLABLES","NPI",74.36]
["SHIELD-B","SHIELD-B - BOUCLIER EQUIPE POUR LECTEUR STANDARD ARCHITECT? & ARCHITECT? BLUE - JOINT ADHESIF + VIS INVIOLABLES","NPI",92.45]
["EVOLIS-T3+","EVERON4700-LM - DELTA","NPI",1343.63]
["AXON2600-MBC","REPLACEMENT PCB FOR AXON2600, WITH BLACK PLASTIC COVER","NPI",622.04999999999995]
["S20-2MLC-2","SFP-PORT FAST 2 FIBER MINI GBIC MODULE MM 1310NM-2KM","Mature",100.25]
["S20-2SLC-20","SFP-PORT FAST 2 FIBER MINI GBIC MODULE SM 1310NM-20KM","Mature",150.30000000000001]
["S25-1MLC-A-2","SFP-PORT FAST 1 FIBER A END MINI GBIC MODULE HIGH TEMP MM - 2KM","Mature",141.78]
["S25-1MLC-B-2","SFP-PORT FAST 1 FIBER B END MINI GBIC MODULE HIGH TEMP MM - 2KM","Mature",141.78]
["S25-2MLC-2","SFP-PORT FAST 2 FIBER MINI GBIC MODULE HIGH TEMP MM 1310NM-2KM","Mature",150.30000000000001]
["S25-2SLC-20","SFP-PORT FAST 2 FIBER MINI GBIC MODULE HIGH TEMP SM 1310NM-20KM","Mature",171.81]
["S30-1SLC/A-20","SFP-PORT GIGABIT 1 FIBER MINI GBIC MODULE SM -20KM TX 1310NM","Mature",257.7]
["S30-1SLC/B-20","SFP-PORT GIGABIT 1 FIBER MINI GBIC MODULE SM -20KM TX1550NM","Mature",448.04]
["S30-2MLC","SFP-PORT GIGABIT 2 FIBER MINI GBIC MODULE MM 850NM-550M","Mature",85.92]
["S30-2MLC-2","SFP-PORT GIGABIT 2 FIBER MINI GBIC MODULE MM 1310NM-2KM","Mature",100.25]
["S30-2SLC-10","SFP-PORT GIGABIT 2 FIBER MINI GBIC MODULE SM 1310NM-10KM","Mature",107.4]
["S30-RJ","SFP-PORT GIGABIT MINI GBIC MODULE COPPER RJ45","Mature",128.80000000000001]
["S35-2MLC","SFP-PORT GIGABIT 2 FIBER MINI GBIC MODULE MM HIGH TEMP 850NM-550M","Mature",150.30000000000001]
["S35-2SLC-10","SFP-PORT GIGABIT 2 FIBER MINI GBIC MODULE SM HIGH TEMP 1310NM-10KM","Mature",171.81]
["S40-2MLC","10G PLUGIN SFP MODULE, MULTIMODE  300M","Mature",171.81]
["S40-2SLC-10","10G PLUGIN SFP MODULE, SINGLE MODE 10KM","Mature",314.97000000000003]
["STG/16REL","16-RELAY CARD","Mature",650.76]
["TVN-1204C-000","TRUVIS. NVR 12, 4 CHANNEL, 0 TB","Mature",223.94]
["UC-MSA-CSL","MOBILE SIGNAL ANALYSER","NPI",669.9]
["UC-MSA-NB","MOBILE SIGNAL ANALYSER","NPI",669.9]
["ATS4700-LM","AXON 4700 PANEL, 1000 ZONES, 64 AREAS, LM, EN GR3","Sell-out",1343.63]
["ATS4700-MM","AXON 4700 PANEL, 1000 ZONES, 64 AREAS, MM+, EN GR3","Sell-out",1270.42]
["360FM","360 DETECTOR FLUSH MOUNT KIT","Mature",8.2799999999999994]
["3633-0053","MAGICARD - ENDURO CLEANING KIT (10 CARDS, 1 PEN)","Mature",81.599999999999994]
["398-6907","'IEC MAINS LEAD - UK PLUG","Mature",37.61]
["40KTKS-00-000000","SIGNO40K, WALL MOUNT W/KEYPAD, 13.56MHZ AND125KHZ, OSDP/WIEGAND, TERMINAL, MOBILE READY, BLE","Mature",734.65]
["626-6616","2.5M POWER CABLE, C13, IEC TO CEE 7/4, SCHUKO (MALE, RIGHT ANGLE), 10 A, 250 V","Mature",31.41]
["80-116","(5 PACK) KIT WALLMT BRACKET WATER RES PANIC","Mature",15.4]
["ACCIO-8-KIT-1","ACCIO-8 KIT WITH USER MANAGEMENT","Mature",2031.8]
["ACT750","KEY RING FOR ACT745","Mature",0.77]
["AMGR2-10","(10 PACK) ANTI-MASK GRADE 2 EASY WIRING","Mature",27.4]
["AS580XXL-KIT","AS580XXL KIT containing 1x AS580XXL siren & 1x BS120N","Sell-out",177.77]
["AS587XXL-KIT","AS587XXL KIT containing 1x AS587XXL siren & 1x BS120N","Sell-out",101.69]
["ATS1235","ADVANCED WIRELESS DGP, 868MHZ AM","Mature",174.34]
["ATS1238","ATS1238 ADVANCED WIRELESS DGP, 868GEN2","Mature",211.28]
["ATS1700-MM","AXON 1700 panel, 48 zones, 4 areas, MM+, EN GR3","Sell-out",{"$error":"#N/A"}]
["ATS3700-MM","AXON 3700 panel, 256 zones, 16 areas, MM+, EN GR3","Sell-out",832.65]
["BS170-N","(2 PACK) BATTERY PACK FOR INDOOR SIRENS, 3X CR123A - 9V 1700MA","Mature",49.66]
["BS7201-N","BATTERY PACK FOR OUTDOOR SIREN 868 GEN2 TX-720X-05-1 SERIES","Mature",152.30000000000001]
["DD1012","12M 40FT DUAL 9C","Sell-out",62.79]
["DD1012AM","12M 40FT DUAL 9C AM","Sell-out",122.25]
["DD1012AM-D","12M 40FT DUAL 9C AM VDS","Sell-out",146.66999999999999]
["DD1012AM-D-N","12M 40FT DUAL 9C AM VDS","Mature",146.66999999999999]
["DD1012AM-N","12 M DUAL TECHNOLOGY MOTION SENSOR, ANTI-MASK","Mature",122.25]
["DD1012-N","12 M DUAL TECHNOLOGY MOTION SENSOR","Mature",62.79]
["DD1012PI","12M 40FT DUAL 9C PI","Sell-out",63.61]
["DD1012PI-N","12M, DUAL TECHNOLOGY MOTION SENSOR, PET IMMUNE","Mature",63.61]
["DD666-D","20 M CEILING MOUNT DUAL MOTION SENSOR NO/NC ALARM OUTPUT, VDS","Mature",227.86]
["DDV1016","16M 50FT DUAL VECTOR 9C","Sell-out",88.71]
["DDV1016-D","16m 50ft Dual Vector 9C VdS","Sell-out",108.88]
["DDV1016-N","16 M, DUAL TECHNOLOGY MOTION SENSOR VECTOR","Mature",88.71]
["DL123A","BATTERY LITHIUM FOR WIRELESS","Mature",11.85]
["DR-RWM-AD","ADAPTER PLATE FOR DOME TO DR-RWM WALL MOUNT FOR RUGGED DOME","Mature",9.2200000000000006]
["ES2402-16P-2C-V3","ECONOMY 16-PORT FAST ETHERNET WEBSMART SWITCH WITH 802.3AT POE+ AND 2-PORT GIGABIT TP SFP COMBO PORTS (240W POE BUDGET)","Sell-out",719.71]
["ES2402-24P-2C-V3","ECONOMY 24-PORT FAST ETHERNET WEBSMART SWITCH WITH 802.3AT POE+ AND 2-PORT GIGABIT TP SFP COMBO PORTS (370W POE BUDGET)","Sell-out",1012.1]
["ES2402-8P-2C-V3","ECONOMY 8-PORT FAST ETHERNET WEBSMART SWITCH WITH 802.3AT POE+ AND 2-PORT GIGABIT TP SFP COMBO PORTS (120W POE BUDGET)","Sell-out",494.81]
["ESP-300","ETHERNET SURGE PROTECTOR (10/100/1000MBPS)","Mature",73.22]
["EV1012","PIR, DSP, 12M, 9C","Mature",44.28]
["EV1012PI","PIR, DSP, 12M, 9C PI","Mature",44.74]
["FPMA-C100","FLATSCREEN CEILING MOUNT (HEIGHT: 79-129 CM),BLACK, 10-26","Mature",207.72]
["FPMA-W25","FLATSCREEN WALL MOUNT (FIXED, ULTRATHIN), BLACK, 10-30\"","Mature",39.630000000000003]
["FPMA-W830","FLATSCREEN WALL MOUNT (3 PIVOTS & TILTABLE),SILVER, 10-24","Mature",104.73]
["GS313","GLASSBREAK DETECTOR ADHESIVE KIT FOR LAMINATED GLASS (GLUE & CLEANING TOWELS)","Mature",67]
["IAP9205","ANALYSER BECUWE","Mature",102.3]
["IM9700MAGNL","MAG CONT SCR TERM MAGN LEGRANDE","Mature",2.0299999999999998]
["IM9700REEDL","MAG CONT SCR TERM REED LEGRANDE","Mature",5.22]
["LED-W560","FLATSCREEN WALL MOUNT (3 PIVOTS & TILTABLE), BLACK,  32-60","Sell-out",236.24]
["MA300YMCKO","ENDURO/PRONTO/RIO PRO COLOUR RIBBON (YMCKO) 300 IMAGESENDURO/PRONTO/RIO PRO COLOUR RIBBON (YMCKO) 300 IMAGES","Mature",238.02]
["MC201-1P/1FS","FAST ETHERNET/ POE-AF TO FIBER MEDIA CONVERTER SM 15KM","Sell-out",171.81]
["MC250-4T/2S","4-PORT FAST ETHERNET TO 2-PORT SFP FIBER INDUSTRIAL MEDIA CONVERTER (-40 TO 75 DEGREE C)","Mature",186.15]
["MC352-1P/1S","GIGABIT ETHERNET TO SFP INDUSTRIAL MEDIA CONVERTER WITH POE-AT (-40 TO 75 DEGREE C)","Mature",343.62]
["MC352-4P-2S-V2","4-PORT 10/100/1000BASE-TX IEEE802.3AT COPPER + 2-PORT SFP UNMANAGED MEDIA CONVERTER (4X 30W POE BUDGET)","Mature",629.76]
["MCR300-1T-1S-V2","GIGABIT ETHERNET TO SFP MEDIA CONVERTER","Mature",98.96]
["MCR-R15","RACK FOR MEDIA CONVERTORS 15 OPEN SLOTS","Sell-out",572.67999999999995]
["NS2052-8P-2C","8 PORT UNMANAGED POEAT INDUSTRIAL SWITCH WITH 2 SFP PORTS","Mature",731.94]
["NS3502-8P-2T-2S-V3","8-PORT 10/100/1000BASE-T + 2-PORT 10/100/1000 + 2-PORT 100/1000 SFP MANAGED ETHERNET POE+ SWITCH","Sell-out",793.2]
["NS3550-8T-2S-V2","8-PORT INDUSTRIAL GIGABIT MANAGED SWITCH","Mature",787.44]
["NS3552-8P-2S-V2","8-PORT GIGABIT POE+ INDUSTRIAL MANAGED SWITCH","Mature",1360.08]
["NS3553-4P-1T-2S-V2","4-PORT MANAGED POE-BT INDUSTRIAL SWITCH","Mature",1147.06]
["NS3562-8P-2S-V2","Industrial 8-Port 10/100/1000T 802.3at PoE + 2-Port 100/1000X SFP Wall-mount Managed Switch (-40~75 degrees C)","Mature",1190.72]
["NS3702-24P-4S-V3","24-PORT 10/100/1000BASE-T IEEE802.3AT COPPER PORTS WITH 4 SHARED SFP SLOTS MANAGED GIGABIT ETHERNET SWITCH (24X 15,4W/ 12 X 30,8 W / 380W POE BUDGET) AND STATIC ROUTING (0~50?)","Sell-out",1304.49]
["NS4700-24T-4X","ENTERPRISE-CLASS 24 PORT GIGABIT MANAGED SWITCH WITH 10G UPLINKS","NPI",595.25]
["NS4702-24P-4X-V2","24 PORT POE-AT MANAGED SWITCH WITH 4 COMBO PORTS AND LCD DISPLAY","Sell-out",1737.55]
["NS4702-24P-4X-V3","ENTERPRISE-CLASS 24 PORT POE AT GIGABIT MANAGED SWITCH WITH 10G UPLINKS","NPI",995.28]
["NS4703-24P-4X","ENTERPRISE-CLASS 24 PORT GIGABIT MANAGED SWITCH WITH 8-PORTS POE BT, 16-PORTS POE AT WITH 10G UPLINKS","NPI",1148.4000000000001]
["NS4750-24S-4T-4X-V2","24 SFP PORT GIGABIT MANAGED SWITCH, 4 x 10G SFP PORTS, 4 x 10/100/1000 RJ45 Ports","Mature",1496.07]
["NX-003-KIT","NX-003 housing with tamper and 40VA transformer","Mature",114.77]
["POC252-1CX-1P","1-PORT ETHERNET OVER COAX EXTENDER LONG REACH WITH POE-AT","Mature",279.67]
["POC252-1CXP-1T","1-PORT ETHERNET OVER COAX TRANSMITTER WITH POE-AT","Mature",279.67]
["POE302-EX","GIGABIT ETHERNET POEPLUS (AT 303W) EXTENDER","Sell-out",157.41]
["POE304-EX-4P-V2","POE-BT TO GIGABIT ETHERNET 4-PORT POE+ EXTENDER","Mature",337.37]
["POE304-MS","POE-BT 60W INJECTOR","Sell-out",166.77]
["PS48VDC100W-DIN","48VDC 100W POWER SUPPLY WITH DIN RAIL MOUNT","Mature",114.5]
["PS48VDC240W-DIN","48VDC 240W POWER SUPPLY WITH DIN RAIL MOUNT","Mature",286.22000000000003]
["PS48VDC.38A-EU","48 VOLTS D.C @ 380MA. PLUGS DIRECTLY INTO WALL OUTLETS. COMPATIBLE WITH VDA PLUGS USED IN EUROPE AND PART OF SOUTH AMERICA SA","Mature",31.51]
["PS48VDC480W-DIN","48VDC 480W POWER SUPPLY WITH DIN RAIL MOUNT","Mature",715.57]
["PS54VDC72W-EU","54VDC 72W OUTPUT POWER SUPPLY WITH EU WALL PLUG","Mature",63.92]
["PS54VDC72W-UK","54VDC 72W OUTPUT POWER SUPPLY WITH UK WALL PLUG","Mature",83.1]
["PS5VDC2A-EU","5 VOLT D.C. AT 2 AMPS. PLUGS DIRECTLY INTO WALL OUTLETS. COMPATIBLE WITH VDA PLUGS USED IN EUROPE AND PART OF SOUTH AMERICA,SA","Mature",31.51]
["PS5VDC2A-UK","5 VOLTS @ 2 AMPS. PLUGS DIRECTLY INTO WALL OUTLETS. COMPATIBLE WITH UK PLUGS USED IN UNITED KINGDOM, HONG KONG AND SINGAPORE, SA","Mature",31.51]
["RC01","RELAY CARD EV/DD SERIES","Mature",22.64]
["RF-1110-07-1","MINI DWS LONA, EN/INCERT, WHITE","Mature",54.98]
["RF-1110-07-3","MINI DWS LONA, EN/INCERT, MAHOGANY","Sell-out",54.98]
["RF320I4B-N","600-1056-43, 433 MHZ DOOR WINDOW SENSOR, BROWN","Mature",91.29]
["RF320I4-N","600-1057-43, 433 MHZ DOOR WINDOW SENSOR, WHITE","Mature",91.29]
["RF352I4","2-BUTTON KCTP","Mature",104.35]
["RF354I4","4 BUTTON KCTP","Mature",113.04]
["RF360I4","WATER RESISTANT MEDICAL PENDANT","Mature",135.22]
["RF4012I4","WIRELESS PIR 12m 433-63","Mature",81.96]
["RF4012I4PI","WIRELESS PIR 12m PI 433-63","Mature",81.96]
["RF4016I4","WIRELESS PIR 16m 433-63","Mature",102.63]
["RF-4041-07-2","2-WAY KEY FOB LONA","Mature",65.510000000000005]
["RF4112I4","WIRELESS DUAL 12m 433-63","Mature",154.36000000000001]
["RF4112I4PI","WIRELESS DUAL 12m PI 433-63","Mature",154.36000000000001]
["RF-4200-01-1","Wireless Personal Panic Device, White","Mature",73.739999999999995]
["RF-4200-01-2","Wireless Personal Panic Device, Black","Mature",73.739999999999995]
["RF430I4","WIRELESS MINI OUTDOOR PIR 433-63","Mature",234.54]
["RF440I4","WIRELESS BIG OUTDOOR PIR 433-63","Mature",267.7]
["RF581I4","SMOKE/HEAT SENSOR 433-63","Mature",207.06]
["RF620I4B-N","SHOCK SENSOR, BROWN,  WITH GS800 SENSOR HEAD","Mature",141.99]
["RF620I4-N","SHOCK SENSOR WITH GS800 SENSOR HEAD","Mature",135.22]
["RF-9011-07-1","WIRELESS REPEATER 433MHZ, LEGACY & LONA","Mature",178.52]
["RF903I4","SHATTERPRO SOUND SENSOR","Mature",208.34]
["RF-DC101B-K4","WIRELESS SURFACE MOUNT DWS, MAHOGANY, 433Mhz","Mature",64.41]
["RF-DC101-K4","WIRELESS SURFACE MOUNT DWS, WHITE, 433Mhz","Mature",64.41]
["RF-DD1012-K4","WIRELESS DUAL 12m 433-80PLUS","Mature",134.13]
["RF-DD1012PI-K4","WIRELESS DUAL 12m PI 433-80PLUS","Mature",134.13]
["RF-EV1012-K4","WIRELESS PIR 12m 433-80PLUS","Mature",91.95]
["RF-EV1012PI-K4","WIRELESS PIR 12m PI 433-80PLUS","Mature",91.95]
["RF-EV1016-K4","WIRELESS PIR 16m 433-80PLUS","Mature",114.02]
["RXIEH00","RECEIVER HOUSING","Sell-out",60.15]
["SB01","SWIVEL BRACKET/WALL MOUNT (USE","Mature",11.69]
["SB02","SWIVEL BRACKET/WALL MOUNT (USED WITH EV100 DD100)","Mature",5.32]
["ST400","PRY OF TAMPER EV100/400 SERIES","Mature",14.07]
["STENTO-1023302340","IP PROJECTOR SPEAKER W/MIC","Mature",1725.17]
["TDA1400-4","ALARM DIALLER COMMUNICATING VIA 4G","Sell-out",541.23]
["TDA1420-4","ALARM DIALLER COMMUNICATING VIA IP","Sell-out",462.58]
["TDA1440-4","ALARM DIALLER COMMUNICATING VIA IP+4G","Sell-out",819.42]
["TDA7400-4","ALARM DIALLER COMMUNICATING VIA 4G FOR ATS PANELS","Sell-out",506.11]
["TDA7420-4","ALARM DIALLER COMMUNICATING VIA IP FOR ATS PANELS","Sell-out",338.72]
["TDA7440-4","ALARM DIALLER COMMUNICATING VIA IP+4G FOR ATS PANELS","Sell-out",766.03]
["TP-RDR-LRN","TRUPORTAL LEARN-IN READER - MULTI FREQUENCY - 125KHZ -13.56MHZ","Mature",486.5]
["TVB-6102","2MPx TVI output, true D/N, WDR, 3.6mm lens, 30m IR, 12VDC , 0.282A, 3.4W, IP67","Sell-out",98.26]
["TVB-6103","2MPx TVI output, true D/N, WDR, 2.7~13.5mm VF lens, 80m IR, 12VDC , 0.75A/24VAC, 50Hz/60Hz, 0.58A, 9W, IP67","Obsolete",{"$error":"#N/A"}]
["TVB-6104","5MPx TVI output, true D/N, WDR,3.6mm lens, 30m IR, 12VDC , 0.48A, 5.8W, IP67","Mature",109.41]
["TVB-6105","5MPx TVI output, true D/N, WDR, 2.7~13.5mm VF lens, 80m IR, 12VDC , 0.88A/24VAC, 50Hz/60Hz, 0.45A, 10.5W, IP67","Mature",227.77]
["TVB-6106","8MPx TVI output, true D/N, WDR, 2.7~13.5mm VF lens, 80m IR, 12VDC , 0.9A/24VAC, 50Hz/60Hz, 0.7A, 10.8W, IP67","Mature",290.29000000000002]
["TVB-6112","TRUVISION HD-TVI ANALOG BULLET CAMERA, SMART HYBRID LIGHT, 2MP, 3.6MM LENS, 20M IR AND WHITE LIGHT, 12VDC, IP67","NPI",85.06]
["TVB-BB1","TRUVISION BULLET CAMERA BACK BOX (USE W/TVI AND IP FIXED LENS BULLET)","Mature",18.53]
["TVB-BB1-B","TRUVISION BULLET CAMERA BACK BOX, BLACK","NPI",29.34]
["TVB-BB2","TRUVISION BACK BOX FOR M SERIES FULL COLOR FIXED LENS MINI BULLET CAMERA, GREY","Mature",37.31]
["TVB-BB3","BACK BOX FOR ULTRASYNC WI-FI BULLET CAMERA, WHITE","Mature",19.91]
["TVB-PM","TruVision Pole Mount, SS, Bullet Camera (for S6 VF)","Mature",110.67]
["TVC-5712","TRUVISION IP BOX CAMERA, H.265, 4MP, SUPER LOW LIGHT, WDR, TRUE D/N, AUTO BACK FOCUS, AUDIO, ALARM, BNC, MICRO SD/SHDC SLOT, INTELLIGENCE, POE (802.3-AF) /12VDC/24VAC","Sell-out",737.51]
["TVD-5402","TRUVISION IP MINI DOME CAMERA, H.265/H.264, 3.0MPX , 2.8 TO 12MM MOTORIZED LENS, WDR, TRUE D/N, 30M IR, AUDIO, ALARM, BNC, MICRO SD/SHDC SLOT, INTELLIGENCE, POE (802.3-AT) /12VDC, INDOOR, IK10","Sell-out",825.03]
["TVD-6102","2MPx TVI output, true D/N, WDR, 2.8mm lens, 30m IR, 12VDC , 0.282A, 3.4W, IP67, IK10","Obsolete",{"$error":"#N/A"}]
["TVD-6104","5MPx TVI output, true D/N, WDR, 2.7~13.5mm VF lens, 60m IR, 12VDC , 0.667A/24VAC, 50Hz/60Hz, 0.34A, 8W, IP67, IK10","Mature",256.79000000000002]
["TVD-6105","8MPx TVI output, true D/N, WDR, 2.7~13.5mm VF lens, 60m IR, 12VDC , 0.685A/24VAC, 50Hz/60Hz, 0.53A, 8.2W, IP67, IK10","Mature",298.45999999999998]
["TVD-BB1","TRUVISION DOME BACK BOX (WITH PLASTIC DOME)","Mature",23.03]
["TVD-BB1-W","TRUVISION DOME BACK BOX USED WITH 56XX SERIES PLASTIC MINI DOMES (WHITE)","Mature",20.71]
["TVD-BB3","TRUVISION DOME BACK BOX  (WITH TVD-6/7 SERIES ANALOG DOMES, IP INDOOR VF DOMES, IP OUTDOOR VF DOMES)","Mature",23.03]
["TVD-BB3A","TRUVISION DOME ANGLED BACK BOX  (WITH TVD-6/7 SERIES ANALOG DOMES, IP INDOOR VF DOMES, IP OUTDOOR VF DOMES)","Mature",23.03]
["TVD-BB3A-B","TRUVISION ANGLED BACK BOX FOR FIXED LENS TURRET CAMERAS (BLACK)","Mature",30.73]
["TVD-BB3-W","TRUVISION DOME BACK BOX USED WITH TVW-56XX WEDGE, TVD-6/7 SERIES DOMES (WHITE)","Mature",22.14]
["TVD-BB4","TruVision Back Box, Motorized VF Dome (for S6 w/ cable harness)","Mature",38.729999999999997]
["TVD-BB4-W","TRUVISION BACK BOX FOR M01-SERIES VARIFOCAL DOME CAMERA, WHITE","Mature",36.9]
["TVD-BB5","BACK BOX FOR ULTRASYNC WI-FI DOME CAMERA, WHITE","Mature",21.26]
["TVD-BS-2C","TRUVISION DOME BUBBLE SPARE, CLEAR (FOR 11/31 SERIES IP PLASTIC DOMES )","Mature",14.5]
["TVD-BS-3C","TRUVISION DOME BUBBLE SPARE, CLEAR ( FOR 11/31, 12/32 SERIES IP VF DOMES, AND TVD-6/7 SERIES ANALOG VF DOMES)","Mature",19.329999999999998]
["TVD-BS-5C","TRUVISION MINI DOME BUBBLE SPARE FOR IP 12/32 MOTOR LENS, 22/42 AND 24/44 SERIES ANALOG VF, CLEAR","Mature",24.18]
["TVD-BS-5S","TRUVISION MINI DOME BUBBLE SPARE FOR IP 12/32 MOTOR LENS, 22/42 AND 24/44 SERIES ANALOG VF, SMOKED","Mature",24.18]
["TVD-CB11","CUP BASE FOR ULTRASYNC WI-FI DOME CAMERA, WHITE","Sell-out",22.61]
["TVD-CB2","TRUVISION DOME 2-INCH CUP BASE, REQUIRES TVD-M2-WEBM (USE W/ TVD LOW PROFILE WEDGE MINI DOMES; TVD-SNB, TVD-PPB)","Mature",30.11]
["TVD-CB3","TRUVISION DOME 3-INCH CUP BASE (USE TVD-SNB, TVD-CBW, TVD-PPB) GREY","Mature",18.97]
["TVD-CB3A","TruVision Dome 3-Inch Cup Base with rubber ring (Use TVD-SNB, TVD-CBW, TVD-PPB)","Mature",23.25]
["TVD-CB3A-W","TRUVISION 3-INCH CUP BASE FOR M01-SERIES AND S6 VARIFOCAL TURRET CAMERA WITH CABLE HARNESS, WHITE","Mature",22.13]
["TVD-CB3B-W","TRUVISION CUP BASE FOR M SERIES FIXED LENS WHITE DOME CAMERAS (WHITE)","Mature",13.81]
["TVD-CB3-W","TRUVISION DOME 3-INCH CUP BASE (USE TVD-SNB, TVD-CBW, TVD-PPB) WHITE","Mature",17.88]
["TVD-CB6","TRUVISION DOME/TURRET (5 INCH/135MM) CUP BASE (USE W/TVD-SNB, TVD-PPB, TVD-CBW)","Sell-out",27.62]
["TVD-CB7","TRUVISION DOME (6 INCH/155MM) CUP BASE (USE W/TVD-SNB, TVD-PPB, TVD-CBW)","Sell-out",27.62]
["TVD-CB9","TRUVISION CUP BASE FOR S7 OUTDOOR DOME CAMERA","Mature",30.99]
["TVD-CB9-W","TRUVISION CUP BASE (6 INCH) FOR MOTORIZED DOME CAMERAS (WHITE)","Mature",26.56]
["TVD-CBW","TRUVISION DOME CUP BASE WALL MOUNT (USE W/ TVD-CB2, TVD-CB3, TVD-CB5A, TVD-CB6, TVD-CB7)","Mature",47.2]
["TVD-CBW-CB-B","TRUVISION WALL MOUNT BRACKET AND CUP BASE FOR FIXED LENS TURRET CAMERAS (BLACK)","Mature",39.630000000000003]
["TVD-CBW-W","TRUVISION WALL MOUNT BRACKET COMPATIBLE WITH CUP BASES TVD-CB2, TVD-CB3, TVD-CB5A, TVD-CB6, TVD-CB7 (WHITE)","Mature",39.630000000000003]
["TVD-LWB-1","TRUVISION DOME BRACKET, L-SHAPE (WITH ANALOG/ IP WEDGE AND ANALOG/HD/IP PLASTIC DOME CAMERAS)","Mature",23.03]
["TVD-LWB-2","TRUVISION DOME BRACKET, L-SHAPE (WITH TVD-6/7 AND TVD-22/42 SERIES ANALOG VF DOMES, TVD-24/44 SERIES HD ANALOG VF DOMES, AND TVD-11/31 AND TVD-12/32 SERIES IP VF DOMES)","Mature",23.03]
["TVD-LWB-S","DOME CAMERA WALL MOUNT SHIELD (USED WITH TVD-LWB-1 OR TVD-LWB-2)","Mature",14.97]
["TVD-M2-WM","TRUVISION WALL MOUNT","Mature",49.15]
["TVD-M-CMA","CORNER MOUNT ADAPTER","Mature",31.76]
["TVD-M-PMA-SS","TRUVISION POLE MOUNT ADAPTOR FOR USE WITH TVD-SNB (STAINLESS STEEL)","Mature",74.41]
["TVD-M-PMA-SS-B","TRUVISION POLE MOUNT, STAINLESS STEEL, BLACK","NPI",97.67]
["TVD-PPB","TRUVISION DOME PENDANT-MOUNT BRACKET (USE WITH TVD-CB5, TVD-CB3, TVD-CB2)","Mature",53.86]
["TVD-PPB-W","TruVision Dome Pendant Ceiling bracket for TVD-CB5, TVD-CB3, TVD-CB2, White","Mature",55.2]
["TVD-SNB","TRUVISION DOME SWAN NECK BRACKET (USE WITH TVD-CB5, TVD-CB3, TVD-CB2)","Sell-out",41.44]
["TVD-SNB-BB","BACK BOX FOR TVB-SNB SWAN NECK BRACKET, 4 DIRECTIONAL CONDUIT, INDOOR/OUTDOOR","Sell-out",71.36]
["TVD-VFM3","Flush Mount, Motorized VF Dome (for S6 w/ cable harness)","Mature",100.28]
["TVD-VFM3-W","TRUVISION FLUSH MOUNT FOR M01-SERIES VARIFOCAL DOME CAMERA, WHITE","Mature",59.02]
["TVE-120","TruVision IP encoder, 1 channel, TVI, Audio, Alarm, RS-485, POE (803.af) /12VDC, Compact","Mature",239.32]
["TVE-420","TruVision IP encoder, 4 channel, TVI, Audio,  Alarm, RS-485, POE (803.af) /12VDC, Compact","Mature",376.07]
["TVE-DEC13","TRUVISION H.264/H.265 DECODER WITH HDMI AND BNC OUTPUT, 12 VDC","NPI",933.32]
["TVF-BBM","TRUVISION 360 DEGREE CAMERA ROUND BACK BOX, CONDUIT PORTS, GANG BOX COMPATIBLE, METAL, INDOOR & OUTDOOR","Sell-out",18.97]
["TVF-CBM","TRUVISION 360 DEGREE CAMERA CUP BASE (USE WITH TVD-PPB FOR PENDANT MOUNT OR TVD-SNB FOR WALL MOUNT)","Sell-out",23.57]
["TVFC-M01-0401-BUL-G","TRUVISION 4MP, FULL COLOR IP FIXED LENS MINI BULLET CAMERA, 40M WHITE LIGHT, 2.8MM, BUILT-IN MIC, GREY","Mature",264.39999999999998]
["TVFC-M01-0401-DOM-G","TRUVISION 4MP, FULL COLOR IP FIXED LENS DOME CAMERA, 2.8MM, BUILT-IN MIC, AUDIO I/O, GREY","Mature",303.77999999999997]
["TVFC-M01-0401-TUR-G","TRUVISION 4MP, FULL COLOR IP FIXED LENS TURRET CAMERA, 30M WHITE LIGHT, 2.8MM, BUILT-IN MIC, GREY","Mature",298.14999999999998]
["TVFC-M01-0401-WED-G","TRUVISION 4MP, FULL COLOR IP FIXED LENS WEDGE CAMERA, 30M WHITE LIGHT, 2.8MM, BUILT-IN MIC, AUDIO I/O, GREY","Mature",352.53]
["TVFC-M01-0402-BUL-G","TRUVISION 4MP, FULL COLOR IP FIXED LENS BULLET CAMERA, 60M WHITE LIGHT, 2.8MM, BUILT-IN MIC & SPEAKER, STROBE LIGHT, GREY","Mature",358.15]
["TVFC-M01-0402-DOM-G","TRUVISION 4MP, FULL COLOR IP FIXED LENS DOME CAMERA, 30M WHITE LIGHT, 2.8MM, BUILT-IN MIC, AUDIO I/O, GREY","Mature",303.77999999999997]
["TVFC-M01-0402-TUR-G","TRUVISION 4MP, FULL COLOR IP FIXED LENS TURRET CAMERA, 30M WHITE LIGHT, 2.8MM, BUILT-IN MIC & SPEAKER, STROBE LIGHT, GREY","Mature",307.52]
["TVFC-M01-0403-BUL-G","TRUVISION 4MP, FULL COLOR IP VARIFOCAL BULLET CAMERA, 60M WHITE LIGHT, 2.8-12MM MOTORIZED LENS, GREY","Mature",550.94000000000005]
["TVFC-M01-0403-DOM-G","TRUVISION 4MP, FULL COLOR IP VARIFOCAL DOME CAMERA, 40M WHITE LIGHT, 2.8-12MM MOTORIZED LENS, GREY","Mature",538.16999999999996]
["TVFC-M01-0802-BUL-G","TRUVISION 4K/8MP, FULL COLOR IP FIXED LENS BULLET CAMERA, 60M WHITE LIGHT, 2.8MM, BUILT-IN MIC & SPEAKER, STROBE LIGHT, GREY","Mature",553.16999999999996]
["TVFC-M01-0802-TUR-G","TRUVISION 4K/8MP, FULL COLOR IP FIXED LENS TURRET CAMERA, 30M WHITE LIGHT, 2.8MM, BUILT-IN MIC & SPEAKER, STROBE LIGHT, GREY","Mature",466.91]
["TVGP-M01-0201-BUL-G","TRUVISION 2MP IP FIXED LENS BULLET CAMERA, 4MM , 30M IR, IP67, GRAY","Mature",163.31]
["TVGP-M01-0201-DOM-G","TRUVISION 2MP IP FIXED LENS DOME CAMERA, 2.8MM, 30M IR, IP67, IK10, GRAY","Mature",176.45]
["TVGP-M01-0201-DOM-W","TRUVISION 2MP IP FIXED LENS DOME CAMERA, 2.8MM, 30M IR, IP67, IK10, WHITE","Mature",181.74]
["TVGP-M01-0201-PTZ-G","TRUVISION 2MP IP PTZ CAMERA, H.265+, 50M IR, 10X ZOOM, IP66, POE+/12VDC","Mature",535.59]
["TVGP-M01-0201-TUR-B","TRUVISION 2MP IP FIXED LENS TURRET CAMERA, 2.8MM, 30M IR, IP67, BLACK","Mature",164.92]
["TVGP-M01-0201-TUR-G","TRUVISION 2MP IP FIXED LENS TURRET CAMERA, 2.8MM, 30M IR, IP67, GRAY","Mature",164.92]
["TVGP-M01-0201-TUR-W","TRUVISION 2MP IP FIXED LENS TURRET CAMERA, 2.8MM, 30M IR, IP67, WHITE","Mature",164.92]
["TVGP-M01-0201-WED-G","TRUVISION 2MP IP FIXED LENS WEDGE CAMERA, 2.8MM, 10M IR, IP67, GRAY","Mature",198.25]
["TVGP-M01-0202-BUL-G","TRUVISION 2MP, IP VARIFOCAL BULLET CAMERA, 2.8-12MM, 60M IR, IP67, IK10, GRAY","Mature",350.2]
["TVGP-M01-0202-DOM-G","TRUVISION 2MP IP VARIFOCAL DOME CAMERA, 2.8-12MM, 40M IR, IP67, IK10, GRAY","Mature",354.26]
["TVGP-M01-0202-DOM-W","TRUVISION 2MP IP VARIFOCAL DOME CAMERA, 2.8-12MM, 40M IR, IP67, IK10, WHITE","Mature",354.26]
["TVGP-M01-0202-TUR-G","TRUVISION 2MP IP VARIFOCAL TURRET CAMERA, 2.8-12MM, 40M IR, IK10, GRAY","Mature",333.92]
["TVGP-M01-0401-BUL-B","TRUVISION 4MP, H.265/H.264, IP FIXED LENS BULLET CAMERA, 4MM, BLACK","NPI",179.88]
["TVGP-M01-0401-BUL-G","TRUVISION 4MP IP FIXED LENS BULLET CAMERA, 4MM, 30M IR, IP67, GRAY","Mature",179.88]
["TVGP-M01-0401-DOM-G","TRUVISION 4MP, IP FIXED LENS DOME CAMERA, 2.8MM, 30M IR, IP67, IK10, GRAY","Mature",191.63]
["TVGP-M01-0401-DOM-W","TRUVISION 4MP, IP FIXED LENS DOME CAMERA, 2.8MM, 30M IR, IP67, IK10, WHITE","Mature",191.63]
["TVGP-M01-0401-PTZ-G","TRUVISION 4MP IP PTZ CAMERA, H.265+, 150M IR, 25X ZOOM, IP66, POE+/24VAC","Mature",1032.94]
["TVGP-M01-0401-TUR-B","TRUVISION 4MP IP FIXED LENS TURRET CAMERA, 2.8MM, 30M IR, IP67, BLACK","Mature",179.16]
["TVGP-M01-0401-TUR-G","TRUVISION 4MP IP FIXED LENS TURRET CAMERA, 2.8MM, 30M IR, IP67, GRAY","Mature",179.16]
["TVGP-M01-0401-TUR-W","TRUVISION 4MP IP FIXED LENS TURRET CAMERA, 2.8MM, 30M IR, IP67, WHITE","Mature",179.16]
["TVGP-M01-0401-WED-B","TRUVISION 4MP IP FIXED LENS WEDGE CAMERA, 2.8MM, 10M IR, IP67, BLACK","Mature",225.49]
["TVGP-M01-0401-WED-G","TRUVISION 4MP IP FIXED LENS WEDGE CAMERA, 2.8MM, 10M IR, IP67, GRAY","Mature",225.49]
["TVGP-M01-0401-WED-W","TRUVISION 4MP IP FIXED LENS WEDGE CAMERA, 2.8MM, 10M IR, IP67, WHITE","Mature",225.49]
["TVGP-M01-0402-BUL-B","TRUVISION 4MP, H.265/H.264, IP VF BULLET CAMERA, 2.8-12MM MOTORIZED, BLACK","NPI",400.9]
["TVGP-M01-0402-BUL-G","TRUVISION 4MP, IP VARIFOCAL BULLET CAMERA, 2.8-12MM, 60M IR, IP67, IK10, GRAY","Mature",388.87]
["TVGP-M01-0402-DOM-G","TRUVISION 4MP IP VARIFOCAL DOME CAMERA, 2.8-12MM, 40M IR, IP67, IK10, GRAY","Mature",388.87]
["TVGP-M01-0402-DOM-W","TRUVISION 4MP IP VARIFOCAL DOME CAMERA, 2.8-12MM, 40M IR, IP67, IK10, WHITE","Mature",388.87]
["TVGP-M01-0402-PTZ-G","TRUVISION 4MP IP PTZ CAMERA, H.265+, 100M IR, 25X ZOOM, IP66, POE+/12VDC","Mature",949.6]
["TVGP-M01-0402-TUR-G","TRUVISION 4MP IP VARIFOCAL TURRET CAMERA, 2.8-12MM, 40M IR, IK10, GRAY","Mature",360.38]
["TVGP-M01-0402-TUR-W","TRUVISION 4MP IP VARIFOCAL TURRET CAMERA, 2.8-12MM, 40M IR, IK10, WHITE","Mature",360.38]
["TVGP-M01-0403-PTZ-G","TRUVISION 4MP IP PTZ CAMERA, H.265+, 200M IR, 32X ZOOM, IP66, HI-POE/24VAC","Mature",1571.68]
["TVGP-M01-0801-BUL-G","TRUVISION 8MP/4K IP FIXED LENS BULLET CAMERA, 4MM, 30M IR, IP67, GRAY","Mature",240.34]
["TVGP-M01-0801-DOM-G","TRUVISION 8MP/4K IP FIXED LENS DOME CAMERA, 2.8MM, 30M IR, IP67, IK10, GRAY","Mature",248.39]
["TVGP-M01-0801-DOM-W","TRUVISION 8MP/4K IP FIXED LENS DOME CAMERA, 2.8MM, 30M IR, IP67, IK10, WHITE","Mature",248.39]
["TVGP-M01-0801-TUR-G","TRUVISION 8MP/4K IP FIXED LENS TURRET CAMERA, 2.8MM, 30M IR, IP67, GRAY","Mature",248.39]
["TVGP-M01-0802-BUL-G","TRUVISION 8MP/4K, IP VARIFOCAL BULLET CAMERA, 2.8-12MM, 60M IR, IP67, IK10, GRAY","Mature",469.57]
["TVGP-M01-0802-DOM-G","TRUVISION 8MP/4K, IP VARIFOCAL DOME CAMERA, 2.8-12MM, 40M IR, IP67, IK10, GRAY","Mature",469.57]
["TVGP-M01-0802-DOM-W","TRUVISION 8MP/4K, IP VARIFOCAL DOME CAMERA, 2.8-12MM, 40M IR, IP67, IK10, WHITE","Mature",469.57]
["TVGP-M01-0802-TUR-G","TRUVISION 8MP/4K IP VARIFOCAL TURRET CAMERA, 2.8-12MM, 40M IR, IP67, IK10, GRAY","Mature",460.85]
["TVGP-P01-0201-PTZ-G","TRUVISION 2MP IP PTZ CAMERA, H.265+, 25X OPTICAL ZOOM, SUPER LOW LIGHT, IP66, IK10, HI-POE/24VAC","Sell-out",1819.76]
["TVGP-P01-0401-BUL-G","TRUVISION 4MP, H.265/H.264, EXTREME LOW LIGHT, IP BULLET CAMERA, VARIFOCAL 2.8-12MM LENS, GREY","Mature",831.27]
["TVGP-P01-0401-DOM-G","TRUVISION 4MP, H.265/H.264, EXTREME LOW LIGHT, IP DOME CAMERA, VARIFOCAL 2.8-12MM LENS, GREY","Mature",831.27]
["TVGP-P01-0401-PTZ-G","TRUVISION 4MP IP PTZ CAMERA, H.265+, 400M IR, 42X OPTICAL ZOOM, SUPER LOW LIGHT, IP67, IK10, HI-POE/24VAC","Sell-out",2903.06]
["TVGP-P01-0402-BUL-G","TRUVISION 4MP, H.265/H.264, EXTREME LOW LIGHT, IP BULLET CAMERA, VARIFOCAL 8-32MM LENS, GREY","Mature",914.49]
["TVGP-P01-0402-DOM-G","TRUVISION 4MP, H.265/H.264, EXTREME LOW LIGHT, IP DOME CAMERA, VARIFOCAL 8-32MM LENS, GREY","Mature",914.49]
["TVGP-P01-0403-DOM-G","TRUVISION 4MP, H.265/H.264, SUPER LOW LIGHT, IP DOME CAMERA, VARIFOCAL 2.7-13.5MM LENS, GREY","Mature",715.26]
["TVGP-P01-0801-BUL-G","TRUVISION 8MP, H.265/H.264, EXTREME LOW LIGHT, IP BULLET CAMERA, VARIFOCAL 2.8-12MM LENS, GREY","Mature",1091.6500000000001]
["TVGP-P01-0801-DOM-G","TRUVISION 8MP, H.265/H.264, EXTREME LOW LIGHT, IP DOME CAMERA, VARIFOCAL 2.8-12MM LENS, GREY","Mature",1091.6500000000001]
["TVGP-P01-0802-BUL-G","TRUVISION 8MP, H.265/H.264, EXTREME LOW LIGHT, IP BULLET CAMERA, VARIFOCAL 8-32MM LENS, GREY","Mature",1174.8599999999999]
["TVGP-P01-0802-DOM-G","TRUVISION 8MP, H.265/H.264, EXTREME LOW LIGHT, IP DOME CAMERA, VARIFOCAL 8-32MM LENS, GREY","Mature",1174.8599999999999]
["TVGP-P01-0803-DOM-G","TRUVISION 8MP, H.265/H.264, SUPER LOW LIGHT, IP DOME CAMERA, VARIFOCAL 2.7-13.5MM LENS, GREY","Mature",872.89]
["TVK-400-USB","TRUVISION USB CCTV KEYPAD","Mature",2389.73]
["TVK-610","TRUVISION RS485/IP KEYPAD, 4-AXIS JOYSTICK, 12VDC","Mature",897.79]
["TVLP-S01-0401-BUL-G","TRUVISION ANPR IP CAMERA, 4MP, 2.8-12MM, 50M IR, WIEGAND, IP67, IK10","Mature",1179.47]
["TVLP-S01-0402-BUL-G","TRUVISION ANPR IP CAMERA, 4MP, 8-32MM, 100M IR, WIEGAND, IP67, IK10","Mature",1293.8499999999999]
["TVM-2404","TRUVISION 24\" LED, VGA, HDMI, BNC, FULL HD, 1920X1080","Phase-out",463.95]
["TVM-2414","TRUVISION 24\" LED, VGA, HDMI, AUDIO SPEAKER, FULL HD, 1920X1080","Phase-out",367.3]
["TVM-4313","TRUVISION 43\" LED, VGA, HDMI, AUDIO SPEAKER, FULL HD, 1920X1080","Sell-out",1105.3399999999999]
["TVMI-PM","TRUVISION MULTI-IMAGER CAMERA PENDANT MOUNT, 57MM / 2.24?","Mature",35.14]
["TVMI-PM2","TRUVISION MULTI-IMAGER CAMERA PENDANT MOUNT, 200MM / 7.87?","Mature",60.52]
["TVMI-PM3","TRUVISION MULTI-IMAGER CAMERA PENDANT MOUNT, 500MM /19.685?","Mature",92.17]
["TVMI-WM","TRUVISION MULTI-IMAGER CAMERA WALL MOUNT","Mature",110.83]
["TVN-1X04CS-PS","POWER SUPPLY FOR TVN-1104CS AND TVN-1004CS","Mature",75.900000000000006]
["TVN-7101-16T","TRUVISION NVR 71, H.265, 576 MBPS, 3U, 16TB","Sell-out",6806.46]
["TVN-7101-32T","TRUVISION NVR 71, H.265, 576 MBPS, 3U, 32TB","Sell-out",8508.09]
["TVN-7101-48T","TRUVISION NVR 71, H.265, 576 MBPS, 3U, 48TB","Sell-out",10209.700000000001]
["TVN-7101-64T","TRUVISION NVR 71, H.265, 576 MBPS, 3U, 64TB","Sell-out",11911.31]
["TVN-7101-72T","TRUVISION NVR 71, H.265, 576 MBPS, 3U, 72TB","Sell-out",12762.12]
["TVN-7101-96T","TRUVISION NVR 71, H.265, 576 MBPS, 3U, 96TB","Sell-out",15314.54]
["TVN-7101R-16T","TRUVISION NVR 71, RAID, H.265, 576 MBPS, 3U, 16TB","Sell-out",7316.94]
["TVN-7101R-48T","TRUVISION NVR 71, RAID, H.265, 576 MBPS, 3U, 48TB","Sell-out",11741.14]
["TVN-HDDR-4TB-2","TruV. NVR, RAID HDD exp.kit, 4TB","Sell-out",692.52]
["TVN-PSU1","POWER SUPPLY 12VDC/3.33A FOR TVR11 (4/8ch), TVR12 (4/8ch), TVR15HD (4/8ch), TVN10(Non-PoE), TVN11 (Non-PoE)","Mature",71.099999999999994]
["TVN-PSU-1-EU","EU SPARE PSU, 12V, 1.5 A, F PLUG","Mature",27.75]
["TVN-PSU-1-UK","UK SPARE PSU,  12V, 1.5 A, G PLUG","NPI",27.75]
["TVN-PSU-2","SPARE PSU 12V, 3.33A","NPI",44.98]
["TVN-PSU-3","SPARE PSU 12V, 5A","NPI",44.98]
["TVN-PSU-POE-1","SPARE PSU, 48V, 1.35A","Mature",46.89]
["TVN-PSU-POE-2","Spare PSU 48V, 2.5A","Mature",105.27]
["TVP-6103","TRUVISION HD-TVI IR PTZ DOME, 1080P, 32X, DWDR, 150M IR, PENDANT/WALL MOUNT, TVI or 960H ANALOG, TVI/RS485/RS422 CONTROL, 24VAC, IP66, PAL/NTSC","Sell-out",1094.1500000000001]
["TVP-CMB-01","TRUVISION CORNER MOUNT WITH CONNECTION BOX FOR P SERIES IP PTZ CAMERAS","Mature",122.27]
["TVP-FM-01","TRUVISION FLUSH MOUNT BRACKET FOR IP PTZ CAMERA TVGP-M01-0402-PTZ-G","Mature",134.44]
["TVP-PMB-01","TRUVISION POLE MOUNT WITH CONNECTION BOX FOR P SERIES IP PTZ CAMERAS","Mature",122.27]
["TVP-PME-01","TRUVISION MULTI IMAGER AND P/M SERIES IP PTZ EXTENDABLE PENDANT MOUNT BRACKET, 1500 MM TO 2500 MM (INDOOR)","Mature",144.99]
["TVP-WMB","TRUVISION PTZ DOME WALL MOUNT BRACKET","Mature",149.63]
["TVP-WM-CM","TRUVISION PTZ DOME CORNER MOUNT ADAPTER (USED WITH TVP-WMB WALL MOUNT BRACKET)","Mature",115.11]
["TVP-WM-PM","TRUVISION PTZ DOME POLE MOUNT ADAPTER (USED WITH TVP-WMB WALL MOUNT BRACKET)","Mature",115.11]
["TVT-6101","5MPx TVI output, true D/N, WDR, 2.8mm lens, 30m IR, 12VDC , 0.48A, 5.8W, IP67","Mature",120.46]
["TVT-6102","5MPx TVI output, true D/N, WDR, 2.7~13.5mm VF lens, 60m IR, 12VDC , 0.88A/24VAC, 50Hz/60Hz, 0.45A, 10.5W, IP67","Mature",209.89]
["TVTH-S01-0001-BUL-G","TRUVISION IP THERMAL BULLET CAMERA, 256 ? 192, 3MM LENS, 4MP VISIBLE LIGHT CAMERA","Mature",962.23]
["TVTH-S01-0001-TUR-G","TRUVISION IP THERMAL TURRET CAMERA, 256 ? 192, 2MM LENS, 4MP VISIBLE LIGHT CAMERA","Mature",962.23]
["TVTH-S01-0002-BUL-G","TRUVISION IP THERMAL BULLET CAMERA, 256 ? 192, 7MM LENS, 4MP VISIBLE LIGHT CAMERA","Mature",962.23]
["TVTH-S01-0002-TUR-G","TRUVISION IP THERMAL TURRET CAMERA, 256 ? 192, 3MM LENS, 4MP VISIBLE LIGHT CAMERA","Mature",962.23]
["TVTH-S01-0003-BUL-G","TRUVISION IP THERMAL BULLET CAMERA, 256 ? 192, 10MM LENS, 4MP VISIBLE LIGHT CAMERA","Mature",979.73]
["TVTH-S01-0003-TUR-G","TRUVISION IP THERMAL TURRET CAMERA, 256 ? 192, 7MM LENS, 4MP VISIBLE LIGHT CAMERA","Mature",962.23]
["TVTH-S01-0004-BUL-G","TruVision IP Thermal Bullet Camera, 384 x 288, 15mm Lens","Mature",3816.1]
["TVUC-B01-0401-BUL-W","ULTRASYNC WI-FI BULLET CAMERA, 4MP, 30M IR, WI-FI, 2.8MM, IP66, AUDIO, 32GB SD STORAGE, WHITE","Mature",210.72]
["TVUC-B01-0401-DOM-W","ULTRASYNC WI-FI DOME CAMERA, 4MP, 30M IR, WI-FI, 2.8MM, IP66, AUDIO, 32GB SD STORAGE, WHITE","Mature",210.72]
["TVW-AWB-1","TRUVISION ANGLED BACKBOX FOR WEDGE CAMERA IN OUTDOOR APPLICATION","Sell-out",46.04]
["TVW-AWB-2","TRUVISION ANGLED BACKBOX FOR WEDGE CAMERA IN INDOOR APPLICATION","Mature",28.9]
["TVW-BB1","TruVision Wedge Back Box (for S6 wedge)","Mature",30.99]
["TVW-BB1-W","TRUVISION WEDGE CAMERA BACK BOX USED WITH S6 SERIES OF WEDGE CAMERAS (WHITE)","Mature",23.2]
["TX-1011-03-1","SLIMLINE DWS, 868 GEN2, WHITE","Mature",71.7]
["TX-1011-03-3","SLIMLINE DWS, 868 GEN2, BROWN","Mature",71.7]
["TX-2213-03-1","WIRELESS PIR 12m 868gen2","Mature",94.67]
["TX-2214-03-1","WIRELESS PIR 16m 868gen2","Mature",117.4]
["TX-2311-03-1","WIRELESS PIR 12m PI 868gen2","Mature",94.67]
["TX-2344-03-1-N","WIRELESS MIRROR VE PIRCAM 12V CONNECTOR 868 - WHITE","Mature",484.81]
["TX-2413-03-1","WIRELESS DUAL 12m 868GEN2","Mature",131.26]
["TX-2511-03-1","WIRELESS DUAL 12m PI 868gen2","Mature",131.26]
["TX-2810-03-4","WIRELESS OUTDOOR PIR","Mature",279.87]
["TX-2821-03-4","WIRELESS MINI OUTDOOR PIR 868AM GEN2","Mature",293.08999999999997]
["TX-3011-03-1","868 GEN2 2-BUTTON PENDANT PANIC, WHITE","Mature",71.7]
["TX-3011-03-2","868GEN2 2-BUTTON PENDANT PANIC, BLACK","Mature",71.7]
["TX-4131-03-2","4BUTTON KEYFOB, 868 GEN2","Mature",70.959999999999994]
["TX-5011-03-1","SHOCK SENSOR, 868 GEN2, WHITE","Mature",115.84]
["TX-5011-03-3","SHOCK SENSOR, 868 GEN2, BROWN","Mature",121.63]
["TX-6010-03-1","SMOKE/HEAT SENSOR 868AM GEN2","Mature",241.57]
["TX-7211-05-1","OUTDOOR SIREN, 868 GEN2, WITHOUT BATTERY PACK","Sell-out",225.97]
["TX-9000-03-1","EMPTY HOUSING RECEIVER 868 GEN 2","Mature",23.14]
["UC-140(SW)","ULTRASYNC COMMUNICATOR WITH 2G/4G INTERFACE AND SIERRA WIRELESS SIM CARD","Mature",301.51]
["UC240","ULTRASYNC COMMUNICATOR WITH 2G/4G AND IP INTERFACES","Sell-out",313.88]
["UC-240(SW)","ULTRASYNC COMMUNICATOR WITH ETH IP AND 2G/4G INTERFACE AND SIERRA WIRELESS SIM CARD","Mature",348]
["UCX860 LICENSE","LICENSE FOR MAINTENANCE","Mature",41.16]
["UCX860-YRL MNTNC FEE","YEARLY MAINTENANCE FEE","Mature",17.55]
["UVP-C180","100-180 CM ADJUSTABLE CEILING MOUNT FOR ULTRAVIEW PTZ DOME, CABLE MANAGEMENT, 32 MM DIAMETER POLE","Sell-out",373.9]
["UVP-C30","30 CM CEILING MOUNT FOR ULTRAVIEW PTZ DOME, CABLE MANAGEMENT, 32 MM DIAMETER POLE","Sell-out",177.83]
["UVX-101","ULTRAVIEW DECODER 10 (DISCOVERY 105D): SINGLE CHANNEL MPEG4-SVC MULTI-STREAMING INTELLIGENT DECODER INCLUDES 1 PTZ PORT, 1 ALARM INPUT (POWER SUPPLY ORDERED SEPARATELY)","Sell-out",818.32]
["VE1012","PIR, V2E, 12M, 9C","Mature",52.83]
["VE1012-D","12M VECTOR PIR 9C VDS","Mature",64.19]
["VE1012PI","PIR, V2E, 12M, 9C PI","Mature",55.49]
["VE1016","PIR, V2E, 16M, 9C","Mature",67.17]
["VE1016-D","16M VECTOR PIR 9C VDS","Mature",83.69]
["VE1120","PIR, V2E, 20M, 11C","Mature",80.17]
["VE1120-D","20M VECTOR PIR 11C VDS","Mature",95.81]
["VE710","VE710 LASER ALLIGNMENT TOOL","Mature",64.760000000000005]
["VE736","60M PIR, 11 CURT , NO+NC","Mature",214.88]
["WC4104F5N","CABLE 2 X 0,50 + 2 X 0,22","Mature",0.68]
["WC4106F5N","CABLE 2 X 0,50 + 4 X 0,22","Mature",0.87]
["WC4106FN","CABLE 2 X 0,75 + 4 X 0,22","Mature",0.99]
["WC4108F5N","CABLE 2 X 0,50 + 6 X 0,22","Mature",1]
["WC4108FN","CABLE 2 X 0,75 + 6 X 0,22","Mature",1.17]
["WC4110F5N","CABLE 2 X 0,50 + 8 X 0,22","Mature",1.0900000000000001]
["WC4110FN","CABLE 2 X 0,75 + 8 X 0,22","Mature",1.46]
["WC4112FN","CABLE 2 X 0,75 + 10 X 0,22","Mature",1.63]
["WD-PURPLE-8TB","WESTERN DIGITAL PURPLE HDD, 8TB","Mature",530.17999999999995]
["WS4104FN","CABLE 4 X 0,22","Mature",0.42]
["WS4106FN","CABLE 6 X 0,22","Mature",0.51]
["WS4108FN","CABLE 8 X 0,22","Mature",0.74]
["STENTO-1023320011","IP CEILING SPEAKER","NPI",880.44]
["STENTO-1023321311","IP HORN SPEAKER","NPI",1071.8399999999999]
["STENTO-1023321330","IP HORN SPEAKER WITH HIGH OUTPUT","NPI",1129.26]
["STENTO-1023322330","IP CABINET SPEAKER","NPI",1263.24]
["AS364M","SOUNDER, MULTI TONE, DEEP BASE, MAINS POWERED","Mature",112.25]
["ESZP2-F2-FB2-S","ADDR FIRE PNL W/ UI W/ FB CTRL - 2 L SMALL CAB","Mature",{"$error":"#N/A"}]
["WD-PURPLE-10TB","WESTERN DIGITAL PURPLE HDD, 10TB","NPI",723.49]
["WD-PURPLE-1TB","WESTERN DIGITAL PURPLE HDD, 1TB","Mature",139.72]
["WD-PURPLE-2TB","WESTERN DIGITAL PURPLE HDD, 2TB","NPI",181.83]
["WD-PURPLE-4TB","WESTERN DIGITAL PURPLE HDD, 4TB","Mature",262.22000000000003]
["WD-PURPLE-6TB","WESTERN DIGITAL PURPLE HDD, 6TB","Mature",382.8]
["TVPA-BB-01","TRUVISION 360? CAMERA ROUND BACK BOX, CONDUIT PORTS, GANG BOX COMPATIBLE, METAL, INDOOR & OUTDOOR, GREY","NPI",30.82]
["TVPA-CB-01","TRUVISION 360? CAMERA CUP BASE (USE WITH TVD-PPB FOR PENDANT MOUNT OR TVD-SNB FOR WALL MOUNT), GREY","NPI",22.2]
["TVPA-S02-0601-360-G","TRUVISION 360? IP CAMERA, 6MP, 15M IR, AUDIO, 360? FISHEYE LENS, POE-AF, IK10, IP67","NPI",832.59]
["TVPA-S02-1201-360-G","TRUVISION 360? IP CAMERA, 12MP, 15M IR, AUDIO, 360? FISHEYE LENS, POE-AF, IK10, IP67","NPI",1167.54]
["10Y29-03","OPTICAL SMOKE ALARM WITH BUILT-IN BATTERY - ENG","Mature",{"$error":"#N/A"}]
["10Y29C-26","OPTICAL SMOKE ALARM WITH BUILT-IN BATTERY - SA, CLAM PACKAGING","Mature",27.71]